{"text_format":"3","workbook":"xlsx","n_sheets":7,"sheets":["表紙","選手入力","リレー入力","リレー印刷用","競技データ","郡市データ","学校データ"],"not_rendered":{"macros":1,"defined_names":1},"read":"whole","date_system":"1900"}

{"sheet":"表紙","index":0,"n_rows":25,"n_cols":2,"rows_kept":25}
["郡市NO",1]
["郡市名（自動表示）",{"$f":"VLOOKUP($B$1,郡市データ!$A$2:$B$18,2,FALSE)","v":"前橋市"}]
["学校NO",5000]
["学校名（自動表示）",{"$f":"VLOOKUP($B$3,学校データ!$C$2:$E$401,3,FALSE)","v":"群馬県立テスト小学校"}]
["学校電話番号","027-123-1234"]
["担当者名","八木橋智幸"]
["担当者メールアドレス","gepra-joho@gepra7.ec-net.jp"]
["担当者電話番号","090-6372-5722"]
[null,"エントリー人数"]
["50m自由形",{"$f":"COUNTIF(選手入力!$F$3:$F$102,表紙!A10)+COUNTIF(選手入力!$L$3:$L$102,表紙!A10)","v":0}]
["50m背泳ぎ",{"$f":"COUNTIF(選手入力!$F$3:$F$102,表紙!A11)+COUNTIF(選手入力!$L$3:$L$102,表紙!A11)","v":0}]
["50m平泳ぎ",{"$f":"COUNTIF(選手入力!$F$3:$F$102,表紙!A12)+COUNTIF(選手入力!$L$3:$L$102,表紙!A12)","v":0}]
["50mバタフライ",{"$f":"COUNTIF(選手入力!$F$3:$F$102,表紙!A13)+COUNTIF(選手入力!$L$3:$L$102,表紙!A13)","v":0}]
["友好レース自由形",{"$f":"COUNTIF(選手入力!$F$3:$F$102,表紙!A14)+COUNTIF(選手入力!$L$3:$L$102,表紙!A14)","v":0}]
["友好レース背泳ぎ",{"$f":"COUNTIF(選手入力!$F$3:$F$102,表紙!A15)+COUNTIF(選手入力!$L$3:$L$102,表紙!A15)","v":0}]
["友好レース平泳ぎ",{"$f":"COUNTIF(選手入力!$F$3:$F$102,表紙!A16)+COUNTIF(選手入力!$L$3:$L$102,表紙!A16)","v":0}]
["友好レースバタフライ",{"$f":"COUNTIF(選手入力!$F$3:$F$102,表紙!A17)+COUNTIF(選手入力!$L$3:$L$102,表紙!A17)","v":0}]
["200mフリーリレー",{"$f":"リレー入力!C28","v":0}]
["200mメドレーリレー",{"$f":"リレー入力!C29","v":0}]
[]
["以下処理用"]
["選手NO初期NO",{"$f":"IF(B4=\"\",\"\",VLOOKUP(B4,学校データ!$E$2:$I$401,5,FALSE))","v":16701}]
["学校名短縮",{"$f":"IF(B3=\"\",\"\",VLOOKUP($B$3,学校データ!$C$2:$G$401,4,FALSE))","v":"群・テスト"}]
["学校名ﾖﾐｶﾞﾅ",{"$f":"IF(B4=\"\",\"\",VLOOKUP($B$3,学校データ!$C$2:$G$401,5,FALSE))","v":"ｹﾝﾘﾂ.ﾃｽﾄ"}]
["リレー初期NO",{"$f":"IF(B4=\"\",\"\",VLOOKUP(B4,学校データ!$E$2:$H$401,4,FALSE))","v":1671}]

{"sheet":"選手入力","index":1,"n_rows":102,"n_cols":59,"rows_kept":102,"merged":[[0,0,0,4]]}
[{"$f":"IF(表紙!B4=\"\",\"\",表紙!B4)","v":"群馬県立テスト小学校"},{"$nulls":4},"友好リレーもこちらに",null,null,"申込みタイム（各位ずつ記入）",null,null,"こっちに友好リレーは入れない",null,null,"申込みタイム（各位ずつ記入）"]
["選手NO","漢字氏名","ﾖﾐｶﾞﾅ","学年","性別","種目1","分",null,"秒","1/10","1／100","種目2","分",null,"秒","1/10","1/100",null,"タイム1","タイム2",null,"選手番号(5)","旧日水連ｺｰﾄﾞ(12)","性別(1)","漢字氏名（30）","ｶﾅ氏名(30)","生年月日(8)","学校(1)","学年(1)","ｸﾗｽ(2)","新日水連ｺｰﾄﾞ(7)","所属名1(16)","ｶﾅ所属名1(16)","所属名2(16)","ｶﾅ所属名2(16)","所属名3(16)","ｶﾅ所属名3(16)","使用所属(1)","ｴﾝﾄﾘｰ1(5)","ｴﾝﾄﾘｰﾀｲﾑ1(7)","ｴﾝﾄﾘｰ2(5)","ｴﾝﾄﾘｰﾀｲﾑ2(7)","ｴﾝﾄﾘｰ3(5)","ｴﾝﾄﾘｰﾀｲﾑ3(7)","ｴﾝﾄﾘｰ4(5)","ｴﾝﾄﾘｰﾀｲﾑ4(7)","ｴﾝﾄﾘｰ5(5)","ｴﾝﾄﾘｰﾀｲﾑ5(7)","ｴﾝﾄﾘｰ6(1)","ｴﾝﾄﾘｰﾀｲﾑ6(7)","ｴﾝﾄﾘｰ7(5)","ｴﾝﾄﾘｰﾀｲﾑ7(7)","ｴﾝﾄﾘｰ8(5)","ｴﾝﾄﾘｰﾀｲﾑ8(7)","ｴﾝﾄﾘｰ9(5)","ｴﾝﾄﾘｰﾀｲﾑ9(7)","ｴﾝﾄﾘｰ10(5)","ｴﾝﾄﾘｰﾀｲﾑ10(7)","地域団体ｺｰﾄﾞ(2)"]
[{"$f":"IF(B3=\"\",\"\",表紙!B22)","v":""},{"$nulls":17},{"$f":"G3*100+H3*10+I3+J3*0.1+K3*0.01","v":{"v":0,"d":"0.00"}},{"$f":"M3*100+N3*10+O3+P3*0.1+Q3*0.01","v":{"v":0,"d":"0.00"}},null,{"$f":"IF(A3=\"\",\"\",A3)","v":""},null,{"$f":"IF(E3=\"\",\"\",VLOOKUP(E3,競技データ!$F$2:$G$3,2,FALSE))","v":""},{"$f":"IF(B3=\"\",\"\",B3)","v":""},{"$f":"IF(C3=\"\",\"\",C3)","v":""},null,{"$f":"IF(B3=\"\",\"\",1)","v":""},{"$f":"IF(D3=\"\",\"\",D3)","v":""},{"$f":"IF(F3=\"\",\"\",VLOOKUP(F3,競技データ!$A$2:$C$10,2,FALSE))","v":""},null,{"$f":"IF(B3=\"\",\"\",表紙!$B$23)","v":""},{"$f":"IF(B3=\"\",\"\",表紙!$B$24)","v":""},{"$nulls":4},{"$f":"IF(B3=\"\",\"\",1)","v":""},{"$f":"IF(F3=\"\",\"\",VLOOKUP(F3,競技データ!$A$2:$C$10,3,FALSE))","v":""},{"$f":"IF(F3=\"\",\"\",S3)","v":""},{"$f":"IF(L3=\"\",\"\",VLOOKUP(選手入力!L3,競技データ!$A$2:$C$10,3,FALSE))","v":""},{"$f":"IF(L3=\"\",\"\",T3)","v":""},{"$nulls":16},{"$f":"IF(B3=\"\",\"\",表紙!$B$1)","v":""}]
[{"$f":"IF(B4=\"\",\"\",A3+1)","v":""},{"$nulls":17},{"$f":"G4*100+H4*10+I4+J4*0.1+K4*0.01","v":{"v":0,"d":"0.00"}},{"$f":"M4*100+N4*10+O4+P4*0.1+Q4*0.01","v":{"v":0,"d":"0.00"}},null,{"$f":"IF(A4=\"\",\"\",A4)","v":""},null,{"$f":"IF(E4=\"\",\"\",VLOOKUP(E4,競技データ!$F$2:$G$3,2,FALSE))","v":""},{"$f":"IF(B4=\"\",\"\",B4)","v":""},{"$f":"IF(C4=\"\",\"\",C4)","v":""},null,{"$f":"IF(B4=\"\",\"\",1)","v":""},{"$f":"IF(D4=\"\",\"\",D4)","v":""},{"$f":"IF(F4=\"\",\"\",VLOOKUP(F4,競技データ!$A$2:$C$10,2,FALSE))","v":""},null,{"$f":"IF(B4=\"\",\"\",表紙!$B$23)","v":""},{"$f":"IF(B4=\"\",\"\",表紙!$B$24)","v":""},{"$nulls":4},{"$f":"IF(B4=\"\",\"\",1)","v":""},{"$f":"IF(F4=\"\",\"\",VLOOKUP(F4,競技データ!$A$2:$C$10,3,FALSE))","v":""},{"$f":"IF(F4=\"\",\"\",S4)","v":""},{"$f":"IF(L4=\"\",\"\",VLOOKUP(選手入力!L4,競技データ!$A$2:$C$10,3,FALSE))","v":""},{"$f":"IF(L4=\"\",\"\",T4)","v":""},{"$nulls":16},{"$f":"IF(B4=\"\",\"\",表紙!$B$1)","v":""}]
[{"$f":"IF(B5=\"\",\"\",A4+1)","v":""},{"$nulls":17},{"v":0,"d":"0.00"},{"v":0,"d":"0.00"},null,"",null,{"$f":"IF(E5=\"\",\"\",VLOOKUP(E5,競技データ!$F$2:$G$3,2,FALSE))","v":""},"","",null,"","",{"$f":"IF(F5=\"\",\"\",VLOOKUP(F5,競技データ!$A$2:$C$10,2,FALSE))","v":""},null,{"$f":"IF(B5=\"\",\"\",表紙!$B$23)","v":""},{"$f":"IF(B5=\"\",\"\",表紙!$B$24)","v":""},{"$nulls":4},"",{"$f":"IF(F5=\"\",\"\",VLOOKUP(F5,競技データ!$A$2:$C$10,3,FALSE))","v":""},"",{"$f":"IF(L5=\"\",\"\",VLOOKUP(選手入力!L5,競技データ!$A$2:$C$10,3,FALSE))","v":""},"",{"$nulls":16},{"$f":"IF(B5=\"\",\"\",表紙!$B$1)","v":""}]
["",{"$nulls":17},{"v":0,"d":"0.00"},{"v":0,"d":"0.00"},null,"",null,{"$f":"IF(E6=\"\",\"\",VLOOKUP(E6,競技データ!$F$2:$G$3,2,FALSE))","v":""},"","",null,"","",{"$f":"IF(F6=\"\",\"\",VLOOKUP(F6,競技データ!$A$2:$C$10,2,FALSE))","v":""},null,{"$f":"IF(B6=\"\",\"\",表紙!$B$23)","v":""},{"$f":"IF(B6=\"\",\"\",表紙!$B$24)","v":""},{"$nulls":4},"",{"$f":"IF(F6=\"\",\"\",VLOOKUP(F6,競技データ!$A$2:$C$10,3,FALSE))","v":""},"",{"$f":"IF(L6=\"\",\"\",VLOOKUP(選手入力!L6,競技データ!$A$2:$C$10,3,FALSE))","v":""},"",{"$nulls":16},{"$f":"IF(B6=\"\",\"\",表紙!$B$1)","v":""}]
["",{"$nulls":17},{"v":0,"d":"0.00"},{"v":0,"d":"0.00"},null,"",null,{"$f":"IF(E7=\"\",\"\",VLOOKUP(E7,競技データ!$F$2:$G$3,2,FALSE))","v":""},"","",null,"","",{"$f":"IF(F7=\"\",\"\",VLOOKUP(F7,競技データ!$A$2:$C$10,2,FALSE))","v":""},null,{"$f":"IF(B7=\"\",\"\",表紙!$B$23)","v":""},{"$f":"IF(B7=\"\",\"\",表紙!$B$24)","v":""},{"$nulls":4},"",{"$f":"IF(F7=\"\",\"\",VLOOKUP(F7,競技データ!$A$2:$C$10,3,FALSE))","v":""},"",{"$f":"IF(L7=\"\",\"\",VLOOKUP(選手入力!L7,競技データ!$A$2:$C$10,3,FALSE))","v":""},"",{"$nulls":16},{"$f":"IF(B7=\"\",\"\",表紙!$B$1)","v":""}]
["",{"$nulls":17},{"v":0,"d":"0.00"},{"v":0,"d":"0.00"},null,"",null,{"$f":"IF(E8=\"\",\"\",VLOOKUP(E8,競技データ!$F$2:$G$3,2,FALSE))","v":""},"","",null,"","",{"$f":"IF(F8=\"\",\"\",VLOOKUP(F8,競技データ!$A$2:$C$10,2,FALSE))","v":""},null,{"$f":"IF(B8=\"\",\"\",表紙!$B$23)","v":""},{"$f":"IF(B8=\"\",\"\",表紙!$B$24)","v":""},{"$nulls":4},"",{"$f":"IF(F8=\"\",\"\",VLOOKUP(F8,競技データ!$A$2:$C$10,3,FALSE))","v":""},"",{"$f":"IF(L8=\"\",\"\",VLOOKUP(選手入力!L8,競技データ!$A$2:$C$10,3,FALSE))","v":""},"",{"$nulls":16},{"$f":"IF(B8=\"\",\"\",表紙!$B$1)","v":""}]
["",{"$nulls":17},{"v":0,"d":"0.00"},{"v":0,"d":"0.00"},null,"",null,{"$f":"IF(E9=\"\",\"\",VLOOKUP(E9,競技データ!$F$2:$G$3,2,FALSE))","v":""},"","",null,"","",{"$f":"IF(F9=\"\",\"\",VLOOKUP(F9,競技データ!$A$2:$C$10,2,FALSE))","v":""},null,{"$f":"IF(B9=\"\",\"\",表紙!$B$23)","v":""},{"$f":"IF(B9=\"\",\"\",表紙!$B$24)","v":""},{"$nulls":4},"",{"$f":"IF(F9=\"\",\"\",VLOOKUP(F9,競技データ!$A$2:$C$10,3,FALSE))","v":""},"",{"$f":"IF(L9=\"\",\"\",VLOOKUP(選手入力!L9,競技データ!$A$2:$C$10,3,FALSE))","v":""},"",{"$nulls":16},{"$f":"IF(B9=\"\",\"\",表紙!$B$1)","v":""}]
["",{"$nulls":17},{"v":0,"d":"0.00"},{"v":0,"d":"0.00"},null,"",null,{"$f":"IF(E10=\"\",\"\",VLOOKUP(E10,競技データ!$F$2:$G$3,2,FALSE))","v":""},"","",null,"","",{"$f":"IF(F10=\"\",\"\",VLOOKUP(F10,競技データ!$A$2:$C$10,2,FALSE))","v":""},null,{"$f":"IF(B10=\"\",\"\",表紙!$B$23)","v":""},{"$f":"IF(B10=\"\",\"\",表紙!$B$24)","v":""},{"$nulls":4},"",{"$f":"IF(F10=\"\",\"\",VLOOKUP(F10,競技データ!$A$2:$C$10,3,FALSE))","v":""},"",{"$f":"IF(L10=\"\",\"\",VLOOKUP(選手入力!L10,競技データ!$A$2:$C$10,3,FALSE))","v":""},"",{"$nulls":16},{"$f":"IF(B10=\"\",\"\",表紙!$B$1)","v":""}]
["",{"$nulls":17},{"v":0,"d":"0.00"},{"v":0,"d":"0.00"},null,"",null,{"$f":"IF(E11=\"\",\"\",VLOOKUP(E11,競技データ!$F$2:$G$3,2,FALSE))","v":""},"","",null,"","",{"$f":"IF(F11=\"\",\"\",VLOOKUP(F11,競技データ!$A$2:$C$10,2,FALSE))","v":""},null,{"$f":"IF(B11=\"\",\"\",表紙!$B$23)","v":""},{"$f":"IF(B11=\"\",\"\",表紙!$B$24)","v":""},{"$nulls":4},"",{"$f":"IF(F11=\"\",\"\",VLOOKUP(F11,競技データ!$A$2:$C$10,3,FALSE))","v":""},"",{"$f":"IF(L11=\"\",\"\",VLOOKUP(選手入力!L11,競技データ!$A$2:$C$10,3,FALSE))","v":""},"",{"$nulls":16},{"$f":"IF(B11=\"\",\"\",表紙!$B$1)","v":""}]
["",{"$nulls":17},{"v":0,"d":"0.00"},{"v":0,"d":"0.00"},null,"",null,{"$f":"IF(E12=\"\",\"\",VLOOKUP(E12,競技データ!$F$2:$G$3,2,FALSE))","v":""},"","",null,"","",{"$f":"IF(F12=\"\",\"\",VLOOKUP(F12,競技データ!$A$2:$C$10,2,FALSE))","v":""},null,{"$f":"IF(B12=\"\",\"\",表紙!$B$23)","v":""},{"$f":"IF(B12=\"\",\"\",表紙!$B$24)","v":""},{"$nulls":4},"",{"$f":"IF(F12=\"\",\"\",VLOOKUP(F12,競技データ!$A$2:$C$10,3,FALSE))","v":""},"",{"$f":"IF(L12=\"\",\"\",VLOOKUP(選手入力!L12,競技データ!$A$2:$C$10,3,FALSE))","v":""},"",{"$nulls":16},{"$f":"IF(B12=\"\",\"\",表紙!$B$1)","v":""}]
["",{"$nulls":17},{"v":0,"d":"0.00"},{"v":0,"d":"0.00"},null,"",null,{"$f":"IF(E13=\"\",\"\",VLOOKUP(E13,競技データ!$F$2:$G$3,2,FALSE))","v":""},"","",null,"","",{"$f":"IF(F13=\"\",\"\",VLOOKUP(F13,競技データ!$A$2:$C$10,2,FALSE))","v":""},null,{"$f":"IF(B13=\"\",\"\",表紙!$B$23)","v":""},{"$f":"IF(B13=\"\",\"\",表紙!$B$24)","v":""},{"$nulls":4},"",{"$f":"IF(F13=\"\",\"\",VLOOKUP(F13,競技データ!$A$2:$C$10,3,FALSE))","v":""},"",{"$f":"IF(L13=\"\",\"\",VLOOKUP(選手入力!L13,競技データ!$A$2:$C$10,3,FALSE))","v":""},"",{"$nulls":16},{"$f":"IF(B13=\"\",\"\",表紙!$B$1)","v":""}]
["",{"$nulls":17},{"v":0,"d":"0.00"},{"v":0,"d":"0.00"},null,"",null,{"$f":"IF(E14=\"\",\"\",VLOOKUP(E14,競技データ!$F$2:$G$3,2,FALSE))","v":""},"","",null,"","",{"$f":"IF(F14=\"\",\"\",VLOOKUP(F14,競技データ!$A$2:$C$10,2,FALSE))","v":""},null,{"$f":"IF(B14=\"\",\"\",表紙!$B$23)","v":""},{"$f":"IF(B14=\"\",\"\",表紙!$B$24)","v":""},{"$nulls":4},"",{"$f":"IF(F14=\"\",\"\",VLOOKUP(F14,競技データ!$A$2:$C$10,3,FALSE))","v":""},"",{"$f":"IF(L14=\"\",\"\",VLOOKUP(選手入力!L14,競技データ!$A$2:$C$10,3,FALSE))","v":""},"",{"$nulls":16},{"$f":"IF(B14=\"\",\"\",表紙!$B$1)","v":""}]
["",{"$nulls":17},{"v":0,"d":"0.00"},{"v":0,"d":"0.00"},null,"",null,{"$f":"IF(E15=\"\",\"\",VLOOKUP(E15,競技データ!$F$2:$G$3,2,FALSE))","v":""},"","",null,"","",{"$f":"IF(F15=\"\",\"\",VLOOKUP(F15,競技データ!$A$2:$C$10,2,FALSE))","v":""},null,{"$f":"IF(B15=\"\",\"\",表紙!$B$23)","v":""},{"$f":"IF(B15=\"\",\"\",表紙!$B$24)","v":""},{"$nulls":4},"",{"$f":"IF(F15=\"\",\"\",VLOOKUP(F15,競技データ!$A$2:$C$10,3,FALSE))","v":""},"",{"$f":"IF(L15=\"\",\"\",VLOOKUP(選手入力!L15,競技データ!$A$2:$C$10,3,FALSE))","v":""},"",{"$nulls":16},{"$f":"IF(B15=\"\",\"\",表紙!$B$1)","v":""}]
["",{"$nulls":17},{"v":0,"d":"0.00"},{"v":0,"d":"0.00"},null,"",null,{"$f":"IF(E16=\"\",\"\",VLOOKUP(E16,競技データ!$F$2:$G$3,2,FALSE))","v":""},"","",null,"","",{"$f":"IF(F16=\"\",\"\",VLOOKUP(F16,競技データ!$A$2:$C$10,2,FALSE))","v":""},null,{"$f":"IF(B16=\"\",\"\",表紙!$B$23)","v":""},{"$f":"IF(B16=\"\",\"\",表紙!$B$24)","v":""},{"$nulls":4},"",{"$f":"IF(F16=\"\",\"\",VLOOKUP(F16,競技データ!$A$2:$C$10,3,FALSE))","v":""},"",{"$f":"IF(L16=\"\",\"\",VLOOKUP(選手入力!L16,競技データ!$A$2:$C$10,3,FALSE))","v":""},"",{"$nulls":16},{"$f":"IF(B16=\"\",\"\",表紙!$B$1)","v":""}]
["",{"$nulls":17},{"v":0,"d":"0.00"},{"v":0,"d":"0.00"},null,"",null,{"$f":"IF(E17=\"\",\"\",VLOOKUP(E17,競技データ!$F$2:$G$3,2,FALSE))","v":""},"","",null,"","",{"$f":"IF(F17=\"\",\"\",VLOOKUP(F17,競技データ!$A$2:$C$10,2,FALSE))","v":""},null,{"$f":"IF(B17=\"\",\"\",表紙!$B$23)","v":""},{"$f":"IF(B17=\"\",\"\",表紙!$B$24)","v":""},{"$nulls":4},"",{"$f":"IF(F17=\"\",\"\",VLOOKUP(F17,競技データ!$A$2:$C$10,3,FALSE))","v":""},"",{"$f":"IF(L17=\"\",\"\",VLOOKUP(選手入力!L17,競技データ!$A$2:$C$10,3,FALSE))","v":""},"",{"$nulls":16},{"$f":"IF(B17=\"\",\"\",表紙!$B$1)","v":""}]
["",{"$nulls":17},{"v":0,"d":"0.00"},{"v":0,"d":"0.00"},null,"",null,{"$f":"IF(E18=\"\",\"\",VLOOKUP(E18,競技データ!$F$2:$G$3,2,FALSE))","v":""},"","",null,"","",{"$f":"IF(F18=\"\",\"\",VLOOKUP(F18,競技データ!$A$2:$C$10,2,FALSE))","v":""},null,{"$f":"IF(B18=\"\",\"\",表紙!$B$23)","v":""},{"$f":"IF(B18=\"\",\"\",表紙!$B$24)","v":""},{"$nulls":4},"",{"$f":"IF(F18=\"\",\"\",VLOOKUP(F18,競技データ!$A$2:$C$10,3,FALSE))","v":""},"",{"$f":"IF(L18=\"\",\"\",VLOOKUP(選手入力!L18,競技データ!$A$2:$C$10,3,FALSE))","v":""},"",{"$nulls":16},{"$f":"IF(B18=\"\",\"\",表紙!$B$1)","v":""}]
["",{"$nulls":17},{"v":0,"d":"0.00"},{"v":0,"d":"0.00"},null,"",null,{"$f":"IF(E19=\"\",\"\",VLOOKUP(E19,競技データ!$F$2:$G$3,2,FALSE))","v":""},"","",null,"","",{"$f":"IF(F19=\"\",\"\",VLOOKUP(F19,競技データ!$A$2:$C$10,2,FALSE))","v":""},null,{"$f":"IF(B19=\"\",\"\",表紙!$B$23)","v":""},{"$f":"IF(B19=\"\",\"\",表紙!$B$24)","v":""},{"$nulls":4},"",{"$f":"IF(F19=\"\",\"\",VLOOKUP(F19,競技データ!$A$2:$C$10,3,FALSE))","v":""},"",{"$f":"IF(L19=\"\",\"\",VLOOKUP(選手入力!L19,競技データ!$A$2:$C$10,3,FALSE))","v":""},"",{"$nulls":16},{"$f":"IF(B19=\"\",\"\",表紙!$B$1)","v":""}]
["",{"$nulls":17},{"v":0,"d":"0.00"},{"v":0,"d":"0.00"},null,"",null,{"$f":"IF(E20=\"\",\"\",VLOOKUP(E20,競技データ!$F$2:$G$3,2,FALSE))","v":""},"","",null,"","",{"$f":"IF(F20=\"\",\"\",VLOOKUP(F20,競技データ!$A$2:$C$10,2,FALSE))","v":""},null,{"$f":"IF(B20=\"\",\"\",表紙!$B$23)","v":""},{"$f":"IF(B20=\"\",\"\",表紙!$B$24)","v":""},{"$nulls":4},"",{"$f":"IF(F20=\"\",\"\",VLOOKUP(F20,競技データ!$A$2:$C$10,3,FALSE))","v":""},"",{"$f":"IF(L20=\"\",\"\",VLOOKUP(選手入力!L20,競技データ!$A$2:$C$10,3,FALSE))","v":""},"",{"$nulls":16},{"$f":"IF(B20=\"\",\"\",表紙!$B$1)","v":""}]
["",{"$nulls":17},{"v":0,"d":"0.00"},{"v":0,"d":"0.00"},null,"",null,{"$f":"IF(E21=\"\",\"\",VLOOKUP(E21,競技データ!$F$2:$G$3,2,FALSE))","v":""},"","",null,"","",{"$f":"IF(F21=\"\",\"\",VLOOKUP(F21,競技データ!$A$2:$C$10,2,FALSE))","v":""},null,{"$f":"IF(B21=\"\",\"\",表紙!$B$23)","v":""},{"$f":"IF(B21=\"\",\"\",表紙!$B$24)","v":""},{"$nulls":4},"",{"$f":"IF(F21=\"\",\"\",VLOOKUP(F21,競技データ!$A$2:$C$10,3,FALSE))","v":""},"",{"$f":"IF(L21=\"\",\"\",VLOOKUP(選手入力!L21,競技データ!$A$2:$C$10,3,FALSE))","v":""},"",{"$nulls":16},{"$f":"IF(B21=\"\",\"\",表紙!$B$1)","v":""}]
["",{"$nulls":17},{"v":0,"d":"0.00"},{"v":0,"d":"0.00"},null,"",null,{"$f":"IF(E22=\"\",\"\",VLOOKUP(E22,競技データ!$F$2:$G$3,2,FALSE))","v":""},"","",null,"","",{"$f":"IF(F22=\"\",\"\",VLOOKUP(F22,競技データ!$A$2:$C$10,2,FALSE))","v":""},null,{"$f":"IF(B22=\"\",\"\",表紙!$B$23)","v":""},{"$f":"IF(B22=\"\",\"\",表紙!$B$24)","v":""},{"$nulls":4},"",{"$f":"IF(F22=\"\",\"\",VLOOKUP(F22,競技データ!$A$2:$C$10,3,FALSE))","v":""},"",{"$f":"IF(L22=\"\",\"\",VLOOKUP(選手入力!L22,競技データ!$A$2:$C$10,3,FALSE))","v":""},"",{"$nulls":16},{"$f":"IF(B22=\"\",\"\",表紙!$B$1)","v":""}]
["",{"$nulls":17},{"v":0,"d":"0.00"},{"v":0,"d":"0.00"},null,"",null,{"$f":"IF(E23=\"\",\"\",VLOOKUP(E23,競技データ!$F$2:$G$3,2,FALSE))","v":""},"","",null,"","",{"$f":"IF(F23=\"\",\"\",VLOOKUP(F23,競技データ!$A$2:$C$10,2,FALSE))","v":""},null,{"$f":"IF(B23=\"\",\"\",表紙!$B$23)","v":""},{"$f":"IF(B23=\"\",\"\",表紙!$B$24)","v":""},{"$nulls":4},"",{"$f":"IF(F23=\"\",\"\",VLOOKUP(F23,競技データ!$A$2:$C$10,3,FALSE))","v":""},"",{"$f":"IF(L23=\"\",\"\",VLOOKUP(選手入力!L23,競技データ!$A$2:$C$10,3,FALSE))","v":""},"",{"$nulls":16},{"$f":"IF(B23=\"\",\"\",表紙!$B$1)","v":""}]
["",{"$nulls":17},{"v":0,"d":"0.00"},{"v":0,"d":"0.00"},null,"",null,{"$f":"IF(E24=\"\",\"\",VLOOKUP(E24,競技データ!$F$2:$G$3,2,FALSE))","v":""},"","",null,"","",{"$f":"IF(F24=\"\",\"\",VLOOKUP(F24,競技データ!$A$2:$C$10,2,FALSE))","v":""},null,{"$f":"IF(B24=\"\",\"\",表紙!$B$23)","v":""},{"$f":"IF(B24=\"\",\"\",表紙!$B$24)","v":""},{"$nulls":4},"",{"$f":"IF(F24=\"\",\"\",VLOOKUP(F24,競技データ!$A$2:$C$10,3,FALSE))","v":""},"",{"$f":"IF(L24=\"\",\"\",VLOOKUP(選手入力!L24,競技データ!$A$2:$C$10,3,FALSE))","v":""},"",{"$nulls":16},{"$f":"IF(B24=\"\",\"\",表紙!$B$1)","v":""}]
["",{"$nulls":17},{"v":0,"d":"0.00"},{"v":0,"d":"0.00"},null,"",null,{"$f":"IF(E25=\"\",\"\",VLOOKUP(E25,競技データ!$F$2:$G$3,2,FALSE))","v":""},"","",null,"","",{"$f":"IF(F25=\"\",\"\",VLOOKUP(F25,競技データ!$A$2:$C$10,2,FALSE))","v":""},null,{"$f":"IF(B25=\"\",\"\",表紙!$B$23)","v":""},{"$f":"IF(B25=\"\",\"\",表紙!$B$24)","v":""},{"$nulls":4},"",{"$f":"IF(F25=\"\",\"\",VLOOKUP(F25,競技データ!$A$2:$C$10,3,FALSE))","v":""},"",{"$f":"IF(L25=\"\",\"\",VLOOKUP(選手入力!L25,競技データ!$A$2:$C$10,3,FALSE))","v":""},"",{"$nulls":16},{"$f":"IF(B25=\"\",\"\",表紙!$B$1)","v":""}]
["",{"$nulls":17},{"v":0,"d":"0.00"},{"v":0,"d":"0.00"},null,"",null,{"$f":"IF(E26=\"\",\"\",VLOOKUP(E26,競技データ!$F$2:$G$3,2,FALSE))","v":""},"","",null,"","",{"$f":"IF(F26=\"\",\"\",VLOOKUP(F26,競技データ!$A$2:$C$10,2,FALSE))","v":""},null,{"$f":"IF(B26=\"\",\"\",表紙!$B$23)","v":""},{"$f":"IF(B26=\"\",\"\",表紙!$B$24)","v":""},{"$nulls":4},"",{"$f":"IF(F26=\"\",\"\",VLOOKUP(F26,競技データ!$A$2:$C$10,3,FALSE))","v":""},"",{"$f":"IF(L26=\"\",\"\",VLOOKUP(選手入力!L26,競技データ!$A$2:$C$10,3,FALSE))","v":""},"",{"$nulls":16},{"$f":"IF(B26=\"\",\"\",表紙!$B$1)","v":""}]
["",{"$nulls":17},{"v":0,"d":"0.00"},{"v":0,"d":"0.00"},null,"",null,{"$f":"IF(E27=\"\",\"\",VLOOKUP(E27,競技データ!$F$2:$G$3,2,FALSE))","v":""},"","",null,"","",{"$f":"IF(F27=\"\",\"\",VLOOKUP(F27,競技データ!$A$2:$C$10,2,FALSE))","v":""},null,{"$f":"IF(B27=\"\",\"\",表紙!$B$23)","v":""},{"$f":"IF(B27=\"\",\"\",表紙!$B$24)","v":""},{"$nulls":4},"",{"$f":"IF(F27=\"\",\"\",VLOOKUP(F27,競技データ!$A$2:$C$10,3,FALSE))","v":""},"",{"$f":"IF(L27=\"\",\"\",VLOOKUP(選手入力!L27,競技データ!$A$2:$C$10,3,FALSE))","v":""},"",{"$nulls":16},{"$f":"IF(B27=\"\",\"\",表紙!$B$1)","v":""}]
["",{"$nulls":17},{"v":0,"d":"0.00"},{"v":0,"d":"0.00"},null,"",null,{"$f":"IF(E28=\"\",\"\",VLOOKUP(E28,競技データ!$F$2:$G$3,2,FALSE))","v":""},"","",null,"","",{"$f":"IF(F28=\"\",\"\",VLOOKUP(F28,競技データ!$A$2:$C$10,2,FALSE))","v":""},null,{"$f":"IF(B28=\"\",\"\",表紙!$B$23)","v":""},{"$f":"IF(B28=\"\",\"\",表紙!$B$24)","v":""},{"$nulls":4},"",{"$f":"IF(F28=\"\",\"\",VLOOKUP(F28,競技データ!$A$2:$C$10,3,FALSE))","v":""},"",{"$f":"IF(L28=\"\",\"\",VLOOKUP(選手入力!L28,競技データ!$A$2:$C$10,3,FALSE))","v":""},"",{"$nulls":16},{"$f":"IF(B28=\"\",\"\",表紙!$B$1)","v":""}]
["",{"$nulls":17},{"v":0,"d":"0.00"},{"v":0,"d":"0.00"},null,"",null,{"$f":"IF(E29=\"\",\"\",VLOOKUP(E29,競技データ!$F$2:$G$3,2,FALSE))","v":""},"","",null,"","",{"$f":"IF(F29=\"\",\"\",VLOOKUP(F29,競技データ!$A$2:$C$10,2,FALSE))","v":""},null,{"$f":"IF(B29=\"\",\"\",表紙!$B$23)","v":""},{"$f":"IF(B29=\"\",\"\",表紙!$B$24)","v":""},{"$nulls":4},"",{"$f":"IF(F29=\"\",\"\",VLOOKUP(F29,競技データ!$A$2:$C$10,3,FALSE))","v":""},"",{"$f":"IF(L29=\"\",\"\",VLOOKUP(選手入力!L29,競技データ!$A$2:$C$10,3,FALSE))","v":""},"",{"$nulls":16},{"$f":"IF(B29=\"\",\"\",表紙!$B$1)","v":""}]
["",{"$nulls":17},{"v":0,"d":"0.00"},{"v":0,"d":"0.00"},null,"",null,{"$f":"IF(E30=\"\",\"\",VLOOKUP(E30,競技データ!$F$2:$G$3,2,FALSE))","v":""},"","",null,"","",{"$f":"IF(F30=\"\",\"\",VLOOKUP(F30,競技データ!$A$2:$C$10,2,FALSE))","v":""},null,{"$f":"IF(B30=\"\",\"\",表紙!$B$23)","v":""},{"$f":"IF(B30=\"\",\"\",表紙!$B$24)","v":""},{"$nulls":4},"",{"$f":"IF(F30=\"\",\"\",VLOOKUP(F30,競技データ!$A$2:$C$10,3,FALSE))","v":""},"",{"$f":"IF(L30=\"\",\"\",VLOOKUP(選手入力!L30,競技データ!$A$2:$C$10,3,FALSE))","v":""},"",{"$nulls":16},{"$f":"IF(B30=\"\",\"\",表紙!$B$1)","v":""}]
["",{"$nulls":17},{"v":0,"d":"0.00"},{"v":0,"d":"0.00"},null,"",null,{"$f":"IF(E31=\"\",\"\",VLOOKUP(E31,競技データ!$F$2:$G$3,2,FALSE))","v":""},"","",null,"","",{"$f":"IF(F31=\"\",\"\",VLOOKUP(F31,競技データ!$A$2:$C$10,2,FALSE))","v":""},null,{"$f":"IF(B31=\"\",\"\",表紙!$B$23)","v":""},{"$f":"IF(B31=\"\",\"\",表紙!$B$24)","v":""},{"$nulls":4},"",{"$f":"IF(F31=\"\",\"\",VLOOKUP(F31,競技データ!$A$2:$C$10,3,FALSE))","v":""},"",{"$f":"IF(L31=\"\",\"\",VLOOKUP(選手入力!L31,競技データ!$A$2:$C$10,3,FALSE))","v":""},"",{"$nulls":16},{"$f":"IF(B31=\"\",\"\",表紙!$B$1)","v":""}]
["",{"$nulls":17},{"v":0,"d":"0.00"},{"v":0,"d":"0.00"},null,"",null,{"$f":"IF(E32=\"\",\"\",VLOOKUP(E32,競技データ!$F$2:$G$3,2,FALSE))","v":""},"","",null,"","",{"$f":"IF(F32=\"\",\"\",VLOOKUP(F32,競技データ!$A$2:$C$10,2,FALSE))","v":""},null,{"$f":"IF(B32=\"\",\"\",表紙!$B$23)","v":""},{"$f":"IF(B32=\"\",\"\",表紙!$B$24)","v":""},{"$nulls":4},"",{"$f":"IF(F32=\"\",\"\",VLOOKUP(F32,競技データ!$A$2:$C$10,3,FALSE))","v":""},"",{"$f":"IF(L32=\"\",\"\",VLOOKUP(選手入力!L32,競技データ!$A$2:$C$10,3,FALSE))","v":""},"",{"$nulls":16},{"$f":"IF(B32=\"\",\"\",表紙!$B$1)","v":""}]
["",{"$nulls":17},{"v":0,"d":"0.00"},{"v":0,"d":"0.00"},null,"",null,{"$f":"IF(E33=\"\",\"\",VLOOKUP(E33,競技データ!$F$2:$G$3,2,FALSE))","v":""},"","",null,"","",{"$f":"IF(F33=\"\",\"\",VLOOKUP(F33,競技データ!$A$2:$C$10,2,FALSE))","v":""},null,{"$f":"IF(B33=\"\",\"\",表紙!$B$23)","v":""},{"$f":"IF(B33=\"\",\"\",表紙!$B$24)","v":""},{"$nulls":4},"",{"$f":"IF(F33=\"\",\"\",VLOOKUP(F33,競技データ!$A$2:$C$10,3,FALSE))","v":""},"",{"$f":"IF(L33=\"\",\"\",VLOOKUP(選手入力!L33,競技データ!$A$2:$C$10,3,FALSE))","v":""},"",{"$nulls":16},{"$f":"IF(B33=\"\",\"\",表紙!$B$1)","v":""}]
["",{"$nulls":17},{"v":0,"d":"0.00"},{"v":0,"d":"0.00"},null,"",null,{"$f":"IF(E34=\"\",\"\",VLOOKUP(E34,競技データ!$F$2:$G$3,2,FALSE))","v":""},"","",null,"","",{"$f":"IF(F34=\"\",\"\",VLOOKUP(F34,競技データ!$A$2:$C$10,2,FALSE))","v":""},null,{"$f":"IF(B34=\"\",\"\",表紙!$B$23)","v":""},{"$f":"IF(B34=\"\",\"\",表紙!$B$24)","v":""},{"$nulls":4},"",{"$f":"IF(F34=\"\",\"\",VLOOKUP(F34,競技データ!$A$2:$C$10,3,FALSE))","v":""},"",{"$f":"IF(L34=\"\",\"\",VLOOKUP(選手入力!L34,競技データ!$A$2:$C$10,3,FALSE))","v":""},"",{"$nulls":16},{"$f":"IF(B34=\"\",\"\",表紙!$B$1)","v":""}]
["",{"$nulls":17},{"v":0,"d":"0.00"},{"v":0,"d":"0.00"},null,"",null,{"$f":"IF(E35=\"\",\"\",VLOOKUP(E35,競技データ!$F$2:$G$3,2,FALSE))","v":""},"","",null,"","",{"$f":"IF(F35=\"\",\"\",VLOOKUP(F35,競技データ!$A$2:$C$10,2,FALSE))","v":""},null,{"$f":"IF(B35=\"\",\"\",表紙!$B$23)","v":""},{"$f":"IF(B35=\"\",\"\",表紙!$B$24)","v":""},{"$nulls":4},"",{"$f":"IF(F35=\"\",\"\",VLOOKUP(F35,競技データ!$A$2:$C$10,3,FALSE))","v":""},"",{"$f":"IF(L35=\"\",\"\",VLOOKUP(選手入力!L35,競技データ!$A$2:$C$10,3,FALSE))","v":""},"",{"$nulls":16},{"$f":"IF(B35=\"\",\"\",表紙!$B$1)","v":""}]
["",{"$nulls":17},{"v":0,"d":"0.00"},{"v":0,"d":"0.00"},null,"",null,{"$f":"IF(E36=\"\",\"\",VLOOKUP(E36,競技データ!$F$2:$G$3,2,FALSE))","v":""},"","",null,"","",{"$f":"IF(F36=\"\",\"\",VLOOKUP(F36,競技データ!$A$2:$C$10,2,FALSE))","v":""},null,{"$f":"IF(B36=\"\",\"\",表紙!$B$23)","v":""},{"$f":"IF(B36=\"\",\"\",表紙!$B$24)","v":""},{"$nulls":4},"",{"$f":"IF(F36=\"\",\"\",VLOOKUP(F36,競技データ!$A$2:$C$10,3,FALSE))","v":""},"",{"$f":"IF(L36=\"\",\"\",VLOOKUP(選手入力!L36,競技データ!$A$2:$C$10,3,FALSE))","v":""},"",{"$nulls":16},{"$f":"IF(B36=\"\",\"\",表紙!$B$1)","v":""}]
["",{"$nulls":17},{"v":0,"d":"0.00"},{"v":0,"d":"0.00"},null,"",null,{"$f":"IF(E37=\"\",\"\",VLOOKUP(E37,競技データ!$F$2:$G$3,2,FALSE))","v":""},"","",null,"","",{"$f":"IF(F37=\"\",\"\",VLOOKUP(F37,競技データ!$A$2:$C$10,2,FALSE))","v":""},null,{"$f":"IF(B37=\"\",\"\",表紙!$B$23)","v":""},{"$f":"IF(B37=\"\",\"\",表紙!$B$24)","v":""},{"$nulls":4},"",{"$f":"IF(F37=\"\",\"\",VLOOKUP(F37,競技データ!$A$2:$C$10,3,FALSE))","v":""},"",{"$f":"IF(L37=\"\",\"\",VLOOKUP(選手入力!L37,競技データ!$A$2:$C$10,3,FALSE))","v":""},"",{"$nulls":16},{"$f":"IF(B37=\"\",\"\",表紙!$B$1)","v":""}]
["",{"$nulls":17},{"v":0,"d":"0.00"},{"v":0,"d":"0.00"},null,"",null,{"$f":"IF(E38=\"\",\"\",VLOOKUP(E38,競技データ!$F$2:$G$3,2,FALSE))","v":""},"","",null,"","",{"$f":"IF(F38=\"\",\"\",VLOOKUP(F38,競技データ!$A$2:$C$10,2,FALSE))","v":""},null,{"$f":"IF(B38=\"\",\"\",表紙!$B$23)","v":""},{"$f":"IF(B38=\"\",\"\",表紙!$B$24)","v":""},{"$nulls":4},"",{"$f":"IF(F38=\"\",\"\",VLOOKUP(F38,競技データ!$A$2:$C$10,3,FALSE))","v":""},"",{"$f":"IF(L38=\"\",\"\",VLOOKUP(選手入力!L38,競技データ!$A$2:$C$10,3,FALSE))","v":""},"",{"$nulls":16},{"$f":"IF(B38=\"\",\"\",表紙!$B$1)","v":""}]
["",{"$nulls":17},{"v":0,"d":"0.00"},{"v":0,"d":"0.00"},null,"",null,{"$f":"IF(E39=\"\",\"\",VLOOKUP(E39,競技データ!$F$2:$G$3,2,FALSE))","v":""},"","",null,"","",{"$f":"IF(F39=\"\",\"\",VLOOKUP(F39,競技データ!$A$2:$C$10,2,FALSE))","v":""},null,{"$f":"IF(B39=\"\",\"\",表紙!$B$23)","v":""},{"$f":"IF(B39=\"\",\"\",表紙!$B$24)","v":""},{"$nulls":4},"",{"$f":"IF(F39=\"\",\"\",VLOOKUP(F39,競技データ!$A$2:$C$10,3,FALSE))","v":""},"",{"$f":"IF(L39=\"\",\"\",VLOOKUP(選手入力!L39,競技データ!$A$2:$C$10,3,FALSE))","v":""},"",{"$nulls":16},{"$f":"IF(B39=\"\",\"\",表紙!$B$1)","v":""}]
["",{"$nulls":17},{"v":0,"d":"0.00"},{"v":0,"d":"0.00"},null,"",null,{"$f":"IF(E40=\"\",\"\",VLOOKUP(E40,競技データ!$F$2:$G$3,2,FALSE))","v":""},"","",null,"","",{"$f":"IF(F40=\"\",\"\",VLOOKUP(F40,競技データ!$A$2:$C$10,2,FALSE))","v":""},null,{"$f":"IF(B40=\"\",\"\",表紙!$B$23)","v":""},{"$f":"IF(B40=\"\",\"\",表紙!$B$24)","v":""},{"$nulls":4},"",{"$f":"IF(F40=\"\",\"\",VLOOKUP(F40,競技データ!$A$2:$C$10,3,FALSE))","v":""},"",{"$f":"IF(L40=\"\",\"\",VLOOKUP(選手入力!L40,競技データ!$A$2:$C$10,3,FALSE))","v":""},"",{"$nulls":16},{"$f":"IF(B40=\"\",\"\",表紙!$B$1)","v":""}]
["",{"$nulls":17},{"v":0,"d":"0.00"},{"v":0,"d":"0.00"},null,"",null,{"$f":"IF(E41=\"\",\"\",VLOOKUP(E41,競技データ!$F$2:$G$3,2,FALSE))","v":""},"","",null,"","",{"$f":"IF(F41=\"\",\"\",VLOOKUP(F41,競技データ!$A$2:$C$10,2,FALSE))","v":""},null,{"$f":"IF(B41=\"\",\"\",表紙!$B$23)","v":""},{"$f":"IF(B41=\"\",\"\",表紙!$B$24)","v":""},{"$nulls":4},"",{"$f":"IF(F41=\"\",\"\",VLOOKUP(F41,競技データ!$A$2:$C$10,3,FALSE))","v":""},"",{"$f":"IF(L41=\"\",\"\",VLOOKUP(選手入力!L41,競技データ!$A$2:$C$10,3,FALSE))","v":""},"",{"$nulls":16},{"$f":"IF(B41=\"\",\"\",表紙!$B$1)","v":""}]
["",{"$nulls":17},{"v":0,"d":"0.00"},{"v":0,"d":"0.00"},null,"",null,{"$f":"IF(E42=\"\",\"\",VLOOKUP(E42,競技データ!$F$2:$G$3,2,FALSE))","v":""},"","",null,"","",{"$f":"IF(F42=\"\",\"\",VLOOKUP(F42,競技データ!$A$2:$C$10,2,FALSE))","v":""},null,{"$f":"IF(B42=\"\",\"\",表紙!$B$23)","v":""},{"$f":"IF(B42=\"\",\"\",表紙!$B$24)","v":""},{"$nulls":4},"",{"$f":"IF(F42=\"\",\"\",VLOOKUP(F42,競技データ!$A$2:$C$10,3,FALSE))","v":""},"",{"$f":"IF(L42=\"\",\"\",VLOOKUP(選手入力!L42,競技データ!$A$2:$C$10,3,FALSE))","v":""},"",{"$nulls":16},{"$f":"IF(B42=\"\",\"\",表紙!$B$1)","v":""}]
["",{"$nulls":17},{"v":0,"d":"0.00"},{"v":0,"d":"0.00"},null,"",null,{"$f":"IF(E43=\"\",\"\",VLOOKUP(E43,競技データ!$F$2:$G$3,2,FALSE))","v":""},"","",null,"","",{"$f":"IF(F43=\"\",\"\",VLOOKUP(F43,競技データ!$A$2:$C$10,2,FALSE))","v":""},null,{"$f":"IF(B43=\"\",\"\",表紙!$B$23)","v":""},{"$f":"IF(B43=\"\",\"\",表紙!$B$24)","v":""},{"$nulls":4},"",{"$f":"IF(F43=\"\",\"\",VLOOKUP(F43,競技データ!$A$2:$C$10,3,FALSE))","v":""},"",{"$f":"IF(L43=\"\",\"\",VLOOKUP(選手入力!L43,競技データ!$A$2:$C$10,3,FALSE))","v":""},"",{"$nulls":16},{"$f":"IF(B43=\"\",\"\",表紙!$B$1)","v":""}]
["",{"$nulls":17},{"v":0,"d":"0.00"},{"v":0,"d":"0.00"},null,"",null,{"$f":"IF(E44=\"\",\"\",VLOOKUP(E44,競技データ!$F$2:$G$3,2,FALSE))","v":""},"","",null,"","",{"$f":"IF(F44=\"\",\"\",VLOOKUP(F44,競技データ!$A$2:$C$10,2,FALSE))","v":""},null,{"$f":"IF(B44=\"\",\"\",表紙!$B$23)","v":""},{"$f":"IF(B44=\"\",\"\",表紙!$B$24)","v":""},{"$nulls":4},"",{"$f":"IF(F44=\"\",\"\",VLOOKUP(F44,競技データ!$A$2:$C$10,3,FALSE))","v":""},"",{"$f":"IF(L44=\"\",\"\",VLOOKUP(選手入力!L44,競技データ!$A$2:$C$10,3,FALSE))","v":""},"",{"$nulls":16},{"$f":"IF(B44=\"\",\"\",表紙!$B$1)","v":""}]
["",{"$nulls":17},{"v":0,"d":"0.00"},{"v":0,"d":"0.00"},null,"",null,{"$f":"IF(E45=\"\",\"\",VLOOKUP(E45,競技データ!$F$2:$G$3,2,FALSE))","v":""},"","",null,"","",{"$f":"IF(F45=\"\",\"\",VLOOKUP(F45,競技データ!$A$2:$C$10,2,FALSE))","v":""},null,{"$f":"IF(B45=\"\",\"\",表紙!$B$23)","v":""},{"$f":"IF(B45=\"\",\"\",表紙!$B$24)","v":""},{"$nulls":4},"",{"$f":"IF(F45=\"\",\"\",VLOOKUP(F45,競技データ!$A$2:$C$10,3,FALSE))","v":""},"",{"$f":"IF(L45=\"\",\"\",VLOOKUP(選手入力!L45,競技データ!$A$2:$C$10,3,FALSE))","v":""},"",{"$nulls":16},{"$f":"IF(B45=\"\",\"\",表紙!$B$1)","v":""}]
["",{"$nulls":17},{"v":0,"d":"0.00"},{"v":0,"d":"0.00"},null,"",null,{"$f":"IF(E46=\"\",\"\",VLOOKUP(E46,競技データ!$F$2:$G$3,2,FALSE))","v":""},"","",null,"","",{"$f":"IF(F46=\"\",\"\",VLOOKUP(F46,競技データ!$A$2:$C$10,2,FALSE))","v":""},null,{"$f":"IF(B46=\"\",\"\",表紙!$B$23)","v":""},{"$f":"IF(B46=\"\",\"\",表紙!$B$24)","v":""},{"$nulls":4},"",{"$f":"IF(F46=\"\",\"\",VLOOKUP(F46,競技データ!$A$2:$C$10,3,FALSE))","v":""},"",{"$f":"IF(L46=\"\",\"\",VLOOKUP(選手入力!L46,競技データ!$A$2:$C$10,3,FALSE))","v":""},"",{"$nulls":16},{"$f":"IF(B46=\"\",\"\",表紙!$B$1)","v":""}]
["",{"$nulls":17},{"v":0,"d":"0.00"},{"v":0,"d":"0.00"},null,"",null,{"$f":"IF(E47=\"\",\"\",VLOOKUP(E47,競技データ!$F$2:$G$3,2,FALSE))","v":""},"","",null,"","",{"$f":"IF(F47=\"\",\"\",VLOOKUP(F47,競技データ!$A$2:$C$10,2,FALSE))","v":""},null,{"$f":"IF(B47=\"\",\"\",表紙!$B$23)","v":""},{"$f":"IF(B47=\"\",\"\",表紙!$B$24)","v":""},{"$nulls":4},"",{"$f":"IF(F47=\"\",\"\",VLOOKUP(F47,競技データ!$A$2:$C$10,3,FALSE))","v":""},"",{"$f":"IF(L47=\"\",\"\",VLOOKUP(選手入力!L47,競技データ!$A$2:$C$10,3,FALSE))","v":""},"",{"$nulls":16},{"$f":"IF(B47=\"\",\"\",表紙!$B$1)","v":""}]
["",{"$nulls":17},{"v":0,"d":"0.00"},{"v":0,"d":"0.00"},null,"",null,{"$f":"IF(E48=\"\",\"\",VLOOKUP(E48,競技データ!$F$2:$G$3,2,FALSE))","v":""},"","",null,"","",{"$f":"IF(F48=\"\",\"\",VLOOKUP(F48,競技データ!$A$2:$C$10,2,FALSE))","v":""},null,{"$f":"IF(B48=\"\",\"\",表紙!$B$23)","v":""},{"$f":"IF(B48=\"\",\"\",表紙!$B$24)","v":""},{"$nulls":4},"",{"$f":"IF(F48=\"\",\"\",VLOOKUP(F48,競技データ!$A$2:$C$10,3,FALSE))","v":""},"",{"$f":"IF(L48=\"\",\"\",VLOOKUP(選手入力!L48,競技データ!$A$2:$C$10,3,FALSE))","v":""},"",{"$nulls":16},{"$f":"IF(B48=\"\",\"\",表紙!$B$1)","v":""}]
["",{"$nulls":17},{"v":0,"d":"0.00"},{"v":0,"d":"0.00"},null,"",null,{"$f":"IF(E49=\"\",\"\",VLOOKUP(E49,競技データ!$F$2:$G$3,2,FALSE))","v":""},"","",null,"","",{"$f":"IF(F49=\"\",\"\",VLOOKUP(F49,競技データ!$A$2:$C$10,2,FALSE))","v":""},null,{"$f":"IF(B49=\"\",\"\",表紙!$B$23)","v":""},{"$f":"IF(B49=\"\",\"\",表紙!$B$24)","v":""},{"$nulls":4},"",{"$f":"IF(F49=\"\",\"\",VLOOKUP(F49,競技データ!$A$2:$C$10,3,FALSE))","v":""},"",{"$f":"IF(L49=\"\",\"\",VLOOKUP(選手入力!L49,競技データ!$A$2:$C$10,3,FALSE))","v":""},"",{"$nulls":16},{"$f":"IF(B49=\"\",\"\",表紙!$B$1)","v":""}]
["",{"$nulls":17},{"v":0,"d":"0.00"},{"v":0,"d":"0.00"},null,"",null,{"$f":"IF(E50=\"\",\"\",VLOOKUP(E50,競技データ!$F$2:$G$3,2,FALSE))","v":""},"","",null,"","",{"$f":"IF(F50=\"\",\"\",VLOOKUP(F50,競技データ!$A$2:$C$10,2,FALSE))","v":""},null,{"$f":"IF(B50=\"\",\"\",表紙!$B$23)","v":""},{"$f":"IF(B50=\"\",\"\",表紙!$B$24)","v":""},{"$nulls":4},"",{"$f":"IF(F50=\"\",\"\",VLOOKUP(F50,競技データ!$A$2:$C$10,3,FALSE))","v":""},"",{"$f":"IF(L50=\"\",\"\",VLOOKUP(選手入力!L50,競技データ!$A$2:$C$10,3,FALSE))","v":""},"",{"$nulls":16},{"$f":"IF(B50=\"\",\"\",表紙!$B$1)","v":""}]
["",{"$nulls":17},{"v":0,"d":"0.00"},{"v":0,"d":"0.00"},null,"",null,{"$f":"IF(E51=\"\",\"\",VLOOKUP(E51,競技データ!$F$2:$G$3,2,FALSE))","v":""},"","",null,"","",{"$f":"IF(F51=\"\",\"\",VLOOKUP(F51,競技データ!$A$2:$C$10,2,FALSE))","v":""},null,{"$f":"IF(B51=\"\",\"\",表紙!$B$23)","v":""},{"$f":"IF(B51=\"\",\"\",表紙!$B$24)","v":""},{"$nulls":4},"",{"$f":"IF(F51=\"\",\"\",VLOOKUP(F51,競技データ!$A$2:$C$10,3,FALSE))","v":""},"",{"$f":"IF(L51=\"\",\"\",VLOOKUP(選手入力!L51,競技データ!$A$2:$C$10,3,FALSE))","v":""},"",{"$nulls":16},{"$f":"IF(B51=\"\",\"\",表紙!$B$1)","v":""}]
["",{"$nulls":17},{"v":0,"d":"0.00"},{"v":0,"d":"0.00"},null,"",null,{"$f":"IF(E52=\"\",\"\",VLOOKUP(E52,競技データ!$F$2:$G$3,2,FALSE))","v":""},"","",null,"","",{"$f":"IF(F52=\"\",\"\",VLOOKUP(F52,競技データ!$A$2:$C$10,2,FALSE))","v":""},null,{"$f":"IF(B52=\"\",\"\",表紙!$B$23)","v":""},{"$f":"IF(B52=\"\",\"\",表紙!$B$24)","v":""},{"$nulls":4},"",{"$f":"IF(F52=\"\",\"\",VLOOKUP(F52,競技データ!$A$2:$C$10,3,FALSE))","v":""},"",{"$f":"IF(L52=\"\",\"\",VLOOKUP(選手入力!L52,競技データ!$A$2:$C$10,3,FALSE))","v":""},"",{"$nulls":16},{"$f":"IF(B52=\"\",\"\",表紙!$B$1)","v":""}]
["",{"$nulls":57},{"$f":"IF(B53=\"\",\"\",表紙!$B$1)","v":""}]
["",{"$nulls":57},{"$f":"IF(B54=\"\",\"\",表紙!$B$1)","v":""}]
["",{"$nulls":57},{"$f":"IF(B55=\"\",\"\",表紙!$B$1)","v":""}]
["",{"$nulls":57},{"$f":"IF(B56=\"\",\"\",表紙!$B$1)","v":""}]
["",{"$nulls":57},{"$f":"IF(B57=\"\",\"\",表紙!$B$1)","v":""}]
["",{"$nulls":57},{"$f":"IF(B58=\"\",\"\",表紙!$B$1)","v":""}]
["",{"$nulls":57},{"$f":"IF(B59=\"\",\"\",表紙!$B$1)","v":""}]
["",{"$nulls":57},{"$f":"IF(B60=\"\",\"\",表紙!$B$1)","v":""}]
["",{"$nulls":57},{"$f":"IF(B61=\"\",\"\",表紙!$B$1)","v":""}]
["",{"$nulls":57},{"$f":"IF(B62=\"\",\"\",表紙!$B$1)","v":""}]
["",{"$nulls":57},{"$f":"IF(B63=\"\",\"\",表紙!$B$1)","v":""}]
["",{"$nulls":57},{"$f":"IF(B64=\"\",\"\",表紙!$B$1)","v":""}]
["",{"$nulls":57},{"$f":"IF(B65=\"\",\"\",表紙!$B$1)","v":""}]
["",{"$nulls":57},{"$f":"IF(B66=\"\",\"\",表紙!$B$1)","v":""}]
["",{"$nulls":57},{"$f":"IF(B67=\"\",\"\",表紙!$B$1)","v":""}]
["",{"$nulls":57},{"$f":"IF(B68=\"\",\"\",表紙!$B$1)","v":""}]
[{"$f":"IF(B69=\"\",\"\",A68+1)","v":""},{"$nulls":57},{"$f":"IF(B69=\"\",\"\",表紙!$B$1)","v":""}]
["",{"$nulls":57},{"$f":"IF(B70=\"\",\"\",表紙!$B$1)","v":""}]
["",{"$nulls":57},{"$f":"IF(B71=\"\",\"\",表紙!$B$1)","v":""}]
["",{"$nulls":57},{"$f":"IF(B72=\"\",\"\",表紙!$B$1)","v":""}]
["",{"$nulls":57},{"$f":"IF(B73=\"\",\"\",表紙!$B$1)","v":""}]
["",{"$nulls":57},{"$f":"IF(B74=\"\",\"\",表紙!$B$1)","v":""}]
["",{"$nulls":57},{"$f":"IF(B75=\"\",\"\",表紙!$B$1)","v":""}]
["",{"$nulls":57},{"$f":"IF(B76=\"\",\"\",表紙!$B$1)","v":""}]
["",{"$nulls":57},{"$f":"IF(B77=\"\",\"\",表紙!$B$1)","v":""}]
["",{"$nulls":57},{"$f":"IF(B78=\"\",\"\",表紙!$B$1)","v":""}]
["",{"$nulls":57},{"$f":"IF(B79=\"\",\"\",表紙!$B$1)","v":""}]
["",{"$nulls":57},{"$f":"IF(B80=\"\",\"\",表紙!$B$1)","v":""}]
["",{"$nulls":57},{"$f":"IF(B81=\"\",\"\",表紙!$B$1)","v":""}]
["",{"$nulls":57},{"$f":"IF(B82=\"\",\"\",表紙!$B$1)","v":""}]
["",{"$nulls":57},{"$f":"IF(B83=\"\",\"\",表紙!$B$1)","v":""}]
["",{"$nulls":57},{"$f":"IF(B84=\"\",\"\",表紙!$B$1)","v":""}]
["",{"$nulls":57},{"$f":"IF(B85=\"\",\"\",表紙!$B$1)","v":""}]
["",{"$nulls":57},{"$f":"IF(B86=\"\",\"\",表紙!$B$1)","v":""}]
["",{"$nulls":57},{"$f":"IF(B87=\"\",\"\",表紙!$B$1)","v":""}]
["",{"$nulls":57},{"$f":"IF(B88=\"\",\"\",表紙!$B$1)","v":""}]
["",{"$nulls":57},{"$f":"IF(B89=\"\",\"\",表紙!$B$1)","v":""}]
["",{"$nulls":57},{"$f":"IF(B90=\"\",\"\",表紙!$B$1)","v":""}]
["",{"$nulls":57},{"$f":"IF(B91=\"\",\"\",表紙!$B$1)","v":""}]
["",{"$nulls":57},{"$f":"IF(B92=\"\",\"\",表紙!$B$1)","v":""}]
["",{"$nulls":57},{"$f":"IF(B93=\"\",\"\",表紙!$B$1)","v":""}]
["",{"$nulls":57},{"$f":"IF(B94=\"\",\"\",表紙!$B$1)","v":""}]
["",{"$nulls":57},{"$f":"IF(B95=\"\",\"\",表紙!$B$1)","v":""}]
["",{"$nulls":57},{"$f":"IF(B96=\"\",\"\",表紙!$B$1)","v":""}]
["",{"$nulls":57},{"$f":"IF(B97=\"\",\"\",表紙!$B$1)","v":""}]
["",{"$nulls":57},{"$f":"IF(B98=\"\",\"\",表紙!$B$1)","v":""}]
["",{"$nulls":57},{"$f":"IF(B99=\"\",\"\",表紙!$B$1)","v":""}]
["",{"$nulls":57},{"$f":"IF(B100=\"\",\"\",表紙!$B$1)","v":""}]
["",{"$nulls":57},{"$f":"IF(B101=\"\",\"\",表紙!$B$1)","v":""}]
["",{"$nulls":57},{"$f":"IF(B102=\"\",\"\",表紙!$B$1)","v":""}]

{"sheet":"リレー入力","index":2,"n_rows":29,"n_cols":21,"rows_kept":29,"merged":[[0,1,0,3],[2,4,7,4],[2,5,7,5],[2,6,7,6],[2,7,7,7],[2,8,7,8],[8,4,13,4],[8,5,13,5],[8,6,13,6],[8,7,13,7],[8,8,13,8],[14,4,19,4],[14,5,19,5],[14,6,19,6],[14,7,19,7],[14,8,19,8],[20,4,25,4],[20,5,25,5],[20,6,25,6],[20,7,25,7],[20,8,25,8]]}
[null,{"$f":"IF(表紙!B4=\"\",\"\",表紙!B4)","v":"群馬県立テスト小学校"},{"$nulls":4},"申込みタイム（各位ずつ記入）"]
["種目名","泳順","選手NO","選手名（自動表示）","分",null,"秒","1/10","1／100","タイム","性確認","チーム番号(4)","チーム名(20)","ﾖﾐｶﾞﾅ(15)","所属番号(4)","加盟番号(2)","学校(1)","ｸﾗｽ(2)","性別(1)","ｴﾝﾄﾘｰ(5)","ｴﾝﾄﾘｰﾀｲﾑ(7)"]
["男子200mフリーリレー",1,null,{"$f":"IF(C3=\"\",\"\",VLOOKUP(C3,選手入力!$A$3:$B$102,2,FALSE))","v":""},{"$nulls":5},{"$f":"E3*100+F3*10+G3+H3*0.1+I3*0.01","v":{"v":0,"d":"0.00"}},{"$f":"IF(D3=\"\",\"\",IF(VLOOKUP(D3,選手入力!$B$3:$E$102,4,FALSE)=\"男子\",\"\",\"性別ミス\"))","v":""},{"$f":"IF(C3=\"\",\"\",表紙!$B$25)","v":""},{"$f":"IF(C3=\"\",\"\",表紙!$B$23)","v":""},{"$f":"IF(C3=\"\",\"\",表紙!$B$24)","v":""},null,null,{"$f":"IF($C$3=\"\",\"\",1)","v":""},{"$f":"IF($C$3=\"\",\"\",1)","v":""},{"$f":"IF($C$3=\"\",\"\",1)","v":""},{"$f":"IF($C$3=\"\",\"\",60200)","v":""},{"$f":"IF($C$3=\"\",\"\",J3)","v":""}]
[null,2,null,{"$f":"IF(C4=\"\",\"\",VLOOKUP(C4,選手入力!$A$3:$B$102,2,FALSE))","v":""},{"$nulls":6},{"$f":"IF(D4=\"\",\"\",IF(VLOOKUP(D4,選手入力!$B$3:$E$102,4,FALSE)=\"男子\",\"\",\"性別ミス\"))","v":""},{"$f":"IF(L9=\"\",\"\",L9)","v":""},{"$f":"IF(M9=\"\",\"\",M9)","v":""},"","","","","","","",""]
[null,3,null,{"$f":"IF(C5=\"\",\"\",VLOOKUP(C5,選手入力!$A$3:$B$102,2,FALSE))","v":""},{"$nulls":6},{"$f":"IF(D5=\"\",\"\",IF(VLOOKUP(D5,選手入力!$B$3:$E$102,4,FALSE)=\"男子\",\"\",\"性別ミス\"))","v":""},{"$f":"IF(L15=\"\",\"\",L15)","v":""},{"$f":"IF(M15=\"\",\"\",M15)","v":""},"","","","","","","",""]
[null,4,null,{"$f":"IF(C6=\"\",\"\",VLOOKUP(C6,選手入力!$A$3:$B$102,2,FALSE))","v":""},{"$nulls":6},{"$f":"IF(D6=\"\",\"\",IF(VLOOKUP(D6,選手入力!$B$3:$E$102,4,FALSE)=\"男子\",\"\",\"性別ミス\"))","v":""},{"$f":"IF(L21=\"\",\"\",L21)","v":""},{"$f":"IF(M21=\"\",\"\",M21)","v":""},"","","","","","","",""]
[null,"補員",null,{"$f":"IF(C7=\"\",\"\",VLOOKUP(C7,選手入力!$A$3:$B$102,2,FALSE))","v":""},{"$nulls":6},{"$f":"IF(D7=\"\",\"\",IF(VLOOKUP(D7,選手入力!$B$3:$E$102,4,FALSE)=\"男子\",\"\",\"性別ミス\"))","v":""}]
[null,"補員",null,{"$f":"IF(C8=\"\",\"\",VLOOKUP(C8,選手入力!$A$3:$B$102,2,FALSE))","v":""},{"$nulls":6},{"$f":"IF(D8=\"\",\"\",IF(VLOOKUP(D8,選手入力!$B$3:$E$102,4,FALSE)=\"男子\",\"\",\"性別ミス\"))","v":""}]
["女子200mフリーリレー",1,null,{"$f":"IF(C9=\"\",\"\",VLOOKUP(C9,選手入力!$A$3:$B$102,2,FALSE))","v":""},{"$nulls":5},{"$f":"E9*100+F9*10+G9+H9*0.1+I9*0.01","v":{"v":0,"d":"0.00"}},{"$f":"IF(D9=\"\",\"\",IF(VLOOKUP(D9,選手入力!$B$3:$E$102,4,FALSE)=\"女子\",\"\",\"性別ミス\"))","v":""},{"$f":"IF(C9=\"\",\"\",表紙!$B$25+1)","v":""},{"$f":"IF(C9=\"\",\"\",表紙!$B$23)","v":""},{"$f":"IF(C9=\"\",\"\",表紙!$B$24)","v":""},null,null,{"$f":"IF(C9=\"\",\"\",1)","v":""},{"$f":"IF(C9=\"\",\"\",1)","v":""},{"$f":"IF(C9=\"\",\"\",2)","v":""},{"$f":"IF(C9=\"\",\"\",60200)","v":""},{"$f":"IF(C9=\"\",\"\",J9)","v":""}]
[null,2,null,{"$f":"IF(C10=\"\",\"\",VLOOKUP(C10,選手入力!$A$3:$B$102,2,FALSE))","v":""},{"$nulls":6},{"$f":"IF(D10=\"\",\"\",IF(VLOOKUP(D10,選手入力!$B$3:$E$102,4,FALSE)=\"女子\",\"\",\"性別ミス\"))","v":""}]
[null,3,null,{"$f":"IF(C11=\"\",\"\",VLOOKUP(C11,選手入力!$A$3:$B$102,2,FALSE))","v":""},{"$nulls":6},{"$f":"IF(D11=\"\",\"\",IF(VLOOKUP(D11,選手入力!$B$3:$E$102,4,FALSE)=\"女子\",\"\",\"性別ミス\"))","v":""}]
[null,4,null,{"$f":"IF(C12=\"\",\"\",VLOOKUP(C12,選手入力!$A$3:$B$102,2,FALSE))","v":""},{"$nulls":6},{"$f":"IF(D12=\"\",\"\",IF(VLOOKUP(D12,選手入力!$B$3:$E$102,4,FALSE)=\"女子\",\"\",\"性別ミス\"))","v":""}]
[null,"補員",null,{"$f":"IF(C13=\"\",\"\",VLOOKUP(C13,選手入力!$A$3:$B$102,2,FALSE))","v":""},{"$nulls":6},{"$f":"IF(D13=\"\",\"\",IF(VLOOKUP(D13,選手入力!$B$3:$E$102,4,FALSE)=\"女子\",\"\",\"性別ミス\"))","v":""}]
[null,"補員",null,{"$f":"IF(C14=\"\",\"\",VLOOKUP(C14,選手入力!$A$3:$B$102,2,FALSE))","v":""},{"$nulls":6},{"$f":"IF(D14=\"\",\"\",IF(VLOOKUP(D14,選手入力!$B$3:$E$102,4,FALSE)=\"女子\",\"\",\"性別ミス\"))","v":""}]
["男子200mメドレーリレー","背泳ぎ",null,{"$f":"IF(C15=\"\",\"\",VLOOKUP(C15,選手入力!$A$3:$B$102,2,FALSE))","v":""},{"$nulls":5},{"$f":"E15*100+F15*10+G15+H15*0.1+I15*0.01","v":{"v":0,"d":"0.00"}},{"$f":"IF(D15=\"\",\"\",IF(VLOOKUP(D15,選手入力!$B$3:$E$102,4,FALSE)=\"男子\",\"\",\"性別ミス\"))","v":""},{"$f":"IF(C15=\"\",\"\",表紙!$B$25+2)","v":""},{"$f":"IF(C15=\"\",\"\",表紙!$B$23)","v":""},{"$f":"IF(C15=\"\",\"\",表紙!$B$24)","v":""},null,null,{"$f":"IF(C15=\"\",\"\",1)","v":""},{"$f":"IF(C15=\"\",\"\",1)","v":""},{"$f":"IF(C15=\"\",\"\",1)","v":""},{"$f":"IF(C15=\"\",\"\",70200)","v":""},{"$f":"IF(C15=\"\",\"\",J15)","v":""}]
[null,"平泳ぎ",null,{"$f":"IF(C16=\"\",\"\",VLOOKUP(C16,選手入力!$A$3:$B$102,2,FALSE))","v":""},{"$nulls":6},{"$f":"IF(D16=\"\",\"\",IF(VLOOKUP(D16,選手入力!$B$3:$E$102,4,FALSE)=\"男子\",\"\",\"性別ミス\"))","v":""}]
[null,"バタフライ",null,{"$f":"IF(C17=\"\",\"\",VLOOKUP(C17,選手入力!$A$3:$B$102,2,FALSE))","v":""},{"$nulls":6},{"$f":"IF(D17=\"\",\"\",IF(VLOOKUP(D17,選手入力!$B$3:$E$102,4,FALSE)=\"男子\",\"\",\"性別ミス\"))","v":""}]
[null,"自由形",null,{"$f":"IF(C18=\"\",\"\",VLOOKUP(C18,選手入力!$A$3:$B$102,2,FALSE))","v":""},{"$nulls":6},{"$f":"IF(D18=\"\",\"\",IF(VLOOKUP(D18,選手入力!$B$3:$E$102,4,FALSE)=\"男子\",\"\",\"性別ミス\"))","v":""}]
[null,"補員",null,{"$f":"IF(C19=\"\",\"\",VLOOKUP(C19,選手入力!$A$3:$B$102,2,FALSE))","v":""},{"$nulls":6},{"$f":"IF(D19=\"\",\"\",IF(VLOOKUP(D19,選手入力!$B$3:$E$102,4,FALSE)=\"男子\",\"\",\"性別ミス\"))","v":""}]
[null,"補員",null,{"$f":"IF(C20=\"\",\"\",VLOOKUP(C20,選手入力!$A$3:$B$102,2,FALSE))","v":""},{"$nulls":6},{"$f":"IF(D20=\"\",\"\",IF(VLOOKUP(D20,選手入力!$B$3:$E$102,4,FALSE)=\"男子\",\"\",\"性別ミス\"))","v":""}]
["女子200mメドレーリレー","背泳ぎ",null,{"$f":"IF(C21=\"\",\"\",VLOOKUP(C21,選手入力!$A$3:$B$102,2,FALSE))","v":""},{"$nulls":5},{"$f":"E21*100+F21*10+G21+H21*0.1+I21*0.01","v":{"v":0,"d":"0.00"}},{"$f":"IF(D21=\"\",\"\",IF(VLOOKUP(D21,選手入力!$B$3:$E$102,4,FALSE)=\"女子\",\"\",\"性別ミス\"))","v":""},{"$f":"IF(C21=\"\",\"\",表紙!$B$25+3)","v":""},{"$f":"IF(C21=\"\",\"\",表紙!$B$23)","v":""},{"$f":"IF(C21=\"\",\"\",表紙!$B$24)","v":""},null,null,{"$f":"IF(C21=\"\",\"\",1)","v":""},{"$f":"IF(C21=\"\",\"\",1)","v":""},{"$f":"IF(C21=\"\",\"\",2)","v":""},{"$f":"IF(C21=\"\",\"\",70200)","v":""},{"$f":"IF(C21=\"\",\"\",J21)","v":""}]
[null,"平泳ぎ",null,{"$f":"IF(C22=\"\",\"\",VLOOKUP(C22,選手入力!$A$3:$B$102,2,FALSE))","v":""},{"$nulls":6},{"$f":"IF(D22=\"\",\"\",IF(VLOOKUP(D22,選手入力!$B$3:$E$102,4,FALSE)=\"女子\",\"\",\"性別ミス\"))","v":""}]
[null,"バタフライ",null,{"$f":"IF(C23=\"\",\"\",VLOOKUP(C23,選手入力!$A$3:$B$102,2,FALSE))","v":""},{"$nulls":6},{"$f":"IF(D23=\"\",\"\",IF(VLOOKUP(D23,選手入力!$B$3:$E$102,4,FALSE)=\"女子\",\"\",\"性別ミス\"))","v":""}]
[null,"自由形",null,{"$f":"IF(C24=\"\",\"\",VLOOKUP(C24,選手入力!$A$3:$B$102,2,FALSE))","v":""},{"$nulls":6},{"$f":"IF(D24=\"\",\"\",IF(VLOOKUP(D24,選手入力!$B$3:$E$102,4,FALSE)=\"女子\",\"\",\"性別ミス\"))","v":""}]
[null,"補員",null,{"$f":"IF(C25=\"\",\"\",VLOOKUP(C25,選手入力!$A$3:$B$102,2,FALSE))","v":""},{"$nulls":6},{"$f":"IF(D25=\"\",\"\",IF(VLOOKUP(D25,選手入力!$B$3:$E$102,4,FALSE)=\"女子\",\"\",\"性別ミス\"))","v":""}]
[null,"補員",null,{"$f":"IF(C26=\"\",\"\",VLOOKUP(C26,選手入力!$A$3:$B$102,2,FALSE))","v":""},{"$nulls":6},{"$f":"IF(D26=\"\",\"\",IF(VLOOKUP(D26,選手入力!$B$3:$E$102,4,FALSE)=\"女子\",\"\",\"性別ミス\"))","v":""}]
[]
["フリーリレーチーム数",null,{"$f":"2-(COUNTIF(C3,\"\")+COUNTIF(C9,\"\"))","v":0}]
["メドレーリレーチーム数",null,{"$f":"2-(COUNTIF(C15,\"\")+COUNTIF(C21,\"\"))","v":0}]

{"sheet":"リレー印刷用","index":3,"n_rows":26,"n_cols":4,"rows_kept":26,"merged":[[0,1,0,3]]}
[null,{"$f":"IF(表紙!B4=\"\",\"\",表紙!B4)","v":"群馬県立テスト小学校"}]
["種目名","泳順","選手NO","選手名（自動表示）"]
["男子200mフリーリレー",1,{"$f":"IF(リレー入力!C3=\"\",\"\",リレー入力!C3)","v":""},{"$f":"IF(リレー入力!D3=\"\",\"\",リレー入力!D3)","v":""}]
["　　組　　レーン",2,{"$f":"IF(リレー入力!C4=\"\",\"\",リレー入力!C4)","v":""},{"$f":"IF(リレー入力!D4=\"\",\"\",リレー入力!D4)","v":""}]
[null,3,{"$f":"IF(リレー入力!C5=\"\",\"\",リレー入力!C5)","v":""},{"$f":"IF(リレー入力!D5=\"\",\"\",リレー入力!D5)","v":""}]
[null,4,{"$f":"IF(リレー入力!C6=\"\",\"\",リレー入力!C6)","v":""},{"$f":"IF(リレー入力!D6=\"\",\"\",リレー入力!D6)","v":""}]
[null,"補員",{"$f":"IF(リレー入力!C7=\"\",\"\",リレー入力!C7)","v":""},{"$f":"IF(リレー入力!D7=\"\",\"\",リレー入力!D7)","v":""}]
[null,"補員",{"$f":"IF(リレー入力!C8=\"\",\"\",リレー入力!C8)","v":""},{"$f":"IF(リレー入力!D8=\"\",\"\",リレー入力!D8)","v":""}]
["女子200mフリーリレー",1,{"$f":"IF(リレー入力!C9=\"\",\"\",リレー入力!C9)","v":""},{"$f":"IF(リレー入力!D9=\"\",\"\",リレー入力!D9)","v":""}]
["　　組　　レーン",2,{"$f":"IF(リレー入力!C10=\"\",\"\",リレー入力!C10)","v":""},{"$f":"IF(リレー入力!D10=\"\",\"\",リレー入力!D10)","v":""}]
[null,3,{"$f":"IF(リレー入力!C11=\"\",\"\",リレー入力!C11)","v":""},{"$f":"IF(リレー入力!D11=\"\",\"\",リレー入力!D11)","v":""}]
[null,4,{"$f":"IF(リレー入力!C12=\"\",\"\",リレー入力!C12)","v":""},{"$f":"IF(リレー入力!D12=\"\",\"\",リレー入力!D12)","v":""}]
[null,"補員",{"$f":"IF(リレー入力!C13=\"\",\"\",リレー入力!C13)","v":""},{"$f":"IF(リレー入力!D13=\"\",\"\",リレー入力!D13)","v":""}]
[null,"補員",{"$f":"IF(リレー入力!C14=\"\",\"\",リレー入力!C14)","v":""},{"$f":"IF(リレー入力!D14=\"\",\"\",リレー入力!D14)","v":""}]
["男子200mメドレーリレー","背泳ぎ",{"$f":"IF(リレー入力!C15=\"\",\"\",リレー入力!C15)","v":""},{"$f":"IF(リレー入力!D15=\"\",\"\",リレー入力!D15)","v":""}]
["　　組　　レーン","平泳ぎ",{"$f":"IF(リレー入力!C16=\"\",\"\",リレー入力!C16)","v":""},{"$f":"IF(リレー入力!D16=\"\",\"\",リレー入力!D16)","v":""}]
[null,"バタフライ",{"$f":"IF(リレー入力!C17=\"\",\"\",リレー入力!C17)","v":""},{"$f":"IF(リレー入力!D17=\"\",\"\",リレー入力!D17)","v":""}]
[null,"自由形",{"$f":"IF(リレー入力!C18=\"\",\"\",リレー入力!C18)","v":""},{"$f":"IF(リレー入力!D18=\"\",\"\",リレー入力!D18)","v":""}]
[null,"補員",{"$f":"IF(リレー入力!C19=\"\",\"\",リレー入力!C19)","v":""},{"$f":"IF(リレー入力!D19=\"\",\"\",リレー入力!D19)","v":""}]
[null,"補員",{"$f":"IF(リレー入力!C20=\"\",\"\",リレー入力!C20)","v":""},{"$f":"IF(リレー入力!D20=\"\",\"\",リレー入力!D20)","v":""}]
["女子200mメドレーリレー","背泳ぎ",{"$f":"IF(リレー入力!C21=\"\",\"\",リレー入力!C21)","v":""},{"$f":"IF(リレー入力!D21=\"\",\"\",リレー入力!D21)","v":""}]
["　　組　　レーン","平泳ぎ",{"$f":"IF(リレー入力!C22=\"\",\"\",リレー入力!C22)","v":""},{"$f":"IF(リレー入力!D22=\"\",\"\",リレー入力!D22)","v":""}]
[null,"バタフライ",{"$f":"IF(リレー入力!C23=\"\",\"\",リレー入力!C23)","v":""},{"$f":"IF(リレー入力!D23=\"\",\"\",リレー入力!D23)","v":""}]
[null,"自由形",{"$f":"IF(リレー入力!C24=\"\",\"\",リレー入力!C24)","v":""},{"$f":"IF(リレー入力!D24=\"\",\"\",リレー入力!D24)","v":""}]
[null,"補員",{"$f":"IF(リレー入力!C25=\"\",\"\",リレー入力!C25)","v":""},{"$f":"IF(リレー入力!D25=\"\",\"\",リレー入力!D25)","v":""}]
[null,"補員",{"$f":"IF(リレー入力!C26=\"\",\"\",リレー入力!C26)","v":""},{"$f":"IF(リレー入力!D26=\"\",\"\",リレー入力!D26)","v":""}]

{"sheet":"競技データ","index":4,"n_rows":10,"n_cols":7,"rows_kept":10}
["種目名","クラス","コード",null,"学年","性別"]
["50m自由形",1,10050,null,4,"男子",1]
["50m背泳ぎ",1,20050,null,5,"女子",2]
["50m平泳ぎ",1,30050,null,6]
["50mバタフライ",1,40050]
["友好レース自由形",2,10050]
["友好レース背泳ぎ",2,20050]
["友好レース平泳ぎ",2,30050]
["友好レースバタフライ",2,40050]
["リレーのみ",1]

{"sheet":"郡市データ","index":5,"n_rows":23,"n_cols":9,"rows_kept":23}
["郡市番号","郡市名","学校数","学校番号初期値","選手番号初期値","チーム番号初期値"]
[1,"前橋市",47,100101,1001,101,null,"前橋",{"$f":"PHONETIC(H2)","v":"ﾏｴﾊﾞｼ"}]
[2,"伊勢崎市",23,100201,2001,201,null,"伊勢崎",{"$f":"PHONETIC(H3)","v":"ｲｾｻｷ"}]
[3,"佐波郡",6,100301,3001,301,null,"佐波","ｻﾜ"]
[4,"北群馬郡",4,100401,4001,401,null,"北群馬","ｷﾀｸﾞﾝﾏ"]
[5,"渋川市",14,100501,5001,501,null,"渋川","ｼﾌﾞｶﾜ"]
[6,"利根郡",11,100601,6001,601,null,"利根","ﾄﾈ"]
[7,"沼田市",11,100701,7001,701,null,"沼田","ﾇﾏﾀ"]
[8,"吾妻郡",14,100801,8001,801,null,"吾妻","ｱｶﾞﾂﾏ"]
[9,"高崎市",58,100901,9001,901,null,"高崎","ﾀｶｻｷ"]
[10,"安中市",12,101001,10001,1001,null,"安中","ｱﾝﾅｶ"]
[11,"甘楽・富岡",16,101101,11001,1101,null,"甘・富","ｶﾝﾗﾄﾐｵｶ"]
[12,"藤岡・多野",13,101201,12001,1201,null,"藤・多","ﾌｼﾞｵｶﾀﾉ"]
[13,"桐生市",17,101301,13001,1301,null,"桐生","ｷﾘｭｳ"]
[14,"みどり市",7,101401,14001,1401,null,"みどり","ﾐﾄﾞﾘ"]
[15,"太田市",25,101501,15001,1501,null,"太田","ｵｵﾀ"]
[16,"邑楽郡",14,101601,16001,1601,null,"邑楽","ｵｳﾗ"]
[17,"館林市",11,101701,17001,1701,null,"館林","ﾀﾃﾊﾞﾔｼ"]
[]
[]
[null,null,"合計"]
[null,null,{"$f":"SUM(C2:C19)","v":303}]
[null,null,"校"]

{"sheet":"学校データ","index":6,"n_rows":336,"n_cols":9,"rows_kept":336}
["郡市名","№","学校コード\n申し込みには\nこのｺｰﾄﾞを\n入力","MCコード","学校名","略称","ﾖﾐｶﾞﾅ","リレーNO初期値","選手NO初期値"]
["０１",1,101,100101,"前橋市立桃井小学校","前・桃井","ﾏｴﾊﾞｼ.ﾓﾓﾉｲ",1,1]
["前橋市",2,102,100102,"前橋市立中川小学校","前・中川","ﾏｴﾊﾞｼ.ﾅｶｶﾞﾜ",6,51]
[null,3,103,100103,"前橋市立敷島小学校","前・敷島","ﾏｴﾊﾞｼ.ｼｷｼﾏ",11,101]
[null,4,104,100104,"前橋市立城南小学校","前・城南","ﾏｴﾊﾞｼ.ｼﾞｮｳﾅﾝ",16,151]
[null,5,105,100105,"前橋市立城東小学校","前・城東","ﾏｴﾊﾞｼ.ｼﾞｮｳﾄｳ",21,201]
[null,6,106,100106,"前橋市立若宮小学校","前・若宮","ﾏｴﾊﾞｼ.ﾜｶﾐﾔ",26,251]
[null,7,107,100107,"前橋市立天川小学校","前・天川","ﾏｴﾊﾞｼ.ｱﾏｶﾞﾜ",31,301]
[null,8,108,100108,"前橋市立岩神小学校","前・岩神","ﾏｴﾊﾞｼ.ｲﾜｶﾞﾐ",36,351]
[null,9,null,"","","","",41,401]
[null,10,110,100110,"前橋市立広瀬小学校","前・広瀬","ﾏｴﾊﾞｼ.ﾋﾛｾ",46,451]
[null,11,111,100111,"前橋市立山王小学校","前・山王","ﾏｴﾊﾞｼ.ｻﾝﾉｳ",51,501]
[null,12,112,100112,"前橋市立わかば小学校","前・わかば","ﾏｴﾊﾞｼ.ﾜｶﾊﾞ",56,551]
[null,13,null,"","","","",61,601]
[null,14,114,100114,"前橋市立上川淵小学校","前・上川淵","ﾏｴﾊﾞｼ.ｶﾐｶﾜﾌﾁ",66,651]
[null,15,115,100115,"前橋市立下川淵小学校","前・下川淵","ﾏｴﾊﾞｼ.ｼﾓｶﾜﾌﾁ",71,701]
[null,16,116,100116,"前橋市立桂萱小学校","前・桂萱","ﾏｴﾊﾞｼ.ｶｲｶﾞﾔ",76,751]
[null,17,117,100117,"前橋市立桃木小学校","前・桃木","ﾏｴﾊﾞｼ.ﾓﾓﾉｷ",81,801]
[null,18,118,100118,"前橋市立桂萱東小学校","前・桂萱東","ﾏｴﾊﾞｼ.ｶｲｶﾞﾔﾋｶﾞｼ",86,851]
[null,19,119,100119,"前橋市立桃瀬小学校","前・桃瀬","ﾏｴﾊﾞｼ.ﾓﾓﾉｾ",91,901]
[null,20,120,100120,"前橋市立芳賀小学校","前・芳賀","ﾏｴﾊﾞｼ.ﾊｶﾞ",96,951]
[null,21,null,"","","","",101,1001]
[null,22,122,100122,"前橋市立総社小学校","前・総社","ﾏｴﾊﾞｼ.ｿｳｼﾞｬ",106,1051]
[null,23,123,100123,"前橋市立勝山小学校","前・勝山","ﾏｴﾊﾞｼ.ｶﾂﾔﾏ",111,1101]
[null,24,124,100124,"前橋市立元総社小学校","前・元総社","ﾏｴﾊﾞｼ.ﾓﾄｿｳｼﾞｬ",116,1151]
[null,25,125,100125,"前橋市立元総社南小学校","前・元総社南","ﾏｴﾊﾞｼﾓﾄｿｳｼﾞｬﾐﾅﾐ",121,1201]
[null,26,126,100126,"前橋市立元総社北小学校","前・元総社北","ﾏｴﾊﾞｼ.ﾓﾄｿｳｼﾞｬｷﾀ",126,1251]
[null,27,127,100127,"前橋市立東小学校","前・東","ﾏｴﾊﾞｼ.ｱｽﾞﾏ",131,1301]
[null,28,128,100128,"前橋市立大利根小学校","前・大利根","ﾏｴﾊﾞｼ.ｵｵﾄﾈ",136,1351]
[null,29,129,100129,"前橋市立新田小学校","前・新田","ﾏｴﾊﾞｼ.ｼﾝﾃﾞﾝ",141,1401]
[null,30,130,100130,"前橋市立細井小学校","前・細井","ﾏｴﾊﾞｼ.ﾎｿｲ",146,1451]
[null,31,131,100131,"前橋市立桃川小学校","前・桃川","ﾏｴﾊﾞｼ.ﾓﾓｶﾜ",151,1501]
[null,32,132,100132,"前橋市立荒牧小学校","前・荒牧","ﾏｴﾊﾞｼ.ｱﾗﾏｷ",156,1551]
[null,33,133,100133,"前橋市立清里小学校","前・清里","ﾏｴﾊﾞｼ.ｷﾖｻﾄ",161,1601]
[null,34,134,100134,"前橋市立永明小学校","前・永明","ﾏｴﾊﾞｼ.ｴｲﾒｲ",166,1651]
[null,35,135,100135,"前橋市立駒形小学校","前・駒形","ﾏｴﾊﾞｼ.ｺﾏｶﾞﾀ",171,1701]
[null,36,136,100136,"前橋市立荒子小学校","前・荒子","ﾏｴﾊﾞｼ.ｱﾗｺ",176,1751]
[null,37,137,100137,"前橋市立大室小学校","前・大室","ﾏｴﾊﾞｼ.ｵｵﾑﾛ",181,1801]
[null,38,138,100138,"前橋市立二之宮小学校","前・二之宮","ﾏｴﾊﾞｼ.ﾆﾉﾐﾔ",186,1851]
[null,39,139,100139,"前橋市立笂井小学校","前・笂井","ﾏｴﾊﾞｼ.ｳﾂﾎﾞｲ",191,1901]
[null,40,140,100140,"前橋市立大胡小学校","前・大胡","ﾏｴﾊﾞｼ.ｵｵｺﾞ",196,1951]
[null,41,141,100141,"前橋市立滝窪小学校","前・滝窪","ﾏｴﾊﾞｼ.ﾀｷｸﾎﾞ",201,2001]
[null,42,142,100142,"前橋市立大胡東小学校","前・大胡東","ﾏｴﾊﾞｼ.ｵｵｺﾞﾋｶﾞｼ",206,2051]
[null,43,143,100143,"前橋市立宮城小学校","前・宮城","ﾏｴﾊﾞｼ.ﾐﾔｷﾞ",211,2101]
[null,44,144,100144,"前橋市立粕川小学校","前・粕川","ﾏｴﾊﾞｼ.ｶｽｶﾜ",216,2151]
[null,45,145,100145,"前橋市立月田小学校","前・月田","ﾏｴﾊﾞｼ.ﾂｷﾀﾞ",221,2201]
[null,46,146,100146,"前橋市立原小学校","前・原","ﾏｴﾊﾞｼ.ﾊﾗ",226,2251]
[null,47,147,100147,"前橋市立時沢小学校","前・時沢","ﾏｴﾊﾞｼ.ﾄｷｻﾞﾜ",231,2301]
[null,48,148,100148,"前橋市立石井小学校","前・石井","ﾏｴﾊﾞｼ.ｲｼｲ",236,2351]
[null,49,149,100149,"前橋市立白川小学校","前・白川","ﾏｴﾊﾞｼ.ｼﾗｶﾜ",241,2401]
[null,50,150,100150,"群馬大学附属小学校","前・群大附属","ｸﾞﾝﾀﾞｲﾌｿﾞｸ",246,2451]
[null,51,151,100151,"群馬県立聾学校小学部","前・県聾","ｹﾝﾘﾂﾛｳｶﾞｯｺｳ",251,2501]
[null,52,152,100152,"共愛学園小学校","前・共愛","ﾏｴﾊﾞｼ.ｷｮｳｱｲ",256,2551]
["０２",1,201,100201,"伊勢崎市立北小学校","伊・北","ｲｾｻｷ.ｷﾀ",261,2601]
["伊勢崎市",2,202,100202,"伊勢崎市立南小学校","伊・南","ｲｾｻｷ.ﾐﾅﾐ",266,2651]
[null,3,203,100203,"伊勢崎市立殖蓮小学校","伊・殖蓮","ｲｾｻｷ.ｳｴﾊｽ",271,2701]
[null,4,204,100204,"伊勢崎市立茂呂小学校","伊・茂呂","ｲｾｻｷ.ﾓﾛ",276,2751]
[null,5,205,100205,"伊勢崎市立三郷小学校","伊・三郷","ｲｾｻｷ.ﾐｻﾄ",281,2801]
[null,6,206,100206,"伊勢崎市立宮郷小学校","伊・宮郷","ｲｾｻｷ.ﾐﾔｺﾞｳ",286,2851]
[null,7,207,100207,"伊勢崎市立名和小学校","伊・名和","ｲｾｻｷ.ﾅﾜ",291,2901]
[null,8,208,100208,"伊勢崎市立豊受小学校","伊・豊受","ｲｾｻｷ.ﾄﾖｳｹ",296,2951]
[null,9,209,100209,"伊勢崎市立北第二小学校","伊・北第二","ｲｾｻｷ.ｷﾀﾀﾞｲﾆ",301,3001]
[null,10,210,100210,"伊勢崎市立殖蓮第二小学校","伊・殖蓮第二","ｲｾｻｷ.ｳｴﾊｽﾀﾞｲﾆ",306,3051]
[null,11,211,100211,"伊勢崎市立広瀬小学校","伊・広瀬","ｲｾｻｷ.ﾋﾛｾ",311,3101]
[null,12,212,100212,"伊勢崎市立坂東小学校","伊・坂東","ｲｾｻｷ.ﾊﾞﾝﾄﾞｳ",316,3151]
[null,13,213,100213,"伊勢崎市立宮郷第二小学校","伊・宮郷第二","ｲｾｻｷ.ﾐﾔｺﾞｳﾀﾞｲﾆ",321,3201]
[null,14,214,100214,"伊勢崎市立赤堀小学校","伊・赤堀","ｲｾｻｷ.ｱｶﾎﾞﾘ",326,3251]
[null,15,215,100215,"伊勢崎市立赤堀南小学校","伊・赤堀南","ｲｾｻｷ.ｱｶﾎﾞﾘﾐﾅﾐ",331,3301]
[null,16,216,100216,"伊勢崎市立赤堀東小学校","伊・赤堀東","ｲｾｻｷ.ｱｶﾎﾞﾘﾋｶﾞｼ",336,3351]
[null,17,217,100217,"伊勢崎市立あずま小学校","伊・あずま","ｲｾｻｷ.ｱｽﾞﾏ",341,3401]
[null,18,218,100218,"伊勢崎市立あずま南小学校","伊・あずま南","ｲｾｻｷ.ｱｽﾞﾏﾐﾅﾐ",346,3451]
[null,19,219,100219,"伊勢崎市立あずま北小学校","伊・あずま北","ｲｾｻｷ.ｱｽﾞﾏｷﾀ",351,3501]
[null,20,220,100220,"伊勢崎市立境小学校","伊・境","ｲｾｻｷ.ｻｶｲ",356,3551]
[null,21,221,100221,"伊勢崎市立境采女小学校","伊・境采女","ｲｾｻｷ.ｻｶｲｳﾈﾒ",361,3601]
[null,22,222,100222,"伊勢崎市立境剛志小学校","伊・境剛志","ｲｾｻｷ.ｻｶｲｺﾞｳｼ",366,3651]
[null,23,null,"","","","",371,3701]
[null,24,224,100224,"伊勢崎市立境東小学校","伊・境東","ｲｾｻｷ.ｻｶｲﾋｶﾞｼ",376,3751]
["０３",1,301,100301,"玉村町立玉村小学校","佐・玉村","ﾀﾏﾑﾗ.ﾀﾏﾑﾗ",381,3801]
["佐波郡",2,302,100302,"玉村町立上陽小学校","佐・上陽","ﾀﾏﾑﾗ.ｼﾞｮｳﾖｳ",386,3851]
[null,3,303,100303,"玉村町立芝根小学校","佐・芝根","ﾀﾏﾑﾗ.ｼﾊﾞﾈ",391,3901]
[null,4,304,100304,"玉村町立中央小学校","佐・玉村中央","ﾀﾏﾑﾗ.ﾁｭｳｵｳ",396,3951]
[null,5,305,100305,"玉村町立南小学校","佐・玉村南","ﾀﾏﾑﾗ.ﾐﾅﾐ",401,4001]
[null,6,306,100306,"フェリーチェ玉村国際小学校","佐・ﾌｪﾘｰﾁｪ","ﾌｪﾘｰﾁｪﾀﾏﾑﾗｺｸｻｲ",406,4051]
["０４",1,401,100401,"榛東村立北小学校","北・榛東北","ｼﾝﾄｳ.ｷﾀ",411,4101]
["北群馬郡",2,402,100402,"榛東村立南小学校","北・榛東南","ｼﾝﾄｳ.ﾐﾅﾐ",416,4151]
[null,3,403,100403,"吉岡町立明治小学校","北・明治","ﾖｼｵｶ.ﾒｲｼﾞ",421,4201]
[null,4,404,100404,"吉岡町立駒寄小学校","北・駒寄","ﾖｼｵｶ.ｺﾏﾖｾ",426,4251]
["０５",1,501,100501,"渋川市立渋川北小学校","渋・渋川北","ｼﾌﾞｶﾜ.ｷﾀ",431,4301]
["渋川市",2,502,100502,"渋川市立渋川南小学校","渋・渋川南","ｼﾌﾞｶﾜ.ﾐﾅﾐ",436,4351]
[null,3,503,100503,"渋川市立金島小学校","渋・金島","ｼﾌﾞｶﾜ.ｶﾅｼﾏ",441,4401]
[null,4,504,100504,"渋川市立古巻小学校","渋・古巻","ｼﾌﾞｶﾜ.ﾌﾙﾏｷ",446,4451]
[null,5,505,100505,"渋川市立豊秋小学校","渋・豊秋","ｼﾌﾞｶﾜ.ﾄﾖｱｷ",451,4501]
[null,6,506,100506,"渋川市立渋川西小学校","渋・渋川西","ｼﾌﾞｶﾜ.ﾆｼ",456,4551]
[null,7,507,100507,"渋川市立伊香保小学校","渋・伊香保","ｼﾌﾞｶﾜ.ｲｶﾎ",461,4601]
[null,8,508,100508,"渋川市立小野上小学校","渋・小野上","ｼﾌﾞｶﾜ.ｵﾉｶﾞﾐ",466,4651]
[null,9,null,"","","","",471,4701]
[null,10,510,100510,"渋川市立中郷小学校","渋・中郷","ｼﾌﾞｶﾜ.ﾅｶｺﾞｳ",476,4751]
[null,11,511,100511,"渋川市立長尾小学校","渋・長尾","ｼﾌﾞｶﾜ.ﾅｶﾞｵ",481,4801]
[null,12,512,100512,"渋川市立三原田小学校","渋・三原田","ｼﾌﾞｶﾜ.ﾐﾊﾗﾀﾞ",486,4851]
[null,13,null,"","","","",491,4901]
[null,14,514,100514,"渋川市立津久田小学校","渋・津久田","ｼﾌﾞｶﾜ.ﾂｸﾀﾞ",496,4951]
[null,15,null,"","","","",501,5001]
[null,16,516,100516,"渋川市立橘小学校","渋・橘","ｼﾌﾞｶﾜ.ﾀﾁﾊﾞﾅ",506,5051]
[null,17,517,100517,"渋川市立橘北小学校","渋・橘北","ｼﾌﾞｶﾜ.ﾀﾁﾊﾞﾅｷﾀ",511,5101]
["０６",1,601,100601,"片品村立片品小学校","利・片品","ｶﾀｼﾅ.ｶﾀｼﾅ",516,5151]
["利根郡",2,null,"","","","",521,5201]
[null,3,null,"","","","",526,5251]
[null,4,null,"","","","",531,5301]
[null,5,605,100605,"川場村立川場小学校","利・川場","ｶﾜﾊﾞ.ｶﾜﾊﾞ",536,5351]
[null,6,606,100606,"みなかみ町立古馬牧小学校","利・古馬牧","ﾐﾅｶﾐ.ｺﾒﾏｷ",541,5401]
[null,7,607,100607,"みなかみ町立桃野小学校","利・桃野","ﾐﾅｶﾐ.ﾓﾓﾉ",546,5451]
[null,8,608,100608,"みなかみ町立月夜野北小学校","利・月夜野北","ﾐﾅｶﾐ.ﾂｷﾖﾉｷﾀ",551,5501]
[null,9,609,100609,"みなかみ町立水上小学校","利・水上","ﾐﾅｶﾐ.ﾐﾅｶﾐ",556,5551]
[null,10,610,100610,"みなかみ町立藤原小学校","利・藤原","ﾐﾅｶﾐ.ﾌｼﾞﾜﾗ",561,5601]
[null,11,611,100611,"みなかみ町立新治小学校","利・新治","ﾐﾅｶﾐ.ﾆｲﾊﾙ",566,5651]
[null,12,612,100612,"昭和村立東小学校","利・昭和東","ｼｮｳﾜ.ﾋｶﾞｼ",571,5701]
[null,13,613,100613,"昭和村立南小学校","利・昭和南","ｼｮｳﾜ.ﾐﾅﾐ",576,5751]
[null,14,614,100614,"昭和村立大河原小学校","利・大河原","ｼｮｳﾜ.ｵｵｶﾜﾗ",581,5801]
["０７",1,701,100701,"沼田市立沼田小学校","沼・沼田","ﾇﾏﾀ.ﾇﾏﾀ",586,5851]
["沼田市",2,702,100702,"沼田市立沼田東小学校","沼・沼田東","ﾇﾏﾀ.ﾇﾏﾀﾋｶﾞｼ",591,5901]
[null,3,703,100703,"沼田市立沼田北小学校","沼・沼田北","ﾇﾏﾀ.ﾇﾏﾀｷﾀ",596,5951]
[null,4,704,100704,"沼田市立升形小学校","沼・升形","ﾇﾏﾀ.ﾏｽｶﾞﾀ",601,6001]
[null,5,705,100705,"沼田市立利南東小学校","沼・利南東","ﾇﾏﾀ.ﾄﾅﾐﾋｶﾞｼ",606,6051]
[null,6,706,100706,"沼田市立池田小学校","沼・池田","ﾇﾏﾀ.ｲｹﾀﾞ",611,6101]
[null,7,707,100707,"沼田市立薄根小学校","沼・薄根","ﾇﾏﾀ.ｳｽﾈ",616,6151]
[null,8,708,100708,"沼田市立川田小学校","沼・川田","ﾇﾏﾀ.ｶﾜﾀﾞ",621,6201]
[null,9,709,100709,"沼田市立白沢小学校","沼・白沢","ﾇﾏﾀ.ｼﾗｻﾜ",626,6251]
[null,10,710,100710,"沼田市立利根小学校","沼・利根","ﾇﾏﾀ.ﾄﾈ",631,6301]
[null,11,null,"","","","",636,6351]
[null,12,null,"","","","",641,6401]
[null,13,713,100713,"沼田市立多那小学校","沼・多那","ﾇﾏﾀ.ﾀﾅ",646,6451]
["０８",1,801,100801,"中之条町立中之条小学校","吾・中之条","ﾅｶﾉｼﾞｮｳ.ﾅｶﾉｼﾞｮｳ",651,6501]
["吾妻郡",2,null,"","","","",656,6551]
[null,3,null,"","","","",661,6601]
[null,4,null,"","","","",666,6651]
[null,5,805,100805,"中之条町立六合小学校","吾・六合","ﾅｶﾉｼﾞｮｳ.ｸﾆ",671,6701]
[null,6,806,100806,"東吾妻町立東小学校","吾・東吾妻東","ﾋｶﾞｼｱｶﾞﾂﾏ.ｱｽﾞﾏ",676,6751]
[null,7,807,100807,"東吾妻町立原町小学校","吾・原町","ﾋｶﾞｼｱｶﾞﾂﾏ.ﾊﾗﾏﾁ",681,6801]
[null,8,808,100808,"東吾妻町立太田小学校","吾・東吾妻太田","ﾋｶﾞｼｱｶﾞﾂﾏ.ｵｵﾀ",686,6851]
[null,9,809,100809,"東吾妻町立岩島小学校","吾・岩島","ﾋｶﾞｼｱｶﾞﾂﾏ.ｲﾜｼﾏ",691,6901]
[null,10,810,100810,"東吾妻町立坂上小学校","吾・坂上","ﾋｶﾞｼｱｶﾞﾂﾏ.ｻｶｳｴ",696,6951]
[null,11,811,100811,"長野原町立中央小学校","吾・長野原中央","ﾅｶﾞﾉﾊﾗ.ﾁｭｳｵｳ",701,7001]
[null,12,null,"","","","",706,7051]
[null,13,813,100813,"長野原町立浅間小学校","吾・浅間","ﾅｶﾞﾉﾊﾗ.ｱｻﾏ",711,7101]
[null,14,{"$nulls":5},716,7151]
[null,15,815,100815,"嬬恋村立東部小学校","吾・嬬恋東部","ﾂﾏｺﾞｲ.ﾄｳﾌﾞ",721,7201]
[null,16,816,100816,"嬬恋村立西部小学校","吾・嬬恋西部","ﾂﾏｺﾞｲ.ｾｲﾌﾞ",726,7251]
[null,17,null,"","","","",731,7301]
[null,18,null,"","","","",736,7351]
[null,19,null,"","","","",741,7401]
[null,20,820,100820,"草津町立草津小学校","吾・草津","ｸｻﾂ.ｸｻﾂ",746,7451]
[null,21,821,100821,"高山村立高山小学校","吾・高山","ﾀｶﾔﾏ.ﾀｶﾔﾏ",751,7501]
["０９",1,901,100901,"高崎市立中央小学校","高・中央","ﾀｶｻｷ.ﾁｭｳｵｳ",756,7551]
["高崎市",2,902,100902,"高崎市立北小学校","高・北","ﾀｶｻｷ.ｷﾀ",761,7601]
[null,3,903,100903,"高崎市立南小学校","高・南","ﾀｶｻｷ.ﾐﾅﾐ",766,7651]
[null,4,904,100904,"高崎市立東小学校","高・東","ﾀｶｻｷ.ﾋｶﾞｼ",771,7701]
[null,5,905,100905,"高崎市立西小学校","高・西","ﾀｶｻｷ.ﾆｼ",776,7751]
[null,6,906,100906,"高崎市立塚沢小学校","高・塚沢","ﾀｶｻｷ.ﾂｶｻﾜ",781,7801]
[null,7,907,100907,"高崎市立片岡小学校","高・片岡","ﾀｶｻｷ.ｶﾀｵｶ",786,7851]
[null,8,908,100908,"高崎市立寺尾小学校","高・寺尾","ﾀｶｻｷ.ﾃﾗｵ",791,7901]
[null,9,909,100909,"高崎市立佐野小学校","高・佐野","ﾀｶｻｷ.ｻﾉ",796,7951]
[null,10,910,100910,"高崎市立六郷小学校","高・六郷","ﾀｶｻｷ.ﾛｸｺﾞｳ",801,8001]
[null,11,911,100911,"高崎市立城南小学校","高・城南","ﾀｶｻｷ.ｼﾞｮｳﾅﾝ",806,8051]
[null,12,912,100912,"高崎市立城東小学校","高・城東","ﾀｶｻｷ.ｼﾞｮｳﾄｳ",811,8101]
[null,13,913,100913,"高崎市立新高尾小学校","高・新高尾","ﾀｶｻｷ.ｼﾝﾀｶｵ",816,8151]
[null,14,914,100914,"高崎市立中川小学校","高・中川","ﾀｶｻｷ.ﾅｶｶﾞﾜ",821,8201]
[null,15,915,100915,"高崎市立八幡小学校","高・八幡","ﾀｶｻｷ.ﾔﾜﾀ",826,8251]
[null,16,916,100916,"高崎市立豊岡小学校","高・豊岡","ﾀｶｻｷ.ﾄﾖｵｶ",831,8301]
[null,17,917,100917,"高崎市立長野小学校","高・長野","ﾀｶｻｷ.ﾅｶﾞﾉ",836,8351]
[null,18,918,100918,"高崎市立大類小学校","高・大類","ﾀｶｻｷ.ｵｵﾙｲ",841,8401]
[null,19,919,100919,"高崎市立南八幡小学校","高・南八幡","ﾀｶｻｷ.ﾐﾅﾐﾔﾜﾀ",846,8451]
[null,20,920,100920,"高崎市立倉賀野小学校","高・倉賀野","ﾀｶｻｷ.ｸﾗｶﾞﾉ",851,8501]
[null,21,921,100921,"高崎市立岩鼻小学校","高・岩鼻","ﾀｶｻｷ.ｲﾜﾊﾅ",856,8551]
[null,22,922,100922,"高崎市立京ヶ島小学校","高・京ヶ島","ﾀｶｻｷ.ｷｮｳｶﾞｼﾏ",861,8601]
[null,23,923,100923,"高崎市立滝川小学校","高・滝川","ﾀｶｻｷ.ﾀｷｶﾞﾜ",866,8651]
[null,24,924,100924,"高崎市立東部小学校","高・東部","ﾀｶｻｷ.ﾄｳﾌﾞ",871,8701]
[null,25,925,100925,"高崎市立中居小学校","高・中居","ﾀｶｻｷ.ﾅｶｲ",876,8751]
[null,26,926,100926,"高崎市立北部小学校","高・北部","ﾀｶｻｷ.ﾎｸﾌﾞ",881,8801]
[null,27,927,100927,"高崎市立西部小学校","高・西部","ﾀｶｻｷ.ｾｲﾌﾞ",886,8851]
[null,28,928,100928,"高崎市立乗附小学校","高・乗附","ﾀｶｻｷ.ﾉﾂｹ",891,8901]
[null,29,929,100929,"高崎市立浜尻小学校","高・浜尻","ﾀｶｻｷ.ﾊﾏｼﾞﾘ",896,8951]
[null,30,930,100930,"高崎市立矢中小学校","高・矢中","ﾀｶｻｷ.ﾔﾅｶ",901,9001]
[null,31,931,100931,"高崎市立城山小学校","高・城山","ﾀｶｻｷ.ｼﾛﾔﾏ",906,9051]
[null,32,932,100932,"高崎市立鼻高小学校","高・鼻高","ﾀｶｻｷ.ﾊﾅﾀﾞｶ",911,9101]
[null,33,933,100933,"高崎市立倉渕小学校","高・倉渕","ﾀｶｻｷ.ｸﾗﾌﾞﾁ",916,9151]
[null,34,934,100934,"高崎市立箕輪小学校","高・箕輪","ﾀｶｻｷ.ﾐﾉﾜ",921,9201]
[null,35,935,100935,"高崎市立車郷小学校","高・車郷","ﾀｶｻｷ.ｸﾙﾏｻﾄ",926,9251]
[null,36,936,100936,"高崎市立箕郷東小学校","高・箕郷東","ﾀｶｻｷ.ﾐｻﾄﾋｶﾞｼ",931,9301]
[null,37,937,100937,"高崎市立金古小学校","高・金古","ﾀｶｻｷ.ｶﾈｺ",936,9351]
[null,38,938,100938,"高崎市立国府小学校","高・国府","ﾀｶｻｷ.ｺｸﾌ",941,9401]
[null,39,939,100939,"高崎市立堤ヶ岡小学校","高・堤ヶ岡","ﾀｶｻｷ.ﾂﾂﾐｶﾞｵｶ",946,9451]
[null,40,940,100940,"高崎市立上郊小学校","高・上郊","ﾀｶｻｷ.ｶﾐｻﾄ",951,9501]
[null,41,941,100941,"高崎市立金古南小学校","高・金古南","ﾀｶｻｷ.ｶﾈｺﾐﾅﾐ",956,9551]
[null,42,942,100942,"高崎市立桜山小学校","高・桜山","ﾀｶｻｷ.ｻｸﾗﾔﾏ",961,9601]
[null,43,943,100943,"高崎市立新町第一小学校","高・新町第一","ﾀｶｻｷ.ｼﾝﾏﾁﾀﾞｲｲﾁ",966,9651]
[null,44,944,100944,"高崎市立新町第二小学校","高・新町第二","ﾀｶｻｷ.ｼﾝﾏﾁﾀﾞｲﾆ",971,9701]
[null,45,945,100945,"高崎市立下室田小学校","高・下室田","ﾀｶｻｷ.ｼﾓﾑﾛﾀ",976,9751]
[null,46,946,100946,"高崎市立中室田小学校","高・中室田","ﾀｶｻｷ.ﾅｶﾑﾛﾀ",981,9801]
[null,47,947,100947,"高崎市立上室田小学校","高・上室田","ﾀｶｻｷ.ｶﾐﾑﾛﾀ",986,9851]
[null,48,948,100948,"高崎市立里見小学校","高・里見","ﾀｶｻｷ.ｻﾄﾐ",991,9901]
[null,49,949,100949,"高崎市立久留馬小学校","高・久留馬","ﾀｶｻｷ.ｸﾙﾏ",996,9951]
[null,50,950,100950,"高崎市立下里見小学校","高・下里見","ﾀｶｻｷ.ｼﾓｻﾄﾐ",1001,10001]
[null,51,951,100951,"高崎市立宮沢小学校","高・宮沢","ﾀｶｻｷ.ﾐﾔｻﾞﾜ",1006,10051]
[null,52,952,100952,"高崎市立吉井小学校","高・吉井","ﾀｶｻｷ.ﾀｶｻｷ",1011,10101]
[null,53,953,100953,"高崎市立吉井西小学校","高・吉井西","ﾀｶｻｷ.ﾀｶｻｷﾆｼ",1016,10151]
[null,54,954,100954,"高崎市立多胡小学校","高・多胡","ﾀｶｻｷ.ﾀｺﾞ",1021,10201]
[null,55,955,100955,"高崎市立入野小学校","高・入野","ﾀｶｻｷ.ｲﾘﾉ",1026,10251]
[null,56,956,100956,"高崎市立馬庭小学校","高・馬庭","ﾀｶｻｷ.ﾏﾆﾜ",1031,10301]
[null,57,957,100957,"高崎市立南陽台小学校","高・南陽台","ﾀｶｻｷ.ﾅﾝﾖｳﾀﾞｲ",1036,10351]
[null,58,958,100958,"高崎市立岩平小学校","高・岩平","ﾀｶｻｷ.ｲﾜﾀﾞｲﾗ",1041,10401]
["１０",1,1001,101001,"安中市立安中小学校","安・安中","ｱﾝﾅｶ.ｱﾝﾅｶ",1046,10451]
["安中市",2,1002,101002,"安中市立原市小学校","安・原市","ｱﾝﾅｶ.ﾊﾗｲﾁ",1051,10501]
[null,3,1003,101003,"安中市立磯部小学校","安・磯部","ｱﾝﾅｶ.ｲｿﾍﾞ",1056,10551]
[null,4,1004,101004,"安中市立東横野小学校","安・東横野","ｱﾝﾅｶ.ﾋｶﾞｼﾖｺﾉ",1061,10601]
[null,5,1005,101005,"安中市立碓東小学校","安・碓東","ｱﾝﾅｶ.ﾀｲﾄｳ",1066,10651]
[null,6,1006,101006,"安中市立秋間小学校","安・秋間","ｱﾝﾅｶ.ｱｷﾏ",1071,10701]
[null,7,1007,101007,"安中市立後閑小学校","安・後閑","ｱﾝﾅｶ.ｺﾞｶﾝ",1076,10751]
[null,8,1008,101008,"安中市立松井田小学校","安・松井田","ｱﾝﾅｶ.ﾏﾂｲﾀﾞ",1081,10801]
[null,9,1009,101009,"安中市立臼井小学校","安・臼井","ｱﾝﾅｶ.ｳｽｲ",1086,10851]
[null,10,null,"","","","",1091,10901]
[null,11,1011,101011,"安中市立西横野小学校","安・西横野","ｱﾝﾅｶ.ﾆｼﾖｺﾉ",1096,10951]
[null,12,1012,101012,"安中市立九十九小学校","安・九十九","ｱﾝﾅｶ.ﾂｸﾓ",1101,11001]
[null,13,1013,101013,"安中市立細野小学校","安・細野","ｱﾝﾅｶ.ﾎｿﾉ",1106,11051]
["１１",1,1101,101101,"甘楽町立小幡小学校","甘・小幡","ｶﾝﾗ.ｵﾊﾞﾀ",1111,11101]
["甘楽郡",2,1102,101102,"甘楽町立福島小学校","甘・福島","ｶﾝﾗ.ﾌｸｼﾏ",1116,11151]
[null,3,1103,101103,"甘楽町立新屋小学校","甘・新屋","ｶﾝﾗ.ﾆｲﾔ",1121,11201]
["富岡市",4,1104,101104,"下仁田町立下仁田小学校","甘・下仁田","ｼﾓﾆﾀ.ｼﾓﾆﾀ",1126,11251]
[null,5,1105,101105,"南牧村立なんもく学園","甘・なんもく","ﾅﾝﾓｸ.ﾅﾝﾓｸ",1131,11301]
[null,6,1106,101106,"富岡市立富岡小学校","富・富岡","ﾄﾐｵｶ.ﾄﾐｵｶ",1136,11351]
[null,7,1107,101107,"富岡市立西小学校","富・富岡西","ﾄﾐｵｶ.ﾆｼ",1141,11401]
[null,8,1108,101108,"富岡市立黒岩小学校","富・黒岩","ﾄﾐｵｶ.ｸﾛｲﾜ",1146,11451]
[null,9,1109,101109,"富岡市立一ノ宮小学校","富・一ノ宮","ﾄﾐｵｶ.ｲﾁﾉﾐﾔ",1151,11501]
[null,10,1110,101110,"富岡市立高瀬小学校","富・高瀬","ﾄﾐｵｶ.ﾀｶｾ",1156,11551]
[null,11,1111,101111,"富岡市立額部小学校","富・額部","ﾄﾐｵｶ.ﾇｶﾍﾞ",1161,11601]
[null,12,1112,101112,"富岡市立小野小学校","富・小野","ﾄﾐｵｶ.ｵﾉ",1166,11651]
[null,13,1113,101113,"富岡市立吉田小学校","富・吉田","ﾄﾐｵｶ.ﾖｼﾀﾞ",1171,11701]
[null,14,1114,101114,"富岡市立丹生小学校","富・丹生","ﾄﾐｵｶ.ﾆｭｳ",1176,11751]
[null,15,1115,101115,"富岡市立高田小学校","富・高田","ﾄﾐｵｶ.ﾀｶﾀ",1181,11801]
[null,16,1116,101116,"富岡市立妙義小学校","富・妙義","ﾄﾐｵｶ.ﾐｮｳｷﾞ",1186,11851]
["１２",1,1201,101201,"藤岡市立藤岡第一小学校","藤・藤岡第一","ﾌｼﾞｵｶﾌｼﾞｵｶﾀﾞｲｲﾁ",1191,11901]
["藤岡市",2,1202,101202,"藤岡市立藤岡第二小学校","藤・藤岡第二","ﾌｼﾞｵｶ.ﾌｼﾞｵｶﾀﾞｲﾆ",1196,11951]
[null,3,1203,101203,"藤岡市立神流小学校","藤・神流","ﾌｼﾞｵｶ.ｶﾝﾅ",1201,12001]
["多野郡",4,1204,101204,"藤岡市立小野小学校","藤・小野","ﾌｼﾞｵｶ.ｵﾉ",1206,12051]
[null,5,1205,101205,"藤岡市立美土里小学校","藤・美土里","ﾌｼﾞｵｶ.ﾐﾄﾞﾘ",1211,12101]
[null,6,1206,101206,"藤岡市立美九里東小学校","藤・美九里東","ﾌｼﾞｵｶ.ﾐｸﾘﾋｶﾞｼ",1216,12151]
[null,7,1207,101207,"藤岡市立美九里西小学校","藤・美九里西","ﾌｼﾞｵｶ.ﾐｸﾘﾆｼ",1221,12201]
[null,8,1208,101208,"藤岡市立平井小学校","藤・平井","ﾌｼﾞｵｶ.ﾋﾗｲ",1226,12251]
[null,9,1209,101209,"藤岡市立日野小学校","藤・日野","ﾌｼﾞｵｶ.ﾋﾉ",1231,12301]
[null,10,1210,101210,"藤岡市立鬼石北小学校","藤・鬼石北","ﾌｼﾞｵｶ.ｵﾆｼｷﾀ",1236,12351]
[null,11,1211,101211,"藤岡市立鬼石小学校","藤・鬼石","ﾌｼﾞｵｶ.ｵﾆｼ",1241,12401]
[null,12,1212,101212,"上野村立上野小学校","藤・上野","ｳｴﾉ.ｳｴﾉ",1246,12451]
[null,13,1213,101213,"神流町立万場小学校","藤・万場","ｶﾝﾅ.ﾏﾝﾊﾞ",1251,12501]
["１３",1,1301,101301,"桐生市立東小学校","桐・東","ｷﾘｭｳ.ﾋｶﾞｼ",1256,12551]
["桐生市",2,1302,101302,"桐生市立西小学校","桐・西","ｷﾘｭｳ.ﾆｼ",1261,12601]
[null,3,1303,101303,"桐生市立南小学校","桐・南","ｷﾘｭｳ.ﾐﾅﾐ",1266,12651]
[null,4,1304,101304,"桐生市立北小学校","桐・北","ｷﾘｭｳ.ｷﾀ",1271,12701]
[null,5,null,"","","","",1276,12751]
[null,6,1306,101306,"桐生市立境野小学校","桐・境野","ｷﾘｭｳ.ｻｶｲﾉ",1281,12801]
[null,7,1307,101307,"桐生市立広沢小学校","桐・広沢","ｷﾘｭｳ.ﾋﾛｻﾜ",1286,12851]
[null,8,1308,101308,"桐生市立梅田南小学校","桐・梅田南","ｷﾘｭｳ.ｳﾒﾀﾞﾐﾅﾐ",1291,12901]
[null,9,1309,101309,"桐生市立相生小学校","桐・相生","ｷﾘｭｳ.ｱｲｵｲ",1296,12951]
[null,10,1310,101310,"桐生市立川内小学校","桐・川内","ｷﾘｭｳ.ｶﾜｳﾁ",1301,13001]
[null,11,1311,101311,"桐生市立桜木小学校","桐・桜木","ｷﾘｭｳ.ｻｸﾗｷﾞ",1306,13051]
[null,12,1312,101312,"桐生市立菱小学校","桐・菱","ｷﾘｭｳ.ﾋｼ",1311,13101]
[null,13,1313,101313,"桐生市立天沼小学校","桐・天沼","ｷﾘｭｳ.ｱﾏﾇﾏ",1316,13151]
[null,14,1314,101314,"桐生市立神明小学校","桐・神明","ｷﾘｭｳ.ｼﾝﾒｲ",1321,13201]
[null,15,1315,101315,"桐生市立新里中央小学校","桐・新里中央","ｷﾘｭｳ.ﾆｲｻﾄﾁｭｳｵｳ",1326,13251]
[null,16,1316,101316,"桐生市立新里東小学校","桐・新里東","ｷﾘｭｳ.ﾆｲｻﾄﾋｶﾞｼ",1331,13301]
[null,17,1317,101317,"桐生市立新里北小学校","桐・新里北","ｷﾘｭｳ.ﾆｲｻﾄｷﾀ",1336,13351]
[null,18,1318,101318,"桐生市立黒保根学園","桐・黒保根","ｷﾘｭｳ.ｸﾛﾎﾈ",1341,13401]
["１４",1,1401,101401,"みどり市立笠懸小学校","み・笠懸","ﾐﾄﾞﾘ.ｶｻｶｹ",1346,13451]
["みどり市",2,1402,101402,"みどり市立笠懸東小学校","み・笠懸東","ﾐﾄﾞﾘ.ｶｻｶｹﾋｶﾞｼ",1351,13501]
[null,3,1403,101403,"みどり市立笠懸北小学校","み・笠懸北","ﾐﾄﾞﾘ.ｶｻｶｹｷﾀ",1356,13551]
[null,4,1404,101404,"みどり市立笠懸西小学校","み・笠懸西","ﾐﾄﾞﾘ.ｶｻｶｹﾆｼ",1361,13601]
[null,5,1405,101405,"みどり市立大間々北小学校","み・大間々北","ﾐﾄﾞﾘ.ｵｵﾏﾏｷﾀ",1366,13651]
[null,6,1406,101406,"みどり市立大間々南小学校","み・大間々南","ﾐﾄﾞﾘ.ｵｵﾏﾏﾐﾅﾐ",1371,13701]
[null,7,1407,101407,"みどり市立大間々東小学校","み・大間々東","ﾐﾄﾞﾘ.ｵｵﾏﾏﾋｶﾞｼ",1376,13751]
[null,8,1408,101408,"みどり市立福岡中央小学校","み・福岡中央","ﾐﾄﾞﾘ.ﾌｸｵｶﾁｭｳｵｳ",1381,13801]
[null,9,1409,101409,"みどり市立あずま小学校","み・あずま","ﾐﾄﾞﾘ.ｱｽﾞﾏ",1386,13851]
["１５",1,1501,101501,"太田市立太田小学校","太・太田","ｵｵﾀ.ｵｵﾀ",1391,13901]
["太田市",2,1502,101502,"太田市立九合小学校","太・九合","ｵｵﾀ.ｸｱｲ",1396,13951]
[null,3,1503,101503,"太田市立沢野小学校","太・沢野","ｵｵﾀ.ｻﾜﾉ",1401,14001]
[null,4,1504,101504,"太田市立韮川小学校","太・韮川","ｵｵﾀ.ﾆﾗｶﾞﾜ",1406,14051]
[null,5,1505,101505,"太田市立鳥之郷小学校","太・鳥之郷","ｵｵﾀ.ﾄﾘﾉｺﾞｳ",1411,14101]
[null,6,null,"","","","",1416,14151]
[null,7,1507,101507,"太田市立南小学校","太・太田南","ｵｵﾀ.ﾐﾅﾐ",1421,14201]
[null,8,1508,101508,"太田市立休泊小学校","太・休泊","ｵｵﾀ.ｷｭｳﾊｸ",1426,14251]
[null,9,1509,101509,"太田市立強戸小学校","太・強戸","ｵｵﾀ.ｺﾞｳﾄﾞ",1431,14301]
[null,10,1510,101510,"太田市立宝泉小学校","太・宝泉","ｵｵﾀ.ﾎｳｾﾝ",1436,14351]
[null,11,1511,101511,"太田市立宝泉南小学校","太・宝泉南","ｵｵﾀ.ﾎｳｾﾝﾐﾅﾐ",1441,14401]
[null,12,1512,101512,"太田市立毛里田小学校","太・毛里田","ｵｵﾀ.ﾓﾘﾀ",1446,14451]
[null,13,1513,101513,"太田市立中央小学校","太・太田中央","ｵｵﾀ.ﾁｭｳｵｳ",1451,14501]
[null,14,1514,101514,"太田市立宝泉東小学校","太・宝泉東","ｵｵﾀ.ﾎｳｾﾝﾋｶﾞｼ",1456,14551]
[null,15,null,"","","","",1461,14601]
[null,16,1516,101516,"太田市立旭小学校","太・旭","ｵｵﾀ.ｱｻﾋ",1466,14651]
[null,17,1517,101517,"太田市立駒形小学校","太・駒形","ｵｵﾀ.ｺﾏｶﾞﾀ",1471,14701]
[null,18,1518,101518,"太田市立城西小学校","太・城西","ｵｵﾀ.ｼﾞｮｳｻｲ",1476,14751]
[null,19,1519,101519,"太田市立沢野中央小学校","太・沢野中央","ｵｵﾀ.ｻﾜﾉﾁｭｳｵｳ",1481,14801]
[null,20,1520,101520,"太田市立尾島小学校","太・尾島","ｵｵﾀ.ｵｼﾞﾏ",1486,14851]
[null,21,1521,101521,"太田市立世良田小学校","太・世良田","ｵｵﾀ.ｾﾗﾀﾞ",1491,14901]
[null,22,1522,101522,"太田市立木崎小学校","太・木崎","ｵｵﾀ.ｷｻﾞｷ",1496,14951]
[null,23,1523,101523,"太田市立生品小学校","太・生品","ｵｵﾀ.ｲｸｼﾅ",1501,15001]
[null,24,1524,101524,"太田市立綿打小学校","太・綿打","ｵｵﾀ.ﾜﾀｳﾁ",1506,15051]
[null,25,1525,101525,"太田市立藪塚本町小学校","太・藪塚","ｵｵﾀ.ﾔﾌﾞﾂﾞｶ",1511,15101]
[null,26,1526,101526,"太田市立藪塚本町南小学校","太・藪塚南","ｵｵﾀ.ﾔﾌﾞﾂﾞｶﾐﾅﾐ",1516,15151]
[null,27,1527,101527,"北の杜学園","太・北の杜","ｵｵﾀ.ｷﾀﾉﾓﾘ",1521,15201]
[null,28,1528,101528,"学校法人太田国際学園ぐんま国際アカデミー","太・ＧＫＡ","ｸﾞﾝﾏｺｸｻｲｱｶﾃﾞﾐｰ",1526,15251]
["１６",1,1601,101601,"板倉町立東小学校","邑・板倉東","ｲﾀｸﾗ.ﾋｶﾞｼ",1531,15301]
["邑楽郡",2,1602,101602,"板倉町立西小学校","邑・板倉西","ｲﾀｸﾗ.ﾆｼ",1536,15351]
[null,3,1603,101603,"板倉町立南小学校","邑・板倉南","ｲﾀｸﾗ.ﾐﾅﾐ",1541,15401]
[null,4,1604,101604,"板倉町立北小学校","邑・板倉北","ｲﾀｸﾗ.ｷﾀ",1546,15451]
[null,5,1605,101605,"明和町立明和東小学校","邑・明和東","ﾒｲﾜ.ﾒｲﾜﾋｶﾞｼ",1551,15501]
[null,6,1606,101606,"明和町立明和西小学校","邑・明和西","ﾒｲﾜ.ﾒｲﾜﾆｼ",1556,15551]
[null,7,1607,101607,"千代田町立西小学校","邑・千代田西","ﾁﾖﾀﾞ.ﾆｼ",1561,15601]
[null,8,1608,101608,"千代田町立東小学校","邑・千代田東","ﾁﾖﾀﾞ.ﾋｶﾞｼ",1566,15651]
[null,9,1609,101609,"大泉町立南小学校","邑・大泉南","ｵｵｲｽﾞﾐ.ﾐﾅﾐ",1571,15701]
[null,10,1610,101610,"大泉町立北小学校","邑・大泉北","ｵｵｲｽﾞﾐ.ｷﾀ",1576,15751]
[null,11,1611,101611,"大泉町立西小学校","邑・大泉西","ｵｵｲｽﾞﾐ.ﾆｼ",1581,15801]
[null,12,1612,101612,"大泉町立東小学校","邑・大泉東","ｵｵｲｽﾞﾐ.ﾋｶﾞｼ",1586,15851]
[null,13,1613,101613,"邑楽町立中野小学校","邑・中野","ｵｳﾗ.ﾅｶﾉ",1591,15901]
[null,14,1614,101614,"邑楽町立高島小学校","邑・高島","ｵｳﾗ.ﾀｶｼﾏ",1596,15951]
[null,15,1615,101615,"邑楽町立長柄小学校","邑・長柄","ｵｳﾗ.ﾅｶﾞｴ",1601,16001]
[null,16,1616,101616,"邑楽町立中野東小学校","邑・中野東","ｵｳﾗ.ﾅｶﾉﾋｶﾞｼ",1606,16051]
["１７",1,1701,101701,"館林市立第一小学校","館・第一","ﾀﾃﾊﾞﾔｼ.ﾀﾞｲｲﾁ",1611,16101]
["館林市",2,1702,101702,"館林市立第二小学校","館・第二","ﾀﾃﾊﾞﾔｼ.ﾀﾞｲﾆ",1616,16151]
[null,3,1703,101703,"館林市立第三小学校","館・第三","ﾀﾃﾊﾞﾔｼ.ﾀﾞｲｻﾝ",1621,16201]
[null,4,1704,101704,"館林市立第四小学校","館・第四","ﾀﾃﾊﾞﾔｼ.ﾀﾞｲﾖﾝ",1626,16251]
[null,5,1705,101705,"館林市立第五小学校","館・第五","ﾀﾃﾊﾞﾔｼ.ﾀﾞｲｺﾞ",1631,16301]
[null,6,1706,101706,"館林市立第六小学校","館・第六","ﾀﾃﾊﾞﾔｼ.ﾀﾞｲﾛｸ",1636,16351]
[null,7,1707,101707,"館林市立第七小学校","館・第七","ﾀﾃﾊﾞﾔｼ.ﾀﾞｲﾅﾅ",1641,16401]
[null,8,1708,101708,"館林市立第八小学校","館・第八","ﾀﾃﾊﾞﾔｼ.ﾀﾞｲﾊﾁ",1646,16451]
[null,9,1709,101709,"館林市立第九小学校","館・第九","ﾀﾃﾊﾞﾔｼ.ﾀﾞｲｷｭｳ",1651,16501]
[null,10,1710,101710,"館林市立第十小学校","館・第十","ﾀﾃﾊﾞﾔｼ.ﾀﾞｲｼﾞｭｳ",1656,16551]
[null,11,1711,101711,"館林市立美園小学校","館・美園","ﾀﾃﾊﾞﾔｼ.ﾐｿﾉ",1661,16601]
[]
[null,null,5000,5000,"群馬県立テスト小学校","群・テスト","ｹﾝﾘﾂ.ﾃｽﾄ",1671,16701]