{"text_format":"3","workbook":"xlsx","n_sheets":6,"sheets":["表紙","選手入力","リレー入力","競技データ","郡市データ","学校データ"],"not_rendered":{"macros":1,"defined_names":1},"read":"whole","date_system":"1900"}

{"sheet":"表紙","index":0,"n_rows":21,"n_cols":2,"rows_kept":21}
["郡市NO",1]
["郡市名（自動表示）",{"$f":"VLOOKUP($B$1,郡市データ!$A$2:$B$18,2,FALSE)","v":"前橋市"}]
["学校電話番号","027-123-1234"]
["担当者名","群馬　太郎"]
["担当者メールアドレス","gepra-joho@gepra7.ec-net.jp"]
["担当者電話番号","027-123-4567"]
[null,"エントリー人数"]
["50m自由形",{"$f":"COUNTIF(選手入力!$H$3:$H$202,表紙!A8)","v":0}]
["50m背泳ぎ",{"$f":"COUNTIF(選手入力!$H$3:$H$202,表紙!A9)","v":0}]
["50m平泳ぎ",{"$f":"COUNTIF(選手入力!$H$3:$H$202,表紙!A10)","v":0}]
["50mバタフライ",{"$f":"COUNTIF(選手入力!$H$3:$H$202,表紙!A11)","v":0}]
["友好レース自由形",{"$f":"COUNTIF(選手入力!$H$3:$H$202,表紙!A12)","v":0}]
["友好レース背泳ぎ",{"$f":"COUNTIF(選手入力!$H$3:$H$202,表紙!A13)","v":0}]
["友好レース平泳ぎ",{"$f":"COUNTIF(選手入力!$H$3:$H$202,表紙!A14)","v":0}]
["友好レースバタフライ",{"$f":"COUNTIF(選手入力!$H$3:$H$202,表紙!A15)","v":0}]
["200mフリーリレー",{"$f":"リレー入力!B84","v":0}]
["200mメドレーリレー",{"$f":"リレー入力!B85","v":0}]
[]
["以下処理用"]
["選手NO初期NO",{"$f":"IF(B2=\"\",\"\",VLOOKUP(B2,郡市データ!$B$2:$F$18,4,FALSE))","v":1001}]
["リレー初期NO",{"$f":"IF(B2=\"\",\"\",VLOOKUP(B2,郡市データ!$B$2:$F$18,5,FALSE))","v":101}]

{"sheet":"選手入力","index":1,"n_rows":202,"n_cols":54,"rows_kept":202,"merged":[[0,0,0,4],[0,8,0,12]]}
[{"$f":"IF(表紙!B2=\"\",\"\",表紙!B2 & \"選手入力\")","v":"前橋市選手入力"},{"$nulls":6},"友好リレーもこちらに","申込みタイム（各位ずつ記入）"]
["選手NO","漢字氏名","ﾖﾐｶﾞﾅ","学年","性別","学校NO","学校名（自動表示）","種目1","分",null,"秒","1/10","1／100",null,"タイム1",null,"選手番号(5)","旧日水連ｺｰﾄﾞ(12)","性別(1)","漢字氏名（30）","ｶﾅ氏名(30)","生年月日(8)","学校(1)","学年(1)","ｸﾗｽ(2)","新日水連ｺｰﾄﾞ(7)","所属名1(16)","ｶﾅ所属名1(16)","所属名2(16)","ｶﾅ所属名2(16)","所属名3(16)","ｶﾅ所属名3(16)","使用所属(1)","ｴﾝﾄﾘｰ1(5)","ｴﾝﾄﾘｰﾀｲﾑ1(7)","ｴﾝﾄﾘｰ2(5)","ｴﾝﾄﾘｰﾀｲﾑ2(7)","ｴﾝﾄﾘｰ3(5)","ｴﾝﾄﾘｰﾀｲﾑ3(7)","ｴﾝﾄﾘｰ4(5)","ｴﾝﾄﾘｰﾀｲﾑ4(7)","ｴﾝﾄﾘｰ5(5)","ｴﾝﾄﾘｰﾀｲﾑ5(7)","ｴﾝﾄﾘｰ6(1)","ｴﾝﾄﾘｰﾀｲﾑ6(7)","ｴﾝﾄﾘｰ7(5)","ｴﾝﾄﾘｰﾀｲﾑ7(7)","ｴﾝﾄﾘｰ8(5)","ｴﾝﾄﾘｰﾀｲﾑ8(7)","ｴﾝﾄﾘｰ9(5)","ｴﾝﾄﾘｰﾀｲﾑ9(7)","ｴﾝﾄﾘｰ10(5)","ｴﾝﾄﾘｰﾀｲﾑ10(7)","地域団体ｺｰﾄﾞ(2)"]
[{"$f":"IF(B3=\"\",\"\",表紙!B20)","v":""},{"$nulls":5},{"$f":"IF(F3=\"\",\"\",VLOOKUP(F3,学校データ!C:G,4,FALSE))","v":""},{"$nulls":7},{"$f":"I3*100+J3*10+K3+L3*0.1+M3*0.01","v":{"v":0,"d":"0.00"}},null,{"$f":"IF(A3=\"\",\"\",A3)","v":""},null,{"$f":"IF(E3=\"\",\"\",VLOOKUP(E3,競技データ!$F$2:$G$3,2,FALSE))","v":""},{"$f":"IF(B3=\"\",\"\",B3)","v":""},{"$f":"IF(C3=\"\",\"\",C3)","v":""},null,{"$f":"IF(B3=\"\",\"\",1)","v":""},{"$f":"IF(D3=\"\",\"\",D3)","v":""},{"$f":"IF(H3=\"\",\"\",VLOOKUP(H3,競技データ!$A$2:$C$10,2,FALSE))","v":""},null,{"$f":"IF(G3=\"\",\"\",G3)","v":""},{"$f":"IF(AA3=\"\",\"\",VLOOKUP(AA3,学校データ!F:G,2,FALSE))","v":""},{"$nulls":4},{"$f":"IF(B3=\"\",\"\",1)","v":""},{"$f":"IF(H3=\"\",\"\",VLOOKUP(H3,競技データ!$A$2:$C$10,3,FALSE))","v":""},{"$f":"IF(H3=\"\",\"\",O3)","v":""},{"$nulls":18},{"$f":"IF(B3=\"\",\"\",表紙!$B$1)","v":""}]
[{"$f":"IF(B4=\"\",\"\",A3+1)","v":""},{"$nulls":5},{"$f":"IF(F4=\"\",\"\",VLOOKUP(F4,学校データ!C:G,4,FALSE))","v":""},{"$nulls":7},{"v":0,"d":"0.00"},null,"",null,{"$f":"IF(E4=\"\",\"\",VLOOKUP(E4,競技データ!$F$2:$G$3,2,FALSE))","v":""},"","",null,"","",{"$f":"IF(H4=\"\",\"\",VLOOKUP(H4,競技データ!$A$2:$C$10,2,FALSE))","v":""},null,{"$f":"IF(G4=\"\",\"\",G4)","v":""},{"$f":"IF(AA4=\"\",\"\",VLOOKUP(AA4,学校データ!F:G,2,FALSE))","v":""},{"$nulls":4},"",{"$f":"IF(H4=\"\",\"\",VLOOKUP(H4,競技データ!$A$2:$C$10,3,FALSE))","v":""},"",{"$nulls":18},{"$f":"IF(B4=\"\",\"\",表紙!$B$1)","v":""}]
[{"$f":"IF(B5=\"\",\"\",A4+1)","v":""},{"$nulls":5},{"$f":"IF(F5=\"\",\"\",VLOOKUP(F5,学校データ!C:G,4,FALSE))","v":""},{"$nulls":7},{"v":0,"d":"0.00"},null,"",null,{"$f":"IF(E5=\"\",\"\",VLOOKUP(E5,競技データ!$F$2:$G$3,2,FALSE))","v":""},"","",null,"","",{"$f":"IF(H5=\"\",\"\",VLOOKUP(H5,競技データ!$A$2:$C$10,2,FALSE))","v":""},null,"",{"$f":"IF(AA5=\"\",\"\",VLOOKUP(AA5,学校データ!F:G,2,FALSE))","v":""},{"$nulls":4},"",{"$f":"IF(H5=\"\",\"\",VLOOKUP(H5,競技データ!$A$2:$C$10,3,FALSE))","v":""},"",{"$nulls":18},{"$f":"IF(B5=\"\",\"\",表紙!$B$1)","v":""}]
["",{"$nulls":5},{"$f":"IF(F6=\"\",\"\",VLOOKUP(F6,学校データ!C:G,4,FALSE))","v":""},{"$nulls":7},{"v":0,"d":"0.00"},null,"",null,{"$f":"IF(E6=\"\",\"\",VLOOKUP(E6,競技データ!$F$2:$G$3,2,FALSE))","v":""},"","",null,"","",{"$f":"IF(H6=\"\",\"\",VLOOKUP(H6,競技データ!$A$2:$C$10,2,FALSE))","v":""},null,"",{"$f":"IF(AA6=\"\",\"\",VLOOKUP(AA6,学校データ!F:G,2,FALSE))","v":""},{"$nulls":4},"",{"$f":"IF(H6=\"\",\"\",VLOOKUP(H6,競技データ!$A$2:$C$10,3,FALSE))","v":""},"",{"$nulls":18},{"$f":"IF(B6=\"\",\"\",表紙!$B$1)","v":""}]
["",{"$nulls":5},{"$f":"IF(F7=\"\",\"\",VLOOKUP(F7,学校データ!C:G,4,FALSE))","v":""},{"$nulls":7},{"v":0,"d":"0.00"},null,"",null,{"$f":"IF(E7=\"\",\"\",VLOOKUP(E7,競技データ!$F$2:$G$3,2,FALSE))","v":""},"","",null,"","",{"$f":"IF(H7=\"\",\"\",VLOOKUP(H7,競技データ!$A$2:$C$10,2,FALSE))","v":""},null,"",{"$f":"IF(AA7=\"\",\"\",VLOOKUP(AA7,学校データ!F:G,2,FALSE))","v":""},{"$nulls":4},"",{"$f":"IF(H7=\"\",\"\",VLOOKUP(H7,競技データ!$A$2:$C$10,3,FALSE))","v":""},"",{"$nulls":18},{"$f":"IF(B7=\"\",\"\",表紙!$B$1)","v":""}]
["",{"$nulls":5},{"$f":"IF(F8=\"\",\"\",VLOOKUP(F8,学校データ!C:G,4,FALSE))","v":""},{"$nulls":7},{"v":0,"d":"0.00"},null,"",null,{"$f":"IF(E8=\"\",\"\",VLOOKUP(E8,競技データ!$F$2:$G$3,2,FALSE))","v":""},"","",null,"","",{"$f":"IF(H8=\"\",\"\",VLOOKUP(H8,競技データ!$A$2:$C$10,2,FALSE))","v":""},null,"",{"$f":"IF(AA8=\"\",\"\",VLOOKUP(AA8,学校データ!F:G,2,FALSE))","v":""},{"$nulls":4},"",{"$f":"IF(H8=\"\",\"\",VLOOKUP(H8,競技データ!$A$2:$C$10,3,FALSE))","v":""},"",{"$nulls":18},{"$f":"IF(B8=\"\",\"\",表紙!$B$1)","v":""}]
["",{"$nulls":5},{"$f":"IF(F9=\"\",\"\",VLOOKUP(F9,学校データ!C:G,4,FALSE))","v":""},{"$nulls":7},{"v":0,"d":"0.00"},null,"",null,{"$f":"IF(E9=\"\",\"\",VLOOKUP(E9,競技データ!$F$2:$G$3,2,FALSE))","v":""},"","",null,"","",{"$f":"IF(H9=\"\",\"\",VLOOKUP(H9,競技データ!$A$2:$C$10,2,FALSE))","v":""},null,"",{"$f":"IF(AA9=\"\",\"\",VLOOKUP(AA9,学校データ!F:G,2,FALSE))","v":""},{"$nulls":4},"",{"$f":"IF(H9=\"\",\"\",VLOOKUP(H9,競技データ!$A$2:$C$10,3,FALSE))","v":""},"",{"$nulls":18},{"$f":"IF(B9=\"\",\"\",表紙!$B$1)","v":""}]
["",{"$nulls":5},{"$f":"IF(F10=\"\",\"\",VLOOKUP(F10,学校データ!C:G,4,FALSE))","v":""},{"$nulls":7},{"v":0,"d":"0.00"},null,"",null,{"$f":"IF(E10=\"\",\"\",VLOOKUP(E10,競技データ!$F$2:$G$3,2,FALSE))","v":""},"","",null,"","",{"$f":"IF(H10=\"\",\"\",VLOOKUP(H10,競技データ!$A$2:$C$10,2,FALSE))","v":""},null,"",{"$f":"IF(AA10=\"\",\"\",VLOOKUP(AA10,学校データ!F:G,2,FALSE))","v":""},{"$nulls":4},"",{"$f":"IF(H10=\"\",\"\",VLOOKUP(H10,競技データ!$A$2:$C$10,3,FALSE))","v":""},"",{"$nulls":18},{"$f":"IF(B10=\"\",\"\",表紙!$B$1)","v":""}]
["",{"$nulls":5},{"$f":"IF(F11=\"\",\"\",VLOOKUP(F11,学校データ!C:G,4,FALSE))","v":""},{"$nulls":7},{"v":0,"d":"0.00"},null,"",null,{"$f":"IF(E11=\"\",\"\",VLOOKUP(E11,競技データ!$F$2:$G$3,2,FALSE))","v":""},"","",null,"","",{"$f":"IF(H11=\"\",\"\",VLOOKUP(H11,競技データ!$A$2:$C$10,2,FALSE))","v":""},null,"",{"$f":"IF(AA11=\"\",\"\",VLOOKUP(AA11,学校データ!F:G,2,FALSE))","v":""},{"$nulls":4},"",{"$f":"IF(H11=\"\",\"\",VLOOKUP(H11,競技データ!$A$2:$C$10,3,FALSE))","v":""},"",{"$nulls":18},{"$f":"IF(B11=\"\",\"\",表紙!$B$1)","v":""}]
["",{"$nulls":5},{"$f":"IF(F12=\"\",\"\",VLOOKUP(F12,学校データ!C:G,4,FALSE))","v":""},{"$nulls":7},{"v":0,"d":"0.00"},null,"",null,{"$f":"IF(E12=\"\",\"\",VLOOKUP(E12,競技データ!$F$2:$G$3,2,FALSE))","v":""},"","",null,"","",{"$f":"IF(H12=\"\",\"\",VLOOKUP(H12,競技データ!$A$2:$C$10,2,FALSE))","v":""},null,"",{"$f":"IF(AA12=\"\",\"\",VLOOKUP(AA12,学校データ!F:G,2,FALSE))","v":""},{"$nulls":4},"",{"$f":"IF(H12=\"\",\"\",VLOOKUP(H12,競技データ!$A$2:$C$10,3,FALSE))","v":""},"",{"$nulls":18},{"$f":"IF(B12=\"\",\"\",表紙!$B$1)","v":""}]
["",{"$nulls":5},{"$f":"IF(F13=\"\",\"\",VLOOKUP(F13,学校データ!C:G,4,FALSE))","v":""},{"$nulls":7},{"v":0,"d":"0.00"},null,"",null,{"$f":"IF(E13=\"\",\"\",VLOOKUP(E13,競技データ!$F$2:$G$3,2,FALSE))","v":""},"","",null,"","",{"$f":"IF(H13=\"\",\"\",VLOOKUP(H13,競技データ!$A$2:$C$10,2,FALSE))","v":""},null,"",{"$f":"IF(AA13=\"\",\"\",VLOOKUP(AA13,学校データ!F:G,2,FALSE))","v":""},{"$nulls":4},"",{"$f":"IF(H13=\"\",\"\",VLOOKUP(H13,競技データ!$A$2:$C$10,3,FALSE))","v":""},"",{"$nulls":18},{"$f":"IF(B13=\"\",\"\",表紙!$B$1)","v":""}]
["",{"$nulls":5},{"$f":"IF(F14=\"\",\"\",VLOOKUP(F14,学校データ!C:G,4,FALSE))","v":""},{"$nulls":7},{"v":0,"d":"0.00"},null,"",null,{"$f":"IF(E14=\"\",\"\",VLOOKUP(E14,競技データ!$F$2:$G$3,2,FALSE))","v":""},"","",null,"","",{"$f":"IF(H14=\"\",\"\",VLOOKUP(H14,競技データ!$A$2:$C$10,2,FALSE))","v":""},null,"",{"$f":"IF(AA14=\"\",\"\",VLOOKUP(AA14,学校データ!F:G,2,FALSE))","v":""},{"$nulls":4},"",{"$f":"IF(H14=\"\",\"\",VLOOKUP(H14,競技データ!$A$2:$C$10,3,FALSE))","v":""},"",{"$nulls":18},{"$f":"IF(B14=\"\",\"\",表紙!$B$1)","v":""}]
["",{"$nulls":5},{"$f":"IF(F15=\"\",\"\",VLOOKUP(F15,学校データ!C:G,4,FALSE))","v":""},{"$nulls":7},{"v":0,"d":"0.00"},null,"",null,{"$f":"IF(E15=\"\",\"\",VLOOKUP(E15,競技データ!$F$2:$G$3,2,FALSE))","v":""},"","",null,"","",{"$f":"IF(H15=\"\",\"\",VLOOKUP(H15,競技データ!$A$2:$C$10,2,FALSE))","v":""},null,"",{"$f":"IF(AA15=\"\",\"\",VLOOKUP(AA15,学校データ!F:G,2,FALSE))","v":""},{"$nulls":4},"",{"$f":"IF(H15=\"\",\"\",VLOOKUP(H15,競技データ!$A$2:$C$10,3,FALSE))","v":""},"",{"$nulls":18},{"$f":"IF(B15=\"\",\"\",表紙!$B$1)","v":""}]
["",{"$nulls":5},{"$f":"IF(F16=\"\",\"\",VLOOKUP(F16,学校データ!C:G,4,FALSE))","v":""},{"$nulls":7},{"v":0,"d":"0.00"},null,"",null,{"$f":"IF(E16=\"\",\"\",VLOOKUP(E16,競技データ!$F$2:$G$3,2,FALSE))","v":""},"","",null,"","",{"$f":"IF(H16=\"\",\"\",VLOOKUP(H16,競技データ!$A$2:$C$10,2,FALSE))","v":""},null,"",{"$f":"IF(AA16=\"\",\"\",VLOOKUP(AA16,学校データ!F:G,2,FALSE))","v":""},{"$nulls":4},"",{"$f":"IF(H16=\"\",\"\",VLOOKUP(H16,競技データ!$A$2:$C$10,3,FALSE))","v":""},"",{"$nulls":18},{"$f":"IF(B16=\"\",\"\",表紙!$B$1)","v":""}]
["",{"$nulls":5},{"$f":"IF(F17=\"\",\"\",VLOOKUP(F17,学校データ!C:G,4,FALSE))","v":""},{"$nulls":7},{"v":0,"d":"0.00"},null,"",null,{"$f":"IF(E17=\"\",\"\",VLOOKUP(E17,競技データ!$F$2:$G$3,2,FALSE))","v":""},"","",null,"","",{"$f":"IF(H17=\"\",\"\",VLOOKUP(H17,競技データ!$A$2:$C$10,2,FALSE))","v":""},null,"",{"$f":"IF(AA17=\"\",\"\",VLOOKUP(AA17,学校データ!F:G,2,FALSE))","v":""},{"$nulls":4},"",{"$f":"IF(H17=\"\",\"\",VLOOKUP(H17,競技データ!$A$2:$C$10,3,FALSE))","v":""},"",{"$nulls":18},{"$f":"IF(B17=\"\",\"\",表紙!$B$1)","v":""}]
["",{"$nulls":5},{"$f":"IF(F18=\"\",\"\",VLOOKUP(F18,学校データ!C:G,4,FALSE))","v":""},{"$nulls":7},{"v":0,"d":"0.00"},null,"",null,{"$f":"IF(E18=\"\",\"\",VLOOKUP(E18,競技データ!$F$2:$G$3,2,FALSE))","v":""},"","",null,"","",{"$f":"IF(H18=\"\",\"\",VLOOKUP(H18,競技データ!$A$2:$C$10,2,FALSE))","v":""},null,"",{"$f":"IF(AA18=\"\",\"\",VLOOKUP(AA18,学校データ!F:G,2,FALSE))","v":""},{"$nulls":4},"",{"$f":"IF(H18=\"\",\"\",VLOOKUP(H18,競技データ!$A$2:$C$10,3,FALSE))","v":""},"",{"$nulls":18},{"$f":"IF(B18=\"\",\"\",表紙!$B$1)","v":""}]
["",{"$nulls":5},{"$f":"IF(F19=\"\",\"\",VLOOKUP(F19,学校データ!C:G,4,FALSE))","v":""},{"$nulls":7},{"v":0,"d":"0.00"},null,"",null,{"$f":"IF(E19=\"\",\"\",VLOOKUP(E19,競技データ!$F$2:$G$3,2,FALSE))","v":""},"","",null,"","",{"$f":"IF(H19=\"\",\"\",VLOOKUP(H19,競技データ!$A$2:$C$10,2,FALSE))","v":""},null,"",{"$f":"IF(AA19=\"\",\"\",VLOOKUP(AA19,学校データ!F:G,2,FALSE))","v":""},{"$nulls":4},"",{"$f":"IF(H19=\"\",\"\",VLOOKUP(H19,競技データ!$A$2:$C$10,3,FALSE))","v":""},"",{"$nulls":18},{"$f":"IF(B19=\"\",\"\",表紙!$B$1)","v":""}]
["",{"$nulls":5},{"$f":"IF(F20=\"\",\"\",VLOOKUP(F20,学校データ!C:G,4,FALSE))","v":""},{"$nulls":7},{"v":0,"d":"0.00"},null,"",null,{"$f":"IF(E20=\"\",\"\",VLOOKUP(E20,競技データ!$F$2:$G$3,2,FALSE))","v":""},"","",null,"","",{"$f":"IF(H20=\"\",\"\",VLOOKUP(H20,競技データ!$A$2:$C$10,2,FALSE))","v":""},null,"",{"$f":"IF(AA20=\"\",\"\",VLOOKUP(AA20,学校データ!F:G,2,FALSE))","v":""},{"$nulls":4},"",{"$f":"IF(H20=\"\",\"\",VLOOKUP(H20,競技データ!$A$2:$C$10,3,FALSE))","v":""},"",{"$nulls":18},{"$f":"IF(B20=\"\",\"\",表紙!$B$1)","v":""}]
["",{"$nulls":5},{"$f":"IF(F21=\"\",\"\",VLOOKUP(F21,学校データ!C:G,4,FALSE))","v":""},{"$nulls":7},{"v":0,"d":"0.00"},null,"",null,{"$f":"IF(E21=\"\",\"\",VLOOKUP(E21,競技データ!$F$2:$G$3,2,FALSE))","v":""},"","",null,"","",{"$f":"IF(H21=\"\",\"\",VLOOKUP(H21,競技データ!$A$2:$C$10,2,FALSE))","v":""},null,"",{"$f":"IF(AA21=\"\",\"\",VLOOKUP(AA21,学校データ!F:G,2,FALSE))","v":""},{"$nulls":4},"",{"$f":"IF(H21=\"\",\"\",VLOOKUP(H21,競技データ!$A$2:$C$10,3,FALSE))","v":""},"",{"$nulls":18},{"$f":"IF(B21=\"\",\"\",表紙!$B$1)","v":""}]
["",{"$nulls":5},{"$f":"IF(F22=\"\",\"\",VLOOKUP(F22,学校データ!C:G,4,FALSE))","v":""},{"$nulls":7},{"v":0,"d":"0.00"},null,"",null,{"$f":"IF(E22=\"\",\"\",VLOOKUP(E22,競技データ!$F$2:$G$3,2,FALSE))","v":""},"","",null,"","",{"$f":"IF(H22=\"\",\"\",VLOOKUP(H22,競技データ!$A$2:$C$10,2,FALSE))","v":""},null,"",{"$f":"IF(AA22=\"\",\"\",VLOOKUP(AA22,学校データ!F:G,2,FALSE))","v":""},{"$nulls":4},"",{"$f":"IF(H22=\"\",\"\",VLOOKUP(H22,競技データ!$A$2:$C$10,3,FALSE))","v":""},"",{"$nulls":18},{"$f":"IF(B22=\"\",\"\",表紙!$B$1)","v":""}]
["",{"$nulls":5},{"$f":"IF(F23=\"\",\"\",VLOOKUP(F23,学校データ!C:G,4,FALSE))","v":""},{"$nulls":7},{"v":0,"d":"0.00"},null,"",null,{"$f":"IF(E23=\"\",\"\",VLOOKUP(E23,競技データ!$F$2:$G$3,2,FALSE))","v":""},"","",null,"","",{"$f":"IF(H23=\"\",\"\",VLOOKUP(H23,競技データ!$A$2:$C$10,2,FALSE))","v":""},null,"",{"$f":"IF(AA23=\"\",\"\",VLOOKUP(AA23,学校データ!F:G,2,FALSE))","v":""},{"$nulls":4},"",{"$f":"IF(H23=\"\",\"\",VLOOKUP(H23,競技データ!$A$2:$C$10,3,FALSE))","v":""},"",{"$nulls":18},{"$f":"IF(B23=\"\",\"\",表紙!$B$1)","v":""}]
["",{"$nulls":5},{"$f":"IF(F24=\"\",\"\",VLOOKUP(F24,学校データ!C:G,4,FALSE))","v":""},{"$nulls":7},{"v":0,"d":"0.00"},null,"",null,{"$f":"IF(E24=\"\",\"\",VLOOKUP(E24,競技データ!$F$2:$G$3,2,FALSE))","v":""},"","",null,"","",{"$f":"IF(H24=\"\",\"\",VLOOKUP(H24,競技データ!$A$2:$C$10,2,FALSE))","v":""},null,"",{"$f":"IF(AA24=\"\",\"\",VLOOKUP(AA24,学校データ!F:G,2,FALSE))","v":""},{"$nulls":4},"",{"$f":"IF(H24=\"\",\"\",VLOOKUP(H24,競技データ!$A$2:$C$10,3,FALSE))","v":""},"",{"$nulls":18},{"$f":"IF(B24=\"\",\"\",表紙!$B$1)","v":""}]
["",{"$nulls":5},{"$f":"IF(F25=\"\",\"\",VLOOKUP(F25,学校データ!C:G,4,FALSE))","v":""},{"$nulls":7},{"v":0,"d":"0.00"},null,"",null,{"$f":"IF(E25=\"\",\"\",VLOOKUP(E25,競技データ!$F$2:$G$3,2,FALSE))","v":""},"","",null,"","",{"$f":"IF(H25=\"\",\"\",VLOOKUP(H25,競技データ!$A$2:$C$10,2,FALSE))","v":""},null,"",{"$f":"IF(AA25=\"\",\"\",VLOOKUP(AA25,学校データ!F:G,2,FALSE))","v":""},{"$nulls":4},"",{"$f":"IF(H25=\"\",\"\",VLOOKUP(H25,競技データ!$A$2:$C$10,3,FALSE))","v":""},"",{"$nulls":18},{"$f":"IF(B25=\"\",\"\",表紙!$B$1)","v":""}]
["",{"$nulls":5},{"$f":"IF(F26=\"\",\"\",VLOOKUP(F26,学校データ!C:G,4,FALSE))","v":""},{"$nulls":7},{"v":0,"d":"0.00"},null,"",null,{"$f":"IF(E26=\"\",\"\",VLOOKUP(E26,競技データ!$F$2:$G$3,2,FALSE))","v":""},"","",null,"","",{"$f":"IF(H26=\"\",\"\",VLOOKUP(H26,競技データ!$A$2:$C$10,2,FALSE))","v":""},null,"",{"$f":"IF(AA26=\"\",\"\",VLOOKUP(AA26,学校データ!F:G,2,FALSE))","v":""},{"$nulls":4},"",{"$f":"IF(H26=\"\",\"\",VLOOKUP(H26,競技データ!$A$2:$C$10,3,FALSE))","v":""},"",{"$nulls":18},{"$f":"IF(B26=\"\",\"\",表紙!$B$1)","v":""}]
["",{"$nulls":5},{"$f":"IF(F27=\"\",\"\",VLOOKUP(F27,学校データ!C:G,4,FALSE))","v":""},{"$nulls":7},{"v":0,"d":"0.00"},null,"",null,{"$f":"IF(E27=\"\",\"\",VLOOKUP(E27,競技データ!$F$2:$G$3,2,FALSE))","v":""},"","",null,"","",{"$f":"IF(H27=\"\",\"\",VLOOKUP(H27,競技データ!$A$2:$C$10,2,FALSE))","v":""},null,"",{"$f":"IF(AA27=\"\",\"\",VLOOKUP(AA27,学校データ!F:G,2,FALSE))","v":""},{"$nulls":4},"",{"$f":"IF(H27=\"\",\"\",VLOOKUP(H27,競技データ!$A$2:$C$10,3,FALSE))","v":""},"",{"$nulls":18},{"$f":"IF(B27=\"\",\"\",表紙!$B$1)","v":""}]
["",{"$nulls":5},{"$f":"IF(F28=\"\",\"\",VLOOKUP(F28,学校データ!C:G,4,FALSE))","v":""},{"$nulls":7},{"v":0,"d":"0.00"},null,"",null,{"$f":"IF(E28=\"\",\"\",VLOOKUP(E28,競技データ!$F$2:$G$3,2,FALSE))","v":""},"","",null,"","",{"$f":"IF(H28=\"\",\"\",VLOOKUP(H28,競技データ!$A$2:$C$10,2,FALSE))","v":""},null,"",{"$f":"IF(AA28=\"\",\"\",VLOOKUP(AA28,学校データ!F:G,2,FALSE))","v":""},{"$nulls":4},"",{"$f":"IF(H28=\"\",\"\",VLOOKUP(H28,競技データ!$A$2:$C$10,3,FALSE))","v":""},"",{"$nulls":18},{"$f":"IF(B28=\"\",\"\",表紙!$B$1)","v":""}]
["",{"$nulls":5},{"$f":"IF(F29=\"\",\"\",VLOOKUP(F29,学校データ!C:G,4,FALSE))","v":""},{"$nulls":7},{"v":0,"d":"0.00"},null,"",null,{"$f":"IF(E29=\"\",\"\",VLOOKUP(E29,競技データ!$F$2:$G$3,2,FALSE))","v":""},"","",null,"","",{"$f":"IF(H29=\"\",\"\",VLOOKUP(H29,競技データ!$A$2:$C$10,2,FALSE))","v":""},null,"",{"$f":"IF(AA29=\"\",\"\",VLOOKUP(AA29,学校データ!F:G,2,FALSE))","v":""},{"$nulls":4},"",{"$f":"IF(H29=\"\",\"\",VLOOKUP(H29,競技データ!$A$2:$C$10,3,FALSE))","v":""},"",{"$nulls":18},{"$f":"IF(B29=\"\",\"\",表紙!$B$1)","v":""}]
["",{"$nulls":5},{"$f":"IF(F30=\"\",\"\",VLOOKUP(F30,学校データ!C:G,4,FALSE))","v":""},{"$nulls":7},{"v":0,"d":"0.00"},null,"",null,{"$f":"IF(E30=\"\",\"\",VLOOKUP(E30,競技データ!$F$2:$G$3,2,FALSE))","v":""},"","",null,"","",{"$f":"IF(H30=\"\",\"\",VLOOKUP(H30,競技データ!$A$2:$C$10,2,FALSE))","v":""},null,"",{"$f":"IF(AA30=\"\",\"\",VLOOKUP(AA30,学校データ!F:G,2,FALSE))","v":""},{"$nulls":4},"",{"$f":"IF(H30=\"\",\"\",VLOOKUP(H30,競技データ!$A$2:$C$10,3,FALSE))","v":""},"",{"$nulls":18},{"$f":"IF(B30=\"\",\"\",表紙!$B$1)","v":""}]
["",{"$nulls":5},{"$f":"IF(F31=\"\",\"\",VLOOKUP(F31,学校データ!C:G,4,FALSE))","v":""},{"$nulls":7},{"v":0,"d":"0.00"},null,"",null,{"$f":"IF(E31=\"\",\"\",VLOOKUP(E31,競技データ!$F$2:$G$3,2,FALSE))","v":""},"","",null,"","",{"$f":"IF(H31=\"\",\"\",VLOOKUP(H31,競技データ!$A$2:$C$10,2,FALSE))","v":""},null,"",{"$f":"IF(AA31=\"\",\"\",VLOOKUP(AA31,学校データ!F:G,2,FALSE))","v":""},{"$nulls":4},"",{"$f":"IF(H31=\"\",\"\",VLOOKUP(H31,競技データ!$A$2:$C$10,3,FALSE))","v":""},"",{"$nulls":18},{"$f":"IF(B31=\"\",\"\",表紙!$B$1)","v":""}]
["",{"$nulls":5},{"$f":"IF(F32=\"\",\"\",VLOOKUP(F32,学校データ!C:G,4,FALSE))","v":""},{"$nulls":7},{"v":0,"d":"0.00"},null,"",null,{"$f":"IF(E32=\"\",\"\",VLOOKUP(E32,競技データ!$F$2:$G$3,2,FALSE))","v":""},"","",null,"","",{"$f":"IF(H32=\"\",\"\",VLOOKUP(H32,競技データ!$A$2:$C$10,2,FALSE))","v":""},null,"",{"$f":"IF(AA32=\"\",\"\",VLOOKUP(AA32,学校データ!F:G,2,FALSE))","v":""},{"$nulls":4},"",{"$f":"IF(H32=\"\",\"\",VLOOKUP(H32,競技データ!$A$2:$C$10,3,FALSE))","v":""},"",{"$nulls":18},{"$f":"IF(B32=\"\",\"\",表紙!$B$1)","v":""}]
["",{"$nulls":5},{"$f":"IF(F33=\"\",\"\",VLOOKUP(F33,学校データ!C:G,4,FALSE))","v":""},{"$nulls":7},{"v":0,"d":"0.00"},null,"",null,{"$f":"IF(E33=\"\",\"\",VLOOKUP(E33,競技データ!$F$2:$G$3,2,FALSE))","v":""},"","",null,"","",{"$f":"IF(H33=\"\",\"\",VLOOKUP(H33,競技データ!$A$2:$C$10,2,FALSE))","v":""},null,"",{"$f":"IF(AA33=\"\",\"\",VLOOKUP(AA33,学校データ!F:G,2,FALSE))","v":""},{"$nulls":4},"",{"$f":"IF(H33=\"\",\"\",VLOOKUP(H33,競技データ!$A$2:$C$10,3,FALSE))","v":""},"",{"$nulls":18},{"$f":"IF(B33=\"\",\"\",表紙!$B$1)","v":""}]
["",{"$nulls":5},{"$f":"IF(F34=\"\",\"\",VLOOKUP(F34,学校データ!C:G,4,FALSE))","v":""},{"$nulls":7},{"v":0,"d":"0.00"},null,"",null,{"$f":"IF(E34=\"\",\"\",VLOOKUP(E34,競技データ!$F$2:$G$3,2,FALSE))","v":""},"","",null,"","",{"$f":"IF(H34=\"\",\"\",VLOOKUP(H34,競技データ!$A$2:$C$10,2,FALSE))","v":""},null,"",{"$f":"IF(AA34=\"\",\"\",VLOOKUP(AA34,学校データ!F:G,2,FALSE))","v":""},{"$nulls":4},"",{"$f":"IF(H34=\"\",\"\",VLOOKUP(H34,競技データ!$A$2:$C$10,3,FALSE))","v":""},"",{"$nulls":18},{"$f":"IF(B34=\"\",\"\",表紙!$B$1)","v":""}]
["",{"$nulls":5},{"$f":"IF(F35=\"\",\"\",VLOOKUP(F35,学校データ!C:G,4,FALSE))","v":""},{"$nulls":7},{"$f":"I35*100+J35*10+K35+L35*0.1+M35*0.01","v":{"v":0,"d":"0.00"}},null,{"$f":"IF(A35=\"\",\"\",A35)","v":""},null,{"$f":"IF(E35=\"\",\"\",VLOOKUP(E35,競技データ!$F$2:$G$3,2,FALSE))","v":""},{"$f":"IF(B35=\"\",\"\",B35)","v":""},{"$f":"IF(C35=\"\",\"\",C35)","v":""},null,{"$f":"IF(B35=\"\",\"\",1)","v":""},{"$f":"IF(D35=\"\",\"\",D35)","v":""},{"$f":"IF(H35=\"\",\"\",VLOOKUP(H35,競技データ!$A$2:$C$10,2,FALSE))","v":""},null,"",{"$f":"IF(AA35=\"\",\"\",VLOOKUP(AA35,学校データ!F:G,2,FALSE))","v":""},{"$nulls":4},{"$f":"IF(B35=\"\",\"\",1)","v":""},{"$f":"IF(H35=\"\",\"\",VLOOKUP(H35,競技データ!$A$2:$C$10,3,FALSE))","v":""},{"$f":"IF(H35=\"\",\"\",O35)","v":""},{"$nulls":18},{"$f":"IF(B35=\"\",\"\",表紙!$B$1)","v":""}]
["",{"$nulls":5},{"$f":"IF(F36=\"\",\"\",VLOOKUP(F36,学校データ!C:G,4,FALSE))","v":""},{"$nulls":7},{"v":0,"d":"0.00"},null,"",null,{"$f":"IF(E36=\"\",\"\",VLOOKUP(E36,競技データ!$F$2:$G$3,2,FALSE))","v":""},"","",null,"","",{"$f":"IF(H36=\"\",\"\",VLOOKUP(H36,競技データ!$A$2:$C$10,2,FALSE))","v":""},null,"",{"$f":"IF(AA36=\"\",\"\",VLOOKUP(AA36,学校データ!F:G,2,FALSE))","v":""},{"$nulls":4},"",{"$f":"IF(H36=\"\",\"\",VLOOKUP(H36,競技データ!$A$2:$C$10,3,FALSE))","v":""},"",{"$nulls":18},{"$f":"IF(B36=\"\",\"\",表紙!$B$1)","v":""}]
["",{"$nulls":5},{"$f":"IF(F37=\"\",\"\",VLOOKUP(F37,学校データ!C:G,4,FALSE))","v":""},{"$nulls":7},{"v":0,"d":"0.00"},null,"",null,{"$f":"IF(E37=\"\",\"\",VLOOKUP(E37,競技データ!$F$2:$G$3,2,FALSE))","v":""},"","",null,"","",{"$f":"IF(H37=\"\",\"\",VLOOKUP(H37,競技データ!$A$2:$C$10,2,FALSE))","v":""},null,"",{"$f":"IF(AA37=\"\",\"\",VLOOKUP(AA37,学校データ!F:G,2,FALSE))","v":""},{"$nulls":4},"",{"$f":"IF(H37=\"\",\"\",VLOOKUP(H37,競技データ!$A$2:$C$10,3,FALSE))","v":""},"",{"$nulls":18},{"$f":"IF(B37=\"\",\"\",表紙!$B$1)","v":""}]
["",{"$nulls":5},{"$f":"IF(F38=\"\",\"\",VLOOKUP(F38,学校データ!C:G,4,FALSE))","v":""},{"$nulls":7},{"v":0,"d":"0.00"},null,"",null,{"$f":"IF(E38=\"\",\"\",VLOOKUP(E38,競技データ!$F$2:$G$3,2,FALSE))","v":""},"","",null,"","",{"$f":"IF(H38=\"\",\"\",VLOOKUP(H38,競技データ!$A$2:$C$10,2,FALSE))","v":""},null,"",{"$f":"IF(AA38=\"\",\"\",VLOOKUP(AA38,学校データ!F:G,2,FALSE))","v":""},{"$nulls":4},"",{"$f":"IF(H38=\"\",\"\",VLOOKUP(H38,競技データ!$A$2:$C$10,3,FALSE))","v":""},"",{"$nulls":18},{"$f":"IF(B38=\"\",\"\",表紙!$B$1)","v":""}]
["",{"$nulls":5},{"$f":"IF(F39=\"\",\"\",VLOOKUP(F39,学校データ!C:G,4,FALSE))","v":""},{"$nulls":7},{"v":0,"d":"0.00"},null,"",null,{"$f":"IF(E39=\"\",\"\",VLOOKUP(E39,競技データ!$F$2:$G$3,2,FALSE))","v":""},"","",null,"","",{"$f":"IF(H39=\"\",\"\",VLOOKUP(H39,競技データ!$A$2:$C$10,2,FALSE))","v":""},null,"",{"$f":"IF(AA39=\"\",\"\",VLOOKUP(AA39,学校データ!F:G,2,FALSE))","v":""},{"$nulls":4},"",{"$f":"IF(H39=\"\",\"\",VLOOKUP(H39,競技データ!$A$2:$C$10,3,FALSE))","v":""},"",{"$nulls":18},{"$f":"IF(B39=\"\",\"\",表紙!$B$1)","v":""}]
["",{"$nulls":5},{"$f":"IF(F40=\"\",\"\",VLOOKUP(F40,学校データ!C:G,4,FALSE))","v":""},{"$nulls":7},{"v":0,"d":"0.00"},null,"",null,{"$f":"IF(E40=\"\",\"\",VLOOKUP(E40,競技データ!$F$2:$G$3,2,FALSE))","v":""},"","",null,"","",{"$f":"IF(H40=\"\",\"\",VLOOKUP(H40,競技データ!$A$2:$C$10,2,FALSE))","v":""},null,"",{"$f":"IF(AA40=\"\",\"\",VLOOKUP(AA40,学校データ!F:G,2,FALSE))","v":""},{"$nulls":4},"",{"$f":"IF(H40=\"\",\"\",VLOOKUP(H40,競技データ!$A$2:$C$10,3,FALSE))","v":""},"",{"$nulls":18},{"$f":"IF(B40=\"\",\"\",表紙!$B$1)","v":""}]
["",{"$nulls":5},{"$f":"IF(F41=\"\",\"\",VLOOKUP(F41,学校データ!C:G,4,FALSE))","v":""},{"$nulls":7},{"v":0,"d":"0.00"},null,"",null,{"$f":"IF(E41=\"\",\"\",VLOOKUP(E41,競技データ!$F$2:$G$3,2,FALSE))","v":""},"","",null,"","",{"$f":"IF(H41=\"\",\"\",VLOOKUP(H41,競技データ!$A$2:$C$10,2,FALSE))","v":""},null,"",{"$f":"IF(AA41=\"\",\"\",VLOOKUP(AA41,学校データ!F:G,2,FALSE))","v":""},{"$nulls":4},"",{"$f":"IF(H41=\"\",\"\",VLOOKUP(H41,競技データ!$A$2:$C$10,3,FALSE))","v":""},"",{"$nulls":18},{"$f":"IF(B41=\"\",\"\",表紙!$B$1)","v":""}]
["",{"$nulls":5},{"$f":"IF(F42=\"\",\"\",VLOOKUP(F42,学校データ!C:G,4,FALSE))","v":""},{"$nulls":7},{"v":0,"d":"0.00"},null,"",null,{"$f":"IF(E42=\"\",\"\",VLOOKUP(E42,競技データ!$F$2:$G$3,2,FALSE))","v":""},"","",null,"","",{"$f":"IF(H42=\"\",\"\",VLOOKUP(H42,競技データ!$A$2:$C$10,2,FALSE))","v":""},null,"",{"$f":"IF(AA42=\"\",\"\",VLOOKUP(AA42,学校データ!F:G,2,FALSE))","v":""},{"$nulls":4},"",{"$f":"IF(H42=\"\",\"\",VLOOKUP(H42,競技データ!$A$2:$C$10,3,FALSE))","v":""},"",{"$nulls":18},{"$f":"IF(B42=\"\",\"\",表紙!$B$1)","v":""}]
["",{"$nulls":5},{"$f":"IF(F43=\"\",\"\",VLOOKUP(F43,学校データ!C:G,4,FALSE))","v":""},{"$nulls":7},{"v":0,"d":"0.00"},null,"",null,{"$f":"IF(E43=\"\",\"\",VLOOKUP(E43,競技データ!$F$2:$G$3,2,FALSE))","v":""},"","",null,"","",{"$f":"IF(H43=\"\",\"\",VLOOKUP(H43,競技データ!$A$2:$C$10,2,FALSE))","v":""},null,"",{"$f":"IF(AA43=\"\",\"\",VLOOKUP(AA43,学校データ!F:G,2,FALSE))","v":""},{"$nulls":4},"",{"$f":"IF(H43=\"\",\"\",VLOOKUP(H43,競技データ!$A$2:$C$10,3,FALSE))","v":""},"",{"$nulls":18},{"$f":"IF(B43=\"\",\"\",表紙!$B$1)","v":""}]
["",{"$nulls":5},{"$f":"IF(F44=\"\",\"\",VLOOKUP(F44,学校データ!C:G,4,FALSE))","v":""},{"$nulls":7},{"v":0,"d":"0.00"},null,"",null,{"$f":"IF(E44=\"\",\"\",VLOOKUP(E44,競技データ!$F$2:$G$3,2,FALSE))","v":""},"","",null,"","",{"$f":"IF(H44=\"\",\"\",VLOOKUP(H44,競技データ!$A$2:$C$10,2,FALSE))","v":""},null,"",{"$f":"IF(AA44=\"\",\"\",VLOOKUP(AA44,学校データ!F:G,2,FALSE))","v":""},{"$nulls":4},"",{"$f":"IF(H44=\"\",\"\",VLOOKUP(H44,競技データ!$A$2:$C$10,3,FALSE))","v":""},"",{"$nulls":18},{"$f":"IF(B44=\"\",\"\",表紙!$B$1)","v":""}]
["",{"$nulls":5},{"$f":"IF(F45=\"\",\"\",VLOOKUP(F45,学校データ!C:G,4,FALSE))","v":""},{"$nulls":7},{"v":0,"d":"0.00"},null,"",null,{"$f":"IF(E45=\"\",\"\",VLOOKUP(E45,競技データ!$F$2:$G$3,2,FALSE))","v":""},"","",null,"","",{"$f":"IF(H45=\"\",\"\",VLOOKUP(H45,競技データ!$A$2:$C$10,2,FALSE))","v":""},null,"",{"$f":"IF(AA45=\"\",\"\",VLOOKUP(AA45,学校データ!F:G,2,FALSE))","v":""},{"$nulls":4},"",{"$f":"IF(H45=\"\",\"\",VLOOKUP(H45,競技データ!$A$2:$C$10,3,FALSE))","v":""},"",{"$nulls":18},{"$f":"IF(B45=\"\",\"\",表紙!$B$1)","v":""}]
["",{"$nulls":5},{"$f":"IF(F46=\"\",\"\",VLOOKUP(F46,学校データ!C:G,4,FALSE))","v":""},{"$nulls":7},{"v":0,"d":"0.00"},null,"",null,{"$f":"IF(E46=\"\",\"\",VLOOKUP(E46,競技データ!$F$2:$G$3,2,FALSE))","v":""},"","",null,"","",{"$f":"IF(H46=\"\",\"\",VLOOKUP(H46,競技データ!$A$2:$C$10,2,FALSE))","v":""},null,"",{"$f":"IF(AA46=\"\",\"\",VLOOKUP(AA46,学校データ!F:G,2,FALSE))","v":""},{"$nulls":4},"",{"$f":"IF(H46=\"\",\"\",VLOOKUP(H46,競技データ!$A$2:$C$10,3,FALSE))","v":""},"",{"$nulls":18},{"$f":"IF(B46=\"\",\"\",表紙!$B$1)","v":""}]
["",{"$nulls":5},{"$f":"IF(F47=\"\",\"\",VLOOKUP(F47,学校データ!C:G,4,FALSE))","v":""},{"$nulls":7},{"v":0,"d":"0.00"},null,"",null,{"$f":"IF(E47=\"\",\"\",VLOOKUP(E47,競技データ!$F$2:$G$3,2,FALSE))","v":""},"","",null,"","",{"$f":"IF(H47=\"\",\"\",VLOOKUP(H47,競技データ!$A$2:$C$10,2,FALSE))","v":""},null,"",{"$f":"IF(AA47=\"\",\"\",VLOOKUP(AA47,学校データ!F:G,2,FALSE))","v":""},{"$nulls":4},"",{"$f":"IF(H47=\"\",\"\",VLOOKUP(H47,競技データ!$A$2:$C$10,3,FALSE))","v":""},"",{"$nulls":18},{"$f":"IF(B47=\"\",\"\",表紙!$B$1)","v":""}]
["",{"$nulls":5},{"$f":"IF(F48=\"\",\"\",VLOOKUP(F48,学校データ!C:G,4,FALSE))","v":""},{"$nulls":7},{"v":0,"d":"0.00"},null,"",null,{"$f":"IF(E48=\"\",\"\",VLOOKUP(E48,競技データ!$F$2:$G$3,2,FALSE))","v":""},"","",null,"","",{"$f":"IF(H48=\"\",\"\",VLOOKUP(H48,競技データ!$A$2:$C$10,2,FALSE))","v":""},null,"",{"$f":"IF(AA48=\"\",\"\",VLOOKUP(AA48,学校データ!F:G,2,FALSE))","v":""},{"$nulls":4},"",{"$f":"IF(H48=\"\",\"\",VLOOKUP(H48,競技データ!$A$2:$C$10,3,FALSE))","v":""},"",{"$nulls":18},{"$f":"IF(B48=\"\",\"\",表紙!$B$1)","v":""}]
["",{"$nulls":5},{"$f":"IF(F49=\"\",\"\",VLOOKUP(F49,学校データ!C:G,4,FALSE))","v":""},{"$nulls":7},{"v":0,"d":"0.00"},null,"",null,{"$f":"IF(E49=\"\",\"\",VLOOKUP(E49,競技データ!$F$2:$G$3,2,FALSE))","v":""},"","",null,"","",{"$f":"IF(H49=\"\",\"\",VLOOKUP(H49,競技データ!$A$2:$C$10,2,FALSE))","v":""},null,"",{"$f":"IF(AA49=\"\",\"\",VLOOKUP(AA49,学校データ!F:G,2,FALSE))","v":""},{"$nulls":4},"",{"$f":"IF(H49=\"\",\"\",VLOOKUP(H49,競技データ!$A$2:$C$10,3,FALSE))","v":""},"",{"$nulls":18},{"$f":"IF(B49=\"\",\"\",表紙!$B$1)","v":""}]
["",{"$nulls":5},{"$f":"IF(F50=\"\",\"\",VLOOKUP(F50,学校データ!C:G,4,FALSE))","v":""},{"$nulls":7},{"v":0,"d":"0.00"},null,"",null,{"$f":"IF(E50=\"\",\"\",VLOOKUP(E50,競技データ!$F$2:$G$3,2,FALSE))","v":""},"","",null,"","",{"$f":"IF(H50=\"\",\"\",VLOOKUP(H50,競技データ!$A$2:$C$10,2,FALSE))","v":""},null,"",{"$f":"IF(AA50=\"\",\"\",VLOOKUP(AA50,学校データ!F:G,2,FALSE))","v":""},{"$nulls":4},"",{"$f":"IF(H50=\"\",\"\",VLOOKUP(H50,競技データ!$A$2:$C$10,3,FALSE))","v":""},"",{"$nulls":18},{"$f":"IF(B50=\"\",\"\",表紙!$B$1)","v":""}]
["",{"$nulls":5},{"$f":"IF(F51=\"\",\"\",VLOOKUP(F51,学校データ!C:G,4,FALSE))","v":""},{"$nulls":7},{"v":0,"d":"0.00"},null,"",null,{"$f":"IF(E51=\"\",\"\",VLOOKUP(E51,競技データ!$F$2:$G$3,2,FALSE))","v":""},"","",null,"","",{"$f":"IF(H51=\"\",\"\",VLOOKUP(H51,競技データ!$A$2:$C$10,2,FALSE))","v":""},null,"",{"$f":"IF(AA51=\"\",\"\",VLOOKUP(AA51,学校データ!F:G,2,FALSE))","v":""},{"$nulls":4},"",{"$f":"IF(H51=\"\",\"\",VLOOKUP(H51,競技データ!$A$2:$C$10,3,FALSE))","v":""},"",{"$nulls":18},{"$f":"IF(B51=\"\",\"\",表紙!$B$1)","v":""}]
["",{"$nulls":5},{"$f":"IF(F52=\"\",\"\",VLOOKUP(F52,学校データ!C:G,4,FALSE))","v":""},{"$nulls":7},{"v":0,"d":"0.00"},null,"",null,{"$f":"IF(E52=\"\",\"\",VLOOKUP(E52,競技データ!$F$2:$G$3,2,FALSE))","v":""},"","",null,"","",{"$f":"IF(H52=\"\",\"\",VLOOKUP(H52,競技データ!$A$2:$C$10,2,FALSE))","v":""},null,"",{"$f":"IF(AA52=\"\",\"\",VLOOKUP(AA52,学校データ!F:G,2,FALSE))","v":""},{"$nulls":4},"",{"$f":"IF(H52=\"\",\"\",VLOOKUP(H52,競技データ!$A$2:$C$10,3,FALSE))","v":""},"",{"$nulls":18},{"$f":"IF(B52=\"\",\"\",表紙!$B$1)","v":""}]
[{"$f":"IF(B53=\"\",\"\",A52+1)","v":""},{"$nulls":5},{"$f":"IF(F53=\"\",\"\",VLOOKUP(F53,学校データ!C:G,4,FALSE))","v":""},{"$nulls":7},{"v":0,"d":"0.00"},null,"",null,{"$f":"IF(E53=\"\",\"\",VLOOKUP(E53,競技データ!$F$2:$G$3,2,FALSE))","v":""},"","",null,"","",{"$f":"IF(H53=\"\",\"\",VLOOKUP(H53,競技データ!$A$2:$C$10,2,FALSE))","v":""},null,"",{"$f":"IF(AA53=\"\",\"\",VLOOKUP(AA53,学校データ!F:G,2,FALSE))","v":""},{"$nulls":4},"",{"$f":"IF(H53=\"\",\"\",VLOOKUP(H53,競技データ!$A$2:$C$10,3,FALSE))","v":""},"",{"$nulls":18},{"$f":"IF(B53=\"\",\"\",表紙!$B$1)","v":""}]
["",{"$nulls":5},{"$f":"IF(F54=\"\",\"\",VLOOKUP(F54,学校データ!C:G,4,FALSE))","v":""},{"$nulls":7},{"v":0,"d":"0.00"},null,"",null,{"$f":"IF(E54=\"\",\"\",VLOOKUP(E54,競技データ!$F$2:$G$3,2,FALSE))","v":""},"","",null,"","",{"$f":"IF(H54=\"\",\"\",VLOOKUP(H54,競技データ!$A$2:$C$10,2,FALSE))","v":""},null,"",{"$f":"IF(AA54=\"\",\"\",VLOOKUP(AA54,学校データ!F:G,2,FALSE))","v":""},{"$nulls":4},"",{"$f":"IF(H54=\"\",\"\",VLOOKUP(H54,競技データ!$A$2:$C$10,3,FALSE))","v":""},"",{"$nulls":18},{"$f":"IF(B54=\"\",\"\",表紙!$B$1)","v":""}]
["",{"$nulls":5},{"$f":"IF(F55=\"\",\"\",VLOOKUP(F55,学校データ!C:G,4,FALSE))","v":""},{"$nulls":7},{"v":0,"d":"0.00"},null,"",null,{"$f":"IF(E55=\"\",\"\",VLOOKUP(E55,競技データ!$F$2:$G$3,2,FALSE))","v":""},"","",null,"","",{"$f":"IF(H55=\"\",\"\",VLOOKUP(H55,競技データ!$A$2:$C$10,2,FALSE))","v":""},null,"",{"$f":"IF(AA55=\"\",\"\",VLOOKUP(AA55,学校データ!F:G,2,FALSE))","v":""},{"$nulls":4},"",{"$f":"IF(H55=\"\",\"\",VLOOKUP(H55,競技データ!$A$2:$C$10,3,FALSE))","v":""},"",{"$nulls":18},{"$f":"IF(B55=\"\",\"\",表紙!$B$1)","v":""}]
["",{"$nulls":5},{"$f":"IF(F56=\"\",\"\",VLOOKUP(F56,学校データ!C:G,4,FALSE))","v":""},{"$nulls":7},{"v":0,"d":"0.00"},null,"",null,{"$f":"IF(E56=\"\",\"\",VLOOKUP(E56,競技データ!$F$2:$G$3,2,FALSE))","v":""},"","",null,"","",{"$f":"IF(H56=\"\",\"\",VLOOKUP(H56,競技データ!$A$2:$C$10,2,FALSE))","v":""},null,"",{"$f":"IF(AA56=\"\",\"\",VLOOKUP(AA56,学校データ!F:G,2,FALSE))","v":""},{"$nulls":4},"",{"$f":"IF(H56=\"\",\"\",VLOOKUP(H56,競技データ!$A$2:$C$10,3,FALSE))","v":""},"",{"$nulls":18},{"$f":"IF(B56=\"\",\"\",表紙!$B$1)","v":""}]
["",{"$nulls":5},{"$f":"IF(F57=\"\",\"\",VLOOKUP(F57,学校データ!C:G,4,FALSE))","v":""},{"$nulls":7},{"v":0,"d":"0.00"},null,"",null,{"$f":"IF(E57=\"\",\"\",VLOOKUP(E57,競技データ!$F$2:$G$3,2,FALSE))","v":""},"","",null,"","",{"$f":"IF(H57=\"\",\"\",VLOOKUP(H57,競技データ!$A$2:$C$10,2,FALSE))","v":""},null,"",{"$f":"IF(AA57=\"\",\"\",VLOOKUP(AA57,学校データ!F:G,2,FALSE))","v":""},{"$nulls":4},"",{"$f":"IF(H57=\"\",\"\",VLOOKUP(H57,競技データ!$A$2:$C$10,3,FALSE))","v":""},"",{"$nulls":18},{"$f":"IF(B57=\"\",\"\",表紙!$B$1)","v":""}]
["",{"$nulls":5},{"$f":"IF(F58=\"\",\"\",VLOOKUP(F58,学校データ!C:G,4,FALSE))","v":""},{"$nulls":7},{"v":0,"d":"0.00"},null,"",null,{"$f":"IF(E58=\"\",\"\",VLOOKUP(E58,競技データ!$F$2:$G$3,2,FALSE))","v":""},"","",null,"","",{"$f":"IF(H58=\"\",\"\",VLOOKUP(H58,競技データ!$A$2:$C$10,2,FALSE))","v":""},null,"",{"$f":"IF(AA58=\"\",\"\",VLOOKUP(AA58,学校データ!F:G,2,FALSE))","v":""},{"$nulls":4},"",{"$f":"IF(H58=\"\",\"\",VLOOKUP(H58,競技データ!$A$2:$C$10,3,FALSE))","v":""},"",{"$nulls":18},{"$f":"IF(B58=\"\",\"\",表紙!$B$1)","v":""}]
["",{"$nulls":5},{"$f":"IF(F59=\"\",\"\",VLOOKUP(F59,学校データ!C:G,4,FALSE))","v":""},{"$nulls":7},{"v":0,"d":"0.00"},null,"",null,{"$f":"IF(E59=\"\",\"\",VLOOKUP(E59,競技データ!$F$2:$G$3,2,FALSE))","v":""},"","",null,"","",{"$f":"IF(H59=\"\",\"\",VLOOKUP(H59,競技データ!$A$2:$C$10,2,FALSE))","v":""},null,"",{"$f":"IF(AA59=\"\",\"\",VLOOKUP(AA59,学校データ!F:G,2,FALSE))","v":""},{"$nulls":4},"",{"$f":"IF(H59=\"\",\"\",VLOOKUP(H59,競技データ!$A$2:$C$10,3,FALSE))","v":""},"",{"$nulls":18},{"$f":"IF(B59=\"\",\"\",表紙!$B$1)","v":""}]
["",{"$nulls":5},{"$f":"IF(F60=\"\",\"\",VLOOKUP(F60,学校データ!C:G,4,FALSE))","v":""},{"$nulls":7},{"v":0,"d":"0.00"},null,"",null,{"$f":"IF(E60=\"\",\"\",VLOOKUP(E60,競技データ!$F$2:$G$3,2,FALSE))","v":""},"","",null,"","",{"$f":"IF(H60=\"\",\"\",VLOOKUP(H60,競技データ!$A$2:$C$10,2,FALSE))","v":""},null,"",{"$f":"IF(AA60=\"\",\"\",VLOOKUP(AA60,学校データ!F:G,2,FALSE))","v":""},{"$nulls":4},"",{"$f":"IF(H60=\"\",\"\",VLOOKUP(H60,競技データ!$A$2:$C$10,3,FALSE))","v":""},"",{"$nulls":18},{"$f":"IF(B60=\"\",\"\",表紙!$B$1)","v":""}]
["",{"$nulls":5},{"$f":"IF(F61=\"\",\"\",VLOOKUP(F61,学校データ!C:G,4,FALSE))","v":""},{"$nulls":7},{"v":0,"d":"0.00"},null,"",null,{"$f":"IF(E61=\"\",\"\",VLOOKUP(E61,競技データ!$F$2:$G$3,2,FALSE))","v":""},"","",null,"","",{"$f":"IF(H61=\"\",\"\",VLOOKUP(H61,競技データ!$A$2:$C$10,2,FALSE))","v":""},null,"",{"$f":"IF(AA61=\"\",\"\",VLOOKUP(AA61,学校データ!F:G,2,FALSE))","v":""},{"$nulls":4},"",{"$f":"IF(H61=\"\",\"\",VLOOKUP(H61,競技データ!$A$2:$C$10,3,FALSE))","v":""},"",{"$nulls":18},{"$f":"IF(B61=\"\",\"\",表紙!$B$1)","v":""}]
["",{"$nulls":5},{"$f":"IF(F62=\"\",\"\",VLOOKUP(F62,学校データ!C:G,4,FALSE))","v":""},{"$nulls":7},{"v":0,"d":"0.00"},null,"",null,{"$f":"IF(E62=\"\",\"\",VLOOKUP(E62,競技データ!$F$2:$G$3,2,FALSE))","v":""},"","",null,"","",{"$f":"IF(H62=\"\",\"\",VLOOKUP(H62,競技データ!$A$2:$C$10,2,FALSE))","v":""},null,"",{"$f":"IF(AA62=\"\",\"\",VLOOKUP(AA62,学校データ!F:G,2,FALSE))","v":""},{"$nulls":4},"",{"$f":"IF(H62=\"\",\"\",VLOOKUP(H62,競技データ!$A$2:$C$10,3,FALSE))","v":""},"",{"$nulls":18},{"$f":"IF(B62=\"\",\"\",表紙!$B$1)","v":""}]
["",{"$nulls":5},{"$f":"IF(F63=\"\",\"\",VLOOKUP(F63,学校データ!C:G,4,FALSE))","v":""},{"$nulls":7},{"v":0,"d":"0.00"},null,"",null,{"$f":"IF(E63=\"\",\"\",VLOOKUP(E63,競技データ!$F$2:$G$3,2,FALSE))","v":""},"","",null,"","",{"$f":"IF(H63=\"\",\"\",VLOOKUP(H63,競技データ!$A$2:$C$10,2,FALSE))","v":""},null,"",{"$f":"IF(AA63=\"\",\"\",VLOOKUP(AA63,学校データ!F:G,2,FALSE))","v":""},{"$nulls":4},"",{"$f":"IF(H63=\"\",\"\",VLOOKUP(H63,競技データ!$A$2:$C$10,3,FALSE))","v":""},"",{"$nulls":18},{"$f":"IF(B63=\"\",\"\",表紙!$B$1)","v":""}]
["",{"$nulls":5},{"$f":"IF(F64=\"\",\"\",VLOOKUP(F64,学校データ!C:G,4,FALSE))","v":""},{"$nulls":7},{"v":0,"d":"0.00"},null,"",null,{"$f":"IF(E64=\"\",\"\",VLOOKUP(E64,競技データ!$F$2:$G$3,2,FALSE))","v":""},"","",null,"","",{"$f":"IF(H64=\"\",\"\",VLOOKUP(H64,競技データ!$A$2:$C$10,2,FALSE))","v":""},null,"",{"$f":"IF(AA64=\"\",\"\",VLOOKUP(AA64,学校データ!F:G,2,FALSE))","v":""},{"$nulls":4},"",{"$f":"IF(H64=\"\",\"\",VLOOKUP(H64,競技データ!$A$2:$C$10,3,FALSE))","v":""},"",{"$nulls":18},{"$f":"IF(B64=\"\",\"\",表紙!$B$1)","v":""}]
["",{"$nulls":5},{"$f":"IF(F65=\"\",\"\",VLOOKUP(F65,学校データ!C:G,4,FALSE))","v":""},{"$nulls":7},{"v":0,"d":"0.00"},null,"",null,{"$f":"IF(E65=\"\",\"\",VLOOKUP(E65,競技データ!$F$2:$G$3,2,FALSE))","v":""},"","",null,"","",{"$f":"IF(H65=\"\",\"\",VLOOKUP(H65,競技データ!$A$2:$C$10,2,FALSE))","v":""},null,"",{"$f":"IF(AA65=\"\",\"\",VLOOKUP(AA65,学校データ!F:G,2,FALSE))","v":""},{"$nulls":4},"",{"$f":"IF(H65=\"\",\"\",VLOOKUP(H65,競技データ!$A$2:$C$10,3,FALSE))","v":""},"",{"$nulls":18},{"$f":"IF(B65=\"\",\"\",表紙!$B$1)","v":""}]
["",{"$nulls":5},{"$f":"IF(F66=\"\",\"\",VLOOKUP(F66,学校データ!C:G,4,FALSE))","v":""},{"$nulls":7},{"v":0,"d":"0.00"},null,"",null,{"$f":"IF(E66=\"\",\"\",VLOOKUP(E66,競技データ!$F$2:$G$3,2,FALSE))","v":""},"","",null,"","",{"$f":"IF(H66=\"\",\"\",VLOOKUP(H66,競技データ!$A$2:$C$10,2,FALSE))","v":""},null,"",{"$f":"IF(AA66=\"\",\"\",VLOOKUP(AA66,学校データ!F:G,2,FALSE))","v":""},{"$nulls":4},"",{"$f":"IF(H66=\"\",\"\",VLOOKUP(H66,競技データ!$A$2:$C$10,3,FALSE))","v":""},"",{"$nulls":18},{"$f":"IF(B66=\"\",\"\",表紙!$B$1)","v":""}]
["",{"$nulls":5},{"$f":"IF(F67=\"\",\"\",VLOOKUP(F67,学校データ!C:G,4,FALSE))","v":""},{"$nulls":7},{"$f":"I67*100+J67*10+K67+L67*0.1+M67*0.01","v":{"v":0,"d":"0.00"}},null,{"$f":"IF(A67=\"\",\"\",A67)","v":""},null,{"$f":"IF(E67=\"\",\"\",VLOOKUP(E67,競技データ!$F$2:$G$3,2,FALSE))","v":""},{"$f":"IF(B67=\"\",\"\",B67)","v":""},{"$f":"IF(C67=\"\",\"\",C67)","v":""},null,{"$f":"IF(B67=\"\",\"\",1)","v":""},{"$f":"IF(D67=\"\",\"\",D67)","v":""},{"$f":"IF(H67=\"\",\"\",VLOOKUP(H67,競技データ!$A$2:$C$10,2,FALSE))","v":""},null,"",{"$f":"IF(AA67=\"\",\"\",VLOOKUP(AA67,学校データ!F:G,2,FALSE))","v":""},{"$nulls":4},{"$f":"IF(B67=\"\",\"\",1)","v":""},{"$f":"IF(H67=\"\",\"\",VLOOKUP(H67,競技データ!$A$2:$C$10,3,FALSE))","v":""},{"$f":"IF(H67=\"\",\"\",O67)","v":""},{"$nulls":18},{"$f":"IF(B67=\"\",\"\",表紙!$B$1)","v":""}]
["",{"$nulls":5},{"$f":"IF(F68=\"\",\"\",VLOOKUP(F68,学校データ!C:G,4,FALSE))","v":""},{"$nulls":7},{"v":0,"d":"0.00"},null,"",null,{"$f":"IF(E68=\"\",\"\",VLOOKUP(E68,競技データ!$F$2:$G$3,2,FALSE))","v":""},"","",null,"","",{"$f":"IF(H68=\"\",\"\",VLOOKUP(H68,競技データ!$A$2:$C$10,2,FALSE))","v":""},null,{"$f":"IF(G68=\"\",\"\",G68)","v":""},{"$f":"IF(AA68=\"\",\"\",VLOOKUP(AA68,学校データ!F:G,2,FALSE))","v":""},{"$nulls":4},"",{"$f":"IF(H68=\"\",\"\",VLOOKUP(H68,競技データ!$A$2:$C$10,3,FALSE))","v":""},"",{"$nulls":18},{"$f":"IF(B68=\"\",\"\",表紙!$B$1)","v":""}]
["",{"$nulls":5},{"$f":"IF(F69=\"\",\"\",VLOOKUP(F69,学校データ!C:G,4,FALSE))","v":""},{"$nulls":7},{"v":0,"d":"0.00"},null,"",null,{"$f":"IF(E69=\"\",\"\",VLOOKUP(E69,競技データ!$F$2:$G$3,2,FALSE))","v":""},"","",null,"","",{"$f":"IF(H69=\"\",\"\",VLOOKUP(H69,競技データ!$A$2:$C$10,2,FALSE))","v":""},null,"",{"$f":"IF(AA69=\"\",\"\",VLOOKUP(AA69,学校データ!F:G,2,FALSE))","v":""},{"$nulls":4},"",{"$f":"IF(H69=\"\",\"\",VLOOKUP(H69,競技データ!$A$2:$C$10,3,FALSE))","v":""},"",{"$nulls":18},{"$f":"IF(B69=\"\",\"\",表紙!$B$1)","v":""}]
["",{"$nulls":5},{"$f":"IF(F70=\"\",\"\",VLOOKUP(F70,学校データ!C:G,4,FALSE))","v":""},{"$nulls":7},{"v":0,"d":"0.00"},null,"",null,{"$f":"IF(E70=\"\",\"\",VLOOKUP(E70,競技データ!$F$2:$G$3,2,FALSE))","v":""},"","",null,"","",{"$f":"IF(H70=\"\",\"\",VLOOKUP(H70,競技データ!$A$2:$C$10,2,FALSE))","v":""},null,"",{"$f":"IF(AA70=\"\",\"\",VLOOKUP(AA70,学校データ!F:G,2,FALSE))","v":""},{"$nulls":4},"",{"$f":"IF(H70=\"\",\"\",VLOOKUP(H70,競技データ!$A$2:$C$10,3,FALSE))","v":""},"",{"$nulls":18},{"$f":"IF(B70=\"\",\"\",表紙!$B$1)","v":""}]
["",{"$nulls":5},{"$f":"IF(F71=\"\",\"\",VLOOKUP(F71,学校データ!C:G,4,FALSE))","v":""},{"$nulls":7},{"v":0,"d":"0.00"},null,"",null,{"$f":"IF(E71=\"\",\"\",VLOOKUP(E71,競技データ!$F$2:$G$3,2,FALSE))","v":""},"","",null,"","",{"$f":"IF(H71=\"\",\"\",VLOOKUP(H71,競技データ!$A$2:$C$10,2,FALSE))","v":""},null,"",{"$f":"IF(AA71=\"\",\"\",VLOOKUP(AA71,学校データ!F:G,2,FALSE))","v":""},{"$nulls":4},"",{"$f":"IF(H71=\"\",\"\",VLOOKUP(H71,競技データ!$A$2:$C$10,3,FALSE))","v":""},"",{"$nulls":18},{"$f":"IF(B71=\"\",\"\",表紙!$B$1)","v":""}]
["",{"$nulls":5},{"$f":"IF(F72=\"\",\"\",VLOOKUP(F72,学校データ!C:G,4,FALSE))","v":""},{"$nulls":7},{"v":0,"d":"0.00"},null,"",null,{"$f":"IF(E72=\"\",\"\",VLOOKUP(E72,競技データ!$F$2:$G$3,2,FALSE))","v":""},"","",null,"","",{"$f":"IF(H72=\"\",\"\",VLOOKUP(H72,競技データ!$A$2:$C$10,2,FALSE))","v":""},null,"",{"$f":"IF(AA72=\"\",\"\",VLOOKUP(AA72,学校データ!F:G,2,FALSE))","v":""},{"$nulls":4},"",{"$f":"IF(H72=\"\",\"\",VLOOKUP(H72,競技データ!$A$2:$C$10,3,FALSE))","v":""},"",{"$nulls":18},{"$f":"IF(B72=\"\",\"\",表紙!$B$1)","v":""}]
["",{"$nulls":5},{"$f":"IF(F73=\"\",\"\",VLOOKUP(F73,学校データ!C:G,4,FALSE))","v":""},{"$nulls":7},{"v":0,"d":"0.00"},null,"",null,{"$f":"IF(E73=\"\",\"\",VLOOKUP(E73,競技データ!$F$2:$G$3,2,FALSE))","v":""},"","",null,"","",{"$f":"IF(H73=\"\",\"\",VLOOKUP(H73,競技データ!$A$2:$C$10,2,FALSE))","v":""},null,"",{"$f":"IF(AA73=\"\",\"\",VLOOKUP(AA73,学校データ!F:G,2,FALSE))","v":""},{"$nulls":4},"",{"$f":"IF(H73=\"\",\"\",VLOOKUP(H73,競技データ!$A$2:$C$10,3,FALSE))","v":""},"",{"$nulls":18},{"$f":"IF(B73=\"\",\"\",表紙!$B$1)","v":""}]
["",{"$nulls":5},{"$f":"IF(F74=\"\",\"\",VLOOKUP(F74,学校データ!C:G,4,FALSE))","v":""},{"$nulls":7},{"v":0,"d":"0.00"},null,"",null,{"$f":"IF(E74=\"\",\"\",VLOOKUP(E74,競技データ!$F$2:$G$3,2,FALSE))","v":""},"","",null,"","",{"$f":"IF(H74=\"\",\"\",VLOOKUP(H74,競技データ!$A$2:$C$10,2,FALSE))","v":""},null,"",{"$f":"IF(AA74=\"\",\"\",VLOOKUP(AA74,学校データ!F:G,2,FALSE))","v":""},{"$nulls":4},"",{"$f":"IF(H74=\"\",\"\",VLOOKUP(H74,競技データ!$A$2:$C$10,3,FALSE))","v":""},"",{"$nulls":18},{"$f":"IF(B74=\"\",\"\",表紙!$B$1)","v":""}]
["",{"$nulls":5},{"$f":"IF(F75=\"\",\"\",VLOOKUP(F75,学校データ!C:G,4,FALSE))","v":""},{"$nulls":7},{"v":0,"d":"0.00"},null,"",null,{"$f":"IF(E75=\"\",\"\",VLOOKUP(E75,競技データ!$F$2:$G$3,2,FALSE))","v":""},"","",null,"","",{"$f":"IF(H75=\"\",\"\",VLOOKUP(H75,競技データ!$A$2:$C$10,2,FALSE))","v":""},null,"",{"$f":"IF(AA75=\"\",\"\",VLOOKUP(AA75,学校データ!F:G,2,FALSE))","v":""},{"$nulls":4},"",{"$f":"IF(H75=\"\",\"\",VLOOKUP(H75,競技データ!$A$2:$C$10,3,FALSE))","v":""},"",{"$nulls":18},{"$f":"IF(B75=\"\",\"\",表紙!$B$1)","v":""}]
["",{"$nulls":5},{"$f":"IF(F76=\"\",\"\",VLOOKUP(F76,学校データ!C:G,4,FALSE))","v":""},{"$nulls":7},{"v":0,"d":"0.00"},null,"",null,{"$f":"IF(E76=\"\",\"\",VLOOKUP(E76,競技データ!$F$2:$G$3,2,FALSE))","v":""},"","",null,"","",{"$f":"IF(H76=\"\",\"\",VLOOKUP(H76,競技データ!$A$2:$C$10,2,FALSE))","v":""},null,"",{"$f":"IF(AA76=\"\",\"\",VLOOKUP(AA76,学校データ!F:G,2,FALSE))","v":""},{"$nulls":4},"",{"$f":"IF(H76=\"\",\"\",VLOOKUP(H76,競技データ!$A$2:$C$10,3,FALSE))","v":""},"",{"$nulls":18},{"$f":"IF(B76=\"\",\"\",表紙!$B$1)","v":""}]
["",{"$nulls":5},{"$f":"IF(F77=\"\",\"\",VLOOKUP(F77,学校データ!C:G,4,FALSE))","v":""},{"$nulls":7},{"v":0,"d":"0.00"},null,"",null,{"$f":"IF(E77=\"\",\"\",VLOOKUP(E77,競技データ!$F$2:$G$3,2,FALSE))","v":""},"","",null,"","",{"$f":"IF(H77=\"\",\"\",VLOOKUP(H77,競技データ!$A$2:$C$10,2,FALSE))","v":""},null,"",{"$f":"IF(AA77=\"\",\"\",VLOOKUP(AA77,学校データ!F:G,2,FALSE))","v":""},{"$nulls":4},"",{"$f":"IF(H77=\"\",\"\",VLOOKUP(H77,競技データ!$A$2:$C$10,3,FALSE))","v":""},"",{"$nulls":18},{"$f":"IF(B77=\"\",\"\",表紙!$B$1)","v":""}]
["",{"$nulls":5},{"$f":"IF(F78=\"\",\"\",VLOOKUP(F78,学校データ!C:G,4,FALSE))","v":""},{"$nulls":7},{"v":0,"d":"0.00"},null,"",null,{"$f":"IF(E78=\"\",\"\",VLOOKUP(E78,競技データ!$F$2:$G$3,2,FALSE))","v":""},"","",null,"","",{"$f":"IF(H78=\"\",\"\",VLOOKUP(H78,競技データ!$A$2:$C$10,2,FALSE))","v":""},null,"",{"$f":"IF(AA78=\"\",\"\",VLOOKUP(AA78,学校データ!F:G,2,FALSE))","v":""},{"$nulls":4},"",{"$f":"IF(H78=\"\",\"\",VLOOKUP(H78,競技データ!$A$2:$C$10,3,FALSE))","v":""},"",{"$nulls":18},{"$f":"IF(B78=\"\",\"\",表紙!$B$1)","v":""}]
["",{"$nulls":5},{"$f":"IF(F79=\"\",\"\",VLOOKUP(F79,学校データ!C:G,4,FALSE))","v":""},{"$nulls":7},{"v":0,"d":"0.00"},null,"",null,{"$f":"IF(E79=\"\",\"\",VLOOKUP(E79,競技データ!$F$2:$G$3,2,FALSE))","v":""},"","",null,"","",{"$f":"IF(H79=\"\",\"\",VLOOKUP(H79,競技データ!$A$2:$C$10,2,FALSE))","v":""},null,"",{"$f":"IF(AA79=\"\",\"\",VLOOKUP(AA79,学校データ!F:G,2,FALSE))","v":""},{"$nulls":4},"",{"$f":"IF(H79=\"\",\"\",VLOOKUP(H79,競技データ!$A$2:$C$10,3,FALSE))","v":""},"",{"$nulls":18},{"$f":"IF(B79=\"\",\"\",表紙!$B$1)","v":""}]
["",{"$nulls":5},{"$f":"IF(F80=\"\",\"\",VLOOKUP(F80,学校データ!C:G,4,FALSE))","v":""},{"$nulls":7},{"v":0,"d":"0.00"},null,"",null,{"$f":"IF(E80=\"\",\"\",VLOOKUP(E80,競技データ!$F$2:$G$3,2,FALSE))","v":""},"","",null,"","",{"$f":"IF(H80=\"\",\"\",VLOOKUP(H80,競技データ!$A$2:$C$10,2,FALSE))","v":""},null,"",{"$f":"IF(AA80=\"\",\"\",VLOOKUP(AA80,学校データ!F:G,2,FALSE))","v":""},{"$nulls":4},"",{"$f":"IF(H80=\"\",\"\",VLOOKUP(H80,競技データ!$A$2:$C$10,3,FALSE))","v":""},"",{"$nulls":18},{"$f":"IF(B80=\"\",\"\",表紙!$B$1)","v":""}]
["",{"$nulls":5},{"$f":"IF(F81=\"\",\"\",VLOOKUP(F81,学校データ!C:G,4,FALSE))","v":""},{"$nulls":7},{"v":0,"d":"0.00"},null,"",null,{"$f":"IF(E81=\"\",\"\",VLOOKUP(E81,競技データ!$F$2:$G$3,2,FALSE))","v":""},"","",null,"","",{"$f":"IF(H81=\"\",\"\",VLOOKUP(H81,競技データ!$A$2:$C$10,2,FALSE))","v":""},null,"",{"$f":"IF(AA81=\"\",\"\",VLOOKUP(AA81,学校データ!F:G,2,FALSE))","v":""},{"$nulls":4},"",{"$f":"IF(H81=\"\",\"\",VLOOKUP(H81,競技データ!$A$2:$C$10,3,FALSE))","v":""},"",{"$nulls":18},{"$f":"IF(B81=\"\",\"\",表紙!$B$1)","v":""}]
["",{"$nulls":5},{"$f":"IF(F82=\"\",\"\",VLOOKUP(F82,学校データ!C:G,4,FALSE))","v":""},{"$nulls":7},{"v":0,"d":"0.00"},null,"",null,{"$f":"IF(E82=\"\",\"\",VLOOKUP(E82,競技データ!$F$2:$G$3,2,FALSE))","v":""},"","",null,"","",{"$f":"IF(H82=\"\",\"\",VLOOKUP(H82,競技データ!$A$2:$C$10,2,FALSE))","v":""},null,"",{"$f":"IF(AA82=\"\",\"\",VLOOKUP(AA82,学校データ!F:G,2,FALSE))","v":""},{"$nulls":4},"",{"$f":"IF(H82=\"\",\"\",VLOOKUP(H82,競技データ!$A$2:$C$10,3,FALSE))","v":""},"",{"$nulls":18},{"$f":"IF(B82=\"\",\"\",表紙!$B$1)","v":""}]
["",{"$nulls":5},{"$f":"IF(F83=\"\",\"\",VLOOKUP(F83,学校データ!C:G,4,FALSE))","v":""},{"$nulls":7},{"v":0,"d":"0.00"},null,"",null,{"$f":"IF(E83=\"\",\"\",VLOOKUP(E83,競技データ!$F$2:$G$3,2,FALSE))","v":""},"","",null,"","",{"$f":"IF(H83=\"\",\"\",VLOOKUP(H83,競技データ!$A$2:$C$10,2,FALSE))","v":""},null,"",{"$f":"IF(AA83=\"\",\"\",VLOOKUP(AA83,学校データ!F:G,2,FALSE))","v":""},{"$nulls":4},"",{"$f":"IF(H83=\"\",\"\",VLOOKUP(H83,競技データ!$A$2:$C$10,3,FALSE))","v":""},"",{"$nulls":18},{"$f":"IF(B83=\"\",\"\",表紙!$B$1)","v":""}]
["",{"$nulls":5},{"$f":"IF(F84=\"\",\"\",VLOOKUP(F84,学校データ!C:G,4,FALSE))","v":""},{"$nulls":7},{"v":0,"d":"0.00"},null,"",null,{"$f":"IF(E84=\"\",\"\",VLOOKUP(E84,競技データ!$F$2:$G$3,2,FALSE))","v":""},"","",null,"","",{"$f":"IF(H84=\"\",\"\",VLOOKUP(H84,競技データ!$A$2:$C$10,2,FALSE))","v":""},null,"",{"$f":"IF(AA84=\"\",\"\",VLOOKUP(AA84,学校データ!F:G,2,FALSE))","v":""},{"$nulls":4},"",{"$f":"IF(H84=\"\",\"\",VLOOKUP(H84,競技データ!$A$2:$C$10,3,FALSE))","v":""},"",{"$nulls":18},{"$f":"IF(B84=\"\",\"\",表紙!$B$1)","v":""}]
["",{"$nulls":5},{"$f":"IF(F85=\"\",\"\",VLOOKUP(F85,学校データ!C:G,4,FALSE))","v":""},{"$nulls":7},{"v":0,"d":"0.00"},null,"",null,{"$f":"IF(E85=\"\",\"\",VLOOKUP(E85,競技データ!$F$2:$G$3,2,FALSE))","v":""},"","",null,"","",{"$f":"IF(H85=\"\",\"\",VLOOKUP(H85,競技データ!$A$2:$C$10,2,FALSE))","v":""},null,"",{"$f":"IF(AA85=\"\",\"\",VLOOKUP(AA85,学校データ!F:G,2,FALSE))","v":""},{"$nulls":4},"",{"$f":"IF(H85=\"\",\"\",VLOOKUP(H85,競技データ!$A$2:$C$10,3,FALSE))","v":""},"",{"$nulls":18},{"$f":"IF(B85=\"\",\"\",表紙!$B$1)","v":""}]
["",{"$nulls":5},{"$f":"IF(F86=\"\",\"\",VLOOKUP(F86,学校データ!C:G,4,FALSE))","v":""},{"$nulls":7},{"v":0,"d":"0.00"},null,"",null,{"$f":"IF(E86=\"\",\"\",VLOOKUP(E86,競技データ!$F$2:$G$3,2,FALSE))","v":""},"","",null,"","",{"$f":"IF(H86=\"\",\"\",VLOOKUP(H86,競技データ!$A$2:$C$10,2,FALSE))","v":""},null,"",{"$f":"IF(AA86=\"\",\"\",VLOOKUP(AA86,学校データ!F:G,2,FALSE))","v":""},{"$nulls":4},"",{"$f":"IF(H86=\"\",\"\",VLOOKUP(H86,競技データ!$A$2:$C$10,3,FALSE))","v":""},"",{"$nulls":18},{"$f":"IF(B86=\"\",\"\",表紙!$B$1)","v":""}]
["",{"$nulls":5},{"$f":"IF(F87=\"\",\"\",VLOOKUP(F87,学校データ!C:G,4,FALSE))","v":""},{"$nulls":7},{"v":0,"d":"0.00"},null,"",null,{"$f":"IF(E87=\"\",\"\",VLOOKUP(E87,競技データ!$F$2:$G$3,2,FALSE))","v":""},"","",null,"","",{"$f":"IF(H87=\"\",\"\",VLOOKUP(H87,競技データ!$A$2:$C$10,2,FALSE))","v":""},null,"",{"$f":"IF(AA87=\"\",\"\",VLOOKUP(AA87,学校データ!F:G,2,FALSE))","v":""},{"$nulls":4},"",{"$f":"IF(H87=\"\",\"\",VLOOKUP(H87,競技データ!$A$2:$C$10,3,FALSE))","v":""},"",{"$nulls":18},{"$f":"IF(B87=\"\",\"\",表紙!$B$1)","v":""}]
["",{"$nulls":5},{"$f":"IF(F88=\"\",\"\",VLOOKUP(F88,学校データ!C:G,4,FALSE))","v":""},{"$nulls":7},{"v":0,"d":"0.00"},null,"",null,{"$f":"IF(E88=\"\",\"\",VLOOKUP(E88,競技データ!$F$2:$G$3,2,FALSE))","v":""},"","",null,"","",{"$f":"IF(H88=\"\",\"\",VLOOKUP(H88,競技データ!$A$2:$C$10,2,FALSE))","v":""},null,"",{"$f":"IF(AA88=\"\",\"\",VLOOKUP(AA88,学校データ!F:G,2,FALSE))","v":""},{"$nulls":4},"",{"$f":"IF(H88=\"\",\"\",VLOOKUP(H88,競技データ!$A$2:$C$10,3,FALSE))","v":""},"",{"$nulls":18},{"$f":"IF(B88=\"\",\"\",表紙!$B$1)","v":""}]
["",{"$nulls":5},{"$f":"IF(F89=\"\",\"\",VLOOKUP(F89,学校データ!C:G,4,FALSE))","v":""},{"$nulls":7},{"v":0,"d":"0.00"},null,"",null,{"$f":"IF(E89=\"\",\"\",VLOOKUP(E89,競技データ!$F$2:$G$3,2,FALSE))","v":""},"","",null,"","",{"$f":"IF(H89=\"\",\"\",VLOOKUP(H89,競技データ!$A$2:$C$10,2,FALSE))","v":""},null,"",{"$f":"IF(AA89=\"\",\"\",VLOOKUP(AA89,学校データ!F:G,2,FALSE))","v":""},{"$nulls":4},"",{"$f":"IF(H89=\"\",\"\",VLOOKUP(H89,競技データ!$A$2:$C$10,3,FALSE))","v":""},"",{"$nulls":18},{"$f":"IF(B89=\"\",\"\",表紙!$B$1)","v":""}]
["",{"$nulls":5},{"$f":"IF(F90=\"\",\"\",VLOOKUP(F90,学校データ!C:G,4,FALSE))","v":""},{"$nulls":7},{"v":0,"d":"0.00"},null,"",null,{"$f":"IF(E90=\"\",\"\",VLOOKUP(E90,競技データ!$F$2:$G$3,2,FALSE))","v":""},"","",null,"","",{"$f":"IF(H90=\"\",\"\",VLOOKUP(H90,競技データ!$A$2:$C$10,2,FALSE))","v":""},null,"",{"$f":"IF(AA90=\"\",\"\",VLOOKUP(AA90,学校データ!F:G,2,FALSE))","v":""},{"$nulls":4},"",{"$f":"IF(H90=\"\",\"\",VLOOKUP(H90,競技データ!$A$2:$C$10,3,FALSE))","v":""},"",{"$nulls":18},{"$f":"IF(B90=\"\",\"\",表紙!$B$1)","v":""}]
["",{"$nulls":5},{"$f":"IF(F91=\"\",\"\",VLOOKUP(F91,学校データ!C:G,4,FALSE))","v":""},{"$nulls":7},{"v":0,"d":"0.00"},null,"",null,{"$f":"IF(E91=\"\",\"\",VLOOKUP(E91,競技データ!$F$2:$G$3,2,FALSE))","v":""},"","",null,"","",{"$f":"IF(H91=\"\",\"\",VLOOKUP(H91,競技データ!$A$2:$C$10,2,FALSE))","v":""},null,"",{"$f":"IF(AA91=\"\",\"\",VLOOKUP(AA91,学校データ!F:G,2,FALSE))","v":""},{"$nulls":4},"",{"$f":"IF(H91=\"\",\"\",VLOOKUP(H91,競技データ!$A$2:$C$10,3,FALSE))","v":""},"",{"$nulls":18},{"$f":"IF(B91=\"\",\"\",表紙!$B$1)","v":""}]
["",{"$nulls":5},{"$f":"IF(F92=\"\",\"\",VLOOKUP(F92,学校データ!C:G,4,FALSE))","v":""},{"$nulls":7},{"v":0,"d":"0.00"},null,"",null,{"$f":"IF(E92=\"\",\"\",VLOOKUP(E92,競技データ!$F$2:$G$3,2,FALSE))","v":""},"","",null,"","",{"$f":"IF(H92=\"\",\"\",VLOOKUP(H92,競技データ!$A$2:$C$10,2,FALSE))","v":""},null,"",{"$f":"IF(AA92=\"\",\"\",VLOOKUP(AA92,学校データ!F:G,2,FALSE))","v":""},{"$nulls":4},"",{"$f":"IF(H92=\"\",\"\",VLOOKUP(H92,競技データ!$A$2:$C$10,3,FALSE))","v":""},"",{"$nulls":18},{"$f":"IF(B92=\"\",\"\",表紙!$B$1)","v":""}]
["",{"$nulls":5},{"$f":"IF(F93=\"\",\"\",VLOOKUP(F93,学校データ!C:G,4,FALSE))","v":""},{"$nulls":7},{"v":0,"d":"0.00"},null,"",null,{"$f":"IF(E93=\"\",\"\",VLOOKUP(E93,競技データ!$F$2:$G$3,2,FALSE))","v":""},"","",null,"","",{"$f":"IF(H93=\"\",\"\",VLOOKUP(H93,競技データ!$A$2:$C$10,2,FALSE))","v":""},null,"",{"$f":"IF(AA93=\"\",\"\",VLOOKUP(AA93,学校データ!F:G,2,FALSE))","v":""},{"$nulls":4},"",{"$f":"IF(H93=\"\",\"\",VLOOKUP(H93,競技データ!$A$2:$C$10,3,FALSE))","v":""},"",{"$nulls":18},{"$f":"IF(B93=\"\",\"\",表紙!$B$1)","v":""}]
["",{"$nulls":5},{"$f":"IF(F94=\"\",\"\",VLOOKUP(F94,学校データ!C:G,4,FALSE))","v":""},{"$nulls":7},{"v":0,"d":"0.00"},null,"",null,{"$f":"IF(E94=\"\",\"\",VLOOKUP(E94,競技データ!$F$2:$G$3,2,FALSE))","v":""},"","",null,"","",{"$f":"IF(H94=\"\",\"\",VLOOKUP(H94,競技データ!$A$2:$C$10,2,FALSE))","v":""},null,"",{"$f":"IF(AA94=\"\",\"\",VLOOKUP(AA94,学校データ!F:G,2,FALSE))","v":""},{"$nulls":4},"",{"$f":"IF(H94=\"\",\"\",VLOOKUP(H94,競技データ!$A$2:$C$10,3,FALSE))","v":""},"",{"$nulls":18},{"$f":"IF(B94=\"\",\"\",表紙!$B$1)","v":""}]
["",{"$nulls":5},{"$f":"IF(F95=\"\",\"\",VLOOKUP(F95,学校データ!C:G,4,FALSE))","v":""},{"$nulls":7},{"v":0,"d":"0.00"},null,"",null,{"$f":"IF(E95=\"\",\"\",VLOOKUP(E95,競技データ!$F$2:$G$3,2,FALSE))","v":""},"","",null,"","",{"$f":"IF(H95=\"\",\"\",VLOOKUP(H95,競技データ!$A$2:$C$10,2,FALSE))","v":""},null,"",{"$f":"IF(AA95=\"\",\"\",VLOOKUP(AA95,学校データ!F:G,2,FALSE))","v":""},{"$nulls":4},"",{"$f":"IF(H95=\"\",\"\",VLOOKUP(H95,競技データ!$A$2:$C$10,3,FALSE))","v":""},"",{"$nulls":18},{"$f":"IF(B95=\"\",\"\",表紙!$B$1)","v":""}]
["",{"$nulls":5},{"$f":"IF(F96=\"\",\"\",VLOOKUP(F96,学校データ!C:G,4,FALSE))","v":""},{"$nulls":7},{"v":0,"d":"0.00"},null,"",null,{"$f":"IF(E96=\"\",\"\",VLOOKUP(E96,競技データ!$F$2:$G$3,2,FALSE))","v":""},"","",null,"","",{"$f":"IF(H96=\"\",\"\",VLOOKUP(H96,競技データ!$A$2:$C$10,2,FALSE))","v":""},null,"",{"$f":"IF(AA96=\"\",\"\",VLOOKUP(AA96,学校データ!F:G,2,FALSE))","v":""},{"$nulls":4},"",{"$f":"IF(H96=\"\",\"\",VLOOKUP(H96,競技データ!$A$2:$C$10,3,FALSE))","v":""},"",{"$nulls":18},{"$f":"IF(B96=\"\",\"\",表紙!$B$1)","v":""}]
["",{"$nulls":5},{"$f":"IF(F97=\"\",\"\",VLOOKUP(F97,学校データ!C:G,4,FALSE))","v":""},{"$nulls":7},{"v":0,"d":"0.00"},null,"",null,{"$f":"IF(E97=\"\",\"\",VLOOKUP(E97,競技データ!$F$2:$G$3,2,FALSE))","v":""},"","",null,"","",{"$f":"IF(H97=\"\",\"\",VLOOKUP(H97,競技データ!$A$2:$C$10,2,FALSE))","v":""},null,"",{"$f":"IF(AA97=\"\",\"\",VLOOKUP(AA97,学校データ!F:G,2,FALSE))","v":""},{"$nulls":4},"",{"$f":"IF(H97=\"\",\"\",VLOOKUP(H97,競技データ!$A$2:$C$10,3,FALSE))","v":""},"",{"$nulls":18},{"$f":"IF(B97=\"\",\"\",表紙!$B$1)","v":""}]
["",{"$nulls":5},{"$f":"IF(F98=\"\",\"\",VLOOKUP(F98,学校データ!C:G,4,FALSE))","v":""},{"$nulls":7},{"v":0,"d":"0.00"},null,"",null,{"$f":"IF(E98=\"\",\"\",VLOOKUP(E98,競技データ!$F$2:$G$3,2,FALSE))","v":""},"","",null,"","",{"$f":"IF(H98=\"\",\"\",VLOOKUP(H98,競技データ!$A$2:$C$10,2,FALSE))","v":""},null,"",{"$f":"IF(AA98=\"\",\"\",VLOOKUP(AA98,学校データ!F:G,2,FALSE))","v":""},{"$nulls":4},"",{"$f":"IF(H98=\"\",\"\",VLOOKUP(H98,競技データ!$A$2:$C$10,3,FALSE))","v":""},"",{"$nulls":18},{"$f":"IF(B98=\"\",\"\",表紙!$B$1)","v":""}]
["",{"$nulls":5},{"$f":"IF(F99=\"\",\"\",VLOOKUP(F99,学校データ!C:G,4,FALSE))","v":""},{"$nulls":7},{"$f":"I99*100+J99*10+K99+L99*0.1+M99*0.01","v":{"v":0,"d":"0.00"}},null,{"$f":"IF(A99=\"\",\"\",A99)","v":""},null,{"$f":"IF(E99=\"\",\"\",VLOOKUP(E99,競技データ!$F$2:$G$3,2,FALSE))","v":""},{"$f":"IF(B99=\"\",\"\",B99)","v":""},{"$f":"IF(C99=\"\",\"\",C99)","v":""},null,{"$f":"IF(B99=\"\",\"\",1)","v":""},{"$f":"IF(D99=\"\",\"\",D99)","v":""},{"$f":"IF(H99=\"\",\"\",VLOOKUP(H99,競技データ!$A$2:$C$10,2,FALSE))","v":""},null,"",{"$f":"IF(AA99=\"\",\"\",VLOOKUP(AA99,学校データ!F:G,2,FALSE))","v":""},{"$nulls":4},{"$f":"IF(B99=\"\",\"\",1)","v":""},{"$f":"IF(H99=\"\",\"\",VLOOKUP(H99,競技データ!$A$2:$C$10,3,FALSE))","v":""},{"$f":"IF(H99=\"\",\"\",O99)","v":""},{"$nulls":18},{"$f":"IF(B99=\"\",\"\",表紙!$B$1)","v":""}]
["",{"$nulls":5},{"$f":"IF(F100=\"\",\"\",VLOOKUP(F100,学校データ!C:G,4,FALSE))","v":""},{"$nulls":7},{"v":0,"d":"0.00"},null,"",null,{"$f":"IF(E100=\"\",\"\",VLOOKUP(E100,競技データ!$F$2:$G$3,2,FALSE))","v":""},"","",null,"","",{"$f":"IF(H100=\"\",\"\",VLOOKUP(H100,競技データ!$A$2:$C$10,2,FALSE))","v":""},null,"",{"$f":"IF(AA100=\"\",\"\",VLOOKUP(AA100,学校データ!F:G,2,FALSE))","v":""},{"$nulls":4},"",{"$f":"IF(H100=\"\",\"\",VLOOKUP(H100,競技データ!$A$2:$C$10,3,FALSE))","v":""},"",{"$nulls":18},{"$f":"IF(B100=\"\",\"\",表紙!$B$1)","v":""}]
["",{"$nulls":5},{"$f":"IF(F101=\"\",\"\",VLOOKUP(F101,学校データ!C:G,4,FALSE))","v":""},{"$nulls":7},{"v":0,"d":"0.00"},null,"",null,{"$f":"IF(E101=\"\",\"\",VLOOKUP(E101,競技データ!$F$2:$G$3,2,FALSE))","v":""},"","",null,"","",{"$f":"IF(H101=\"\",\"\",VLOOKUP(H101,競技データ!$A$2:$C$10,2,FALSE))","v":""},null,"",{"$f":"IF(AA101=\"\",\"\",VLOOKUP(AA101,学校データ!F:G,2,FALSE))","v":""},{"$nulls":4},"",{"$f":"IF(H101=\"\",\"\",VLOOKUP(H101,競技データ!$A$2:$C$10,3,FALSE))","v":""},"",{"$nulls":18},{"$f":"IF(B101=\"\",\"\",表紙!$B$1)","v":""}]
["",{"$nulls":5},{"$f":"IF(F102=\"\",\"\",VLOOKUP(F102,学校データ!C:G,4,FALSE))","v":""},{"$nulls":7},{"v":0,"d":"0.00"},null,"",null,{"$f":"IF(E102=\"\",\"\",VLOOKUP(E102,競技データ!$F$2:$G$3,2,FALSE))","v":""},"","",null,"","",{"$f":"IF(H102=\"\",\"\",VLOOKUP(H102,競技データ!$A$2:$C$10,2,FALSE))","v":""},null,"",{"$f":"IF(AA102=\"\",\"\",VLOOKUP(AA102,学校データ!F:G,2,FALSE))","v":""},{"$nulls":4},"",{"$f":"IF(H102=\"\",\"\",VLOOKUP(H102,競技データ!$A$2:$C$10,3,FALSE))","v":""},"",{"$nulls":18},{"$f":"IF(B102=\"\",\"\",表紙!$B$1)","v":""}]
["",{"$nulls":5},{"$f":"IF(F103=\"\",\"\",VLOOKUP(F103,学校データ!C:G,4,FALSE))","v":""},{"$nulls":7},{"v":0,"d":"0.00"},null,"",null,{"$f":"IF(E103=\"\",\"\",VLOOKUP(E103,競技データ!$F$2:$G$3,2,FALSE))","v":""},"","",null,"","",{"$f":"IF(H103=\"\",\"\",VLOOKUP(H103,競技データ!$A$2:$C$10,2,FALSE))","v":""},null,"",{"$f":"IF(AA103=\"\",\"\",VLOOKUP(AA103,学校データ!F:G,2,FALSE))","v":""},{"$nulls":4},"",{"$f":"IF(H103=\"\",\"\",VLOOKUP(H103,競技データ!$A$2:$C$10,3,FALSE))","v":""},"",{"$nulls":18},{"$f":"IF(B103=\"\",\"\",表紙!$B$1)","v":""}]
["",{"$nulls":5},{"$f":"IF(F104=\"\",\"\",VLOOKUP(F104,学校データ!C:G,4,FALSE))","v":""},{"$nulls":7},{"v":0,"d":"0.00"},null,"",null,{"$f":"IF(E104=\"\",\"\",VLOOKUP(E104,競技データ!$F$2:$G$3,2,FALSE))","v":""},"","",null,"","",{"$f":"IF(H104=\"\",\"\",VLOOKUP(H104,競技データ!$A$2:$C$10,2,FALSE))","v":""},null,"",{"$f":"IF(AA104=\"\",\"\",VLOOKUP(AA104,学校データ!F:G,2,FALSE))","v":""},{"$nulls":4},"",{"$f":"IF(H104=\"\",\"\",VLOOKUP(H104,競技データ!$A$2:$C$10,3,FALSE))","v":""},"",{"$nulls":18},{"$f":"IF(B104=\"\",\"\",表紙!$B$1)","v":""}]
["",{"$nulls":5},{"$f":"IF(F105=\"\",\"\",VLOOKUP(F105,学校データ!C:G,4,FALSE))","v":""},{"$nulls":7},{"v":0,"d":"0.00"},null,"",null,{"$f":"IF(E105=\"\",\"\",VLOOKUP(E105,競技データ!$F$2:$G$3,2,FALSE))","v":""},"","",null,"","",{"$f":"IF(H105=\"\",\"\",VLOOKUP(H105,競技データ!$A$2:$C$10,2,FALSE))","v":""},null,"",{"$f":"IF(AA105=\"\",\"\",VLOOKUP(AA105,学校データ!F:G,2,FALSE))","v":""},{"$nulls":4},"",{"$f":"IF(H105=\"\",\"\",VLOOKUP(H105,競技データ!$A$2:$C$10,3,FALSE))","v":""},"",{"$nulls":18},{"$f":"IF(B105=\"\",\"\",表紙!$B$1)","v":""}]
["",{"$nulls":5},{"$f":"IF(F106=\"\",\"\",VLOOKUP(F106,学校データ!C:G,4,FALSE))","v":""},{"$nulls":7},{"v":0,"d":"0.00"},null,"",null,{"$f":"IF(E106=\"\",\"\",VLOOKUP(E106,競技データ!$F$2:$G$3,2,FALSE))","v":""},"","",null,"","",{"$f":"IF(H106=\"\",\"\",VLOOKUP(H106,競技データ!$A$2:$C$10,2,FALSE))","v":""},null,"",{"$f":"IF(AA106=\"\",\"\",VLOOKUP(AA106,学校データ!F:G,2,FALSE))","v":""},{"$nulls":4},"",{"$f":"IF(H106=\"\",\"\",VLOOKUP(H106,競技データ!$A$2:$C$10,3,FALSE))","v":""},"",{"$nulls":18},{"$f":"IF(B106=\"\",\"\",表紙!$B$1)","v":""}]
["",{"$nulls":5},{"$f":"IF(F107=\"\",\"\",VLOOKUP(F107,学校データ!C:G,4,FALSE))","v":""},{"$nulls":7},{"v":0,"d":"0.00"},null,"",null,{"$f":"IF(E107=\"\",\"\",VLOOKUP(E107,競技データ!$F$2:$G$3,2,FALSE))","v":""},"","",null,"","",{"$f":"IF(H107=\"\",\"\",VLOOKUP(H107,競技データ!$A$2:$C$10,2,FALSE))","v":""},null,"",{"$f":"IF(AA107=\"\",\"\",VLOOKUP(AA107,学校データ!F:G,2,FALSE))","v":""},{"$nulls":4},"",{"$f":"IF(H107=\"\",\"\",VLOOKUP(H107,競技データ!$A$2:$C$10,3,FALSE))","v":""},"",{"$nulls":18},{"$f":"IF(B107=\"\",\"\",表紙!$B$1)","v":""}]
["",{"$nulls":5},{"$f":"IF(F108=\"\",\"\",VLOOKUP(F108,学校データ!C:G,4,FALSE))","v":""},{"$nulls":7},{"v":0,"d":"0.00"},null,"",null,{"$f":"IF(E108=\"\",\"\",VLOOKUP(E108,競技データ!$F$2:$G$3,2,FALSE))","v":""},"","",null,"","",{"$f":"IF(H108=\"\",\"\",VLOOKUP(H108,競技データ!$A$2:$C$10,2,FALSE))","v":""},null,"",{"$f":"IF(AA108=\"\",\"\",VLOOKUP(AA108,学校データ!F:G,2,FALSE))","v":""},{"$nulls":4},"",{"$f":"IF(H108=\"\",\"\",VLOOKUP(H108,競技データ!$A$2:$C$10,3,FALSE))","v":""},"",{"$nulls":18},{"$f":"IF(B108=\"\",\"\",表紙!$B$1)","v":""}]
["",{"$nulls":5},{"$f":"IF(F109=\"\",\"\",VLOOKUP(F109,学校データ!C:G,4,FALSE))","v":""},{"$nulls":7},{"v":0,"d":"0.00"},null,"",null,{"$f":"IF(E109=\"\",\"\",VLOOKUP(E109,競技データ!$F$2:$G$3,2,FALSE))","v":""},"","",null,"","",{"$f":"IF(H109=\"\",\"\",VLOOKUP(H109,競技データ!$A$2:$C$10,2,FALSE))","v":""},null,"",{"$f":"IF(AA109=\"\",\"\",VLOOKUP(AA109,学校データ!F:G,2,FALSE))","v":""},{"$nulls":4},"",{"$f":"IF(H109=\"\",\"\",VLOOKUP(H109,競技データ!$A$2:$C$10,3,FALSE))","v":""},"",{"$nulls":18},{"$f":"IF(B109=\"\",\"\",表紙!$B$1)","v":""}]
["",{"$nulls":5},{"$f":"IF(F110=\"\",\"\",VLOOKUP(F110,学校データ!C:G,4,FALSE))","v":""},{"$nulls":7},{"v":0,"d":"0.00"},null,"",null,{"$f":"IF(E110=\"\",\"\",VLOOKUP(E110,競技データ!$F$2:$G$3,2,FALSE))","v":""},"","",null,"","",{"$f":"IF(H110=\"\",\"\",VLOOKUP(H110,競技データ!$A$2:$C$10,2,FALSE))","v":""},null,"",{"$f":"IF(AA110=\"\",\"\",VLOOKUP(AA110,学校データ!F:G,2,FALSE))","v":""},{"$nulls":4},"",{"$f":"IF(H110=\"\",\"\",VLOOKUP(H110,競技データ!$A$2:$C$10,3,FALSE))","v":""},"",{"$nulls":18},{"$f":"IF(B110=\"\",\"\",表紙!$B$1)","v":""}]
["",{"$nulls":5},{"$f":"IF(F111=\"\",\"\",VLOOKUP(F111,学校データ!C:G,4,FALSE))","v":""},{"$nulls":7},{"v":0,"d":"0.00"},null,"",null,{"$f":"IF(E111=\"\",\"\",VLOOKUP(E111,競技データ!$F$2:$G$3,2,FALSE))","v":""},"","",null,"","",{"$f":"IF(H111=\"\",\"\",VLOOKUP(H111,競技データ!$A$2:$C$10,2,FALSE))","v":""},null,"",{"$f":"IF(AA111=\"\",\"\",VLOOKUP(AA111,学校データ!F:G,2,FALSE))","v":""},{"$nulls":4},"",{"$f":"IF(H111=\"\",\"\",VLOOKUP(H111,競技データ!$A$2:$C$10,3,FALSE))","v":""},"",{"$nulls":18},{"$f":"IF(B111=\"\",\"\",表紙!$B$1)","v":""}]
["",{"$nulls":5},{"$f":"IF(F112=\"\",\"\",VLOOKUP(F112,学校データ!C:G,4,FALSE))","v":""},{"$nulls":7},{"v":0,"d":"0.00"},null,"",null,{"$f":"IF(E112=\"\",\"\",VLOOKUP(E112,競技データ!$F$2:$G$3,2,FALSE))","v":""},"","",null,"","",{"$f":"IF(H112=\"\",\"\",VLOOKUP(H112,競技データ!$A$2:$C$10,2,FALSE))","v":""},null,"",{"$f":"IF(AA112=\"\",\"\",VLOOKUP(AA112,学校データ!F:G,2,FALSE))","v":""},{"$nulls":4},"",{"$f":"IF(H112=\"\",\"\",VLOOKUP(H112,競技データ!$A$2:$C$10,3,FALSE))","v":""},"",{"$nulls":18},{"$f":"IF(B112=\"\",\"\",表紙!$B$1)","v":""}]
["",{"$nulls":5},{"$f":"IF(F113=\"\",\"\",VLOOKUP(F113,学校データ!C:G,4,FALSE))","v":""},{"$nulls":7},{"v":0,"d":"0.00"},null,"",null,{"$f":"IF(E113=\"\",\"\",VLOOKUP(E113,競技データ!$F$2:$G$3,2,FALSE))","v":""},"","",null,"","",{"$f":"IF(H113=\"\",\"\",VLOOKUP(H113,競技データ!$A$2:$C$10,2,FALSE))","v":""},null,"",{"$f":"IF(AA113=\"\",\"\",VLOOKUP(AA113,学校データ!F:G,2,FALSE))","v":""},{"$nulls":4},"",{"$f":"IF(H113=\"\",\"\",VLOOKUP(H113,競技データ!$A$2:$C$10,3,FALSE))","v":""},"",{"$nulls":18},{"$f":"IF(B113=\"\",\"\",表紙!$B$1)","v":""}]
["",{"$nulls":5},{"$f":"IF(F114=\"\",\"\",VLOOKUP(F114,学校データ!C:G,4,FALSE))","v":""},{"$nulls":7},{"v":0,"d":"0.00"},null,"",null,{"$f":"IF(E114=\"\",\"\",VLOOKUP(E114,競技データ!$F$2:$G$3,2,FALSE))","v":""},"","",null,"","",{"$f":"IF(H114=\"\",\"\",VLOOKUP(H114,競技データ!$A$2:$C$10,2,FALSE))","v":""},null,"",{"$f":"IF(AA114=\"\",\"\",VLOOKUP(AA114,学校データ!F:G,2,FALSE))","v":""},{"$nulls":4},"",{"$f":"IF(H114=\"\",\"\",VLOOKUP(H114,競技データ!$A$2:$C$10,3,FALSE))","v":""},"",{"$nulls":18},{"$f":"IF(B114=\"\",\"\",表紙!$B$1)","v":""}]
["",{"$nulls":5},{"$f":"IF(F115=\"\",\"\",VLOOKUP(F115,学校データ!C:G,4,FALSE))","v":""},{"$nulls":7},{"v":0,"d":"0.00"},null,"",null,{"$f":"IF(E115=\"\",\"\",VLOOKUP(E115,競技データ!$F$2:$G$3,2,FALSE))","v":""},"","",null,"","",{"$f":"IF(H115=\"\",\"\",VLOOKUP(H115,競技データ!$A$2:$C$10,2,FALSE))","v":""},null,"",{"$f":"IF(AA115=\"\",\"\",VLOOKUP(AA115,学校データ!F:G,2,FALSE))","v":""},{"$nulls":4},"",{"$f":"IF(H115=\"\",\"\",VLOOKUP(H115,競技データ!$A$2:$C$10,3,FALSE))","v":""},"",{"$nulls":18},{"$f":"IF(B115=\"\",\"\",表紙!$B$1)","v":""}]
["",{"$nulls":5},{"$f":"IF(F116=\"\",\"\",VLOOKUP(F116,学校データ!C:G,4,FALSE))","v":""},{"$nulls":7},{"v":0,"d":"0.00"},null,"",null,{"$f":"IF(E116=\"\",\"\",VLOOKUP(E116,競技データ!$F$2:$G$3,2,FALSE))","v":""},"","",null,"","",{"$f":"IF(H116=\"\",\"\",VLOOKUP(H116,競技データ!$A$2:$C$10,2,FALSE))","v":""},null,"",{"$f":"IF(AA116=\"\",\"\",VLOOKUP(AA116,学校データ!F:G,2,FALSE))","v":""},{"$nulls":4},"",{"$f":"IF(H116=\"\",\"\",VLOOKUP(H116,競技データ!$A$2:$C$10,3,FALSE))","v":""},"",{"$nulls":18},{"$f":"IF(B116=\"\",\"\",表紙!$B$1)","v":""}]
[{"$f":"IF(B117=\"\",\"\",A116+1)","v":""},{"$nulls":5},{"$f":"IF(F117=\"\",\"\",VLOOKUP(F117,学校データ!C:G,4,FALSE))","v":""},{"$nulls":7},{"v":0,"d":"0.00"},null,"",null,{"$f":"IF(E117=\"\",\"\",VLOOKUP(E117,競技データ!$F$2:$G$3,2,FALSE))","v":""},"","",null,"","",{"$f":"IF(H117=\"\",\"\",VLOOKUP(H117,競技データ!$A$2:$C$10,2,FALSE))","v":""},null,"",{"$f":"IF(AA117=\"\",\"\",VLOOKUP(AA117,学校データ!F:G,2,FALSE))","v":""},{"$nulls":4},"",{"$f":"IF(H117=\"\",\"\",VLOOKUP(H117,競技データ!$A$2:$C$10,3,FALSE))","v":""},"",{"$nulls":18},{"$f":"IF(B117=\"\",\"\",表紙!$B$1)","v":""}]
["",{"$nulls":5},{"$f":"IF(F118=\"\",\"\",VLOOKUP(F118,学校データ!C:G,4,FALSE))","v":""},{"$nulls":7},{"v":0,"d":"0.00"},null,"",null,{"$f":"IF(E118=\"\",\"\",VLOOKUP(E118,競技データ!$F$2:$G$3,2,FALSE))","v":""},"","",null,"","",{"$f":"IF(H118=\"\",\"\",VLOOKUP(H118,競技データ!$A$2:$C$10,2,FALSE))","v":""},null,"",{"$f":"IF(AA118=\"\",\"\",VLOOKUP(AA118,学校データ!F:G,2,FALSE))","v":""},{"$nulls":4},"",{"$f":"IF(H118=\"\",\"\",VLOOKUP(H118,競技データ!$A$2:$C$10,3,FALSE))","v":""},"",{"$nulls":18},{"$f":"IF(B118=\"\",\"\",表紙!$B$1)","v":""}]
["",{"$nulls":5},{"$f":"IF(F119=\"\",\"\",VLOOKUP(F119,学校データ!C:G,4,FALSE))","v":""},{"$nulls":7},{"v":0,"d":"0.00"},null,"",null,{"$f":"IF(E119=\"\",\"\",VLOOKUP(E119,競技データ!$F$2:$G$3,2,FALSE))","v":""},"","",null,"","",{"$f":"IF(H119=\"\",\"\",VLOOKUP(H119,競技データ!$A$2:$C$10,2,FALSE))","v":""},null,"",{"$f":"IF(AA119=\"\",\"\",VLOOKUP(AA119,学校データ!F:G,2,FALSE))","v":""},{"$nulls":4},"",{"$f":"IF(H119=\"\",\"\",VLOOKUP(H119,競技データ!$A$2:$C$10,3,FALSE))","v":""},"",{"$nulls":18},{"$f":"IF(B119=\"\",\"\",表紙!$B$1)","v":""}]
["",{"$nulls":5},{"$f":"IF(F120=\"\",\"\",VLOOKUP(F120,学校データ!C:G,4,FALSE))","v":""},{"$nulls":7},{"v":0,"d":"0.00"},null,"",null,{"$f":"IF(E120=\"\",\"\",VLOOKUP(E120,競技データ!$F$2:$G$3,2,FALSE))","v":""},"","",null,"","",{"$f":"IF(H120=\"\",\"\",VLOOKUP(H120,競技データ!$A$2:$C$10,2,FALSE))","v":""},null,"",{"$f":"IF(AA120=\"\",\"\",VLOOKUP(AA120,学校データ!F:G,2,FALSE))","v":""},{"$nulls":4},"",{"$f":"IF(H120=\"\",\"\",VLOOKUP(H120,競技データ!$A$2:$C$10,3,FALSE))","v":""},"",{"$nulls":18},{"$f":"IF(B120=\"\",\"\",表紙!$B$1)","v":""}]
["",{"$nulls":5},{"$f":"IF(F121=\"\",\"\",VLOOKUP(F121,学校データ!C:G,4,FALSE))","v":""},{"$nulls":7},{"v":0,"d":"0.00"},null,"",null,{"$f":"IF(E121=\"\",\"\",VLOOKUP(E121,競技データ!$F$2:$G$3,2,FALSE))","v":""},"","",null,"","",{"$f":"IF(H121=\"\",\"\",VLOOKUP(H121,競技データ!$A$2:$C$10,2,FALSE))","v":""},null,"",{"$f":"IF(AA121=\"\",\"\",VLOOKUP(AA121,学校データ!F:G,2,FALSE))","v":""},{"$nulls":4},"",{"$f":"IF(H121=\"\",\"\",VLOOKUP(H121,競技データ!$A$2:$C$10,3,FALSE))","v":""},"",{"$nulls":18},{"$f":"IF(B121=\"\",\"\",表紙!$B$1)","v":""}]
["",{"$nulls":5},{"$f":"IF(F122=\"\",\"\",VLOOKUP(F122,学校データ!C:G,4,FALSE))","v":""},{"$nulls":7},{"v":0,"d":"0.00"},null,"",null,{"$f":"IF(E122=\"\",\"\",VLOOKUP(E122,競技データ!$F$2:$G$3,2,FALSE))","v":""},"","",null,"","",{"$f":"IF(H122=\"\",\"\",VLOOKUP(H122,競技データ!$A$2:$C$10,2,FALSE))","v":""},null,"",{"$f":"IF(AA122=\"\",\"\",VLOOKUP(AA122,学校データ!F:G,2,FALSE))","v":""},{"$nulls":4},"",{"$f":"IF(H122=\"\",\"\",VLOOKUP(H122,競技データ!$A$2:$C$10,3,FALSE))","v":""},"",{"$nulls":18},{"$f":"IF(B122=\"\",\"\",表紙!$B$1)","v":""}]
["",{"$nulls":5},{"$f":"IF(F123=\"\",\"\",VLOOKUP(F123,学校データ!C:G,4,FALSE))","v":""},{"$nulls":7},{"v":0,"d":"0.00"},null,"",null,{"$f":"IF(E123=\"\",\"\",VLOOKUP(E123,競技データ!$F$2:$G$3,2,FALSE))","v":""},"","",null,"","",{"$f":"IF(H123=\"\",\"\",VLOOKUP(H123,競技データ!$A$2:$C$10,2,FALSE))","v":""},null,"",{"$f":"IF(AA123=\"\",\"\",VLOOKUP(AA123,学校データ!F:G,2,FALSE))","v":""},{"$nulls":4},"",{"$f":"IF(H123=\"\",\"\",VLOOKUP(H123,競技データ!$A$2:$C$10,3,FALSE))","v":""},"",{"$nulls":18},{"$f":"IF(B123=\"\",\"\",表紙!$B$1)","v":""}]
["",{"$nulls":5},{"$f":"IF(F124=\"\",\"\",VLOOKUP(F124,学校データ!C:G,4,FALSE))","v":""},{"$nulls":7},{"v":0,"d":"0.00"},null,"",null,{"$f":"IF(E124=\"\",\"\",VLOOKUP(E124,競技データ!$F$2:$G$3,2,FALSE))","v":""},"","",null,"","",{"$f":"IF(H124=\"\",\"\",VLOOKUP(H124,競技データ!$A$2:$C$10,2,FALSE))","v":""},null,"",{"$f":"IF(AA124=\"\",\"\",VLOOKUP(AA124,学校データ!F:G,2,FALSE))","v":""},{"$nulls":4},"",{"$f":"IF(H124=\"\",\"\",VLOOKUP(H124,競技データ!$A$2:$C$10,3,FALSE))","v":""},"",{"$nulls":18},{"$f":"IF(B124=\"\",\"\",表紙!$B$1)","v":""}]
["",{"$nulls":5},{"$f":"IF(F125=\"\",\"\",VLOOKUP(F125,学校データ!C:G,4,FALSE))","v":""},{"$nulls":7},{"v":0,"d":"0.00"},null,"",null,{"$f":"IF(E125=\"\",\"\",VLOOKUP(E125,競技データ!$F$2:$G$3,2,FALSE))","v":""},"","",null,"","",{"$f":"IF(H125=\"\",\"\",VLOOKUP(H125,競技データ!$A$2:$C$10,2,FALSE))","v":""},null,"",{"$f":"IF(AA125=\"\",\"\",VLOOKUP(AA125,学校データ!F:G,2,FALSE))","v":""},{"$nulls":4},"",{"$f":"IF(H125=\"\",\"\",VLOOKUP(H125,競技データ!$A$2:$C$10,3,FALSE))","v":""},"",{"$nulls":18},{"$f":"IF(B125=\"\",\"\",表紙!$B$1)","v":""}]
["",{"$nulls":5},{"$f":"IF(F126=\"\",\"\",VLOOKUP(F126,学校データ!C:G,4,FALSE))","v":""},{"$nulls":7},{"v":0,"d":"0.00"},null,"",null,{"$f":"IF(E126=\"\",\"\",VLOOKUP(E126,競技データ!$F$2:$G$3,2,FALSE))","v":""},"","",null,"","",{"$f":"IF(H126=\"\",\"\",VLOOKUP(H126,競技データ!$A$2:$C$10,2,FALSE))","v":""},null,"",{"$f":"IF(AA126=\"\",\"\",VLOOKUP(AA126,学校データ!F:G,2,FALSE))","v":""},{"$nulls":4},"",{"$f":"IF(H126=\"\",\"\",VLOOKUP(H126,競技データ!$A$2:$C$10,3,FALSE))","v":""},"",{"$nulls":18},{"$f":"IF(B126=\"\",\"\",表紙!$B$1)","v":""}]
["",{"$nulls":5},{"$f":"IF(F127=\"\",\"\",VLOOKUP(F127,学校データ!C:G,4,FALSE))","v":""},{"$nulls":7},{"v":0,"d":"0.00"},null,"",null,{"$f":"IF(E127=\"\",\"\",VLOOKUP(E127,競技データ!$F$2:$G$3,2,FALSE))","v":""},"","",null,"","",{"$f":"IF(H127=\"\",\"\",VLOOKUP(H127,競技データ!$A$2:$C$10,2,FALSE))","v":""},null,"",{"$f":"IF(AA127=\"\",\"\",VLOOKUP(AA127,学校データ!F:G,2,FALSE))","v":""},{"$nulls":4},"",{"$f":"IF(H127=\"\",\"\",VLOOKUP(H127,競技データ!$A$2:$C$10,3,FALSE))","v":""},"",{"$nulls":18},{"$f":"IF(B127=\"\",\"\",表紙!$B$1)","v":""}]
["",{"$nulls":5},{"$f":"IF(F128=\"\",\"\",VLOOKUP(F128,学校データ!C:G,4,FALSE))","v":""},{"$nulls":7},{"v":0,"d":"0.00"},null,"",null,{"$f":"IF(E128=\"\",\"\",VLOOKUP(E128,競技データ!$F$2:$G$3,2,FALSE))","v":""},"","",null,"","",{"$f":"IF(H128=\"\",\"\",VLOOKUP(H128,競技データ!$A$2:$C$10,2,FALSE))","v":""},null,"",{"$f":"IF(AA128=\"\",\"\",VLOOKUP(AA128,学校データ!F:G,2,FALSE))","v":""},{"$nulls":4},"",{"$f":"IF(H128=\"\",\"\",VLOOKUP(H128,競技データ!$A$2:$C$10,3,FALSE))","v":""},"",{"$nulls":18},{"$f":"IF(B128=\"\",\"\",表紙!$B$1)","v":""}]
["",{"$nulls":5},{"$f":"IF(F129=\"\",\"\",VLOOKUP(F129,学校データ!C:G,4,FALSE))","v":""},{"$nulls":7},{"v":0,"d":"0.00"},null,"",null,{"$f":"IF(E129=\"\",\"\",VLOOKUP(E129,競技データ!$F$2:$G$3,2,FALSE))","v":""},"","",null,"","",{"$f":"IF(H129=\"\",\"\",VLOOKUP(H129,競技データ!$A$2:$C$10,2,FALSE))","v":""},null,"",{"$f":"IF(AA129=\"\",\"\",VLOOKUP(AA129,学校データ!F:G,2,FALSE))","v":""},{"$nulls":4},"",{"$f":"IF(H129=\"\",\"\",VLOOKUP(H129,競技データ!$A$2:$C$10,3,FALSE))","v":""},"",{"$nulls":18},{"$f":"IF(B129=\"\",\"\",表紙!$B$1)","v":""}]
["",{"$nulls":5},{"$f":"IF(F130=\"\",\"\",VLOOKUP(F130,学校データ!C:G,4,FALSE))","v":""},{"$nulls":7},{"v":0,"d":"0.00"},null,"",null,{"$f":"IF(E130=\"\",\"\",VLOOKUP(E130,競技データ!$F$2:$G$3,2,FALSE))","v":""},"","",null,"","",{"$f":"IF(H130=\"\",\"\",VLOOKUP(H130,競技データ!$A$2:$C$10,2,FALSE))","v":""},null,"",{"$f":"IF(AA130=\"\",\"\",VLOOKUP(AA130,学校データ!F:G,2,FALSE))","v":""},{"$nulls":4},"",{"$f":"IF(H130=\"\",\"\",VLOOKUP(H130,競技データ!$A$2:$C$10,3,FALSE))","v":""},"",{"$nulls":18},{"$f":"IF(B130=\"\",\"\",表紙!$B$1)","v":""}]
["",{"$nulls":5},{"$f":"IF(F131=\"\",\"\",VLOOKUP(F131,学校データ!C:G,4,FALSE))","v":""},{"$nulls":7},{"$f":"I131*100+J131*10+K131+L131*0.1+M131*0.01","v":{"v":0,"d":"0.00"}},null,{"$f":"IF(A131=\"\",\"\",A131)","v":""},null,{"$f":"IF(E131=\"\",\"\",VLOOKUP(E131,競技データ!$F$2:$G$3,2,FALSE))","v":""},{"$f":"IF(B131=\"\",\"\",B131)","v":""},{"$f":"IF(C131=\"\",\"\",C131)","v":""},null,{"$f":"IF(B131=\"\",\"\",1)","v":""},{"$f":"IF(D131=\"\",\"\",D131)","v":""},{"$f":"IF(H131=\"\",\"\",VLOOKUP(H131,競技データ!$A$2:$C$10,2,FALSE))","v":""},null,"",{"$f":"IF(AA131=\"\",\"\",VLOOKUP(AA131,学校データ!F:G,2,FALSE))","v":""},{"$nulls":4},{"$f":"IF(B131=\"\",\"\",1)","v":""},{"$f":"IF(H131=\"\",\"\",VLOOKUP(H131,競技データ!$A$2:$C$10,3,FALSE))","v":""},{"$f":"IF(H131=\"\",\"\",O131)","v":""},{"$nulls":18},{"$f":"IF(B131=\"\",\"\",表紙!$B$1)","v":""}]
["",{"$nulls":5},{"$f":"IF(F132=\"\",\"\",VLOOKUP(F132,学校データ!C:G,4,FALSE))","v":""},{"$nulls":7},{"v":0,"d":"0.00"},null,"",null,{"$f":"IF(E132=\"\",\"\",VLOOKUP(E132,競技データ!$F$2:$G$3,2,FALSE))","v":""},"","",null,"","",{"$f":"IF(H132=\"\",\"\",VLOOKUP(H132,競技データ!$A$2:$C$10,2,FALSE))","v":""},null,{"$f":"IF(G132=\"\",\"\",G132)","v":""},{"$f":"IF(AA132=\"\",\"\",VLOOKUP(AA132,学校データ!F:G,2,FALSE))","v":""},{"$nulls":4},"",{"$f":"IF(H132=\"\",\"\",VLOOKUP(H132,競技データ!$A$2:$C$10,3,FALSE))","v":""},"",{"$nulls":18},{"$f":"IF(B132=\"\",\"\",表紙!$B$1)","v":""}]
["",{"$nulls":5},{"$f":"IF(F133=\"\",\"\",VLOOKUP(F133,学校データ!C:G,4,FALSE))","v":""},{"$nulls":7},{"v":0,"d":"0.00"},null,"",null,{"$f":"IF(E133=\"\",\"\",VLOOKUP(E133,競技データ!$F$2:$G$3,2,FALSE))","v":""},"","",null,"","",{"$f":"IF(H133=\"\",\"\",VLOOKUP(H133,競技データ!$A$2:$C$10,2,FALSE))","v":""},null,"",{"$f":"IF(AA133=\"\",\"\",VLOOKUP(AA133,学校データ!F:G,2,FALSE))","v":""},{"$nulls":4},"",{"$f":"IF(H133=\"\",\"\",VLOOKUP(H133,競技データ!$A$2:$C$10,3,FALSE))","v":""},"",{"$nulls":18},{"$f":"IF(B133=\"\",\"\",表紙!$B$1)","v":""}]
["",{"$nulls":5},{"$f":"IF(F134=\"\",\"\",VLOOKUP(F134,学校データ!C:G,4,FALSE))","v":""},{"$nulls":7},{"v":0,"d":"0.00"},null,"",null,{"$f":"IF(E134=\"\",\"\",VLOOKUP(E134,競技データ!$F$2:$G$3,2,FALSE))","v":""},"","",null,"","",{"$f":"IF(H134=\"\",\"\",VLOOKUP(H134,競技データ!$A$2:$C$10,2,FALSE))","v":""},null,"",{"$f":"IF(AA134=\"\",\"\",VLOOKUP(AA134,学校データ!F:G,2,FALSE))","v":""},{"$nulls":4},"",{"$f":"IF(H134=\"\",\"\",VLOOKUP(H134,競技データ!$A$2:$C$10,3,FALSE))","v":""},"",{"$nulls":18},{"$f":"IF(B134=\"\",\"\",表紙!$B$1)","v":""}]
["",{"$nulls":5},{"$f":"IF(F135=\"\",\"\",VLOOKUP(F135,学校データ!C:G,4,FALSE))","v":""},{"$nulls":7},{"v":0,"d":"0.00"},null,"",null,{"$f":"IF(E135=\"\",\"\",VLOOKUP(E135,競技データ!$F$2:$G$3,2,FALSE))","v":""},"","",null,"","",{"$f":"IF(H135=\"\",\"\",VLOOKUP(H135,競技データ!$A$2:$C$10,2,FALSE))","v":""},null,"",{"$f":"IF(AA135=\"\",\"\",VLOOKUP(AA135,学校データ!F:G,2,FALSE))","v":""},{"$nulls":4},"",{"$f":"IF(H135=\"\",\"\",VLOOKUP(H135,競技データ!$A$2:$C$10,3,FALSE))","v":""},"",{"$nulls":18},{"$f":"IF(B135=\"\",\"\",表紙!$B$1)","v":""}]
["",{"$nulls":5},{"$f":"IF(F136=\"\",\"\",VLOOKUP(F136,学校データ!C:G,4,FALSE))","v":""},{"$nulls":7},{"v":0,"d":"0.00"},null,"",null,{"$f":"IF(E136=\"\",\"\",VLOOKUP(E136,競技データ!$F$2:$G$3,2,FALSE))","v":""},"","",null,"","",{"$f":"IF(H136=\"\",\"\",VLOOKUP(H136,競技データ!$A$2:$C$10,2,FALSE))","v":""},null,"",{"$f":"IF(AA136=\"\",\"\",VLOOKUP(AA136,学校データ!F:G,2,FALSE))","v":""},{"$nulls":4},"",{"$f":"IF(H136=\"\",\"\",VLOOKUP(H136,競技データ!$A$2:$C$10,3,FALSE))","v":""},"",{"$nulls":18},{"$f":"IF(B136=\"\",\"\",表紙!$B$1)","v":""}]
["",{"$nulls":5},{"$f":"IF(F137=\"\",\"\",VLOOKUP(F137,学校データ!C:G,4,FALSE))","v":""},{"$nulls":7},{"v":0,"d":"0.00"},null,"",null,{"$f":"IF(E137=\"\",\"\",VLOOKUP(E137,競技データ!$F$2:$G$3,2,FALSE))","v":""},"","",null,"","",{"$f":"IF(H137=\"\",\"\",VLOOKUP(H137,競技データ!$A$2:$C$10,2,FALSE))","v":""},null,"",{"$f":"IF(AA137=\"\",\"\",VLOOKUP(AA137,学校データ!F:G,2,FALSE))","v":""},{"$nulls":4},"",{"$f":"IF(H137=\"\",\"\",VLOOKUP(H137,競技データ!$A$2:$C$10,3,FALSE))","v":""},"",{"$nulls":18},{"$f":"IF(B137=\"\",\"\",表紙!$B$1)","v":""}]
["",{"$nulls":5},{"$f":"IF(F138=\"\",\"\",VLOOKUP(F138,学校データ!C:G,4,FALSE))","v":""},{"$nulls":7},{"v":0,"d":"0.00"},null,"",null,{"$f":"IF(E138=\"\",\"\",VLOOKUP(E138,競技データ!$F$2:$G$3,2,FALSE))","v":""},"","",null,"","",{"$f":"IF(H138=\"\",\"\",VLOOKUP(H138,競技データ!$A$2:$C$10,2,FALSE))","v":""},null,"",{"$f":"IF(AA138=\"\",\"\",VLOOKUP(AA138,学校データ!F:G,2,FALSE))","v":""},{"$nulls":4},"",{"$f":"IF(H138=\"\",\"\",VLOOKUP(H138,競技データ!$A$2:$C$10,3,FALSE))","v":""},"",{"$nulls":18},{"$f":"IF(B138=\"\",\"\",表紙!$B$1)","v":""}]
["",{"$nulls":5},{"$f":"IF(F139=\"\",\"\",VLOOKUP(F139,学校データ!C:G,4,FALSE))","v":""},{"$nulls":7},{"v":0,"d":"0.00"},null,"",null,{"$f":"IF(E139=\"\",\"\",VLOOKUP(E139,競技データ!$F$2:$G$3,2,FALSE))","v":""},"","",null,"","",{"$f":"IF(H139=\"\",\"\",VLOOKUP(H139,競技データ!$A$2:$C$10,2,FALSE))","v":""},null,"",{"$f":"IF(AA139=\"\",\"\",VLOOKUP(AA139,学校データ!F:G,2,FALSE))","v":""},{"$nulls":4},"",{"$f":"IF(H139=\"\",\"\",VLOOKUP(H139,競技データ!$A$2:$C$10,3,FALSE))","v":""},"",{"$nulls":18},{"$f":"IF(B139=\"\",\"\",表紙!$B$1)","v":""}]
["",{"$nulls":5},{"$f":"IF(F140=\"\",\"\",VLOOKUP(F140,学校データ!C:G,4,FALSE))","v":""},{"$nulls":7},{"v":0,"d":"0.00"},null,"",null,{"$f":"IF(E140=\"\",\"\",VLOOKUP(E140,競技データ!$F$2:$G$3,2,FALSE))","v":""},"","",null,"","",{"$f":"IF(H140=\"\",\"\",VLOOKUP(H140,競技データ!$A$2:$C$10,2,FALSE))","v":""},null,"",{"$f":"IF(AA140=\"\",\"\",VLOOKUP(AA140,学校データ!F:G,2,FALSE))","v":""},{"$nulls":4},"",{"$f":"IF(H140=\"\",\"\",VLOOKUP(H140,競技データ!$A$2:$C$10,3,FALSE))","v":""},"",{"$nulls":18},{"$f":"IF(B140=\"\",\"\",表紙!$B$1)","v":""}]
["",{"$nulls":5},{"$f":"IF(F141=\"\",\"\",VLOOKUP(F141,学校データ!C:G,4,FALSE))","v":""},{"$nulls":7},{"v":0,"d":"0.00"},null,"",null,{"$f":"IF(E141=\"\",\"\",VLOOKUP(E141,競技データ!$F$2:$G$3,2,FALSE))","v":""},"","",null,"","",{"$f":"IF(H141=\"\",\"\",VLOOKUP(H141,競技データ!$A$2:$C$10,2,FALSE))","v":""},null,"",{"$f":"IF(AA141=\"\",\"\",VLOOKUP(AA141,学校データ!F:G,2,FALSE))","v":""},{"$nulls":4},"",{"$f":"IF(H141=\"\",\"\",VLOOKUP(H141,競技データ!$A$2:$C$10,3,FALSE))","v":""},"",{"$nulls":18},{"$f":"IF(B141=\"\",\"\",表紙!$B$1)","v":""}]
["",{"$nulls":5},{"$f":"IF(F142=\"\",\"\",VLOOKUP(F142,学校データ!C:G,4,FALSE))","v":""},{"$nulls":7},{"v":0,"d":"0.00"},null,"",null,{"$f":"IF(E142=\"\",\"\",VLOOKUP(E142,競技データ!$F$2:$G$3,2,FALSE))","v":""},"","",null,"","",{"$f":"IF(H142=\"\",\"\",VLOOKUP(H142,競技データ!$A$2:$C$10,2,FALSE))","v":""},null,"",{"$f":"IF(AA142=\"\",\"\",VLOOKUP(AA142,学校データ!F:G,2,FALSE))","v":""},{"$nulls":4},"",{"$f":"IF(H142=\"\",\"\",VLOOKUP(H142,競技データ!$A$2:$C$10,3,FALSE))","v":""},"",{"$nulls":18},{"$f":"IF(B142=\"\",\"\",表紙!$B$1)","v":""}]
["",{"$nulls":5},{"$f":"IF(F143=\"\",\"\",VLOOKUP(F143,学校データ!C:G,4,FALSE))","v":""},{"$nulls":7},{"v":0,"d":"0.00"},null,"",null,{"$f":"IF(E143=\"\",\"\",VLOOKUP(E143,競技データ!$F$2:$G$3,2,FALSE))","v":""},"","",null,"","",{"$f":"IF(H143=\"\",\"\",VLOOKUP(H143,競技データ!$A$2:$C$10,2,FALSE))","v":""},null,"",{"$f":"IF(AA143=\"\",\"\",VLOOKUP(AA143,学校データ!F:G,2,FALSE))","v":""},{"$nulls":4},"",{"$f":"IF(H143=\"\",\"\",VLOOKUP(H143,競技データ!$A$2:$C$10,3,FALSE))","v":""},"",{"$nulls":18},{"$f":"IF(B143=\"\",\"\",表紙!$B$1)","v":""}]
["",{"$nulls":5},{"$f":"IF(F144=\"\",\"\",VLOOKUP(F144,学校データ!C:G,4,FALSE))","v":""},{"$nulls":7},{"v":0,"d":"0.00"},null,"",null,{"$f":"IF(E144=\"\",\"\",VLOOKUP(E144,競技データ!$F$2:$G$3,2,FALSE))","v":""},"","",null,"","",{"$f":"IF(H144=\"\",\"\",VLOOKUP(H144,競技データ!$A$2:$C$10,2,FALSE))","v":""},null,"",{"$f":"IF(AA144=\"\",\"\",VLOOKUP(AA144,学校データ!F:G,2,FALSE))","v":""},{"$nulls":4},"",{"$f":"IF(H144=\"\",\"\",VLOOKUP(H144,競技データ!$A$2:$C$10,3,FALSE))","v":""},"",{"$nulls":18},{"$f":"IF(B144=\"\",\"\",表紙!$B$1)","v":""}]
["",{"$nulls":5},{"$f":"IF(F145=\"\",\"\",VLOOKUP(F145,学校データ!C:G,4,FALSE))","v":""},{"$nulls":7},{"v":0,"d":"0.00"},null,"",null,{"$f":"IF(E145=\"\",\"\",VLOOKUP(E145,競技データ!$F$2:$G$3,2,FALSE))","v":""},"","",null,"","",{"$f":"IF(H145=\"\",\"\",VLOOKUP(H145,競技データ!$A$2:$C$10,2,FALSE))","v":""},null,"",{"$f":"IF(AA145=\"\",\"\",VLOOKUP(AA145,学校データ!F:G,2,FALSE))","v":""},{"$nulls":4},"",{"$f":"IF(H145=\"\",\"\",VLOOKUP(H145,競技データ!$A$2:$C$10,3,FALSE))","v":""},"",{"$nulls":18},{"$f":"IF(B145=\"\",\"\",表紙!$B$1)","v":""}]
["",{"$nulls":5},{"$f":"IF(F146=\"\",\"\",VLOOKUP(F146,学校データ!C:G,4,FALSE))","v":""},{"$nulls":7},{"v":0,"d":"0.00"},null,"",null,{"$f":"IF(E146=\"\",\"\",VLOOKUP(E146,競技データ!$F$2:$G$3,2,FALSE))","v":""},"","",null,"","",{"$f":"IF(H146=\"\",\"\",VLOOKUP(H146,競技データ!$A$2:$C$10,2,FALSE))","v":""},null,"",{"$f":"IF(AA146=\"\",\"\",VLOOKUP(AA146,学校データ!F:G,2,FALSE))","v":""},{"$nulls":4},"",{"$f":"IF(H146=\"\",\"\",VLOOKUP(H146,競技データ!$A$2:$C$10,3,FALSE))","v":""},"",{"$nulls":18},{"$f":"IF(B146=\"\",\"\",表紙!$B$1)","v":""}]
["",{"$nulls":5},{"$f":"IF(F147=\"\",\"\",VLOOKUP(F147,学校データ!C:G,4,FALSE))","v":""},{"$nulls":7},{"v":0,"d":"0.00"},null,"",null,{"$f":"IF(E147=\"\",\"\",VLOOKUP(E147,競技データ!$F$2:$G$3,2,FALSE))","v":""},"","",null,"","",{"$f":"IF(H147=\"\",\"\",VLOOKUP(H147,競技データ!$A$2:$C$10,2,FALSE))","v":""},null,"",{"$f":"IF(AA147=\"\",\"\",VLOOKUP(AA147,学校データ!F:G,2,FALSE))","v":""},{"$nulls":4},"",{"$f":"IF(H147=\"\",\"\",VLOOKUP(H147,競技データ!$A$2:$C$10,3,FALSE))","v":""},"",{"$nulls":18},{"$f":"IF(B147=\"\",\"\",表紙!$B$1)","v":""}]
["",{"$nulls":5},{"$f":"IF(F148=\"\",\"\",VLOOKUP(F148,学校データ!C:G,4,FALSE))","v":""},{"$nulls":7},{"v":0,"d":"0.00"},null,"",null,{"$f":"IF(E148=\"\",\"\",VLOOKUP(E148,競技データ!$F$2:$G$3,2,FALSE))","v":""},"","",null,"","",{"$f":"IF(H148=\"\",\"\",VLOOKUP(H148,競技データ!$A$2:$C$10,2,FALSE))","v":""},null,"",{"$f":"IF(AA148=\"\",\"\",VLOOKUP(AA148,学校データ!F:G,2,FALSE))","v":""},{"$nulls":4},"",{"$f":"IF(H148=\"\",\"\",VLOOKUP(H148,競技データ!$A$2:$C$10,3,FALSE))","v":""},"",{"$nulls":18},{"$f":"IF(B148=\"\",\"\",表紙!$B$1)","v":""}]
["",{"$nulls":5},{"$f":"IF(F149=\"\",\"\",VLOOKUP(F149,学校データ!C:G,4,FALSE))","v":""},{"$nulls":7},{"v":0,"d":"0.00"},null,"",null,{"$f":"IF(E149=\"\",\"\",VLOOKUP(E149,競技データ!$F$2:$G$3,2,FALSE))","v":""},"","",null,"","",{"$f":"IF(H149=\"\",\"\",VLOOKUP(H149,競技データ!$A$2:$C$10,2,FALSE))","v":""},null,"",{"$f":"IF(AA149=\"\",\"\",VLOOKUP(AA149,学校データ!F:G,2,FALSE))","v":""},{"$nulls":4},"",{"$f":"IF(H149=\"\",\"\",VLOOKUP(H149,競技データ!$A$2:$C$10,3,FALSE))","v":""},"",{"$nulls":18},{"$f":"IF(B149=\"\",\"\",表紙!$B$1)","v":""}]
["",{"$nulls":5},{"$f":"IF(F150=\"\",\"\",VLOOKUP(F150,学校データ!C:G,4,FALSE))","v":""},{"$nulls":7},{"v":0,"d":"0.00"},null,"",null,{"$f":"IF(E150=\"\",\"\",VLOOKUP(E150,競技データ!$F$2:$G$3,2,FALSE))","v":""},"","",null,"","",{"$f":"IF(H150=\"\",\"\",VLOOKUP(H150,競技データ!$A$2:$C$10,2,FALSE))","v":""},null,"",{"$f":"IF(AA150=\"\",\"\",VLOOKUP(AA150,学校データ!F:G,2,FALSE))","v":""},{"$nulls":4},"",{"$f":"IF(H150=\"\",\"\",VLOOKUP(H150,競技データ!$A$2:$C$10,3,FALSE))","v":""},"",{"$nulls":18},{"$f":"IF(B150=\"\",\"\",表紙!$B$1)","v":""}]
["",{"$nulls":5},{"$f":"IF(F151=\"\",\"\",VLOOKUP(F151,学校データ!C:G,4,FALSE))","v":""},{"$nulls":7},{"v":0,"d":"0.00"},null,"",null,{"$f":"IF(E151=\"\",\"\",VLOOKUP(E151,競技データ!$F$2:$G$3,2,FALSE))","v":""},"","",null,"","",{"$f":"IF(H151=\"\",\"\",VLOOKUP(H151,競技データ!$A$2:$C$10,2,FALSE))","v":""},null,"",{"$f":"IF(AA151=\"\",\"\",VLOOKUP(AA151,学校データ!F:G,2,FALSE))","v":""},{"$nulls":4},"",{"$f":"IF(H151=\"\",\"\",VLOOKUP(H151,競技データ!$A$2:$C$10,3,FALSE))","v":""},"",{"$nulls":18},{"$f":"IF(B151=\"\",\"\",表紙!$B$1)","v":""}]
["",{"$nulls":5},{"$f":"IF(F152=\"\",\"\",VLOOKUP(F152,学校データ!C:G,4,FALSE))","v":""},{"$nulls":7},{"v":0,"d":"0.00"},null,"",null,{"$f":"IF(E152=\"\",\"\",VLOOKUP(E152,競技データ!$F$2:$G$3,2,FALSE))","v":""},"","",null,"","",{"$f":"IF(H152=\"\",\"\",VLOOKUP(H152,競技データ!$A$2:$C$10,2,FALSE))","v":""},null,"",{"$f":"IF(AA152=\"\",\"\",VLOOKUP(AA152,学校データ!F:G,2,FALSE))","v":""},{"$nulls":4},"",{"$f":"IF(H152=\"\",\"\",VLOOKUP(H152,競技データ!$A$2:$C$10,3,FALSE))","v":""},"",{"$nulls":18},{"$f":"IF(B152=\"\",\"\",表紙!$B$1)","v":""}]
["",{"$nulls":5},{"$f":"IF(F153=\"\",\"\",VLOOKUP(F153,学校データ!C:G,4,FALSE))","v":""},{"$nulls":7},{"v":0,"d":"0.00"},null,"",null,{"$f":"IF(E153=\"\",\"\",VLOOKUP(E153,競技データ!$F$2:$G$3,2,FALSE))","v":""},"","",null,"","",{"$f":"IF(H153=\"\",\"\",VLOOKUP(H153,競技データ!$A$2:$C$10,2,FALSE))","v":""},null,"",{"$f":"IF(AA153=\"\",\"\",VLOOKUP(AA153,学校データ!F:G,2,FALSE))","v":""},{"$nulls":4},"",{"$f":"IF(H153=\"\",\"\",VLOOKUP(H153,競技データ!$A$2:$C$10,3,FALSE))","v":""},"",{"$nulls":18},{"$f":"IF(B153=\"\",\"\",表紙!$B$1)","v":""}]
["",{"$nulls":5},{"$f":"IF(F154=\"\",\"\",VLOOKUP(F154,学校データ!C:G,4,FALSE))","v":""},{"$nulls":7},{"v":0,"d":"0.00"},null,"",null,{"$f":"IF(E154=\"\",\"\",VLOOKUP(E154,競技データ!$F$2:$G$3,2,FALSE))","v":""},"","",null,"","",{"$f":"IF(H154=\"\",\"\",VLOOKUP(H154,競技データ!$A$2:$C$10,2,FALSE))","v":""},null,"",{"$f":"IF(AA154=\"\",\"\",VLOOKUP(AA154,学校データ!F:G,2,FALSE))","v":""},{"$nulls":4},"",{"$f":"IF(H154=\"\",\"\",VLOOKUP(H154,競技データ!$A$2:$C$10,3,FALSE))","v":""},"",{"$nulls":18},{"$f":"IF(B154=\"\",\"\",表紙!$B$1)","v":""}]
["",{"$nulls":5},{"$f":"IF(F155=\"\",\"\",VLOOKUP(F155,学校データ!C:G,4,FALSE))","v":""},{"$nulls":7},{"v":0,"d":"0.00"},null,"",null,{"$f":"IF(E155=\"\",\"\",VLOOKUP(E155,競技データ!$F$2:$G$3,2,FALSE))","v":""},"","",null,"","",{"$f":"IF(H155=\"\",\"\",VLOOKUP(H155,競技データ!$A$2:$C$10,2,FALSE))","v":""},null,"",{"$f":"IF(AA155=\"\",\"\",VLOOKUP(AA155,学校データ!F:G,2,FALSE))","v":""},{"$nulls":4},"",{"$f":"IF(H155=\"\",\"\",VLOOKUP(H155,競技データ!$A$2:$C$10,3,FALSE))","v":""},"",{"$nulls":18},{"$f":"IF(B155=\"\",\"\",表紙!$B$1)","v":""}]
["",{"$nulls":5},{"$f":"IF(F156=\"\",\"\",VLOOKUP(F156,学校データ!C:G,4,FALSE))","v":""},{"$nulls":7},{"v":0,"d":"0.00"},null,"",null,{"$f":"IF(E156=\"\",\"\",VLOOKUP(E156,競技データ!$F$2:$G$3,2,FALSE))","v":""},"","",null,"","",{"$f":"IF(H156=\"\",\"\",VLOOKUP(H156,競技データ!$A$2:$C$10,2,FALSE))","v":""},null,"",{"$f":"IF(AA156=\"\",\"\",VLOOKUP(AA156,学校データ!F:G,2,FALSE))","v":""},{"$nulls":4},"",{"$f":"IF(H156=\"\",\"\",VLOOKUP(H156,競技データ!$A$2:$C$10,3,FALSE))","v":""},"",{"$nulls":18},{"$f":"IF(B156=\"\",\"\",表紙!$B$1)","v":""}]
["",{"$nulls":5},{"$f":"IF(F157=\"\",\"\",VLOOKUP(F157,学校データ!C:G,4,FALSE))","v":""},{"$nulls":7},{"v":0,"d":"0.00"},null,"",null,{"$f":"IF(E157=\"\",\"\",VLOOKUP(E157,競技データ!$F$2:$G$3,2,FALSE))","v":""},"","",null,"","",{"$f":"IF(H157=\"\",\"\",VLOOKUP(H157,競技データ!$A$2:$C$10,2,FALSE))","v":""},null,"",{"$f":"IF(AA157=\"\",\"\",VLOOKUP(AA157,学校データ!F:G,2,FALSE))","v":""},{"$nulls":4},"",{"$f":"IF(H157=\"\",\"\",VLOOKUP(H157,競技データ!$A$2:$C$10,3,FALSE))","v":""},"",{"$nulls":18},{"$f":"IF(B157=\"\",\"\",表紙!$B$1)","v":""}]
["",{"$nulls":5},{"$f":"IF(F158=\"\",\"\",VLOOKUP(F158,学校データ!C:G,4,FALSE))","v":""},{"$nulls":7},{"v":0,"d":"0.00"},null,"",null,{"$f":"IF(E158=\"\",\"\",VLOOKUP(E158,競技データ!$F$2:$G$3,2,FALSE))","v":""},"","",null,"","",{"$f":"IF(H158=\"\",\"\",VLOOKUP(H158,競技データ!$A$2:$C$10,2,FALSE))","v":""},null,"",{"$f":"IF(AA158=\"\",\"\",VLOOKUP(AA158,学校データ!F:G,2,FALSE))","v":""},{"$nulls":4},"",{"$f":"IF(H158=\"\",\"\",VLOOKUP(H158,競技データ!$A$2:$C$10,3,FALSE))","v":""},"",{"$nulls":18},{"$f":"IF(B158=\"\",\"\",表紙!$B$1)","v":""}]
["",{"$nulls":5},{"$f":"IF(F159=\"\",\"\",VLOOKUP(F159,学校データ!C:G,4,FALSE))","v":""},{"$nulls":7},{"v":0,"d":"0.00"},null,"",null,{"$f":"IF(E159=\"\",\"\",VLOOKUP(E159,競技データ!$F$2:$G$3,2,FALSE))","v":""},"","",null,"","",{"$f":"IF(H159=\"\",\"\",VLOOKUP(H159,競技データ!$A$2:$C$10,2,FALSE))","v":""},null,"",{"$f":"IF(AA159=\"\",\"\",VLOOKUP(AA159,学校データ!F:G,2,FALSE))","v":""},{"$nulls":4},"",{"$f":"IF(H159=\"\",\"\",VLOOKUP(H159,競技データ!$A$2:$C$10,3,FALSE))","v":""},"",{"$nulls":18},{"$f":"IF(B159=\"\",\"\",表紙!$B$1)","v":""}]
["",{"$nulls":5},{"$f":"IF(F160=\"\",\"\",VLOOKUP(F160,学校データ!C:G,4,FALSE))","v":""},{"$nulls":7},{"v":0,"d":"0.00"},null,"",null,{"$f":"IF(E160=\"\",\"\",VLOOKUP(E160,競技データ!$F$2:$G$3,2,FALSE))","v":""},"","",null,"","",{"$f":"IF(H160=\"\",\"\",VLOOKUP(H160,競技データ!$A$2:$C$10,2,FALSE))","v":""},null,"",{"$f":"IF(AA160=\"\",\"\",VLOOKUP(AA160,学校データ!F:G,2,FALSE))","v":""},{"$nulls":4},"",{"$f":"IF(H160=\"\",\"\",VLOOKUP(H160,競技データ!$A$2:$C$10,3,FALSE))","v":""},"",{"$nulls":18},{"$f":"IF(B160=\"\",\"\",表紙!$B$1)","v":""}]
["",{"$nulls":5},{"$f":"IF(F161=\"\",\"\",VLOOKUP(F161,学校データ!C:G,4,FALSE))","v":""},{"$nulls":7},{"v":0,"d":"0.00"},null,"",null,{"$f":"IF(E161=\"\",\"\",VLOOKUP(E161,競技データ!$F$2:$G$3,2,FALSE))","v":""},"","",null,"","",{"$f":"IF(H161=\"\",\"\",VLOOKUP(H161,競技データ!$A$2:$C$10,2,FALSE))","v":""},null,"",{"$f":"IF(AA161=\"\",\"\",VLOOKUP(AA161,学校データ!F:G,2,FALSE))","v":""},{"$nulls":4},"",{"$f":"IF(H161=\"\",\"\",VLOOKUP(H161,競技データ!$A$2:$C$10,3,FALSE))","v":""},"",{"$nulls":18},{"$f":"IF(B161=\"\",\"\",表紙!$B$1)","v":""}]
["",{"$nulls":5},{"$f":"IF(F162=\"\",\"\",VLOOKUP(F162,学校データ!C:G,4,FALSE))","v":""},{"$nulls":7},{"v":0,"d":"0.00"},null,"",null,{"$f":"IF(E162=\"\",\"\",VLOOKUP(E162,競技データ!$F$2:$G$3,2,FALSE))","v":""},"","",null,"","",{"$f":"IF(H162=\"\",\"\",VLOOKUP(H162,競技データ!$A$2:$C$10,2,FALSE))","v":""},null,"",{"$f":"IF(AA162=\"\",\"\",VLOOKUP(AA162,学校データ!F:G,2,FALSE))","v":""},{"$nulls":4},"",{"$f":"IF(H162=\"\",\"\",VLOOKUP(H162,競技データ!$A$2:$C$10,3,FALSE))","v":""},"",{"$nulls":18},{"$f":"IF(B162=\"\",\"\",表紙!$B$1)","v":""}]
["",{"$nulls":5},{"$f":"IF(F163=\"\",\"\",VLOOKUP(F163,学校データ!C:G,4,FALSE))","v":""},{"$nulls":7},{"$f":"I163*100+J163*10+K163+L163*0.1+M163*0.01","v":{"v":0,"d":"0.00"}},null,{"$f":"IF(A163=\"\",\"\",A163)","v":""},null,{"$f":"IF(E163=\"\",\"\",VLOOKUP(E163,競技データ!$F$2:$G$3,2,FALSE))","v":""},{"$f":"IF(B163=\"\",\"\",B163)","v":""},{"$f":"IF(C163=\"\",\"\",C163)","v":""},null,{"$f":"IF(B163=\"\",\"\",1)","v":""},{"$f":"IF(D163=\"\",\"\",D163)","v":""},{"$f":"IF(H163=\"\",\"\",VLOOKUP(H163,競技データ!$A$2:$C$10,2,FALSE))","v":""},null,"",{"$f":"IF(AA163=\"\",\"\",VLOOKUP(AA163,学校データ!F:G,2,FALSE))","v":""},{"$nulls":4},{"$f":"IF(B163=\"\",\"\",1)","v":""},{"$f":"IF(H163=\"\",\"\",VLOOKUP(H163,競技データ!$A$2:$C$10,3,FALSE))","v":""},{"$f":"IF(H163=\"\",\"\",O163)","v":""},{"$nulls":18},{"$f":"IF(B163=\"\",\"\",表紙!$B$1)","v":""}]
["",{"$nulls":5},{"$f":"IF(F164=\"\",\"\",VLOOKUP(F164,学校データ!C:G,4,FALSE))","v":""},{"$nulls":7},{"v":0,"d":"0.00"},null,"",null,{"$f":"IF(E164=\"\",\"\",VLOOKUP(E164,競技データ!$F$2:$G$3,2,FALSE))","v":""},"","",null,"","",{"$f":"IF(H164=\"\",\"\",VLOOKUP(H164,競技データ!$A$2:$C$10,2,FALSE))","v":""},null,"",{"$f":"IF(AA164=\"\",\"\",VLOOKUP(AA164,学校データ!F:G,2,FALSE))","v":""},{"$nulls":4},"",{"$f":"IF(H164=\"\",\"\",VLOOKUP(H164,競技データ!$A$2:$C$10,3,FALSE))","v":""},"",{"$nulls":18},{"$f":"IF(B164=\"\",\"\",表紙!$B$1)","v":""}]
["",{"$nulls":5},{"$f":"IF(F165=\"\",\"\",VLOOKUP(F165,学校データ!C:G,4,FALSE))","v":""},{"$nulls":7},{"v":0,"d":"0.00"},null,"",null,{"$f":"IF(E165=\"\",\"\",VLOOKUP(E165,競技データ!$F$2:$G$3,2,FALSE))","v":""},"","",null,"","",{"$f":"IF(H165=\"\",\"\",VLOOKUP(H165,競技データ!$A$2:$C$10,2,FALSE))","v":""},null,"",{"$f":"IF(AA165=\"\",\"\",VLOOKUP(AA165,学校データ!F:G,2,FALSE))","v":""},{"$nulls":4},"",{"$f":"IF(H165=\"\",\"\",VLOOKUP(H165,競技データ!$A$2:$C$10,3,FALSE))","v":""},"",{"$nulls":18},{"$f":"IF(B165=\"\",\"\",表紙!$B$1)","v":""}]
["",{"$nulls":5},{"$f":"IF(F166=\"\",\"\",VLOOKUP(F166,学校データ!C:G,4,FALSE))","v":""},{"$nulls":7},{"v":0,"d":"0.00"},null,"",null,{"$f":"IF(E166=\"\",\"\",VLOOKUP(E166,競技データ!$F$2:$G$3,2,FALSE))","v":""},"","",null,"","",{"$f":"IF(H166=\"\",\"\",VLOOKUP(H166,競技データ!$A$2:$C$10,2,FALSE))","v":""},null,"",{"$f":"IF(AA166=\"\",\"\",VLOOKUP(AA166,学校データ!F:G,2,FALSE))","v":""},{"$nulls":4},"",{"$f":"IF(H166=\"\",\"\",VLOOKUP(H166,競技データ!$A$2:$C$10,3,FALSE))","v":""},"",{"$nulls":18},{"$f":"IF(B166=\"\",\"\",表紙!$B$1)","v":""}]
["",{"$nulls":5},{"$f":"IF(F167=\"\",\"\",VLOOKUP(F167,学校データ!C:G,4,FALSE))","v":""},{"$nulls":7},{"v":0,"d":"0.00"},null,"",null,{"$f":"IF(E167=\"\",\"\",VLOOKUP(E167,競技データ!$F$2:$G$3,2,FALSE))","v":""},"","",null,"","",{"$f":"IF(H167=\"\",\"\",VLOOKUP(H167,競技データ!$A$2:$C$10,2,FALSE))","v":""},null,"",{"$f":"IF(AA167=\"\",\"\",VLOOKUP(AA167,学校データ!F:G,2,FALSE))","v":""},{"$nulls":4},"",{"$f":"IF(H167=\"\",\"\",VLOOKUP(H167,競技データ!$A$2:$C$10,3,FALSE))","v":""},"",{"$nulls":18},{"$f":"IF(B167=\"\",\"\",表紙!$B$1)","v":""}]
["",{"$nulls":5},{"$f":"IF(F168=\"\",\"\",VLOOKUP(F168,学校データ!C:G,4,FALSE))","v":""},{"$nulls":7},{"v":0,"d":"0.00"},null,"",null,{"$f":"IF(E168=\"\",\"\",VLOOKUP(E168,競技データ!$F$2:$G$3,2,FALSE))","v":""},"","",null,"","",{"$f":"IF(H168=\"\",\"\",VLOOKUP(H168,競技データ!$A$2:$C$10,2,FALSE))","v":""},null,"",{"$f":"IF(AA168=\"\",\"\",VLOOKUP(AA168,学校データ!F:G,2,FALSE))","v":""},{"$nulls":4},"",{"$f":"IF(H168=\"\",\"\",VLOOKUP(H168,競技データ!$A$2:$C$10,3,FALSE))","v":""},"",{"$nulls":18},{"$f":"IF(B168=\"\",\"\",表紙!$B$1)","v":""}]
["",{"$nulls":5},{"$f":"IF(F169=\"\",\"\",VLOOKUP(F169,学校データ!C:G,4,FALSE))","v":""},{"$nulls":7},{"v":0,"d":"0.00"},null,"",null,{"$f":"IF(E169=\"\",\"\",VLOOKUP(E169,競技データ!$F$2:$G$3,2,FALSE))","v":""},"","",null,"","",{"$f":"IF(H169=\"\",\"\",VLOOKUP(H169,競技データ!$A$2:$C$10,2,FALSE))","v":""},null,"",{"$f":"IF(AA169=\"\",\"\",VLOOKUP(AA169,学校データ!F:G,2,FALSE))","v":""},{"$nulls":4},"",{"$f":"IF(H169=\"\",\"\",VLOOKUP(H169,競技データ!$A$2:$C$10,3,FALSE))","v":""},"",{"$nulls":18},{"$f":"IF(B169=\"\",\"\",表紙!$B$1)","v":""}]
["",{"$nulls":5},{"$f":"IF(F170=\"\",\"\",VLOOKUP(F170,学校データ!C:G,4,FALSE))","v":""},{"$nulls":7},{"v":0,"d":"0.00"},null,"",null,{"$f":"IF(E170=\"\",\"\",VLOOKUP(E170,競技データ!$F$2:$G$3,2,FALSE))","v":""},"","",null,"","",{"$f":"IF(H170=\"\",\"\",VLOOKUP(H170,競技データ!$A$2:$C$10,2,FALSE))","v":""},null,"",{"$f":"IF(AA170=\"\",\"\",VLOOKUP(AA170,学校データ!F:G,2,FALSE))","v":""},{"$nulls":4},"",{"$f":"IF(H170=\"\",\"\",VLOOKUP(H170,競技データ!$A$2:$C$10,3,FALSE))","v":""},"",{"$nulls":18},{"$f":"IF(B170=\"\",\"\",表紙!$B$1)","v":""}]
["",{"$nulls":5},{"$f":"IF(F171=\"\",\"\",VLOOKUP(F171,学校データ!C:G,4,FALSE))","v":""},{"$nulls":7},{"v":0,"d":"0.00"},null,"",null,{"$f":"IF(E171=\"\",\"\",VLOOKUP(E171,競技データ!$F$2:$G$3,2,FALSE))","v":""},"","",null,"","",{"$f":"IF(H171=\"\",\"\",VLOOKUP(H171,競技データ!$A$2:$C$10,2,FALSE))","v":""},null,"",{"$f":"IF(AA171=\"\",\"\",VLOOKUP(AA171,学校データ!F:G,2,FALSE))","v":""},{"$nulls":4},"",{"$f":"IF(H171=\"\",\"\",VLOOKUP(H171,競技データ!$A$2:$C$10,3,FALSE))","v":""},"",{"$nulls":18},{"$f":"IF(B171=\"\",\"\",表紙!$B$1)","v":""}]
["",{"$nulls":5},{"$f":"IF(F172=\"\",\"\",VLOOKUP(F172,学校データ!C:G,4,FALSE))","v":""},{"$nulls":7},{"v":0,"d":"0.00"},null,"",null,{"$f":"IF(E172=\"\",\"\",VLOOKUP(E172,競技データ!$F$2:$G$3,2,FALSE))","v":""},"","",null,"","",{"$f":"IF(H172=\"\",\"\",VLOOKUP(H172,競技データ!$A$2:$C$10,2,FALSE))","v":""},null,"",{"$f":"IF(AA172=\"\",\"\",VLOOKUP(AA172,学校データ!F:G,2,FALSE))","v":""},{"$nulls":4},"",{"$f":"IF(H172=\"\",\"\",VLOOKUP(H172,競技データ!$A$2:$C$10,3,FALSE))","v":""},"",{"$nulls":18},{"$f":"IF(B172=\"\",\"\",表紙!$B$1)","v":""}]
["",{"$nulls":5},{"$f":"IF(F173=\"\",\"\",VLOOKUP(F173,学校データ!C:G,4,FALSE))","v":""},{"$nulls":7},{"v":0,"d":"0.00"},null,"",null,{"$f":"IF(E173=\"\",\"\",VLOOKUP(E173,競技データ!$F$2:$G$3,2,FALSE))","v":""},"","",null,"","",{"$f":"IF(H173=\"\",\"\",VLOOKUP(H173,競技データ!$A$2:$C$10,2,FALSE))","v":""},null,"",{"$f":"IF(AA173=\"\",\"\",VLOOKUP(AA173,学校データ!F:G,2,FALSE))","v":""},{"$nulls":4},"",{"$f":"IF(H173=\"\",\"\",VLOOKUP(H173,競技データ!$A$2:$C$10,3,FALSE))","v":""},"",{"$nulls":18},{"$f":"IF(B173=\"\",\"\",表紙!$B$1)","v":""}]
["",{"$nulls":5},{"$f":"IF(F174=\"\",\"\",VLOOKUP(F174,学校データ!C:G,4,FALSE))","v":""},{"$nulls":7},{"v":0,"d":"0.00"},null,"",null,{"$f":"IF(E174=\"\",\"\",VLOOKUP(E174,競技データ!$F$2:$G$3,2,FALSE))","v":""},"","",null,"","",{"$f":"IF(H174=\"\",\"\",VLOOKUP(H174,競技データ!$A$2:$C$10,2,FALSE))","v":""},null,"",{"$f":"IF(AA174=\"\",\"\",VLOOKUP(AA174,学校データ!F:G,2,FALSE))","v":""},{"$nulls":4},"",{"$f":"IF(H174=\"\",\"\",VLOOKUP(H174,競技データ!$A$2:$C$10,3,FALSE))","v":""},"",{"$nulls":18},{"$f":"IF(B174=\"\",\"\",表紙!$B$1)","v":""}]
["",{"$nulls":5},{"$f":"IF(F175=\"\",\"\",VLOOKUP(F175,学校データ!C:G,4,FALSE))","v":""},{"$nulls":7},{"v":0,"d":"0.00"},null,"",null,{"$f":"IF(E175=\"\",\"\",VLOOKUP(E175,競技データ!$F$2:$G$3,2,FALSE))","v":""},"","",null,"","",{"$f":"IF(H175=\"\",\"\",VLOOKUP(H175,競技データ!$A$2:$C$10,2,FALSE))","v":""},null,"",{"$f":"IF(AA175=\"\",\"\",VLOOKUP(AA175,学校データ!F:G,2,FALSE))","v":""},{"$nulls":4},"",{"$f":"IF(H175=\"\",\"\",VLOOKUP(H175,競技データ!$A$2:$C$10,3,FALSE))","v":""},"",{"$nulls":18},{"$f":"IF(B175=\"\",\"\",表紙!$B$1)","v":""}]
["",{"$nulls":5},{"$f":"IF(F176=\"\",\"\",VLOOKUP(F176,学校データ!C:G,4,FALSE))","v":""},{"$nulls":7},{"v":0,"d":"0.00"},null,"",null,{"$f":"IF(E176=\"\",\"\",VLOOKUP(E176,競技データ!$F$2:$G$3,2,FALSE))","v":""},"","",null,"","",{"$f":"IF(H176=\"\",\"\",VLOOKUP(H176,競技データ!$A$2:$C$10,2,FALSE))","v":""},null,"",{"$f":"IF(AA176=\"\",\"\",VLOOKUP(AA176,学校データ!F:G,2,FALSE))","v":""},{"$nulls":4},"",{"$f":"IF(H176=\"\",\"\",VLOOKUP(H176,競技データ!$A$2:$C$10,3,FALSE))","v":""},"",{"$nulls":18},{"$f":"IF(B176=\"\",\"\",表紙!$B$1)","v":""}]
["",{"$nulls":5},{"$f":"IF(F177=\"\",\"\",VLOOKUP(F177,学校データ!C:G,4,FALSE))","v":""},{"$nulls":7},{"v":0,"d":"0.00"},null,"",null,{"$f":"IF(E177=\"\",\"\",VLOOKUP(E177,競技データ!$F$2:$G$3,2,FALSE))","v":""},"","",null,"","",{"$f":"IF(H177=\"\",\"\",VLOOKUP(H177,競技データ!$A$2:$C$10,2,FALSE))","v":""},null,"",{"$f":"IF(AA177=\"\",\"\",VLOOKUP(AA177,学校データ!F:G,2,FALSE))","v":""},{"$nulls":4},"",{"$f":"IF(H177=\"\",\"\",VLOOKUP(H177,競技データ!$A$2:$C$10,3,FALSE))","v":""},"",{"$nulls":18},{"$f":"IF(B177=\"\",\"\",表紙!$B$1)","v":""}]
["",{"$nulls":5},{"$f":"IF(F178=\"\",\"\",VLOOKUP(F178,学校データ!C:G,4,FALSE))","v":""},{"$nulls":7},{"v":0,"d":"0.00"},null,"",null,{"$f":"IF(E178=\"\",\"\",VLOOKUP(E178,競技データ!$F$2:$G$3,2,FALSE))","v":""},"","",null,"","",{"$f":"IF(H178=\"\",\"\",VLOOKUP(H178,競技データ!$A$2:$C$10,2,FALSE))","v":""},null,"",{"$f":"IF(AA178=\"\",\"\",VLOOKUP(AA178,学校データ!F:G,2,FALSE))","v":""},{"$nulls":4},"",{"$f":"IF(H178=\"\",\"\",VLOOKUP(H178,競技データ!$A$2:$C$10,3,FALSE))","v":""},"",{"$nulls":18},{"$f":"IF(B178=\"\",\"\",表紙!$B$1)","v":""}]
["",{"$nulls":5},{"$f":"IF(F179=\"\",\"\",VLOOKUP(F179,学校データ!C:G,4,FALSE))","v":""},{"$nulls":7},{"v":0,"d":"0.00"},null,"",null,{"$f":"IF(E179=\"\",\"\",VLOOKUP(E179,競技データ!$F$2:$G$3,2,FALSE))","v":""},"","",null,"","",{"$f":"IF(H179=\"\",\"\",VLOOKUP(H179,競技データ!$A$2:$C$10,2,FALSE))","v":""},null,"",{"$f":"IF(AA179=\"\",\"\",VLOOKUP(AA179,学校データ!F:G,2,FALSE))","v":""},{"$nulls":4},"",{"$f":"IF(H179=\"\",\"\",VLOOKUP(H179,競技データ!$A$2:$C$10,3,FALSE))","v":""},"",{"$nulls":18},{"$f":"IF(B179=\"\",\"\",表紙!$B$1)","v":""}]
["",{"$nulls":5},{"$f":"IF(F180=\"\",\"\",VLOOKUP(F180,学校データ!C:G,4,FALSE))","v":""},{"$nulls":7},{"v":0,"d":"0.00"},null,"",null,{"$f":"IF(E180=\"\",\"\",VLOOKUP(E180,競技データ!$F$2:$G$3,2,FALSE))","v":""},"","",null,"","",{"$f":"IF(H180=\"\",\"\",VLOOKUP(H180,競技データ!$A$2:$C$10,2,FALSE))","v":""},null,"",{"$f":"IF(AA180=\"\",\"\",VLOOKUP(AA180,学校データ!F:G,2,FALSE))","v":""},{"$nulls":4},"",{"$f":"IF(H180=\"\",\"\",VLOOKUP(H180,競技データ!$A$2:$C$10,3,FALSE))","v":""},"",{"$nulls":18},{"$f":"IF(B180=\"\",\"\",表紙!$B$1)","v":""}]
[{"$f":"IF(B181=\"\",\"\",A180+1)","v":""},{"$nulls":5},{"$f":"IF(F181=\"\",\"\",VLOOKUP(F181,学校データ!C:G,4,FALSE))","v":""},{"$nulls":7},{"v":0,"d":"0.00"},null,"",null,{"$f":"IF(E181=\"\",\"\",VLOOKUP(E181,競技データ!$F$2:$G$3,2,FALSE))","v":""},"","",null,"","",{"$f":"IF(H181=\"\",\"\",VLOOKUP(H181,競技データ!$A$2:$C$10,2,FALSE))","v":""},null,"",{"$f":"IF(AA181=\"\",\"\",VLOOKUP(AA181,学校データ!F:G,2,FALSE))","v":""},{"$nulls":4},"",{"$f":"IF(H181=\"\",\"\",VLOOKUP(H181,競技データ!$A$2:$C$10,3,FALSE))","v":""},"",{"$nulls":18},{"$f":"IF(B181=\"\",\"\",表紙!$B$1)","v":""}]
["",{"$nulls":5},{"$f":"IF(F182=\"\",\"\",VLOOKUP(F182,学校データ!C:G,4,FALSE))","v":""},{"$nulls":7},{"v":0,"d":"0.00"},null,"",null,{"$f":"IF(E182=\"\",\"\",VLOOKUP(E182,競技データ!$F$2:$G$3,2,FALSE))","v":""},"","",null,"","",{"$f":"IF(H182=\"\",\"\",VLOOKUP(H182,競技データ!$A$2:$C$10,2,FALSE))","v":""},null,"",{"$f":"IF(AA182=\"\",\"\",VLOOKUP(AA182,学校データ!F:G,2,FALSE))","v":""},{"$nulls":4},"",{"$f":"IF(H182=\"\",\"\",VLOOKUP(H182,競技データ!$A$2:$C$10,3,FALSE))","v":""},"",{"$nulls":18},{"$f":"IF(B182=\"\",\"\",表紙!$B$1)","v":""}]
["",{"$nulls":5},{"$f":"IF(F183=\"\",\"\",VLOOKUP(F183,学校データ!C:G,4,FALSE))","v":""},{"$nulls":7},{"v":0,"d":"0.00"},null,"",null,{"$f":"IF(E183=\"\",\"\",VLOOKUP(E183,競技データ!$F$2:$G$3,2,FALSE))","v":""},"","",null,"","",{"$f":"IF(H183=\"\",\"\",VLOOKUP(H183,競技データ!$A$2:$C$10,2,FALSE))","v":""},null,"",{"$f":"IF(AA183=\"\",\"\",VLOOKUP(AA183,学校データ!F:G,2,FALSE))","v":""},{"$nulls":4},"",{"$f":"IF(H183=\"\",\"\",VLOOKUP(H183,競技データ!$A$2:$C$10,3,FALSE))","v":""},"",{"$nulls":18},{"$f":"IF(B183=\"\",\"\",表紙!$B$1)","v":""}]
["",{"$nulls":5},{"$f":"IF(F184=\"\",\"\",VLOOKUP(F184,学校データ!C:G,4,FALSE))","v":""},{"$nulls":7},{"v":0,"d":"0.00"},null,"",null,{"$f":"IF(E184=\"\",\"\",VLOOKUP(E184,競技データ!$F$2:$G$3,2,FALSE))","v":""},"","",null,"","",{"$f":"IF(H184=\"\",\"\",VLOOKUP(H184,競技データ!$A$2:$C$10,2,FALSE))","v":""},null,"",{"$f":"IF(AA184=\"\",\"\",VLOOKUP(AA184,学校データ!F:G,2,FALSE))","v":""},{"$nulls":4},"",{"$f":"IF(H184=\"\",\"\",VLOOKUP(H184,競技データ!$A$2:$C$10,3,FALSE))","v":""},"",{"$nulls":18},{"$f":"IF(B184=\"\",\"\",表紙!$B$1)","v":""}]
["",{"$nulls":5},{"$f":"IF(F185=\"\",\"\",VLOOKUP(F185,学校データ!C:G,4,FALSE))","v":""},{"$nulls":7},{"v":0,"d":"0.00"},null,"",null,{"$f":"IF(E185=\"\",\"\",VLOOKUP(E185,競技データ!$F$2:$G$3,2,FALSE))","v":""},"","",null,"","",{"$f":"IF(H185=\"\",\"\",VLOOKUP(H185,競技データ!$A$2:$C$10,2,FALSE))","v":""},null,"",{"$f":"IF(AA185=\"\",\"\",VLOOKUP(AA185,学校データ!F:G,2,FALSE))","v":""},{"$nulls":4},"",{"$f":"IF(H185=\"\",\"\",VLOOKUP(H185,競技データ!$A$2:$C$10,3,FALSE))","v":""},"",{"$nulls":18},{"$f":"IF(B185=\"\",\"\",表紙!$B$1)","v":""}]
["",{"$nulls":5},{"$f":"IF(F186=\"\",\"\",VLOOKUP(F186,学校データ!C:G,4,FALSE))","v":""},{"$nulls":7},{"v":0,"d":"0.00"},null,"",null,{"$f":"IF(E186=\"\",\"\",VLOOKUP(E186,競技データ!$F$2:$G$3,2,FALSE))","v":""},"","",null,"","",{"$f":"IF(H186=\"\",\"\",VLOOKUP(H186,競技データ!$A$2:$C$10,2,FALSE))","v":""},null,"",{"$f":"IF(AA186=\"\",\"\",VLOOKUP(AA186,学校データ!F:G,2,FALSE))","v":""},{"$nulls":4},"",{"$f":"IF(H186=\"\",\"\",VLOOKUP(H186,競技データ!$A$2:$C$10,3,FALSE))","v":""},"",{"$nulls":18},{"$f":"IF(B186=\"\",\"\",表紙!$B$1)","v":""}]
["",{"$nulls":5},{"$f":"IF(F187=\"\",\"\",VLOOKUP(F187,学校データ!C:G,4,FALSE))","v":""},{"$nulls":7},{"v":0,"d":"0.00"},null,"",null,{"$f":"IF(E187=\"\",\"\",VLOOKUP(E187,競技データ!$F$2:$G$3,2,FALSE))","v":""},"","",null,"","",{"$f":"IF(H187=\"\",\"\",VLOOKUP(H187,競技データ!$A$2:$C$10,2,FALSE))","v":""},null,"",{"$f":"IF(AA187=\"\",\"\",VLOOKUP(AA187,学校データ!F:G,2,FALSE))","v":""},{"$nulls":4},"",{"$f":"IF(H187=\"\",\"\",VLOOKUP(H187,競技データ!$A$2:$C$10,3,FALSE))","v":""},"",{"$nulls":18},{"$f":"IF(B187=\"\",\"\",表紙!$B$1)","v":""}]
["",{"$nulls":5},{"$f":"IF(F188=\"\",\"\",VLOOKUP(F188,学校データ!C:G,4,FALSE))","v":""},{"$nulls":7},{"v":0,"d":"0.00"},null,"",null,{"$f":"IF(E188=\"\",\"\",VLOOKUP(E188,競技データ!$F$2:$G$3,2,FALSE))","v":""},"","",null,"","",{"$f":"IF(H188=\"\",\"\",VLOOKUP(H188,競技データ!$A$2:$C$10,2,FALSE))","v":""},null,"",{"$f":"IF(AA188=\"\",\"\",VLOOKUP(AA188,学校データ!F:G,2,FALSE))","v":""},{"$nulls":4},"",{"$f":"IF(H188=\"\",\"\",VLOOKUP(H188,競技データ!$A$2:$C$10,3,FALSE))","v":""},"",{"$nulls":18},{"$f":"IF(B188=\"\",\"\",表紙!$B$1)","v":""}]
["",{"$nulls":5},{"$f":"IF(F189=\"\",\"\",VLOOKUP(F189,学校データ!C:G,4,FALSE))","v":""},{"$nulls":7},{"v":0,"d":"0.00"},null,"",null,{"$f":"IF(E189=\"\",\"\",VLOOKUP(E189,競技データ!$F$2:$G$3,2,FALSE))","v":""},"","",null,"","",{"$f":"IF(H189=\"\",\"\",VLOOKUP(H189,競技データ!$A$2:$C$10,2,FALSE))","v":""},null,"",{"$f":"IF(AA189=\"\",\"\",VLOOKUP(AA189,学校データ!F:G,2,FALSE))","v":""},{"$nulls":4},"",{"$f":"IF(H189=\"\",\"\",VLOOKUP(H189,競技データ!$A$2:$C$10,3,FALSE))","v":""},"",{"$nulls":18},{"$f":"IF(B189=\"\",\"\",表紙!$B$1)","v":""}]
["",{"$nulls":5},{"$f":"IF(F190=\"\",\"\",VLOOKUP(F190,学校データ!C:G,4,FALSE))","v":""},{"$nulls":7},{"v":0,"d":"0.00"},null,"",null,{"$f":"IF(E190=\"\",\"\",VLOOKUP(E190,競技データ!$F$2:$G$3,2,FALSE))","v":""},"","",null,"","",{"$f":"IF(H190=\"\",\"\",VLOOKUP(H190,競技データ!$A$2:$C$10,2,FALSE))","v":""},null,"",{"$f":"IF(AA190=\"\",\"\",VLOOKUP(AA190,学校データ!F:G,2,FALSE))","v":""},{"$nulls":4},"",{"$f":"IF(H190=\"\",\"\",VLOOKUP(H190,競技データ!$A$2:$C$10,3,FALSE))","v":""},"",{"$nulls":18},{"$f":"IF(B190=\"\",\"\",表紙!$B$1)","v":""}]
["",{"$nulls":5},{"$f":"IF(F191=\"\",\"\",VLOOKUP(F191,学校データ!C:G,4,FALSE))","v":""},{"$nulls":7},{"v":0,"d":"0.00"},null,"",null,{"$f":"IF(E191=\"\",\"\",VLOOKUP(E191,競技データ!$F$2:$G$3,2,FALSE))","v":""},"","",null,"","",{"$f":"IF(H191=\"\",\"\",VLOOKUP(H191,競技データ!$A$2:$C$10,2,FALSE))","v":""},null,"",{"$f":"IF(AA191=\"\",\"\",VLOOKUP(AA191,学校データ!F:G,2,FALSE))","v":""},{"$nulls":4},"",{"$f":"IF(H191=\"\",\"\",VLOOKUP(H191,競技データ!$A$2:$C$10,3,FALSE))","v":""},"",{"$nulls":18},{"$f":"IF(B191=\"\",\"\",表紙!$B$1)","v":""}]
["",{"$nulls":5},{"$f":"IF(F192=\"\",\"\",VLOOKUP(F192,学校データ!C:G,4,FALSE))","v":""},{"$nulls":7},{"v":0,"d":"0.00"},null,"",null,{"$f":"IF(E192=\"\",\"\",VLOOKUP(E192,競技データ!$F$2:$G$3,2,FALSE))","v":""},"","",null,"","",{"$f":"IF(H192=\"\",\"\",VLOOKUP(H192,競技データ!$A$2:$C$10,2,FALSE))","v":""},null,"",{"$f":"IF(AA192=\"\",\"\",VLOOKUP(AA192,学校データ!F:G,2,FALSE))","v":""},{"$nulls":4},"",{"$f":"IF(H192=\"\",\"\",VLOOKUP(H192,競技データ!$A$2:$C$10,3,FALSE))","v":""},"",{"$nulls":18},{"$f":"IF(B192=\"\",\"\",表紙!$B$1)","v":""}]
["",{"$nulls":5},{"$f":"IF(F193=\"\",\"\",VLOOKUP(F193,学校データ!C:G,4,FALSE))","v":""},{"$nulls":7},{"v":0,"d":"0.00"},null,"",null,{"$f":"IF(E193=\"\",\"\",VLOOKUP(E193,競技データ!$F$2:$G$3,2,FALSE))","v":""},"","",null,"","",{"$f":"IF(H193=\"\",\"\",VLOOKUP(H193,競技データ!$A$2:$C$10,2,FALSE))","v":""},null,"",{"$f":"IF(AA193=\"\",\"\",VLOOKUP(AA193,学校データ!F:G,2,FALSE))","v":""},{"$nulls":4},"",{"$f":"IF(H193=\"\",\"\",VLOOKUP(H193,競技データ!$A$2:$C$10,3,FALSE))","v":""},"",{"$nulls":18},{"$f":"IF(B193=\"\",\"\",表紙!$B$1)","v":""}]
["",{"$nulls":5},{"$f":"IF(F194=\"\",\"\",VLOOKUP(F194,学校データ!C:G,4,FALSE))","v":""},{"$nulls":7},{"v":0,"d":"0.00"},null,"",null,{"$f":"IF(E194=\"\",\"\",VLOOKUP(E194,競技データ!$F$2:$G$3,2,FALSE))","v":""},"","",null,"","",{"$f":"IF(H194=\"\",\"\",VLOOKUP(H194,競技データ!$A$2:$C$10,2,FALSE))","v":""},null,"",{"$f":"IF(AA194=\"\",\"\",VLOOKUP(AA194,学校データ!F:G,2,FALSE))","v":""},{"$nulls":4},"",{"$f":"IF(H194=\"\",\"\",VLOOKUP(H194,競技データ!$A$2:$C$10,3,FALSE))","v":""},"",{"$nulls":18},{"$f":"IF(B194=\"\",\"\",表紙!$B$1)","v":""}]
["",{"$nulls":5},{"$f":"IF(F195=\"\",\"\",VLOOKUP(F195,学校データ!C:G,4,FALSE))","v":""},{"$nulls":7},{"$f":"I195*100+J195*10+K195+L195*0.1+M195*0.01","v":{"v":0,"d":"0.00"}},null,{"$f":"IF(A195=\"\",\"\",A195)","v":""},null,{"$f":"IF(E195=\"\",\"\",VLOOKUP(E195,競技データ!$F$2:$G$3,2,FALSE))","v":""},{"$f":"IF(B195=\"\",\"\",B195)","v":""},{"$f":"IF(C195=\"\",\"\",C195)","v":""},null,{"$f":"IF(B195=\"\",\"\",1)","v":""},{"$f":"IF(D195=\"\",\"\",D195)","v":""},{"$f":"IF(H195=\"\",\"\",VLOOKUP(H195,競技データ!$A$2:$C$10,2,FALSE))","v":""},null,"",{"$f":"IF(AA195=\"\",\"\",VLOOKUP(AA195,学校データ!F:G,2,FALSE))","v":""},{"$nulls":4},{"$f":"IF(B195=\"\",\"\",1)","v":""},{"$f":"IF(H195=\"\",\"\",VLOOKUP(H195,競技データ!$A$2:$C$10,3,FALSE))","v":""},{"$f":"IF(H195=\"\",\"\",O195)","v":""},{"$nulls":18},{"$f":"IF(B195=\"\",\"\",表紙!$B$1)","v":""}]
["",{"$nulls":5},{"$f":"IF(F196=\"\",\"\",VLOOKUP(F196,学校データ!C:G,4,FALSE))","v":""},{"$nulls":7},{"v":0,"d":"0.00"},null,"",null,{"$f":"IF(E196=\"\",\"\",VLOOKUP(E196,競技データ!$F$2:$G$3,2,FALSE))","v":""},"","",null,"","",{"$f":"IF(H196=\"\",\"\",VLOOKUP(H196,競技データ!$A$2:$C$10,2,FALSE))","v":""},null,{"$f":"IF(G196=\"\",\"\",G196)","v":""},{"$f":"IF(AA196=\"\",\"\",VLOOKUP(AA196,学校データ!F:G,2,FALSE))","v":""},{"$nulls":4},"",{"$f":"IF(H196=\"\",\"\",VLOOKUP(H196,競技データ!$A$2:$C$10,3,FALSE))","v":""},"",{"$nulls":18},{"$f":"IF(B196=\"\",\"\",表紙!$B$1)","v":""}]
["",{"$nulls":5},{"$f":"IF(F197=\"\",\"\",VLOOKUP(F197,学校データ!C:G,4,FALSE))","v":""},{"$nulls":7},{"v":0,"d":"0.00"},null,"",null,{"$f":"IF(E197=\"\",\"\",VLOOKUP(E197,競技データ!$F$2:$G$3,2,FALSE))","v":""},"","",null,"","",{"$f":"IF(H197=\"\",\"\",VLOOKUP(H197,競技データ!$A$2:$C$10,2,FALSE))","v":""},null,"",{"$f":"IF(AA197=\"\",\"\",VLOOKUP(AA197,学校データ!F:G,2,FALSE))","v":""},{"$nulls":4},"",{"$f":"IF(H197=\"\",\"\",VLOOKUP(H197,競技データ!$A$2:$C$10,3,FALSE))","v":""},"",{"$nulls":18},{"$f":"IF(B197=\"\",\"\",表紙!$B$1)","v":""}]
["",{"$nulls":5},{"$f":"IF(F198=\"\",\"\",VLOOKUP(F198,学校データ!C:G,4,FALSE))","v":""},{"$nulls":7},{"v":0,"d":"0.00"},null,"",null,{"$f":"IF(E198=\"\",\"\",VLOOKUP(E198,競技データ!$F$2:$G$3,2,FALSE))","v":""},"","",null,"","",{"$f":"IF(H198=\"\",\"\",VLOOKUP(H198,競技データ!$A$2:$C$10,2,FALSE))","v":""},null,"",{"$f":"IF(AA198=\"\",\"\",VLOOKUP(AA198,学校データ!F:G,2,FALSE))","v":""},{"$nulls":4},"",{"$f":"IF(H198=\"\",\"\",VLOOKUP(H198,競技データ!$A$2:$C$10,3,FALSE))","v":""},"",{"$nulls":18},{"$f":"IF(B198=\"\",\"\",表紙!$B$1)","v":""}]
["",{"$nulls":5},{"$f":"IF(F199=\"\",\"\",VLOOKUP(F199,学校データ!C:G,4,FALSE))","v":""},{"$nulls":7},{"v":0,"d":"0.00"},null,"",null,{"$f":"IF(E199=\"\",\"\",VLOOKUP(E199,競技データ!$F$2:$G$3,2,FALSE))","v":""},"","",null,"","",{"$f":"IF(H199=\"\",\"\",VLOOKUP(H199,競技データ!$A$2:$C$10,2,FALSE))","v":""},null,"",{"$f":"IF(AA199=\"\",\"\",VLOOKUP(AA199,学校データ!F:G,2,FALSE))","v":""},{"$nulls":4},"",{"$f":"IF(H199=\"\",\"\",VLOOKUP(H199,競技データ!$A$2:$C$10,3,FALSE))","v":""},"",{"$nulls":18},{"$f":"IF(B199=\"\",\"\",表紙!$B$1)","v":""}]
["",{"$nulls":5},{"$f":"IF(F200=\"\",\"\",VLOOKUP(F200,学校データ!C:G,4,FALSE))","v":""},{"$nulls":7},{"v":0,"d":"0.00"},null,"",null,{"$f":"IF(E200=\"\",\"\",VLOOKUP(E200,競技データ!$F$2:$G$3,2,FALSE))","v":""},"","",null,"","",{"$f":"IF(H200=\"\",\"\",VLOOKUP(H200,競技データ!$A$2:$C$10,2,FALSE))","v":""},null,"",{"$f":"IF(AA200=\"\",\"\",VLOOKUP(AA200,学校データ!F:G,2,FALSE))","v":""},{"$nulls":4},"",{"$f":"IF(H200=\"\",\"\",VLOOKUP(H200,競技データ!$A$2:$C$10,3,FALSE))","v":""},"",{"$nulls":18},{"$f":"IF(B200=\"\",\"\",表紙!$B$1)","v":""}]
["",{"$nulls":5},{"$f":"IF(F201=\"\",\"\",VLOOKUP(F201,学校データ!C:G,4,FALSE))","v":""},{"$nulls":7},{"v":0,"d":"0.00"},null,"",null,{"$f":"IF(E201=\"\",\"\",VLOOKUP(E201,競技データ!$F$2:$G$3,2,FALSE))","v":""},"","",null,"","",{"$f":"IF(H201=\"\",\"\",VLOOKUP(H201,競技データ!$A$2:$C$10,2,FALSE))","v":""},null,"",{"$f":"IF(AA201=\"\",\"\",VLOOKUP(AA201,学校データ!F:G,2,FALSE))","v":""},{"$nulls":4},"",{"$f":"IF(H201=\"\",\"\",VLOOKUP(H201,競技データ!$A$2:$C$10,3,FALSE))","v":""},"",{"$nulls":18},{"$f":"IF(B201=\"\",\"\",表紙!$B$1)","v":""}]
[{"$f":"IF(B202=\"\",\"\",A201+1)","v":""},{"$nulls":5},{"$f":"IF(F202=\"\",\"\",VLOOKUP(F202,学校データ!C:G,4,FALSE))","v":""},{"$nulls":7},{"v":0,"d":"0.00"},null,"",null,{"$f":"IF(E202=\"\",\"\",VLOOKUP(E202,競技データ!$F$2:$G$3,2,FALSE))","v":""},"","",null,"","",{"$f":"IF(H202=\"\",\"\",VLOOKUP(H202,競技データ!$A$2:$C$10,2,FALSE))","v":""},null,"",{"$f":"IF(AA202=\"\",\"\",VLOOKUP(AA202,学校データ!F:G,2,FALSE))","v":""},{"$nulls":4},"",{"$f":"IF(H202=\"\",\"\",VLOOKUP(H202,競技データ!$A$2:$C$10,3,FALSE))","v":""},"",{"$nulls":18},{"$f":"IF(B202=\"\",\"\",表紙!$B$1)","v":""}]

{"sheet":"リレー入力","index":2,"n_rows":85,"n_cols":29,"rows_kept":85,"merged":[[0,0,0,2]]}
[{"$f":"IF(表紙!B2=\"\",\"\",表紙!B2 & \"リレー入力\")","v":"前橋市リレー入力"},{"$nulls":4},"申込みタイム（各位ずつ記入）"]
["種目名","学校NO","学校名（自動表示）","分",null,"秒","1/10","1／100","1泳選手NO","1泳選手名（自動表示）","2泳選手NO","2泳選手名（自動表示）","3泳選手NO","3泳選手名（自動表示）","4泳選手NO","4泳選手名（自動表示）","補員選手NO","補員手名（自動表示）","タイム","チーム番号(4)","チーム名(20)","ﾖﾐｶﾞﾅ(15)","所属番号(4)","加盟番号(2)","学校(1)","ｸﾗｽ(2)","性別(1)","ｴﾝﾄﾘｰ(5)","ｴﾝﾄﾘｰﾀｲﾑ(7)"]
["男子200mフリーリレー",null,{"$f":"IF(B3=\"\",\"\",VLOOKUP(B3,学校データ!C:F,4,FALSE))","v":""},{"$nulls":6},{"$f":"IF(I3=\"\",\"\",VLOOKUP(I3,選手入力!$A:$B,2,FALSE))","v":""},null,{"$f":"IF(K3=\"\",\"\",VLOOKUP(K3,選手入力!$A:$B,2,FALSE))","v":""},null,{"$f":"IF(M3=\"\",\"\",VLOOKUP(M3,選手入力!$A:$B,2,FALSE))","v":""},null,{"$f":"IF(O3=\"\",\"\",VLOOKUP(O3,選手入力!$A:$B,2,FALSE))","v":""},null,{"$f":"IF(Q3=\"\",\"\",VLOOKUP(Q3,選手入力!$A:$B,2,FALSE))","v":""},{"$f":"D3*100+E3*10+F3+G3*0.1+H3*0.01","v":{"v":0,"d":"0.00"}},{"$f":"IF(B3=\"\",\"\",表紙!$B$21)","v":""},{"$f":"IF(C3=\"\",\"\",C3)","v":""},{"$f":"IF(U3=\"\",\"\",VLOOKUP(U3,学校データ!F:G,2,FALSE))","v":""},null,null,{"$f":"IF(B3=\"\",\"\",1)","v":""},{"$f":"IF(B3=\"\",\"\",1)","v":""},{"$f":"IF(B3=\"\",\"\",1)","v":""},{"$f":"IF(B3=\"\",\"\",60200)","v":""},{"$f":"IF(B3=\"\",\"\",S3)","v":""}]
[null,null,{"$f":"IF(B4=\"\",\"\",VLOOKUP(B4,学校データ!C:F,4,FALSE))","v":""},{"$nulls":6},{"$f":"IF(I4=\"\",\"\",VLOOKUP(I4,選手入力!$A:$B,2,FALSE))","v":""},null,{"$f":"IF(K4=\"\",\"\",VLOOKUP(K4,選手入力!$A:$B,2,FALSE))","v":""},null,{"$f":"IF(M4=\"\",\"\",VLOOKUP(M4,選手入力!$A:$B,2,FALSE))","v":""},null,{"$f":"IF(O4=\"\",\"\",VLOOKUP(O4,選手入力!$A:$B,2,FALSE))","v":""},null,{"$f":"IF(Q4=\"\",\"\",VLOOKUP(Q4,選手入力!$A:$B,2,FALSE))","v":""},{"$f":"D4*100+E4*10+F4+G4*0.1+H4*0.01","v":{"v":0,"d":"0.00"}},{"$f":"IF(B4=\"\",\"\",T3+1)","v":""},{"$f":"IF(C4=\"\",\"\",C4)","v":""},{"$f":"IF(U4=\"\",\"\",VLOOKUP(U4,学校データ!F:G,2,FALSE))","v":""},null,null,{"$f":"IF(B4=\"\",\"\",1)","v":""},{"$f":"IF(B4=\"\",\"\",1)","v":""},{"$f":"IF(B4=\"\",\"\",1)","v":""},{"$f":"IF(B4=\"\",\"\",60200)","v":""},{"$f":"IF(B4=\"\",\"\",S4)","v":""}]
[null,null,{"$f":"IF(B5=\"\",\"\",VLOOKUP(B5,学校データ!C:F,4,FALSE))","v":""},{"$nulls":6},{"$f":"IF(I5=\"\",\"\",VLOOKUP(I5,選手入力!$A:$B,2,FALSE))","v":""},null,{"$f":"IF(K5=\"\",\"\",VLOOKUP(K5,選手入力!$A:$B,2,FALSE))","v":""},null,{"$f":"IF(M5=\"\",\"\",VLOOKUP(M5,選手入力!$A:$B,2,FALSE))","v":""},null,{"$f":"IF(O5=\"\",\"\",VLOOKUP(O5,選手入力!$A:$B,2,FALSE))","v":""},null,{"$f":"IF(Q5=\"\",\"\",VLOOKUP(Q5,選手入力!$A:$B,2,FALSE))","v":""},{"v":0,"d":"0.00"},{"$f":"IF(B5=\"\",\"\",T4+1)","v":""},"",{"$f":"IF(U5=\"\",\"\",VLOOKUP(U5,学校データ!F:G,2,FALSE))","v":""},null,null,"","","","",""]
[null,null,{"$f":"IF(B6=\"\",\"\",VLOOKUP(B6,学校データ!C:F,4,FALSE))","v":""},{"$nulls":6},{"$f":"IF(I6=\"\",\"\",VLOOKUP(I6,選手入力!$A:$B,2,FALSE))","v":""},null,{"$f":"IF(K6=\"\",\"\",VLOOKUP(K6,選手入力!$A:$B,2,FALSE))","v":""},null,{"$f":"IF(M6=\"\",\"\",VLOOKUP(M6,選手入力!$A:$B,2,FALSE))","v":""},null,{"$f":"IF(O6=\"\",\"\",VLOOKUP(O6,選手入力!$A:$B,2,FALSE))","v":""},null,{"$f":"IF(Q6=\"\",\"\",VLOOKUP(Q6,選手入力!$A:$B,2,FALSE))","v":""},{"v":0,"d":"0.00"},"","",{"$f":"IF(U6=\"\",\"\",VLOOKUP(U6,学校データ!F:G,2,FALSE))","v":""},null,null,"","","","",""]
[null,null,{"$f":"IF(B7=\"\",\"\",VLOOKUP(B7,学校データ!C:F,4,FALSE))","v":""},{"$nulls":6},{"$f":"IF(I7=\"\",\"\",VLOOKUP(I7,選手入力!$A:$B,2,FALSE))","v":""},null,{"$f":"IF(K7=\"\",\"\",VLOOKUP(K7,選手入力!$A:$B,2,FALSE))","v":""},null,{"$f":"IF(M7=\"\",\"\",VLOOKUP(M7,選手入力!$A:$B,2,FALSE))","v":""},null,{"$f":"IF(O7=\"\",\"\",VLOOKUP(O7,選手入力!$A:$B,2,FALSE))","v":""},null,{"$f":"IF(Q7=\"\",\"\",VLOOKUP(Q7,選手入力!$A:$B,2,FALSE))","v":""},{"v":0,"d":"0.00"},"","",{"$f":"IF(U7=\"\",\"\",VLOOKUP(U7,学校データ!F:G,2,FALSE))","v":""},null,null,"","","","",""]
[null,null,{"$f":"IF(B8=\"\",\"\",VLOOKUP(B8,学校データ!C:F,4,FALSE))","v":""},{"$nulls":6},{"$f":"IF(I8=\"\",\"\",VLOOKUP(I8,選手入力!$A:$B,2,FALSE))","v":""},null,{"$f":"IF(K8=\"\",\"\",VLOOKUP(K8,選手入力!$A:$B,2,FALSE))","v":""},null,{"$f":"IF(M8=\"\",\"\",VLOOKUP(M8,選手入力!$A:$B,2,FALSE))","v":""},null,{"$f":"IF(O8=\"\",\"\",VLOOKUP(O8,選手入力!$A:$B,2,FALSE))","v":""},null,{"$f":"IF(Q8=\"\",\"\",VLOOKUP(Q8,選手入力!$A:$B,2,FALSE))","v":""},{"v":0,"d":"0.00"},"","",{"$f":"IF(U8=\"\",\"\",VLOOKUP(U8,学校データ!F:G,2,FALSE))","v":""},null,null,"","","","",""]
[null,null,{"$f":"IF(B9=\"\",\"\",VLOOKUP(B9,学校データ!C:F,4,FALSE))","v":""},{"$nulls":6},{"$f":"IF(I9=\"\",\"\",VLOOKUP(I9,選手入力!$A:$B,2,FALSE))","v":""},null,{"$f":"IF(K9=\"\",\"\",VLOOKUP(K9,選手入力!$A:$B,2,FALSE))","v":""},null,{"$f":"IF(M9=\"\",\"\",VLOOKUP(M9,選手入力!$A:$B,2,FALSE))","v":""},null,{"$f":"IF(O9=\"\",\"\",VLOOKUP(O9,選手入力!$A:$B,2,FALSE))","v":""},null,{"$f":"IF(Q9=\"\",\"\",VLOOKUP(Q9,選手入力!$A:$B,2,FALSE))","v":""},{"v":0,"d":"0.00"},"","",{"$f":"IF(U9=\"\",\"\",VLOOKUP(U9,学校データ!F:G,2,FALSE))","v":""},null,null,"","","","",""]
[null,null,{"$f":"IF(B10=\"\",\"\",VLOOKUP(B10,学校データ!C:F,4,FALSE))","v":""},{"$nulls":6},{"$f":"IF(I10=\"\",\"\",VLOOKUP(I10,選手入力!$A:$B,2,FALSE))","v":""},null,{"$f":"IF(K10=\"\",\"\",VLOOKUP(K10,選手入力!$A:$B,2,FALSE))","v":""},null,{"$f":"IF(M10=\"\",\"\",VLOOKUP(M10,選手入力!$A:$B,2,FALSE))","v":""},null,{"$f":"IF(O10=\"\",\"\",VLOOKUP(O10,選手入力!$A:$B,2,FALSE))","v":""},null,{"$f":"IF(Q10=\"\",\"\",VLOOKUP(Q10,選手入力!$A:$B,2,FALSE))","v":""},{"v":0,"d":"0.00"},"","",{"$f":"IF(U10=\"\",\"\",VLOOKUP(U10,学校データ!F:G,2,FALSE))","v":""},null,null,"","","","",""]
[null,null,{"$f":"IF(B11=\"\",\"\",VLOOKUP(B11,学校データ!C:F,4,FALSE))","v":""},{"$nulls":6},{"$f":"IF(I11=\"\",\"\",VLOOKUP(I11,選手入力!$A:$B,2,FALSE))","v":""},null,{"$f":"IF(K11=\"\",\"\",VLOOKUP(K11,選手入力!$A:$B,2,FALSE))","v":""},null,{"$f":"IF(M11=\"\",\"\",VLOOKUP(M11,選手入力!$A:$B,2,FALSE))","v":""},null,{"$f":"IF(O11=\"\",\"\",VLOOKUP(O11,選手入力!$A:$B,2,FALSE))","v":""},null,{"$f":"IF(Q11=\"\",\"\",VLOOKUP(Q11,選手入力!$A:$B,2,FALSE))","v":""},{"v":0,"d":"0.00"},"","",{"$f":"IF(U11=\"\",\"\",VLOOKUP(U11,学校データ!F:G,2,FALSE))","v":""},null,null,"","","","",""]
[null,null,{"$f":"IF(B12=\"\",\"\",VLOOKUP(B12,学校データ!C:F,4,FALSE))","v":""},{"$nulls":6},{"$f":"IF(I12=\"\",\"\",VLOOKUP(I12,選手入力!$A:$B,2,FALSE))","v":""},null,{"$f":"IF(K12=\"\",\"\",VLOOKUP(K12,選手入力!$A:$B,2,FALSE))","v":""},null,{"$f":"IF(M12=\"\",\"\",VLOOKUP(M12,選手入力!$A:$B,2,FALSE))","v":""},null,{"$f":"IF(O12=\"\",\"\",VLOOKUP(O12,選手入力!$A:$B,2,FALSE))","v":""},null,{"$f":"IF(Q12=\"\",\"\",VLOOKUP(Q12,選手入力!$A:$B,2,FALSE))","v":""},{"v":0,"d":"0.00"},"","",{"$f":"IF(U12=\"\",\"\",VLOOKUP(U12,学校データ!F:G,2,FALSE))","v":""},null,null,"","","","",""]
[null,null,{"$f":"IF(B13=\"\",\"\",VLOOKUP(B13,学校データ!C:F,4,FALSE))","v":""},{"$nulls":6},{"$f":"IF(I13=\"\",\"\",VLOOKUP(I13,選手入力!$A:$B,2,FALSE))","v":""},null,{"$f":"IF(K13=\"\",\"\",VLOOKUP(K13,選手入力!$A:$B,2,FALSE))","v":""},null,{"$f":"IF(M13=\"\",\"\",VLOOKUP(M13,選手入力!$A:$B,2,FALSE))","v":""},null,{"$f":"IF(O13=\"\",\"\",VLOOKUP(O13,選手入力!$A:$B,2,FALSE))","v":""},null,{"$f":"IF(Q13=\"\",\"\",VLOOKUP(Q13,選手入力!$A:$B,2,FALSE))","v":""},{"v":0,"d":"0.00"},"","",{"$f":"IF(U13=\"\",\"\",VLOOKUP(U13,学校データ!F:G,2,FALSE))","v":""},null,null,"","","","",""]
[null,null,{"$f":"IF(B14=\"\",\"\",VLOOKUP(B14,学校データ!C:F,4,FALSE))","v":""},{"$nulls":6},{"$f":"IF(I14=\"\",\"\",VLOOKUP(I14,選手入力!$A:$B,2,FALSE))","v":""},null,{"$f":"IF(K14=\"\",\"\",VLOOKUP(K14,選手入力!$A:$B,2,FALSE))","v":""},null,{"$f":"IF(M14=\"\",\"\",VLOOKUP(M14,選手入力!$A:$B,2,FALSE))","v":""},null,{"$f":"IF(O14=\"\",\"\",VLOOKUP(O14,選手入力!$A:$B,2,FALSE))","v":""},null,{"$f":"IF(Q14=\"\",\"\",VLOOKUP(Q14,選手入力!$A:$B,2,FALSE))","v":""},{"v":0,"d":"0.00"},"","",{"$f":"IF(U14=\"\",\"\",VLOOKUP(U14,学校データ!F:G,2,FALSE))","v":""},null,null,"","","","",""]
[null,null,{"$f":"IF(B15=\"\",\"\",VLOOKUP(B15,学校データ!C:F,4,FALSE))","v":""},{"$nulls":6},{"$f":"IF(I15=\"\",\"\",VLOOKUP(I15,選手入力!$A:$B,2,FALSE))","v":""},null,{"$f":"IF(K15=\"\",\"\",VLOOKUP(K15,選手入力!$A:$B,2,FALSE))","v":""},null,{"$f":"IF(M15=\"\",\"\",VLOOKUP(M15,選手入力!$A:$B,2,FALSE))","v":""},null,{"$f":"IF(O15=\"\",\"\",VLOOKUP(O15,選手入力!$A:$B,2,FALSE))","v":""},null,{"$f":"IF(Q15=\"\",\"\",VLOOKUP(Q15,選手入力!$A:$B,2,FALSE))","v":""},{"v":0,"d":"0.00"},"","",{"$f":"IF(U15=\"\",\"\",VLOOKUP(U15,学校データ!F:G,2,FALSE))","v":""},null,null,"","","","",""]
[null,null,{"$f":"IF(B16=\"\",\"\",VLOOKUP(B16,学校データ!C:F,4,FALSE))","v":""},{"$nulls":6},{"$f":"IF(I16=\"\",\"\",VLOOKUP(I16,選手入力!$A:$B,2,FALSE))","v":""},null,{"$f":"IF(K16=\"\",\"\",VLOOKUP(K16,選手入力!$A:$B,2,FALSE))","v":""},null,{"$f":"IF(M16=\"\",\"\",VLOOKUP(M16,選手入力!$A:$B,2,FALSE))","v":""},null,{"$f":"IF(O16=\"\",\"\",VLOOKUP(O16,選手入力!$A:$B,2,FALSE))","v":""},null,{"$f":"IF(Q16=\"\",\"\",VLOOKUP(Q16,選手入力!$A:$B,2,FALSE))","v":""},{"v":0,"d":"0.00"},"","",{"$f":"IF(U16=\"\",\"\",VLOOKUP(U16,学校データ!F:G,2,FALSE))","v":""},null,null,"","","","",""]
[null,null,{"$f":"IF(B17=\"\",\"\",VLOOKUP(B17,学校データ!C:F,4,FALSE))","v":""},{"$nulls":6},{"$f":"IF(I17=\"\",\"\",VLOOKUP(I17,選手入力!$A:$B,2,FALSE))","v":""},null,{"$f":"IF(K17=\"\",\"\",VLOOKUP(K17,選手入力!$A:$B,2,FALSE))","v":""},null,{"$f":"IF(M17=\"\",\"\",VLOOKUP(M17,選手入力!$A:$B,2,FALSE))","v":""},null,{"$f":"IF(O17=\"\",\"\",VLOOKUP(O17,選手入力!$A:$B,2,FALSE))","v":""},null,{"$f":"IF(Q17=\"\",\"\",VLOOKUP(Q17,選手入力!$A:$B,2,FALSE))","v":""},{"v":0,"d":"0.00"},"","",{"$f":"IF(U17=\"\",\"\",VLOOKUP(U17,学校データ!F:G,2,FALSE))","v":""},null,null,"","","","",""]
[null,null,{"$f":"IF(B18=\"\",\"\",VLOOKUP(B18,学校データ!C:F,4,FALSE))","v":""},{"$nulls":6},{"$f":"IF(I18=\"\",\"\",VLOOKUP(I18,選手入力!$A:$B,2,FALSE))","v":""},null,{"$f":"IF(K18=\"\",\"\",VLOOKUP(K18,選手入力!$A:$B,2,FALSE))","v":""},null,{"$f":"IF(M18=\"\",\"\",VLOOKUP(M18,選手入力!$A:$B,2,FALSE))","v":""},null,{"$f":"IF(O18=\"\",\"\",VLOOKUP(O18,選手入力!$A:$B,2,FALSE))","v":""},null,{"$f":"IF(Q18=\"\",\"\",VLOOKUP(Q18,選手入力!$A:$B,2,FALSE))","v":""},{"v":0,"d":"0.00"},"","",{"$f":"IF(U18=\"\",\"\",VLOOKUP(U18,学校データ!F:G,2,FALSE))","v":""},null,null,"","","","",""]
[null,null,{"$f":"IF(B19=\"\",\"\",VLOOKUP(B19,学校データ!C:F,4,FALSE))","v":""},{"$nulls":6},{"$f":"IF(I19=\"\",\"\",VLOOKUP(I19,選手入力!$A:$B,2,FALSE))","v":""},null,{"$f":"IF(K19=\"\",\"\",VLOOKUP(K19,選手入力!$A:$B,2,FALSE))","v":""},null,{"$f":"IF(M19=\"\",\"\",VLOOKUP(M19,選手入力!$A:$B,2,FALSE))","v":""},null,{"$f":"IF(O19=\"\",\"\",VLOOKUP(O19,選手入力!$A:$B,2,FALSE))","v":""},null,{"$f":"IF(Q19=\"\",\"\",VLOOKUP(Q19,選手入力!$A:$B,2,FALSE))","v":""},{"v":0,"d":"0.00"},"","",{"$f":"IF(U19=\"\",\"\",VLOOKUP(U19,学校データ!F:G,2,FALSE))","v":""},null,null,"","","","",""]
[null,null,{"$f":"IF(B20=\"\",\"\",VLOOKUP(B20,学校データ!C:F,4,FALSE))","v":""},{"$nulls":6},{"$f":"IF(I20=\"\",\"\",VLOOKUP(I20,選手入力!$A:$B,2,FALSE))","v":""},null,{"$f":"IF(K20=\"\",\"\",VLOOKUP(K20,選手入力!$A:$B,2,FALSE))","v":""},null,{"$f":"IF(M20=\"\",\"\",VLOOKUP(M20,選手入力!$A:$B,2,FALSE))","v":""},null,{"$f":"IF(O20=\"\",\"\",VLOOKUP(O20,選手入力!$A:$B,2,FALSE))","v":""},null,{"$f":"IF(Q20=\"\",\"\",VLOOKUP(Q20,選手入力!$A:$B,2,FALSE))","v":""},{"v":0,"d":"0.00"},"","",{"$f":"IF(U20=\"\",\"\",VLOOKUP(U20,学校データ!F:G,2,FALSE))","v":""},null,null,"","","","",""]
[null,null,{"$f":"IF(B21=\"\",\"\",VLOOKUP(B21,学校データ!C:F,4,FALSE))","v":""},{"$nulls":6},{"$f":"IF(I21=\"\",\"\",VLOOKUP(I21,選手入力!$A:$B,2,FALSE))","v":""},null,{"$f":"IF(K21=\"\",\"\",VLOOKUP(K21,選手入力!$A:$B,2,FALSE))","v":""},null,{"$f":"IF(M21=\"\",\"\",VLOOKUP(M21,選手入力!$A:$B,2,FALSE))","v":""},null,{"$f":"IF(O21=\"\",\"\",VLOOKUP(O21,選手入力!$A:$B,2,FALSE))","v":""},null,{"$f":"IF(Q21=\"\",\"\",VLOOKUP(Q21,選手入力!$A:$B,2,FALSE))","v":""},{"v":0,"d":"0.00"},"","",{"$f":"IF(U21=\"\",\"\",VLOOKUP(U21,学校データ!F:G,2,FALSE))","v":""},null,null,"","","","",""]
[null,null,{"$f":"IF(B22=\"\",\"\",VLOOKUP(B22,学校データ!C:F,4,FALSE))","v":""},{"$nulls":6},{"$f":"IF(I22=\"\",\"\",VLOOKUP(I22,選手入力!$A:$B,2,FALSE))","v":""},null,{"$f":"IF(K22=\"\",\"\",VLOOKUP(K22,選手入力!$A:$B,2,FALSE))","v":""},null,{"$f":"IF(M22=\"\",\"\",VLOOKUP(M22,選手入力!$A:$B,2,FALSE))","v":""},null,{"$f":"IF(O22=\"\",\"\",VLOOKUP(O22,選手入力!$A:$B,2,FALSE))","v":""},null,{"$f":"IF(Q22=\"\",\"\",VLOOKUP(Q22,選手入力!$A:$B,2,FALSE))","v":""},{"v":0,"d":"0.00"},"","",{"$f":"IF(U22=\"\",\"\",VLOOKUP(U22,学校データ!F:G,2,FALSE))","v":""},null,null,"","","","",""]
["女子200mフリーリレー",null,{"$f":"IF(B23=\"\",\"\",VLOOKUP(B23,学校データ!C:F,4,FALSE))","v":""},{"$nulls":6},{"$f":"IF(I23=\"\",\"\",VLOOKUP(I23,選手入力!$A:$B,2,FALSE))","v":""},null,{"$f":"IF(K23=\"\",\"\",VLOOKUP(K23,選手入力!$A:$B,2,FALSE))","v":""},null,{"$f":"IF(M23=\"\",\"\",VLOOKUP(M23,選手入力!$A:$B,2,FALSE))","v":""},null,{"$f":"IF(O23=\"\",\"\",VLOOKUP(O23,選手入力!$A:$B,2,FALSE))","v":""},null,{"$f":"IF(Q23=\"\",\"\",VLOOKUP(Q23,選手入力!$A:$B,2,FALSE))","v":""},{"v":0,"d":"0.00"},{"$f":"IF(B23=\"\",\"\",表紙!$B$21+20)","v":""},"",{"$f":"IF(U23=\"\",\"\",VLOOKUP(U23,学校データ!F:G,2,FALSE))","v":""},null,null,"","",{"$f":"IF(B23=\"\",\"\",2)","v":""},"",""]
[null,null,{"$f":"IF(B24=\"\",\"\",VLOOKUP(B24,学校データ!C:F,4,FALSE))","v":""},{"$nulls":6},{"$f":"IF(I24=\"\",\"\",VLOOKUP(I24,選手入力!$A:$B,2,FALSE))","v":""},null,{"$f":"IF(K24=\"\",\"\",VLOOKUP(K24,選手入力!$A:$B,2,FALSE))","v":""},null,{"$f":"IF(M24=\"\",\"\",VLOOKUP(M24,選手入力!$A:$B,2,FALSE))","v":""},null,{"$f":"IF(O24=\"\",\"\",VLOOKUP(O24,選手入力!$A:$B,2,FALSE))","v":""},null,{"$f":"IF(Q24=\"\",\"\",VLOOKUP(Q24,選手入力!$A:$B,2,FALSE))","v":""},{"v":0,"d":"0.00"},"","",{"$f":"IF(U24=\"\",\"\",VLOOKUP(U24,学校データ!F:G,2,FALSE))","v":""},null,null,"","",{"$f":"IF(B24=\"\",\"\",2)","v":""},"",""]
[null,null,{"$f":"IF(B25=\"\",\"\",VLOOKUP(B25,学校データ!C:F,4,FALSE))","v":""},{"$nulls":6},{"$f":"IF(I25=\"\",\"\",VLOOKUP(I25,選手入力!$A:$B,2,FALSE))","v":""},null,{"$f":"IF(K25=\"\",\"\",VLOOKUP(K25,選手入力!$A:$B,2,FALSE))","v":""},null,{"$f":"IF(M25=\"\",\"\",VLOOKUP(M25,選手入力!$A:$B,2,FALSE))","v":""},null,{"$f":"IF(O25=\"\",\"\",VLOOKUP(O25,選手入力!$A:$B,2,FALSE))","v":""},null,{"$f":"IF(Q25=\"\",\"\",VLOOKUP(Q25,選手入力!$A:$B,2,FALSE))","v":""},{"v":0,"d":"0.00"},"","",{"$f":"IF(U25=\"\",\"\",VLOOKUP(U25,学校データ!F:G,2,FALSE))","v":""},null,null,"","","","",""]
[null,null,{"$f":"IF(B26=\"\",\"\",VLOOKUP(B26,学校データ!C:F,4,FALSE))","v":""},{"$nulls":6},{"$f":"IF(I26=\"\",\"\",VLOOKUP(I26,選手入力!$A:$B,2,FALSE))","v":""},null,{"$f":"IF(K26=\"\",\"\",VLOOKUP(K26,選手入力!$A:$B,2,FALSE))","v":""},null,{"$f":"IF(M26=\"\",\"\",VLOOKUP(M26,選手入力!$A:$B,2,FALSE))","v":""},null,{"$f":"IF(O26=\"\",\"\",VLOOKUP(O26,選手入力!$A:$B,2,FALSE))","v":""},null,{"$f":"IF(Q26=\"\",\"\",VLOOKUP(Q26,選手入力!$A:$B,2,FALSE))","v":""},{"v":0,"d":"0.00"},"","",{"$f":"IF(U26=\"\",\"\",VLOOKUP(U26,学校データ!F:G,2,FALSE))","v":""},null,null,"","","","",""]
[null,null,{"$f":"IF(B27=\"\",\"\",VLOOKUP(B27,学校データ!C:F,4,FALSE))","v":""},{"$nulls":6},{"$f":"IF(I27=\"\",\"\",VLOOKUP(I27,選手入力!$A:$B,2,FALSE))","v":""},null,{"$f":"IF(K27=\"\",\"\",VLOOKUP(K27,選手入力!$A:$B,2,FALSE))","v":""},null,{"$f":"IF(M27=\"\",\"\",VLOOKUP(M27,選手入力!$A:$B,2,FALSE))","v":""},null,{"$f":"IF(O27=\"\",\"\",VLOOKUP(O27,選手入力!$A:$B,2,FALSE))","v":""},null,{"$f":"IF(Q27=\"\",\"\",VLOOKUP(Q27,選手入力!$A:$B,2,FALSE))","v":""},{"v":0,"d":"0.00"},"","",{"$f":"IF(U27=\"\",\"\",VLOOKUP(U27,学校データ!F:G,2,FALSE))","v":""},null,null,"","","","",""]
[null,null,{"$f":"IF(B28=\"\",\"\",VLOOKUP(B28,学校データ!C:F,4,FALSE))","v":""},{"$nulls":6},{"$f":"IF(I28=\"\",\"\",VLOOKUP(I28,選手入力!$A:$B,2,FALSE))","v":""},null,{"$f":"IF(K28=\"\",\"\",VLOOKUP(K28,選手入力!$A:$B,2,FALSE))","v":""},null,{"$f":"IF(M28=\"\",\"\",VLOOKUP(M28,選手入力!$A:$B,2,FALSE))","v":""},null,{"$f":"IF(O28=\"\",\"\",VLOOKUP(O28,選手入力!$A:$B,2,FALSE))","v":""},null,{"$f":"IF(Q28=\"\",\"\",VLOOKUP(Q28,選手入力!$A:$B,2,FALSE))","v":""},{"v":0,"d":"0.00"},"","",{"$f":"IF(U28=\"\",\"\",VLOOKUP(U28,学校データ!F:G,2,FALSE))","v":""},null,null,"","","","",""]
[null,null,{"$f":"IF(B29=\"\",\"\",VLOOKUP(B29,学校データ!C:F,4,FALSE))","v":""},{"$nulls":6},{"$f":"IF(I29=\"\",\"\",VLOOKUP(I29,選手入力!$A:$B,2,FALSE))","v":""},null,{"$f":"IF(K29=\"\",\"\",VLOOKUP(K29,選手入力!$A:$B,2,FALSE))","v":""},null,{"$f":"IF(M29=\"\",\"\",VLOOKUP(M29,選手入力!$A:$B,2,FALSE))","v":""},null,{"$f":"IF(O29=\"\",\"\",VLOOKUP(O29,選手入力!$A:$B,2,FALSE))","v":""},null,{"$f":"IF(Q29=\"\",\"\",VLOOKUP(Q29,選手入力!$A:$B,2,FALSE))","v":""},{"v":0,"d":"0.00"},"","",{"$f":"IF(U29=\"\",\"\",VLOOKUP(U29,学校データ!F:G,2,FALSE))","v":""},null,null,"","","","",""]
[null,null,{"$f":"IF(B30=\"\",\"\",VLOOKUP(B30,学校データ!C:F,4,FALSE))","v":""},{"$nulls":6},{"$f":"IF(I30=\"\",\"\",VLOOKUP(I30,選手入力!$A:$B,2,FALSE))","v":""},null,{"$f":"IF(K30=\"\",\"\",VLOOKUP(K30,選手入力!$A:$B,2,FALSE))","v":""},null,{"$f":"IF(M30=\"\",\"\",VLOOKUP(M30,選手入力!$A:$B,2,FALSE))","v":""},null,{"$f":"IF(O30=\"\",\"\",VLOOKUP(O30,選手入力!$A:$B,2,FALSE))","v":""},null,{"$f":"IF(Q30=\"\",\"\",VLOOKUP(Q30,選手入力!$A:$B,2,FALSE))","v":""},{"v":0,"d":"0.00"},"","",{"$f":"IF(U30=\"\",\"\",VLOOKUP(U30,学校データ!F:G,2,FALSE))","v":""},null,null,"","","","",""]
[null,null,{"$f":"IF(B31=\"\",\"\",VLOOKUP(B31,学校データ!C:F,4,FALSE))","v":""},{"$nulls":6},{"$f":"IF(I31=\"\",\"\",VLOOKUP(I31,選手入力!$A:$B,2,FALSE))","v":""},null,{"$f":"IF(K31=\"\",\"\",VLOOKUP(K31,選手入力!$A:$B,2,FALSE))","v":""},null,{"$f":"IF(M31=\"\",\"\",VLOOKUP(M31,選手入力!$A:$B,2,FALSE))","v":""},null,{"$f":"IF(O31=\"\",\"\",VLOOKUP(O31,選手入力!$A:$B,2,FALSE))","v":""},null,{"$f":"IF(Q31=\"\",\"\",VLOOKUP(Q31,選手入力!$A:$B,2,FALSE))","v":""},{"v":0,"d":"0.00"},"","",{"$f":"IF(U31=\"\",\"\",VLOOKUP(U31,学校データ!F:G,2,FALSE))","v":""},null,null,"","","","",""]
[null,null,{"$f":"IF(B32=\"\",\"\",VLOOKUP(B32,学校データ!C:F,4,FALSE))","v":""},{"$nulls":6},{"$f":"IF(I32=\"\",\"\",VLOOKUP(I32,選手入力!$A:$B,2,FALSE))","v":""},null,{"$f":"IF(K32=\"\",\"\",VLOOKUP(K32,選手入力!$A:$B,2,FALSE))","v":""},null,{"$f":"IF(M32=\"\",\"\",VLOOKUP(M32,選手入力!$A:$B,2,FALSE))","v":""},null,{"$f":"IF(O32=\"\",\"\",VLOOKUP(O32,選手入力!$A:$B,2,FALSE))","v":""},null,{"$f":"IF(Q32=\"\",\"\",VLOOKUP(Q32,選手入力!$A:$B,2,FALSE))","v":""},{"v":0,"d":"0.00"},"","",{"$f":"IF(U32=\"\",\"\",VLOOKUP(U32,学校データ!F:G,2,FALSE))","v":""},null,null,"","","","",""]
[null,null,{"$f":"IF(B33=\"\",\"\",VLOOKUP(B33,学校データ!C:F,4,FALSE))","v":""},{"$nulls":6},{"$f":"IF(I33=\"\",\"\",VLOOKUP(I33,選手入力!$A:$B,2,FALSE))","v":""},null,{"$f":"IF(K33=\"\",\"\",VLOOKUP(K33,選手入力!$A:$B,2,FALSE))","v":""},null,{"$f":"IF(M33=\"\",\"\",VLOOKUP(M33,選手入力!$A:$B,2,FALSE))","v":""},null,{"$f":"IF(O33=\"\",\"\",VLOOKUP(O33,選手入力!$A:$B,2,FALSE))","v":""},null,{"$f":"IF(Q33=\"\",\"\",VLOOKUP(Q33,選手入力!$A:$B,2,FALSE))","v":""},{"v":0,"d":"0.00"},"","",{"$f":"IF(U33=\"\",\"\",VLOOKUP(U33,学校データ!F:G,2,FALSE))","v":""},null,null,"","","","",""]
[null,null,{"$f":"IF(B34=\"\",\"\",VLOOKUP(B34,学校データ!C:F,4,FALSE))","v":""},{"$nulls":6},{"$f":"IF(I34=\"\",\"\",VLOOKUP(I34,選手入力!$A:$B,2,FALSE))","v":""},null,{"$f":"IF(K34=\"\",\"\",VLOOKUP(K34,選手入力!$A:$B,2,FALSE))","v":""},null,{"$f":"IF(M34=\"\",\"\",VLOOKUP(M34,選手入力!$A:$B,2,FALSE))","v":""},null,{"$f":"IF(O34=\"\",\"\",VLOOKUP(O34,選手入力!$A:$B,2,FALSE))","v":""},null,{"$f":"IF(Q34=\"\",\"\",VLOOKUP(Q34,選手入力!$A:$B,2,FALSE))","v":""},{"v":0,"d":"0.00"},"","",{"$f":"IF(U34=\"\",\"\",VLOOKUP(U34,学校データ!F:G,2,FALSE))","v":""},null,null,"","","","",""]
[null,null,{"$f":"IF(B35=\"\",\"\",VLOOKUP(B35,学校データ!C:F,4,FALSE))","v":""},{"$nulls":6},{"$f":"IF(I35=\"\",\"\",VLOOKUP(I35,選手入力!$A:$B,2,FALSE))","v":""},null,{"$f":"IF(K35=\"\",\"\",VLOOKUP(K35,選手入力!$A:$B,2,FALSE))","v":""},null,{"$f":"IF(M35=\"\",\"\",VLOOKUP(M35,選手入力!$A:$B,2,FALSE))","v":""},null,{"$f":"IF(O35=\"\",\"\",VLOOKUP(O35,選手入力!$A:$B,2,FALSE))","v":""},null,{"$f":"IF(Q35=\"\",\"\",VLOOKUP(Q35,選手入力!$A:$B,2,FALSE))","v":""},{"v":0,"d":"0.00"},"","",{"$f":"IF(U35=\"\",\"\",VLOOKUP(U35,学校データ!F:G,2,FALSE))","v":""},null,null,"","","","",""]
[null,null,{"$f":"IF(B36=\"\",\"\",VLOOKUP(B36,学校データ!C:F,4,FALSE))","v":""},{"$nulls":6},{"$f":"IF(I36=\"\",\"\",VLOOKUP(I36,選手入力!$A:$B,2,FALSE))","v":""},null,{"$f":"IF(K36=\"\",\"\",VLOOKUP(K36,選手入力!$A:$B,2,FALSE))","v":""},null,{"$f":"IF(M36=\"\",\"\",VLOOKUP(M36,選手入力!$A:$B,2,FALSE))","v":""},null,{"$f":"IF(O36=\"\",\"\",VLOOKUP(O36,選手入力!$A:$B,2,FALSE))","v":""},null,{"$f":"IF(Q36=\"\",\"\",VLOOKUP(Q36,選手入力!$A:$B,2,FALSE))","v":""},{"v":0,"d":"0.00"},"","",{"$f":"IF(U36=\"\",\"\",VLOOKUP(U36,学校データ!F:G,2,FALSE))","v":""},null,null,"","","","",""]
[null,null,{"$f":"IF(B37=\"\",\"\",VLOOKUP(B37,学校データ!C:F,4,FALSE))","v":""},{"$nulls":6},{"$f":"IF(I37=\"\",\"\",VLOOKUP(I37,選手入力!$A:$B,2,FALSE))","v":""},null,{"$f":"IF(K37=\"\",\"\",VLOOKUP(K37,選手入力!$A:$B,2,FALSE))","v":""},null,{"$f":"IF(M37=\"\",\"\",VLOOKUP(M37,選手入力!$A:$B,2,FALSE))","v":""},null,{"$f":"IF(O37=\"\",\"\",VLOOKUP(O37,選手入力!$A:$B,2,FALSE))","v":""},null,{"$f":"IF(Q37=\"\",\"\",VLOOKUP(Q37,選手入力!$A:$B,2,FALSE))","v":""},{"v":0,"d":"0.00"},"","",{"$f":"IF(U37=\"\",\"\",VLOOKUP(U37,学校データ!F:G,2,FALSE))","v":""},null,null,"","","","",""]
[null,null,{"$f":"IF(B38=\"\",\"\",VLOOKUP(B38,学校データ!C:F,4,FALSE))","v":""},{"$nulls":6},{"$f":"IF(I38=\"\",\"\",VLOOKUP(I38,選手入力!$A:$B,2,FALSE))","v":""},null,{"$f":"IF(K38=\"\",\"\",VLOOKUP(K38,選手入力!$A:$B,2,FALSE))","v":""},null,{"$f":"IF(M38=\"\",\"\",VLOOKUP(M38,選手入力!$A:$B,2,FALSE))","v":""},null,{"$f":"IF(O38=\"\",\"\",VLOOKUP(O38,選手入力!$A:$B,2,FALSE))","v":""},null,{"$f":"IF(Q38=\"\",\"\",VLOOKUP(Q38,選手入力!$A:$B,2,FALSE))","v":""},{"v":0,"d":"0.00"},"","",{"$f":"IF(U38=\"\",\"\",VLOOKUP(U38,学校データ!F:G,2,FALSE))","v":""},null,null,"","","","",""]
[null,null,{"$f":"IF(B39=\"\",\"\",VLOOKUP(B39,学校データ!C:F,4,FALSE))","v":""},{"$nulls":6},{"$f":"IF(I39=\"\",\"\",VLOOKUP(I39,選手入力!$A:$B,2,FALSE))","v":""},null,{"$f":"IF(K39=\"\",\"\",VLOOKUP(K39,選手入力!$A:$B,2,FALSE))","v":""},null,{"$f":"IF(M39=\"\",\"\",VLOOKUP(M39,選手入力!$A:$B,2,FALSE))","v":""},null,{"$f":"IF(O39=\"\",\"\",VLOOKUP(O39,選手入力!$A:$B,2,FALSE))","v":""},null,{"$f":"IF(Q39=\"\",\"\",VLOOKUP(Q39,選手入力!$A:$B,2,FALSE))","v":""},{"v":0,"d":"0.00"},"","",{"$f":"IF(U39=\"\",\"\",VLOOKUP(U39,学校データ!F:G,2,FALSE))","v":""},null,null,"","","","",""]
[null,null,{"$f":"IF(B40=\"\",\"\",VLOOKUP(B40,学校データ!C:F,4,FALSE))","v":""},{"$nulls":6},{"$f":"IF(I40=\"\",\"\",VLOOKUP(I40,選手入力!$A:$B,2,FALSE))","v":""},null,{"$f":"IF(K40=\"\",\"\",VLOOKUP(K40,選手入力!$A:$B,2,FALSE))","v":""},null,{"$f":"IF(M40=\"\",\"\",VLOOKUP(M40,選手入力!$A:$B,2,FALSE))","v":""},null,{"$f":"IF(O40=\"\",\"\",VLOOKUP(O40,選手入力!$A:$B,2,FALSE))","v":""},null,{"$f":"IF(Q40=\"\",\"\",VLOOKUP(Q40,選手入力!$A:$B,2,FALSE))","v":""},{"v":0,"d":"0.00"},"","",{"$f":"IF(U40=\"\",\"\",VLOOKUP(U40,学校データ!F:G,2,FALSE))","v":""},null,null,"","","","",""]
[null,null,{"$f":"IF(B41=\"\",\"\",VLOOKUP(B41,学校データ!C:F,4,FALSE))","v":""},{"$nulls":6},{"$f":"IF(I41=\"\",\"\",VLOOKUP(I41,選手入力!$A:$B,2,FALSE))","v":""},null,{"$f":"IF(K41=\"\",\"\",VLOOKUP(K41,選手入力!$A:$B,2,FALSE))","v":""},null,{"$f":"IF(M41=\"\",\"\",VLOOKUP(M41,選手入力!$A:$B,2,FALSE))","v":""},null,{"$f":"IF(O41=\"\",\"\",VLOOKUP(O41,選手入力!$A:$B,2,FALSE))","v":""},null,{"$f":"IF(Q41=\"\",\"\",VLOOKUP(Q41,選手入力!$A:$B,2,FALSE))","v":""},{"v":0,"d":"0.00"},"","",{"$f":"IF(U41=\"\",\"\",VLOOKUP(U41,学校データ!F:G,2,FALSE))","v":""},null,null,"","","","",""]
[null,null,{"$f":"IF(B42=\"\",\"\",VLOOKUP(B42,学校データ!C:F,4,FALSE))","v":""},{"$nulls":6},{"$f":"IF(I42=\"\",\"\",VLOOKUP(I42,選手入力!$A:$B,2,FALSE))","v":""},null,{"$f":"IF(K42=\"\",\"\",VLOOKUP(K42,選手入力!$A:$B,2,FALSE))","v":""},null,{"$f":"IF(M42=\"\",\"\",VLOOKUP(M42,選手入力!$A:$B,2,FALSE))","v":""},null,{"$f":"IF(O42=\"\",\"\",VLOOKUP(O42,選手入力!$A:$B,2,FALSE))","v":""},null,{"$f":"IF(Q42=\"\",\"\",VLOOKUP(Q42,選手入力!$A:$B,2,FALSE))","v":""},{"v":0,"d":"0.00"},"","",{"$f":"IF(U42=\"\",\"\",VLOOKUP(U42,学校データ!F:G,2,FALSE))","v":""},null,null,"","","","",""]
["男子200mメドレーリレー",null,{"$f":"IF(B43=\"\",\"\",VLOOKUP(B43,学校データ!C:F,4,FALSE))","v":""},{"$nulls":6},{"$f":"IF(I43=\"\",\"\",VLOOKUP(I43,選手入力!$A:$B,2,FALSE))","v":""},null,{"$f":"IF(K43=\"\",\"\",VLOOKUP(K43,選手入力!$A:$B,2,FALSE))","v":""},null,{"$f":"IF(M43=\"\",\"\",VLOOKUP(M43,選手入力!$A:$B,2,FALSE))","v":""},null,{"$f":"IF(O43=\"\",\"\",VLOOKUP(O43,選手入力!$A:$B,2,FALSE))","v":""},null,{"$f":"IF(Q43=\"\",\"\",VLOOKUP(Q43,選手入力!$A:$B,2,FALSE))","v":""},{"v":0,"d":"0.00"},{"$f":"IF(B23=\"\",\"\",表紙!$B$21+40)","v":""},"",{"$f":"IF(U43=\"\",\"\",VLOOKUP(U43,学校データ!F:G,2,FALSE))","v":""},null,null,"","",{"$f":"IF(B43=\"\",\"\",1)","v":""},{"$f":"IF(B43=\"\",\"\",70200)","v":""},""]
[null,null,{"$f":"IF(B44=\"\",\"\",VLOOKUP(B44,学校データ!C:F,4,FALSE))","v":""},{"$nulls":6},{"$f":"IF(I44=\"\",\"\",VLOOKUP(I44,選手入力!$A:$B,2,FALSE))","v":""},null,{"$f":"IF(K44=\"\",\"\",VLOOKUP(K44,選手入力!$A:$B,2,FALSE))","v":""},null,{"$f":"IF(M44=\"\",\"\",VLOOKUP(M44,選手入力!$A:$B,2,FALSE))","v":""},null,{"$f":"IF(O44=\"\",\"\",VLOOKUP(O44,選手入力!$A:$B,2,FALSE))","v":""},null,{"$f":"IF(Q44=\"\",\"\",VLOOKUP(Q44,選手入力!$A:$B,2,FALSE))","v":""},{"v":0,"d":"0.00"},"","",{"$f":"IF(U44=\"\",\"\",VLOOKUP(U44,学校データ!F:G,2,FALSE))","v":""},null,null,"","","",{"$f":"IF(B44=\"\",\"\",70200)","v":""},""]
[null,null,{"$f":"IF(B45=\"\",\"\",VLOOKUP(B45,学校データ!C:F,4,FALSE))","v":""},{"$nulls":6},{"$f":"IF(I45=\"\",\"\",VLOOKUP(I45,選手入力!$A:$B,2,FALSE))","v":""},null,{"$f":"IF(K45=\"\",\"\",VLOOKUP(K45,選手入力!$A:$B,2,FALSE))","v":""},null,{"$f":"IF(M45=\"\",\"\",VLOOKUP(M45,選手入力!$A:$B,2,FALSE))","v":""},null,{"$f":"IF(O45=\"\",\"\",VLOOKUP(O45,選手入力!$A:$B,2,FALSE))","v":""},null,{"$f":"IF(Q45=\"\",\"\",VLOOKUP(Q45,選手入力!$A:$B,2,FALSE))","v":""},{"v":0,"d":"0.00"},"","",{"$f":"IF(U45=\"\",\"\",VLOOKUP(U45,学校データ!F:G,2,FALSE))","v":""},null,null,"","","","",""]
[null,null,{"$f":"IF(B46=\"\",\"\",VLOOKUP(B46,学校データ!C:F,4,FALSE))","v":""},{"$nulls":6},{"$f":"IF(I46=\"\",\"\",VLOOKUP(I46,選手入力!$A:$B,2,FALSE))","v":""},null,{"$f":"IF(K46=\"\",\"\",VLOOKUP(K46,選手入力!$A:$B,2,FALSE))","v":""},null,{"$f":"IF(M46=\"\",\"\",VLOOKUP(M46,選手入力!$A:$B,2,FALSE))","v":""},null,{"$f":"IF(O46=\"\",\"\",VLOOKUP(O46,選手入力!$A:$B,2,FALSE))","v":""},null,{"$f":"IF(Q46=\"\",\"\",VLOOKUP(Q46,選手入力!$A:$B,2,FALSE))","v":""},{"v":0,"d":"0.00"},"","",{"$f":"IF(U46=\"\",\"\",VLOOKUP(U46,学校データ!F:G,2,FALSE))","v":""},null,null,"","","","",""]
[null,null,{"$f":"IF(B47=\"\",\"\",VLOOKUP(B47,学校データ!C:F,4,FALSE))","v":""},{"$nulls":6},{"$f":"IF(I47=\"\",\"\",VLOOKUP(I47,選手入力!$A:$B,2,FALSE))","v":""},null,{"$f":"IF(K47=\"\",\"\",VLOOKUP(K47,選手入力!$A:$B,2,FALSE))","v":""},null,{"$f":"IF(M47=\"\",\"\",VLOOKUP(M47,選手入力!$A:$B,2,FALSE))","v":""},null,{"$f":"IF(O47=\"\",\"\",VLOOKUP(O47,選手入力!$A:$B,2,FALSE))","v":""},null,{"$f":"IF(Q47=\"\",\"\",VLOOKUP(Q47,選手入力!$A:$B,2,FALSE))","v":""},{"v":0,"d":"0.00"},"","",{"$f":"IF(U47=\"\",\"\",VLOOKUP(U47,学校データ!F:G,2,FALSE))","v":""},null,null,"","","","",""]
[null,null,{"$f":"IF(B48=\"\",\"\",VLOOKUP(B48,学校データ!C:F,4,FALSE))","v":""},{"$nulls":6},{"$f":"IF(I48=\"\",\"\",VLOOKUP(I48,選手入力!$A:$B,2,FALSE))","v":""},null,{"$f":"IF(K48=\"\",\"\",VLOOKUP(K48,選手入力!$A:$B,2,FALSE))","v":""},null,{"$f":"IF(M48=\"\",\"\",VLOOKUP(M48,選手入力!$A:$B,2,FALSE))","v":""},null,{"$f":"IF(O48=\"\",\"\",VLOOKUP(O48,選手入力!$A:$B,2,FALSE))","v":""},null,{"$f":"IF(Q48=\"\",\"\",VLOOKUP(Q48,選手入力!$A:$B,2,FALSE))","v":""},{"v":0,"d":"0.00"},"","",{"$f":"IF(U48=\"\",\"\",VLOOKUP(U48,学校データ!F:G,2,FALSE))","v":""},null,null,"","","","",""]
[null,null,{"$f":"IF(B49=\"\",\"\",VLOOKUP(B49,学校データ!C:F,4,FALSE))","v":""},{"$nulls":6},{"$f":"IF(I49=\"\",\"\",VLOOKUP(I49,選手入力!$A:$B,2,FALSE))","v":""},null,{"$f":"IF(K49=\"\",\"\",VLOOKUP(K49,選手入力!$A:$B,2,FALSE))","v":""},null,{"$f":"IF(M49=\"\",\"\",VLOOKUP(M49,選手入力!$A:$B,2,FALSE))","v":""},null,{"$f":"IF(O49=\"\",\"\",VLOOKUP(O49,選手入力!$A:$B,2,FALSE))","v":""},null,{"$f":"IF(Q49=\"\",\"\",VLOOKUP(Q49,選手入力!$A:$B,2,FALSE))","v":""},{"v":0,"d":"0.00"},"","",{"$f":"IF(U49=\"\",\"\",VLOOKUP(U49,学校データ!F:G,2,FALSE))","v":""},null,null,"","","","",""]
[null,null,{"$f":"IF(B50=\"\",\"\",VLOOKUP(B50,学校データ!C:F,4,FALSE))","v":""},{"$nulls":6},{"$f":"IF(I50=\"\",\"\",VLOOKUP(I50,選手入力!$A:$B,2,FALSE))","v":""},null,{"$f":"IF(K50=\"\",\"\",VLOOKUP(K50,選手入力!$A:$B,2,FALSE))","v":""},null,{"$f":"IF(M50=\"\",\"\",VLOOKUP(M50,選手入力!$A:$B,2,FALSE))","v":""},null,{"$f":"IF(O50=\"\",\"\",VLOOKUP(O50,選手入力!$A:$B,2,FALSE))","v":""},null,{"$f":"IF(Q50=\"\",\"\",VLOOKUP(Q50,選手入力!$A:$B,2,FALSE))","v":""},{"v":0,"d":"0.00"},"","",{"$f":"IF(U50=\"\",\"\",VLOOKUP(U50,学校データ!F:G,2,FALSE))","v":""},null,null,"","","","",""]
[null,null,{"$f":"IF(B51=\"\",\"\",VLOOKUP(B51,学校データ!C:F,4,FALSE))","v":""},{"$nulls":6},{"$f":"IF(I51=\"\",\"\",VLOOKUP(I51,選手入力!$A:$B,2,FALSE))","v":""},null,{"$f":"IF(K51=\"\",\"\",VLOOKUP(K51,選手入力!$A:$B,2,FALSE))","v":""},null,{"$f":"IF(M51=\"\",\"\",VLOOKUP(M51,選手入力!$A:$B,2,FALSE))","v":""},null,{"$f":"IF(O51=\"\",\"\",VLOOKUP(O51,選手入力!$A:$B,2,FALSE))","v":""},null,{"$f":"IF(Q51=\"\",\"\",VLOOKUP(Q51,選手入力!$A:$B,2,FALSE))","v":""},{"v":0,"d":"0.00"},"","",{"$f":"IF(U51=\"\",\"\",VLOOKUP(U51,学校データ!F:G,2,FALSE))","v":""},null,null,"","","","",""]
[null,null,{"$f":"IF(B52=\"\",\"\",VLOOKUP(B52,学校データ!C:F,4,FALSE))","v":""},{"$nulls":6},{"$f":"IF(I52=\"\",\"\",VLOOKUP(I52,選手入力!$A:$B,2,FALSE))","v":""},null,{"$f":"IF(K52=\"\",\"\",VLOOKUP(K52,選手入力!$A:$B,2,FALSE))","v":""},null,{"$f":"IF(M52=\"\",\"\",VLOOKUP(M52,選手入力!$A:$B,2,FALSE))","v":""},null,{"$f":"IF(O52=\"\",\"\",VLOOKUP(O52,選手入力!$A:$B,2,FALSE))","v":""},null,{"$f":"IF(Q52=\"\",\"\",VLOOKUP(Q52,選手入力!$A:$B,2,FALSE))","v":""},{"v":0,"d":"0.00"},"","",{"$f":"IF(U52=\"\",\"\",VLOOKUP(U52,学校データ!F:G,2,FALSE))","v":""},null,null,"","","","",""]
[null,null,{"$f":"IF(B53=\"\",\"\",VLOOKUP(B53,学校データ!C:F,4,FALSE))","v":""},{"$nulls":6},{"$f":"IF(I53=\"\",\"\",VLOOKUP(I53,選手入力!$A:$B,2,FALSE))","v":""},null,{"$f":"IF(K53=\"\",\"\",VLOOKUP(K53,選手入力!$A:$B,2,FALSE))","v":""},null,{"$f":"IF(M53=\"\",\"\",VLOOKUP(M53,選手入力!$A:$B,2,FALSE))","v":""},null,{"$f":"IF(O53=\"\",\"\",VLOOKUP(O53,選手入力!$A:$B,2,FALSE))","v":""},null,{"$f":"IF(Q53=\"\",\"\",VLOOKUP(Q53,選手入力!$A:$B,2,FALSE))","v":""},{"v":0,"d":"0.00"},"","",{"$f":"IF(U53=\"\",\"\",VLOOKUP(U53,学校データ!F:G,2,FALSE))","v":""},null,null,"","","","",""]
[null,null,{"$f":"IF(B54=\"\",\"\",VLOOKUP(B54,学校データ!C:F,4,FALSE))","v":""},{"$nulls":6},{"$f":"IF(I54=\"\",\"\",VLOOKUP(I54,選手入力!$A:$B,2,FALSE))","v":""},null,{"$f":"IF(K54=\"\",\"\",VLOOKUP(K54,選手入力!$A:$B,2,FALSE))","v":""},null,{"$f":"IF(M54=\"\",\"\",VLOOKUP(M54,選手入力!$A:$B,2,FALSE))","v":""},null,{"$f":"IF(O54=\"\",\"\",VLOOKUP(O54,選手入力!$A:$B,2,FALSE))","v":""},null,{"$f":"IF(Q54=\"\",\"\",VLOOKUP(Q54,選手入力!$A:$B,2,FALSE))","v":""},{"v":0,"d":"0.00"},"","",{"$f":"IF(U54=\"\",\"\",VLOOKUP(U54,学校データ!F:G,2,FALSE))","v":""},null,null,"","","","",""]
[null,null,{"$f":"IF(B55=\"\",\"\",VLOOKUP(B55,学校データ!C:F,4,FALSE))","v":""},{"$nulls":6},{"$f":"IF(I55=\"\",\"\",VLOOKUP(I55,選手入力!$A:$B,2,FALSE))","v":""},null,{"$f":"IF(K55=\"\",\"\",VLOOKUP(K55,選手入力!$A:$B,2,FALSE))","v":""},null,{"$f":"IF(M55=\"\",\"\",VLOOKUP(M55,選手入力!$A:$B,2,FALSE))","v":""},null,{"$f":"IF(O55=\"\",\"\",VLOOKUP(O55,選手入力!$A:$B,2,FALSE))","v":""},null,{"$f":"IF(Q55=\"\",\"\",VLOOKUP(Q55,選手入力!$A:$B,2,FALSE))","v":""},{"v":0,"d":"0.00"},"","",{"$f":"IF(U55=\"\",\"\",VLOOKUP(U55,学校データ!F:G,2,FALSE))","v":""},null,null,"","","","",""]
[null,null,{"$f":"IF(B56=\"\",\"\",VLOOKUP(B56,学校データ!C:F,4,FALSE))","v":""},{"$nulls":6},{"$f":"IF(I56=\"\",\"\",VLOOKUP(I56,選手入力!$A:$B,2,FALSE))","v":""},null,{"$f":"IF(K56=\"\",\"\",VLOOKUP(K56,選手入力!$A:$B,2,FALSE))","v":""},null,{"$f":"IF(M56=\"\",\"\",VLOOKUP(M56,選手入力!$A:$B,2,FALSE))","v":""},null,{"$f":"IF(O56=\"\",\"\",VLOOKUP(O56,選手入力!$A:$B,2,FALSE))","v":""},null,{"$f":"IF(Q56=\"\",\"\",VLOOKUP(Q56,選手入力!$A:$B,2,FALSE))","v":""},{"v":0,"d":"0.00"},"","",{"$f":"IF(U56=\"\",\"\",VLOOKUP(U56,学校データ!F:G,2,FALSE))","v":""},null,null,"","","","",""]
[null,null,{"$f":"IF(B57=\"\",\"\",VLOOKUP(B57,学校データ!C:F,4,FALSE))","v":""},{"$nulls":6},{"$f":"IF(I57=\"\",\"\",VLOOKUP(I57,選手入力!$A:$B,2,FALSE))","v":""},null,{"$f":"IF(K57=\"\",\"\",VLOOKUP(K57,選手入力!$A:$B,2,FALSE))","v":""},null,{"$f":"IF(M57=\"\",\"\",VLOOKUP(M57,選手入力!$A:$B,2,FALSE))","v":""},null,{"$f":"IF(O57=\"\",\"\",VLOOKUP(O57,選手入力!$A:$B,2,FALSE))","v":""},null,{"$f":"IF(Q57=\"\",\"\",VLOOKUP(Q57,選手入力!$A:$B,2,FALSE))","v":""},{"v":0,"d":"0.00"},"","",{"$f":"IF(U57=\"\",\"\",VLOOKUP(U57,学校データ!F:G,2,FALSE))","v":""},null,null,"","","","",""]
[null,null,{"$f":"IF(B58=\"\",\"\",VLOOKUP(B58,学校データ!C:F,4,FALSE))","v":""},{"$nulls":6},{"$f":"IF(I58=\"\",\"\",VLOOKUP(I58,選手入力!$A:$B,2,FALSE))","v":""},null,{"$f":"IF(K58=\"\",\"\",VLOOKUP(K58,選手入力!$A:$B,2,FALSE))","v":""},null,{"$f":"IF(M58=\"\",\"\",VLOOKUP(M58,選手入力!$A:$B,2,FALSE))","v":""},null,{"$f":"IF(O58=\"\",\"\",VLOOKUP(O58,選手入力!$A:$B,2,FALSE))","v":""},null,{"$f":"IF(Q58=\"\",\"\",VLOOKUP(Q58,選手入力!$A:$B,2,FALSE))","v":""},{"v":0,"d":"0.00"},"","",{"$f":"IF(U58=\"\",\"\",VLOOKUP(U58,学校データ!F:G,2,FALSE))","v":""},null,null,"","","","",""]
[null,null,{"$f":"IF(B59=\"\",\"\",VLOOKUP(B59,学校データ!C:F,4,FALSE))","v":""},{"$nulls":6},{"$f":"IF(I59=\"\",\"\",VLOOKUP(I59,選手入力!$A:$B,2,FALSE))","v":""},null,{"$f":"IF(K59=\"\",\"\",VLOOKUP(K59,選手入力!$A:$B,2,FALSE))","v":""},null,{"$f":"IF(M59=\"\",\"\",VLOOKUP(M59,選手入力!$A:$B,2,FALSE))","v":""},null,{"$f":"IF(O59=\"\",\"\",VLOOKUP(O59,選手入力!$A:$B,2,FALSE))","v":""},null,{"$f":"IF(Q59=\"\",\"\",VLOOKUP(Q59,選手入力!$A:$B,2,FALSE))","v":""},{"v":0,"d":"0.00"},"","",{"$f":"IF(U59=\"\",\"\",VLOOKUP(U59,学校データ!F:G,2,FALSE))","v":""},null,null,"","","","",""]
[null,null,{"$f":"IF(B60=\"\",\"\",VLOOKUP(B60,学校データ!C:F,4,FALSE))","v":""},{"$nulls":6},{"$f":"IF(I60=\"\",\"\",VLOOKUP(I60,選手入力!$A:$B,2,FALSE))","v":""},null,{"$f":"IF(K60=\"\",\"\",VLOOKUP(K60,選手入力!$A:$B,2,FALSE))","v":""},null,{"$f":"IF(M60=\"\",\"\",VLOOKUP(M60,選手入力!$A:$B,2,FALSE))","v":""},null,{"$f":"IF(O60=\"\",\"\",VLOOKUP(O60,選手入力!$A:$B,2,FALSE))","v":""},null,{"$f":"IF(Q60=\"\",\"\",VLOOKUP(Q60,選手入力!$A:$B,2,FALSE))","v":""},{"v":0,"d":"0.00"},"","",{"$f":"IF(U60=\"\",\"\",VLOOKUP(U60,学校データ!F:G,2,FALSE))","v":""},null,null,"","","","",""]
[null,null,{"$f":"IF(B61=\"\",\"\",VLOOKUP(B61,学校データ!C:F,4,FALSE))","v":""},{"$nulls":6},{"$f":"IF(I61=\"\",\"\",VLOOKUP(I61,選手入力!$A:$B,2,FALSE))","v":""},null,{"$f":"IF(K61=\"\",\"\",VLOOKUP(K61,選手入力!$A:$B,2,FALSE))","v":""},null,{"$f":"IF(M61=\"\",\"\",VLOOKUP(M61,選手入力!$A:$B,2,FALSE))","v":""},null,{"$f":"IF(O61=\"\",\"\",VLOOKUP(O61,選手入力!$A:$B,2,FALSE))","v":""},null,{"$f":"IF(Q61=\"\",\"\",VLOOKUP(Q61,選手入力!$A:$B,2,FALSE))","v":""},{"v":0,"d":"0.00"},"","",{"$f":"IF(U61=\"\",\"\",VLOOKUP(U61,学校データ!F:G,2,FALSE))","v":""},null,null,"","","","",""]
[null,null,{"$f":"IF(B62=\"\",\"\",VLOOKUP(B62,学校データ!C:F,4,FALSE))","v":""},{"$nulls":6},{"$f":"IF(I62=\"\",\"\",VLOOKUP(I62,選手入力!$A:$B,2,FALSE))","v":""},null,{"$f":"IF(K62=\"\",\"\",VLOOKUP(K62,選手入力!$A:$B,2,FALSE))","v":""},null,{"$f":"IF(M62=\"\",\"\",VLOOKUP(M62,選手入力!$A:$B,2,FALSE))","v":""},null,{"$f":"IF(O62=\"\",\"\",VLOOKUP(O62,選手入力!$A:$B,2,FALSE))","v":""},null,{"$f":"IF(Q62=\"\",\"\",VLOOKUP(Q62,選手入力!$A:$B,2,FALSE))","v":""},{"v":0,"d":"0.00"},"","",{"$f":"IF(U62=\"\",\"\",VLOOKUP(U62,学校データ!F:G,2,FALSE))","v":""},null,null,"","","","",""]
["女子200mメドレーリレー",null,{"$f":"IF(B63=\"\",\"\",VLOOKUP(B63,学校データ!C:F,4,FALSE))","v":""},{"$nulls":6},{"$f":"IF(I63=\"\",\"\",VLOOKUP(I63,選手入力!$A:$B,2,FALSE))","v":""},null,{"$f":"IF(K63=\"\",\"\",VLOOKUP(K63,選手入力!$A:$B,2,FALSE))","v":""},null,{"$f":"IF(M63=\"\",\"\",VLOOKUP(M63,選手入力!$A:$B,2,FALSE))","v":""},null,{"$f":"IF(O63=\"\",\"\",VLOOKUP(O63,選手入力!$A:$B,2,FALSE))","v":""},null,{"$f":"IF(Q63=\"\",\"\",VLOOKUP(Q63,選手入力!$A:$B,2,FALSE))","v":""},{"v":0,"d":"0.00"},{"$f":"IF(B23=\"\",\"\",表紙!$B$21+60)","v":""},"",{"$f":"IF(U63=\"\",\"\",VLOOKUP(U63,学校データ!F:G,2,FALSE))","v":""},null,null,"","",{"$f":"IF(B63=\"\",\"\",2)","v":""},"",""]
[null,null,{"$f":"IF(B64=\"\",\"\",VLOOKUP(B64,学校データ!C:F,4,FALSE))","v":""},{"$nulls":6},{"$f":"IF(I64=\"\",\"\",VLOOKUP(I64,選手入力!$A:$B,2,FALSE))","v":""},null,{"$f":"IF(K64=\"\",\"\",VLOOKUP(K64,選手入力!$A:$B,2,FALSE))","v":""},null,{"$f":"IF(M64=\"\",\"\",VLOOKUP(M64,選手入力!$A:$B,2,FALSE))","v":""},null,{"$f":"IF(O64=\"\",\"\",VLOOKUP(O64,選手入力!$A:$B,2,FALSE))","v":""},null,{"$f":"IF(Q64=\"\",\"\",VLOOKUP(Q64,選手入力!$A:$B,2,FALSE))","v":""},{"v":0,"d":"0.00"},"","",{"$f":"IF(U64=\"\",\"\",VLOOKUP(U64,学校データ!F:G,2,FALSE))","v":""},null,null,"","","","",""]
[null,null,{"$f":"IF(B65=\"\",\"\",VLOOKUP(B65,学校データ!C:F,4,FALSE))","v":""},{"$nulls":6},{"$f":"IF(I65=\"\",\"\",VLOOKUP(I65,選手入力!$A:$B,2,FALSE))","v":""},null,{"$f":"IF(K65=\"\",\"\",VLOOKUP(K65,選手入力!$A:$B,2,FALSE))","v":""},null,{"$f":"IF(M65=\"\",\"\",VLOOKUP(M65,選手入力!$A:$B,2,FALSE))","v":""},null,{"$f":"IF(O65=\"\",\"\",VLOOKUP(O65,選手入力!$A:$B,2,FALSE))","v":""},null,{"$f":"IF(Q65=\"\",\"\",VLOOKUP(Q65,選手入力!$A:$B,2,FALSE))","v":""},{"v":0,"d":"0.00"},"","",{"$f":"IF(U65=\"\",\"\",VLOOKUP(U65,学校データ!F:G,2,FALSE))","v":""},null,null,"","","","",""]
[null,null,{"$f":"IF(B66=\"\",\"\",VLOOKUP(B66,学校データ!C:F,4,FALSE))","v":""},{"$nulls":6},{"$f":"IF(I66=\"\",\"\",VLOOKUP(I66,選手入力!$A:$B,2,FALSE))","v":""},null,{"$f":"IF(K66=\"\",\"\",VLOOKUP(K66,選手入力!$A:$B,2,FALSE))","v":""},null,{"$f":"IF(M66=\"\",\"\",VLOOKUP(M66,選手入力!$A:$B,2,FALSE))","v":""},null,{"$f":"IF(O66=\"\",\"\",VLOOKUP(O66,選手入力!$A:$B,2,FALSE))","v":""},null,{"$f":"IF(Q66=\"\",\"\",VLOOKUP(Q66,選手入力!$A:$B,2,FALSE))","v":""},{"v":0,"d":"0.00"},"","",{"$f":"IF(U66=\"\",\"\",VLOOKUP(U66,学校データ!F:G,2,FALSE))","v":""},null,null,"","","","",""]
[null,null,{"$f":"IF(B67=\"\",\"\",VLOOKUP(B67,学校データ!C:F,4,FALSE))","v":""},{"$nulls":6},{"$f":"IF(I67=\"\",\"\",VLOOKUP(I67,選手入力!$A:$B,2,FALSE))","v":""},null,{"$f":"IF(K67=\"\",\"\",VLOOKUP(K67,選手入力!$A:$B,2,FALSE))","v":""},null,{"$f":"IF(M67=\"\",\"\",VLOOKUP(M67,選手入力!$A:$B,2,FALSE))","v":""},null,{"$f":"IF(O67=\"\",\"\",VLOOKUP(O67,選手入力!$A:$B,2,FALSE))","v":""},null,{"$f":"IF(Q67=\"\",\"\",VLOOKUP(Q67,選手入力!$A:$B,2,FALSE))","v":""},{"v":0,"d":"0.00"},"","",{"$f":"IF(U67=\"\",\"\",VLOOKUP(U67,学校データ!F:G,2,FALSE))","v":""},null,null,"","","","",""]
[null,null,{"$f":"IF(B68=\"\",\"\",VLOOKUP(B68,学校データ!C:F,4,FALSE))","v":""},{"$nulls":6},{"$f":"IF(I68=\"\",\"\",VLOOKUP(I68,選手入力!$A:$B,2,FALSE))","v":""},null,{"$f":"IF(K68=\"\",\"\",VLOOKUP(K68,選手入力!$A:$B,2,FALSE))","v":""},null,{"$f":"IF(M68=\"\",\"\",VLOOKUP(M68,選手入力!$A:$B,2,FALSE))","v":""},null,{"$f":"IF(O68=\"\",\"\",VLOOKUP(O68,選手入力!$A:$B,2,FALSE))","v":""},null,{"$f":"IF(Q68=\"\",\"\",VLOOKUP(Q68,選手入力!$A:$B,2,FALSE))","v":""},{"$f":"D68*100+E68*10+F68+G68*0.1+H68*0.01","v":{"v":0,"d":"0.00"}},"",{"$f":"IF(C68=\"\",\"\",C68)","v":""},{"$f":"IF(U68=\"\",\"\",VLOOKUP(U68,学校データ!F:G,2,FALSE))","v":""},null,null,{"$f":"IF(B68=\"\",\"\",1)","v":""},{"$f":"IF(B68=\"\",\"\",1)","v":""},"","",{"$f":"IF(B68=\"\",\"\",S68)","v":""}]
[null,null,{"$f":"IF(B69=\"\",\"\",VLOOKUP(B69,学校データ!C:F,4,FALSE))","v":""},{"$nulls":6},{"$f":"IF(I69=\"\",\"\",VLOOKUP(I69,選手入力!$A:$B,2,FALSE))","v":""},null,{"$f":"IF(K69=\"\",\"\",VLOOKUP(K69,選手入力!$A:$B,2,FALSE))","v":""},null,{"$f":"IF(M69=\"\",\"\",VLOOKUP(M69,選手入力!$A:$B,2,FALSE))","v":""},null,{"$f":"IF(O69=\"\",\"\",VLOOKUP(O69,選手入力!$A:$B,2,FALSE))","v":""},null,{"$f":"IF(Q69=\"\",\"\",VLOOKUP(Q69,選手入力!$A:$B,2,FALSE))","v":""},{"v":0,"d":"0.00"},{"$f":"IF(B69=\"\",\"\",T68+1)","v":""},"",{"$f":"IF(U69=\"\",\"\",VLOOKUP(U69,学校データ!F:G,2,FALSE))","v":""},null,null,"","","","",""]
[null,null,{"$f":"IF(B70=\"\",\"\",VLOOKUP(B70,学校データ!C:F,4,FALSE))","v":""},{"$nulls":6},{"$f":"IF(I70=\"\",\"\",VLOOKUP(I70,選手入力!$A:$B,2,FALSE))","v":""},null,{"$f":"IF(K70=\"\",\"\",VLOOKUP(K70,選手入力!$A:$B,2,FALSE))","v":""},null,{"$f":"IF(M70=\"\",\"\",VLOOKUP(M70,選手入力!$A:$B,2,FALSE))","v":""},null,{"$f":"IF(O70=\"\",\"\",VLOOKUP(O70,選手入力!$A:$B,2,FALSE))","v":""},null,{"$f":"IF(Q70=\"\",\"\",VLOOKUP(Q70,選手入力!$A:$B,2,FALSE))","v":""},{"v":0,"d":"0.00"},"","",{"$f":"IF(U70=\"\",\"\",VLOOKUP(U70,学校データ!F:G,2,FALSE))","v":""},null,null,"","","","",""]
[null,null,{"$f":"IF(B71=\"\",\"\",VLOOKUP(B71,学校データ!C:F,4,FALSE))","v":""},{"$nulls":6},{"$f":"IF(I71=\"\",\"\",VLOOKUP(I71,選手入力!$A:$B,2,FALSE))","v":""},null,{"$f":"IF(K71=\"\",\"\",VLOOKUP(K71,選手入力!$A:$B,2,FALSE))","v":""},null,{"$f":"IF(M71=\"\",\"\",VLOOKUP(M71,選手入力!$A:$B,2,FALSE))","v":""},null,{"$f":"IF(O71=\"\",\"\",VLOOKUP(O71,選手入力!$A:$B,2,FALSE))","v":""},null,{"$f":"IF(Q71=\"\",\"\",VLOOKUP(Q71,選手入力!$A:$B,2,FALSE))","v":""},{"v":0,"d":"0.00"},"","",{"$f":"IF(U71=\"\",\"\",VLOOKUP(U71,学校データ!F:G,2,FALSE))","v":""},null,null,"","","","",""]
[null,null,{"$f":"IF(B72=\"\",\"\",VLOOKUP(B72,学校データ!C:F,4,FALSE))","v":""},{"$nulls":6},{"$f":"IF(I72=\"\",\"\",VLOOKUP(I72,選手入力!$A:$B,2,FALSE))","v":""},null,{"$f":"IF(K72=\"\",\"\",VLOOKUP(K72,選手入力!$A:$B,2,FALSE))","v":""},null,{"$f":"IF(M72=\"\",\"\",VLOOKUP(M72,選手入力!$A:$B,2,FALSE))","v":""},null,{"$f":"IF(O72=\"\",\"\",VLOOKUP(O72,選手入力!$A:$B,2,FALSE))","v":""},null,{"$f":"IF(Q72=\"\",\"\",VLOOKUP(Q72,選手入力!$A:$B,2,FALSE))","v":""},{"v":0,"d":"0.00"},"","",{"$f":"IF(U72=\"\",\"\",VLOOKUP(U72,学校データ!F:G,2,FALSE))","v":""},null,null,"","","","",""]
[null,null,{"$f":"IF(B73=\"\",\"\",VLOOKUP(B73,学校データ!C:F,4,FALSE))","v":""},{"$nulls":6},{"$f":"IF(I73=\"\",\"\",VLOOKUP(I73,選手入力!$A:$B,2,FALSE))","v":""},null,{"$f":"IF(K73=\"\",\"\",VLOOKUP(K73,選手入力!$A:$B,2,FALSE))","v":""},null,{"$f":"IF(M73=\"\",\"\",VLOOKUP(M73,選手入力!$A:$B,2,FALSE))","v":""},null,{"$f":"IF(O73=\"\",\"\",VLOOKUP(O73,選手入力!$A:$B,2,FALSE))","v":""},null,{"$f":"IF(Q73=\"\",\"\",VLOOKUP(Q73,選手入力!$A:$B,2,FALSE))","v":""},{"v":0,"d":"0.00"},"","",{"$f":"IF(U73=\"\",\"\",VLOOKUP(U73,学校データ!F:G,2,FALSE))","v":""},null,null,"","","","",""]
[null,null,{"$f":"IF(B74=\"\",\"\",VLOOKUP(B74,学校データ!C:F,4,FALSE))","v":""},{"$nulls":6},{"$f":"IF(I74=\"\",\"\",VLOOKUP(I74,選手入力!$A:$B,2,FALSE))","v":""},null,{"$f":"IF(K74=\"\",\"\",VLOOKUP(K74,選手入力!$A:$B,2,FALSE))","v":""},null,{"$f":"IF(M74=\"\",\"\",VLOOKUP(M74,選手入力!$A:$B,2,FALSE))","v":""},null,{"$f":"IF(O74=\"\",\"\",VLOOKUP(O74,選手入力!$A:$B,2,FALSE))","v":""},null,{"$f":"IF(Q74=\"\",\"\",VLOOKUP(Q74,選手入力!$A:$B,2,FALSE))","v":""},{"v":0,"d":"0.00"},"","",{"$f":"IF(U74=\"\",\"\",VLOOKUP(U74,学校データ!F:G,2,FALSE))","v":""},null,null,"","","","",""]
[null,null,{"$f":"IF(B75=\"\",\"\",VLOOKUP(B75,学校データ!C:F,4,FALSE))","v":""},{"$nulls":6},{"$f":"IF(I75=\"\",\"\",VLOOKUP(I75,選手入力!$A:$B,2,FALSE))","v":""},null,{"$f":"IF(K75=\"\",\"\",VLOOKUP(K75,選手入力!$A:$B,2,FALSE))","v":""},null,{"$f":"IF(M75=\"\",\"\",VLOOKUP(M75,選手入力!$A:$B,2,FALSE))","v":""},null,{"$f":"IF(O75=\"\",\"\",VLOOKUP(O75,選手入力!$A:$B,2,FALSE))","v":""},null,{"$f":"IF(Q75=\"\",\"\",VLOOKUP(Q75,選手入力!$A:$B,2,FALSE))","v":""},{"v":0,"d":"0.00"},"","",{"$f":"IF(U75=\"\",\"\",VLOOKUP(U75,学校データ!F:G,2,FALSE))","v":""},null,null,"","","","",""]
[null,null,{"$f":"IF(B76=\"\",\"\",VLOOKUP(B76,学校データ!C:F,4,FALSE))","v":""},{"$nulls":6},{"$f":"IF(I76=\"\",\"\",VLOOKUP(I76,選手入力!$A:$B,2,FALSE))","v":""},null,{"$f":"IF(K76=\"\",\"\",VLOOKUP(K76,選手入力!$A:$B,2,FALSE))","v":""},null,{"$f":"IF(M76=\"\",\"\",VLOOKUP(M76,選手入力!$A:$B,2,FALSE))","v":""},null,{"$f":"IF(O76=\"\",\"\",VLOOKUP(O76,選手入力!$A:$B,2,FALSE))","v":""},null,{"$f":"IF(Q76=\"\",\"\",VLOOKUP(Q76,選手入力!$A:$B,2,FALSE))","v":""},{"v":0,"d":"0.00"},"","",{"$f":"IF(U76=\"\",\"\",VLOOKUP(U76,学校データ!F:G,2,FALSE))","v":""},null,null,"","","","",""]
[null,null,{"$f":"IF(B77=\"\",\"\",VLOOKUP(B77,学校データ!C:F,4,FALSE))","v":""},{"$nulls":6},{"$f":"IF(I77=\"\",\"\",VLOOKUP(I77,選手入力!$A:$B,2,FALSE))","v":""},null,{"$f":"IF(K77=\"\",\"\",VLOOKUP(K77,選手入力!$A:$B,2,FALSE))","v":""},null,{"$f":"IF(M77=\"\",\"\",VLOOKUP(M77,選手入力!$A:$B,2,FALSE))","v":""},null,{"$f":"IF(O77=\"\",\"\",VLOOKUP(O77,選手入力!$A:$B,2,FALSE))","v":""},null,{"$f":"IF(Q77=\"\",\"\",VLOOKUP(Q77,選手入力!$A:$B,2,FALSE))","v":""},{"v":0,"d":"0.00"},"","",{"$f":"IF(U77=\"\",\"\",VLOOKUP(U77,学校データ!F:G,2,FALSE))","v":""},null,null,"","","","",""]
[null,null,{"$f":"IF(B78=\"\",\"\",VLOOKUP(B78,学校データ!C:F,4,FALSE))","v":""},{"$nulls":6},{"$f":"IF(I78=\"\",\"\",VLOOKUP(I78,選手入力!$A:$B,2,FALSE))","v":""},null,{"$f":"IF(K78=\"\",\"\",VLOOKUP(K78,選手入力!$A:$B,2,FALSE))","v":""},null,{"$f":"IF(M78=\"\",\"\",VLOOKUP(M78,選手入力!$A:$B,2,FALSE))","v":""},null,{"$f":"IF(O78=\"\",\"\",VLOOKUP(O78,選手入力!$A:$B,2,FALSE))","v":""},null,{"$f":"IF(Q78=\"\",\"\",VLOOKUP(Q78,選手入力!$A:$B,2,FALSE))","v":""},{"v":0,"d":"0.00"},"","",{"$f":"IF(U78=\"\",\"\",VLOOKUP(U78,学校データ!F:G,2,FALSE))","v":""},null,null,"","","","",""]
[null,null,{"$f":"IF(B79=\"\",\"\",VLOOKUP(B79,学校データ!C:F,4,FALSE))","v":""},{"$nulls":6},{"$f":"IF(I79=\"\",\"\",VLOOKUP(I79,選手入力!$A:$B,2,FALSE))","v":""},null,{"$f":"IF(K79=\"\",\"\",VLOOKUP(K79,選手入力!$A:$B,2,FALSE))","v":""},null,{"$f":"IF(M79=\"\",\"\",VLOOKUP(M79,選手入力!$A:$B,2,FALSE))","v":""},null,{"$f":"IF(O79=\"\",\"\",VLOOKUP(O79,選手入力!$A:$B,2,FALSE))","v":""},null,{"$f":"IF(Q79=\"\",\"\",VLOOKUP(Q79,選手入力!$A:$B,2,FALSE))","v":""},{"v":0,"d":"0.00"},"","",{"$f":"IF(U79=\"\",\"\",VLOOKUP(U79,学校データ!F:G,2,FALSE))","v":""},null,null,"","","","",""]
[null,null,{"$f":"IF(B80=\"\",\"\",VLOOKUP(B80,学校データ!C:F,4,FALSE))","v":""},{"$nulls":6},{"$f":"IF(I80=\"\",\"\",VLOOKUP(I80,選手入力!$A:$B,2,FALSE))","v":""},null,{"$f":"IF(K80=\"\",\"\",VLOOKUP(K80,選手入力!$A:$B,2,FALSE))","v":""},null,{"$f":"IF(M80=\"\",\"\",VLOOKUP(M80,選手入力!$A:$B,2,FALSE))","v":""},null,{"$f":"IF(O80=\"\",\"\",VLOOKUP(O80,選手入力!$A:$B,2,FALSE))","v":""},null,{"$f":"IF(Q80=\"\",\"\",VLOOKUP(Q80,選手入力!$A:$B,2,FALSE))","v":""},{"v":0,"d":"0.00"},"","",{"$f":"IF(U80=\"\",\"\",VLOOKUP(U80,学校データ!F:G,2,FALSE))","v":""},null,null,"","","","",""]
[null,null,{"$f":"IF(B81=\"\",\"\",VLOOKUP(B81,学校データ!C:F,4,FALSE))","v":""},{"$nulls":6},{"$f":"IF(I81=\"\",\"\",VLOOKUP(I81,選手入力!$A:$B,2,FALSE))","v":""},null,{"$f":"IF(K81=\"\",\"\",VLOOKUP(K81,選手入力!$A:$B,2,FALSE))","v":""},null,{"$f":"IF(M81=\"\",\"\",VLOOKUP(M81,選手入力!$A:$B,2,FALSE))","v":""},null,{"$f":"IF(O81=\"\",\"\",VLOOKUP(O81,選手入力!$A:$B,2,FALSE))","v":""},null,{"$f":"IF(Q81=\"\",\"\",VLOOKUP(Q81,選手入力!$A:$B,2,FALSE))","v":""},{"v":0,"d":"0.00"},"","",{"$f":"IF(U81=\"\",\"\",VLOOKUP(U81,学校データ!F:G,2,FALSE))","v":""},null,null,"","","","",""]
[null,null,{"$f":"IF(B82=\"\",\"\",VLOOKUP(B82,学校データ!C:F,4,FALSE))","v":""},{"$nulls":6},{"$f":"IF(I82=\"\",\"\",VLOOKUP(I82,選手入力!$A:$B,2,FALSE))","v":""},null,{"$f":"IF(K82=\"\",\"\",VLOOKUP(K82,選手入力!$A:$B,2,FALSE))","v":""},null,{"$f":"IF(M82=\"\",\"\",VLOOKUP(M82,選手入力!$A:$B,2,FALSE))","v":""},null,{"$f":"IF(O82=\"\",\"\",VLOOKUP(O82,選手入力!$A:$B,2,FALSE))","v":""},null,{"$f":"IF(Q82=\"\",\"\",VLOOKUP(Q82,選手入力!$A:$B,2,FALSE))","v":""},{"v":0,"d":"0.00"},"","",{"$f":"IF(U82=\"\",\"\",VLOOKUP(U82,学校データ!F:G,2,FALSE))","v":""},null,null,"","","","",""]
[]
["フリーリレーチーム数",{"$f":"40-(COUNTIF(B3:B42,\"\"))","v":0}]
["メドレーリレーチーム数",{"$f":"40-(COUNTIF(B43:B82,\"\"))","v":0}]

{"sheet":"競技データ","index":3,"n_rows":10,"n_cols":7,"rows_kept":10}
["種目名","クラス","コード",null,"学年","性別"]
["50m自由形",1,10050,null,5,"男子",1]
["50m背泳ぎ",1,20050,null,6,"女子",2]
["50m平泳ぎ",1,30050]
["50mバタフライ",1,40050]
["リレーのみ",1]
["友好レース自由形",2,10050]
["友好レース背泳ぎ",2,20050]
["友好レース平泳ぎ",2,30050]
["友好レースバタフライ",2,40050]

{"sheet":"郡市データ","index":4,"n_rows":23,"n_cols":9,"rows_kept":23}
["郡市番号","郡市名","学校数","学校番号初期値","選手番号初期値","チーム番号初期値"]
[1,"前橋市",47,100101,1001,101,null,"前橋",{"$f":"PHONETIC(H2)","v":"ﾏｴﾊﾞｼ"}]
[2,"伊勢崎市",23,100201,2001,201,null,"伊勢崎",{"$f":"PHONETIC(H3)","v":"ｲｾｻｷ"}]
[3,"佐波郡",6,100301,3001,301,null,"佐波","ｻﾜ"]
[4,"北群馬郡",4,100401,4001,401,null,"北群馬","ｷﾀｸﾞﾝﾏ"]
[5,"渋川市",14,100501,5001,501,null,"渋川","ｼﾌﾞｶﾜ"]
[6,"利根郡",11,100601,6001,601,null,"利根","ﾄﾈ"]
[7,"沼田市",11,100701,7001,701,null,"沼田","ﾇﾏﾀ"]
[8,"吾妻郡",14,100801,8001,801,null,"吾妻","ｱｶﾞﾂﾏ"]
[9,"高崎市",58,100901,9001,901,null,"高崎","ﾀｶｻｷ"]
[10,"安中市",12,101001,10001,1001,null,"安中","ｱﾝﾅｶ"]
[11,"甘楽・富岡",16,101101,11001,1101,null,"甘・富","ｶﾝﾗﾄﾐｵｶ"]
[12,"藤岡・多野",13,101201,12001,1201,null,"藤・多","ﾌｼﾞｵｶﾀﾉ"]
[13,"桐生市",17,101301,13001,1301,null,"桐生","ｷﾘｭｳ"]
[14,"みどり市",7,101401,14001,1401,null,"みどり","ﾐﾄﾞﾘ"]
[15,"太田市",25,101501,15001,1501,null,"太田","ｵｵﾀ"]
[16,"邑楽郡",14,101601,16001,1601,null,"邑楽","ｵｳﾗ"]
[17,"館林市",11,101701,17001,1701,null,"館林","ﾀﾃﾊﾞﾔｼ"]
[]
[]
[null,null,"合計"]
[null,null,{"$f":"SUM(C2:C19)","v":303}]
[null,null,"校"]

{"sheet":"学校データ","index":5,"n_rows":336,"n_cols":9,"rows_kept":336}
["郡市名","№","学校コード\n申し込みには\nこのｺｰﾄﾞを\n入力","MCコード","学校名","略称","ﾖﾐｶﾞﾅ","リレーNO初期値","選手NO初期値"]
["０１",1,101,100101,"前橋市立桃井小学校","前・桃井","ﾏｴﾊﾞｼ.ﾓﾓﾉｲ",1,1]
["前橋市",2,102,100102,"前橋市立中川小学校","前・中川","ﾏｴﾊﾞｼ.ﾅｶｶﾞﾜ",6,51]
[null,3,103,100103,"前橋市立敷島小学校","前・敷島","ﾏｴﾊﾞｼ.ｼｷｼﾏ",11,101]
[null,4,104,100104,"前橋市立城南小学校","前・城南","ﾏｴﾊﾞｼ.ｼﾞｮｳﾅﾝ",16,151]
[null,5,105,100105,"前橋市立城東小学校","前・城東","ﾏｴﾊﾞｼ.ｼﾞｮｳﾄｳ",21,201]
[null,6,106,100106,"前橋市立若宮小学校","前・若宮","ﾏｴﾊﾞｼ.ﾜｶﾐﾔ",26,251]
[null,7,107,100107,"前橋市立天川小学校","前・天川","ﾏｴﾊﾞｼ.ｱﾏｶﾞﾜ",31,301]
[null,8,108,100108,"前橋市立岩神小学校","前・岩神","ﾏｴﾊﾞｼ.ｲﾜｶﾞﾐ",36,351]
[null,9,null,"","","","",41,401]
[null,10,110,100110,"前橋市立広瀬小学校","前・広瀬","ﾏｴﾊﾞｼ.ﾋﾛｾ",46,451]
[null,11,111,100111,"前橋市立山王小学校","前・山王","ﾏｴﾊﾞｼ.ｻﾝﾉｳ",51,501]
[null,12,112,100112,"前橋市立わかば小学校","前・わかば","ﾏｴﾊﾞｼ.ﾜｶﾊﾞ",56,551]
[null,13,null,"","","","",61,601]
[null,14,114,100114,"前橋市立上川淵小学校","前・上川淵","ﾏｴﾊﾞｼ.ｶﾐｶﾜﾌﾁ",66,651]
[null,15,115,100115,"前橋市立下川淵小学校","前・下川淵","ﾏｴﾊﾞｼ.ｼﾓｶﾜﾌﾁ",71,701]
[null,16,116,100116,"前橋市立桂萱小学校","前・桂萱","ﾏｴﾊﾞｼ.ｶｲｶﾞﾔ",76,751]
[null,17,117,100117,"前橋市立桃木小学校","前・桃木","ﾏｴﾊﾞｼ.ﾓﾓﾉｷ",81,801]
[null,18,118,100118,"前橋市立桂萱東小学校","前・桂萱東","ﾏｴﾊﾞｼ.ｶｲｶﾞﾔﾋｶﾞｼ",86,851]
[null,19,119,100119,"前橋市立桃瀬小学校","前・桃瀬","ﾏｴﾊﾞｼ.ﾓﾓﾉｾ",91,901]
[null,20,120,100120,"前橋市立芳賀小学校","前・芳賀","ﾏｴﾊﾞｼ.ﾊｶﾞ",96,951]
[null,21,null,"","","","",101,1001]
[null,22,122,100122,"前橋市立総社小学校","前・総社","ﾏｴﾊﾞｼ.ｿｳｼﾞｬ",106,1051]
[null,23,123,100123,"前橋市立勝山小学校","前・勝山","ﾏｴﾊﾞｼ.ｶﾂﾔﾏ",111,1101]
[null,24,124,100124,"前橋市立元総社小学校","前・元総社","ﾏｴﾊﾞｼ.ﾓﾄｿｳｼﾞｬ",116,1151]
[null,25,125,100125,"前橋市立元総社南小学校","前・元総社南","ﾏｴﾊﾞｼﾓﾄｿｳｼﾞｬﾐﾅﾐ",121,1201]
[null,26,126,100126,"前橋市立元総社北小学校","前・元総社北","ﾏｴﾊﾞｼ.ﾓﾄｿｳｼﾞｬｷﾀ",126,1251]
[null,27,127,100127,"前橋市立東小学校","前・東","ﾏｴﾊﾞｼ.ｱｽﾞﾏ",131,1301]
[null,28,128,100128,"前橋市立大利根小学校","前・大利根","ﾏｴﾊﾞｼ.ｵｵﾄﾈ",136,1351]
[null,29,129,100129,"前橋市立新田小学校","前・新田","ﾏｴﾊﾞｼ.ｼﾝﾃﾞﾝ",141,1401]
[null,30,130,100130,"前橋市立細井小学校","前・細井","ﾏｴﾊﾞｼ.ﾎｿｲ",146,1451]
[null,31,131,100131,"前橋市立桃川小学校","前・桃川","ﾏｴﾊﾞｼ.ﾓﾓｶﾜ",151,1501]
[null,32,132,100132,"前橋市立荒牧小学校","前・荒牧","ﾏｴﾊﾞｼ.ｱﾗﾏｷ",156,1551]
[null,33,133,100133,"前橋市立清里小学校","前・清里","ﾏｴﾊﾞｼ.ｷﾖｻﾄ",161,1601]
[null,34,134,100134,"前橋市立永明小学校","前・永明","ﾏｴﾊﾞｼ.ｴｲﾒｲ",166,1651]
[null,35,135,100135,"前橋市立駒形小学校","前・駒形","ﾏｴﾊﾞｼ.ｺﾏｶﾞﾀ",171,1701]
[null,36,136,100136,"前橋市立荒子小学校","前・荒子","ﾏｴﾊﾞｼ.ｱﾗｺ",176,1751]
[null,37,137,100137,"前橋市立大室小学校","前・大室","ﾏｴﾊﾞｼ.ｵｵﾑﾛ",181,1801]
[null,38,138,100138,"前橋市立二之宮小学校","前・二之宮","ﾏｴﾊﾞｼ.ﾆﾉﾐﾔ",186,1851]
[null,39,139,100139,"前橋市立笂井小学校","前・笂井","ﾏｴﾊﾞｼ.ｳﾂﾎﾞｲ",191,1901]
[null,40,140,100140,"前橋市立大胡小学校","前・大胡","ﾏｴﾊﾞｼ.ｵｵｺﾞ",196,1951]
[null,41,141,100141,"前橋市立滝窪小学校","前・滝窪","ﾏｴﾊﾞｼ.ﾀｷｸﾎﾞ",201,2001]
[null,42,142,100142,"前橋市立大胡東小学校","前・大胡東","ﾏｴﾊﾞｼ.ｵｵｺﾞﾋｶﾞｼ",206,2051]
[null,43,143,100143,"前橋市立宮城小学校","前・宮城","ﾏｴﾊﾞｼ.ﾐﾔｷﾞ",211,2101]
[null,44,144,100144,"前橋市立粕川小学校","前・粕川","ﾏｴﾊﾞｼ.ｶｽｶﾜ",216,2151]
[null,45,145,100145,"前橋市立月田小学校","前・月田","ﾏｴﾊﾞｼ.ﾂｷﾀﾞ",221,2201]
[null,46,146,100146,"前橋市立原小学校","前・原","ﾏｴﾊﾞｼ.ﾊﾗ",226,2251]
[null,47,147,100147,"前橋市立時沢小学校","前・時沢","ﾏｴﾊﾞｼ.ﾄｷｻﾞﾜ",231,2301]
[null,48,148,100148,"前橋市立石井小学校","前・石井","ﾏｴﾊﾞｼ.ｲｼｲ",236,2351]
[null,49,149,100149,"前橋市立白川小学校","前・白川","ﾏｴﾊﾞｼ.ｼﾗｶﾜ",241,2401]
[null,50,150,100150,"群馬大学附属小学校","前・群大附属","ｸﾞﾝﾀﾞｲﾌｿﾞｸ",246,2451]
[null,51,151,100151,"群馬県立聾学校小学部","前・県聾","ｹﾝﾘﾂﾛｳｶﾞｯｺｳ",251,2501]
[null,52,152,100152,"共愛学園小学校","前・共愛","ﾏｴﾊﾞｼ.ｷｮｳｱｲ",256,2551]
["０２",1,201,100201,"伊勢崎市立北小学校","伊・北","ｲｾｻｷ.ｷﾀ",261,2601]
["伊勢崎市",2,202,100202,"伊勢崎市立南小学校","伊・南","ｲｾｻｷ.ﾐﾅﾐ",266,2651]
[null,3,203,100203,"伊勢崎市立殖蓮小学校","伊・殖蓮","ｲｾｻｷ.ｳｴﾊｽ",271,2701]
[null,4,204,100204,"伊勢崎市立茂呂小学校","伊・茂呂","ｲｾｻｷ.ﾓﾛ",276,2751]
[null,5,205,100205,"伊勢崎市立三郷小学校","伊・三郷","ｲｾｻｷ.ﾐｻﾄ",281,2801]
[null,6,206,100206,"伊勢崎市立宮郷小学校","伊・宮郷","ｲｾｻｷ.ﾐﾔｺﾞｳ",286,2851]
[null,7,207,100207,"伊勢崎市立名和小学校","伊・名和","ｲｾｻｷ.ﾅﾜ",291,2901]
[null,8,208,100208,"伊勢崎市立豊受小学校","伊・豊受","ｲｾｻｷ.ﾄﾖｳｹ",296,2951]
[null,9,209,100209,"伊勢崎市立北第二小学校","伊・北第二","ｲｾｻｷ.ｷﾀﾀﾞｲﾆ",301,3001]
[null,10,210,100210,"伊勢崎市立殖蓮第二小学校","伊・殖蓮第二","ｲｾｻｷ.ｳｴﾊｽﾀﾞｲﾆ",306,3051]
[null,11,211,100211,"伊勢崎市立広瀬小学校","伊・広瀬","ｲｾｻｷ.ﾋﾛｾ",311,3101]
[null,12,212,100212,"伊勢崎市立坂東小学校","伊・坂東","ｲｾｻｷ.ﾊﾞﾝﾄﾞｳ",316,3151]
[null,13,213,100213,"伊勢崎市立宮郷第二小学校","伊・宮郷第二","ｲｾｻｷ.ﾐﾔｺﾞｳﾀﾞｲﾆ",321,3201]
[null,14,214,100214,"伊勢崎市立赤堀小学校","伊・赤堀","ｲｾｻｷ.ｱｶﾎﾞﾘ",326,3251]
[null,15,215,100215,"伊勢崎市立赤堀南小学校","伊・赤堀南","ｲｾｻｷ.ｱｶﾎﾞﾘﾐﾅﾐ",331,3301]
[null,16,216,100216,"伊勢崎市立赤堀東小学校","伊・赤堀東","ｲｾｻｷ.ｱｶﾎﾞﾘﾋｶﾞｼ",336,3351]
[null,17,217,100217,"伊勢崎市立あずま小学校","伊・あずま","ｲｾｻｷ.ｱｽﾞﾏ",341,3401]
[null,18,218,100218,"伊勢崎市立あずま南小学校","伊・あずま南","ｲｾｻｷ.ｱｽﾞﾏﾐﾅﾐ",346,3451]
[null,19,219,100219,"伊勢崎市立あずま北小学校","伊・あずま北","ｲｾｻｷ.ｱｽﾞﾏｷﾀ",351,3501]
[null,20,220,100220,"伊勢崎市立境小学校","伊・境","ｲｾｻｷ.ｻｶｲ",356,3551]
[null,21,221,100221,"伊勢崎市立境采女小学校","伊・境采女","ｲｾｻｷ.ｻｶｲｳﾈﾒ",361,3601]
[null,22,222,100222,"伊勢崎市立境剛志小学校","伊・境剛志","ｲｾｻｷ.ｻｶｲｺﾞｳｼ",366,3651]
[null,23,null,"","","","",371,3701]
[null,24,224,100224,"伊勢崎市立境東小学校","伊・境東","ｲｾｻｷ.ｻｶｲﾋｶﾞｼ",376,3751]
["０３",1,301,100301,"玉村町立玉村小学校","佐・玉村","ﾀﾏﾑﾗ.ﾀﾏﾑﾗ",381,3801]
["佐波郡",2,302,100302,"玉村町立上陽小学校","佐・上陽","ﾀﾏﾑﾗ.ｼﾞｮｳﾖｳ",386,3851]
[null,3,303,100303,"玉村町立芝根小学校","佐・芝根","ﾀﾏﾑﾗ.ｼﾊﾞﾈ",391,3901]
[null,4,304,100304,"玉村町立中央小学校","佐・玉村中央","ﾀﾏﾑﾗ.ﾁｭｳｵｳ",396,3951]
[null,5,305,100305,"玉村町立南小学校","佐・玉村南","ﾀﾏﾑﾗ.ﾐﾅﾐ",401,4001]
[null,6,306,100306,"フェリーチェ玉村国際小学校","佐・ﾌｪﾘｰﾁｪ","ﾌｪﾘｰﾁｪﾀﾏﾑﾗｺｸｻｲ",406,4051]
["０４",1,401,100401,"榛東村立北小学校","北・榛東北","ｼﾝﾄｳ.ｷﾀ",411,4101]
["北群馬郡",2,402,100402,"榛東村立南小学校","北・榛東南","ｼﾝﾄｳ.ﾐﾅﾐ",416,4151]
[null,3,403,100403,"吉岡町立明治小学校","北・明治","ﾖｼｵｶ.ﾒｲｼﾞ",421,4201]
[null,4,404,100404,"吉岡町立駒寄小学校","北・駒寄","ﾖｼｵｶ.ｺﾏﾖｾ",426,4251]
["０５",1,501,100501,"渋川市立渋川北小学校","渋・渋川北","ｼﾌﾞｶﾜ.ｷﾀ",431,4301]
["渋川市",2,502,100502,"渋川市立渋川南小学校","渋・渋川南","ｼﾌﾞｶﾜ.ﾐﾅﾐ",436,4351]
[null,3,503,100503,"渋川市立金島小学校","渋・金島","ｼﾌﾞｶﾜ.ｶﾅｼﾏ",441,4401]
[null,4,504,100504,"渋川市立古巻小学校","渋・古巻","ｼﾌﾞｶﾜ.ﾌﾙﾏｷ",446,4451]
[null,5,505,100505,"渋川市立豊秋小学校","渋・豊秋","ｼﾌﾞｶﾜ.ﾄﾖｱｷ",451,4501]
[null,6,506,100506,"渋川市立渋川西小学校","渋・渋川西","ｼﾌﾞｶﾜ.ﾆｼ",456,4551]
[null,7,507,100507,"渋川市立伊香保小学校","渋・伊香保","ｼﾌﾞｶﾜ.ｲｶﾎ",461,4601]
[null,8,508,100508,"渋川市立小野上小学校","渋・小野上","ｼﾌﾞｶﾜ.ｵﾉｶﾞﾐ",466,4651]
[null,9,null,"","","","",471,4701]
[null,10,510,100510,"渋川市立中郷小学校","渋・中郷","ｼﾌﾞｶﾜ.ﾅｶｺﾞｳ",476,4751]
[null,11,511,100511,"渋川市立長尾小学校","渋・長尾","ｼﾌﾞｶﾜ.ﾅｶﾞｵ",481,4801]
[null,12,512,100512,"渋川市立三原田小学校","渋・三原田","ｼﾌﾞｶﾜ.ﾐﾊﾗﾀﾞ",486,4851]
[null,13,null,"","","","",491,4901]
[null,14,514,100514,"渋川市立津久田小学校","渋・津久田","ｼﾌﾞｶﾜ.ﾂｸﾀﾞ",496,4951]
[null,15,null,"","","","",501,5001]
[null,16,516,100516,"渋川市立橘小学校","渋・橘","ｼﾌﾞｶﾜ.ﾀﾁﾊﾞﾅ",506,5051]
[null,17,517,100517,"渋川市立橘北小学校","渋・橘北","ｼﾌﾞｶﾜ.ﾀﾁﾊﾞﾅｷﾀ",511,5101]
["０６",1,601,100601,"片品村立片品小学校","利・片品","ｶﾀｼﾅ.ｶﾀｼﾅ",516,5151]
["利根郡",2,null,"","","","",521,5201]
[null,3,null,"","","","",526,5251]
[null,4,null,"","","","",531,5301]
[null,5,605,100605,"川場村立川場小学校","利・川場","ｶﾜﾊﾞ.ｶﾜﾊﾞ",536,5351]
[null,6,606,100606,"みなかみ町立古馬牧小学校","利・古馬牧","ﾐﾅｶﾐ.ｺﾒﾏｷ",541,5401]
[null,7,607,100607,"みなかみ町立桃野小学校","利・桃野","ﾐﾅｶﾐ.ﾓﾓﾉ",546,5451]
[null,8,608,100608,"みなかみ町立月夜野北小学校","利・月夜野北","ﾐﾅｶﾐ.ﾂｷﾖﾉｷﾀ",551,5501]
[null,9,609,100609,"みなかみ町立水上小学校","利・水上","ﾐﾅｶﾐ.ﾐﾅｶﾐ",556,5551]
[null,10,610,100610,"みなかみ町立藤原小学校","利・藤原","ﾐﾅｶﾐ.ﾌｼﾞﾜﾗ",561,5601]
[null,11,611,100611,"みなかみ町立新治小学校","利・新治","ﾐﾅｶﾐ.ﾆｲﾊﾙ",566,5651]
[null,12,612,100612,"昭和村立東小学校","利・昭和東","ｼｮｳﾜ.ﾋｶﾞｼ",571,5701]
[null,13,613,100613,"昭和村立南小学校","利・昭和南","ｼｮｳﾜ.ﾐﾅﾐ",576,5751]
[null,14,614,100614,"昭和村立大河原小学校","利・大河原","ｼｮｳﾜ.ｵｵｶﾜﾗ",581,5801]
["０７",1,701,100701,"沼田市立沼田小学校","沼・沼田","ﾇﾏﾀ.ﾇﾏﾀ",586,5851]
["沼田市",2,702,100702,"沼田市立沼田東小学校","沼・沼田東","ﾇﾏﾀ.ﾇﾏﾀﾋｶﾞｼ",591,5901]
[null,3,703,100703,"沼田市立沼田北小学校","沼・沼田北","ﾇﾏﾀ.ﾇﾏﾀｷﾀ",596,5951]
[null,4,704,100704,"沼田市立升形小学校","沼・升形","ﾇﾏﾀ.ﾏｽｶﾞﾀ",601,6001]
[null,5,705,100705,"沼田市立利南東小学校","沼・利南東","ﾇﾏﾀ.ﾄﾅﾐﾋｶﾞｼ",606,6051]
[null,6,706,100706,"沼田市立池田小学校","沼・池田","ﾇﾏﾀ.ｲｹﾀﾞ",611,6101]
[null,7,707,100707,"沼田市立薄根小学校","沼・薄根","ﾇﾏﾀ.ｳｽﾈ",616,6151]
[null,8,708,100708,"沼田市立川田小学校","沼・川田","ﾇﾏﾀ.ｶﾜﾀﾞ",621,6201]
[null,9,709,100709,"沼田市立白沢小学校","沼・白沢","ﾇﾏﾀ.ｼﾗｻﾜ",626,6251]
[null,10,710,100710,"沼田市立利根小学校","沼・利根","ﾇﾏﾀ.ﾄﾈ",631,6301]
[null,11,null,"","","","",636,6351]
[null,12,null,"","","","",641,6401]
[null,13,713,100713,"沼田市立多那小学校","沼・多那","ﾇﾏﾀ.ﾀﾅ",646,6451]
["０８",1,801,100801,"中之条町立中之条小学校","吾・中之条","ﾅｶﾉｼﾞｮｳ.ﾅｶﾉｼﾞｮｳ",651,6501]
["吾妻郡",2,null,"","","","",656,6551]
[null,3,null,"","","","",661,6601]
[null,4,null,"","","","",666,6651]
[null,5,805,100805,"中之条町立六合小学校","吾・六合","ﾅｶﾉｼﾞｮｳ.ｸﾆ",671,6701]
[null,6,806,100806,"東吾妻町立東小学校","吾・東吾妻東","ﾋｶﾞｼｱｶﾞﾂﾏ.ｱｽﾞﾏ",676,6751]
[null,7,807,100807,"東吾妻町立原町小学校","吾・原町","ﾋｶﾞｼｱｶﾞﾂﾏ.ﾊﾗﾏﾁ",681,6801]
[null,8,808,100808,"東吾妻町立太田小学校","吾・東吾妻太田","ﾋｶﾞｼｱｶﾞﾂﾏ.ｵｵﾀ",686,6851]
[null,9,809,100809,"東吾妻町立岩島小学校","吾・岩島","ﾋｶﾞｼｱｶﾞﾂﾏ.ｲﾜｼﾏ",691,6901]
[null,10,810,100810,"東吾妻町立坂上小学校","吾・坂上","ﾋｶﾞｼｱｶﾞﾂﾏ.ｻｶｳｴ",696,6951]
[null,11,811,100811,"長野原町立中央小学校","吾・長野原中央","ﾅｶﾞﾉﾊﾗ.ﾁｭｳｵｳ",701,7001]
[null,12,null,"","","","",706,7051]
[null,13,813,100813,"長野原町立浅間小学校","吾・浅間","ﾅｶﾞﾉﾊﾗ.ｱｻﾏ",711,7101]
[null,14,{"$nulls":5},716,7151]
[null,15,815,100815,"嬬恋村立東部小学校","吾・嬬恋東部","ﾂﾏｺﾞｲ.ﾄｳﾌﾞ",721,7201]
[null,16,816,100816,"嬬恋村立西部小学校","吾・嬬恋西部","ﾂﾏｺﾞｲ.ｾｲﾌﾞ",726,7251]
[null,17,null,"","","","",731,7301]
[null,18,null,"","","","",736,7351]
[null,19,null,"","","","",741,7401]
[null,20,820,100820,"草津町立草津小学校","吾・草津","ｸｻﾂ.ｸｻﾂ",746,7451]
[null,21,821,100821,"高山村立高山小学校","吾・高山","ﾀｶﾔﾏ.ﾀｶﾔﾏ",751,7501]
["０９",1,901,100901,"高崎市立中央小学校","高・中央","ﾀｶｻｷ.ﾁｭｳｵｳ",756,7551]
["高崎市",2,902,100902,"高崎市立北小学校","高・北","ﾀｶｻｷ.ｷﾀ",761,7601]
[null,3,903,100903,"高崎市立南小学校","高・南","ﾀｶｻｷ.ﾐﾅﾐ",766,7651]
[null,4,904,100904,"高崎市立東小学校","高・東","ﾀｶｻｷ.ﾋｶﾞｼ",771,7701]
[null,5,905,100905,"高崎市立西小学校","高・西","ﾀｶｻｷ.ﾆｼ",776,7751]
[null,6,906,100906,"高崎市立塚沢小学校","高・塚沢","ﾀｶｻｷ.ﾂｶｻﾜ",781,7801]
[null,7,907,100907,"高崎市立片岡小学校","高・片岡","ﾀｶｻｷ.ｶﾀｵｶ",786,7851]
[null,8,908,100908,"高崎市立寺尾小学校","高・寺尾","ﾀｶｻｷ.ﾃﾗｵ",791,7901]
[null,9,909,100909,"高崎市立佐野小学校","高・佐野","ﾀｶｻｷ.ｻﾉ",796,7951]
[null,10,910,100910,"高崎市立六郷小学校","高・六郷","ﾀｶｻｷ.ﾛｸｺﾞｳ",801,8001]
[null,11,911,100911,"高崎市立城南小学校","高・城南","ﾀｶｻｷ.ｼﾞｮｳﾅﾝ",806,8051]
[null,12,912,100912,"高崎市立城東小学校","高・城東","ﾀｶｻｷ.ｼﾞｮｳﾄｳ",811,8101]
[null,13,913,100913,"高崎市立新高尾小学校","高・新高尾","ﾀｶｻｷ.ｼﾝﾀｶｵ",816,8151]
[null,14,914,100914,"高崎市立中川小学校","高・中川","ﾀｶｻｷ.ﾅｶｶﾞﾜ",821,8201]
[null,15,915,100915,"高崎市立八幡小学校","高・八幡","ﾀｶｻｷ.ﾔﾜﾀ",826,8251]
[null,16,916,100916,"高崎市立豊岡小学校","高・豊岡","ﾀｶｻｷ.ﾄﾖｵｶ",831,8301]
[null,17,917,100917,"高崎市立長野小学校","高・長野","ﾀｶｻｷ.ﾅｶﾞﾉ",836,8351]
[null,18,918,100918,"高崎市立大類小学校","高・大類","ﾀｶｻｷ.ｵｵﾙｲ",841,8401]
[null,19,919,100919,"高崎市立南八幡小学校","高・南八幡","ﾀｶｻｷ.ﾐﾅﾐﾔﾜﾀ",846,8451]
[null,20,920,100920,"高崎市立倉賀野小学校","高・倉賀野","ﾀｶｻｷ.ｸﾗｶﾞﾉ",851,8501]
[null,21,921,100921,"高崎市立岩鼻小学校","高・岩鼻","ﾀｶｻｷ.ｲﾜﾊﾅ",856,8551]
[null,22,922,100922,"高崎市立京ヶ島小学校","高・京ヶ島","ﾀｶｻｷ.ｷｮｳｶﾞｼﾏ",861,8601]
[null,23,923,100923,"高崎市立滝川小学校","高・滝川","ﾀｶｻｷ.ﾀｷｶﾞﾜ",866,8651]
[null,24,924,100924,"高崎市立東部小学校","高・東部","ﾀｶｻｷ.ﾄｳﾌﾞ",871,8701]
[null,25,925,100925,"高崎市立中居小学校","高・中居","ﾀｶｻｷ.ﾅｶｲ",876,8751]
[null,26,926,100926,"高崎市立北部小学校","高・北部","ﾀｶｻｷ.ﾎｸﾌﾞ",881,8801]
[null,27,927,100927,"高崎市立西部小学校","高・西部","ﾀｶｻｷ.ｾｲﾌﾞ",886,8851]
[null,28,928,100928,"高崎市立乗附小学校","高・乗附","ﾀｶｻｷ.ﾉﾂｹ",891,8901]
[null,29,929,100929,"高崎市立浜尻小学校","高・浜尻","ﾀｶｻｷ.ﾊﾏｼﾞﾘ",896,8951]
[null,30,930,100930,"高崎市立矢中小学校","高・矢中","ﾀｶｻｷ.ﾔﾅｶ",901,9001]
[null,31,931,100931,"高崎市立城山小学校","高・城山","ﾀｶｻｷ.ｼﾛﾔﾏ",906,9051]
[null,32,932,100932,"高崎市立鼻高小学校","高・鼻高","ﾀｶｻｷ.ﾊﾅﾀﾞｶ",911,9101]
[null,33,933,100933,"高崎市立倉渕小学校","高・倉渕","ﾀｶｻｷ.ｸﾗﾌﾞﾁ",916,9151]
[null,34,934,100934,"高崎市立箕輪小学校","高・箕輪","ﾀｶｻｷ.ﾐﾉﾜ",921,9201]
[null,35,935,100935,"高崎市立車郷小学校","高・車郷","ﾀｶｻｷ.ｸﾙﾏｻﾄ",926,9251]
[null,36,936,100936,"高崎市立箕郷東小学校","高・箕郷東","ﾀｶｻｷ.ﾐｻﾄﾋｶﾞｼ",931,9301]
[null,37,937,100937,"高崎市立金古小学校","高・金古","ﾀｶｻｷ.ｶﾈｺ",936,9351]
[null,38,938,100938,"高崎市立国府小学校","高・国府","ﾀｶｻｷ.ｺｸﾌ",941,9401]
[null,39,939,100939,"高崎市立堤ヶ岡小学校","高・堤ヶ岡","ﾀｶｻｷ.ﾂﾂﾐｶﾞｵｶ",946,9451]
[null,40,940,100940,"高崎市立上郊小学校","高・上郊","ﾀｶｻｷ.ｶﾐｻﾄ",951,9501]
[null,41,941,100941,"高崎市立金古南小学校","高・金古南","ﾀｶｻｷ.ｶﾈｺﾐﾅﾐ",956,9551]
[null,42,942,100942,"高崎市立桜山小学校","高・桜山","ﾀｶｻｷ.ｻｸﾗﾔﾏ",961,9601]
[null,43,943,100943,"高崎市立新町第一小学校","高・新町第一","ﾀｶｻｷ.ｼﾝﾏﾁﾀﾞｲｲﾁ",966,9651]
[null,44,944,100944,"高崎市立新町第二小学校","高・新町第二","ﾀｶｻｷ.ｼﾝﾏﾁﾀﾞｲﾆ",971,9701]
[null,45,945,100945,"高崎市立下室田小学校","高・下室田","ﾀｶｻｷ.ｼﾓﾑﾛﾀ",976,9751]
[null,46,946,100946,"高崎市立中室田小学校","高・中室田","ﾀｶｻｷ.ﾅｶﾑﾛﾀ",981,9801]
[null,47,947,100947,"高崎市立上室田小学校","高・上室田","ﾀｶｻｷ.ｶﾐﾑﾛﾀ",986,9851]
[null,48,948,100948,"高崎市立里見小学校","高・里見","ﾀｶｻｷ.ｻﾄﾐ",991,9901]
[null,49,949,100949,"高崎市立久留馬小学校","高・久留馬","ﾀｶｻｷ.ｸﾙﾏ",996,9951]
[null,50,950,100950,"高崎市立下里見小学校","高・下里見","ﾀｶｻｷ.ｼﾓｻﾄﾐ",1001,10001]
[null,51,951,100951,"高崎市立宮沢小学校","高・宮沢","ﾀｶｻｷ.ﾐﾔｻﾞﾜ",1006,10051]
[null,52,952,100952,"高崎市立吉井小学校","高・吉井","ﾀｶｻｷ.ﾀｶｻｷ",1011,10101]
[null,53,953,100953,"高崎市立吉井西小学校","高・吉井西","ﾀｶｻｷ.ﾀｶｻｷﾆｼ",1016,10151]
[null,54,954,100954,"高崎市立多胡小学校","高・多胡","ﾀｶｻｷ.ﾀｺﾞ",1021,10201]
[null,55,955,100955,"高崎市立入野小学校","高・入野","ﾀｶｻｷ.ｲﾘﾉ",1026,10251]
[null,56,956,100956,"高崎市立馬庭小学校","高・馬庭","ﾀｶｻｷ.ﾏﾆﾜ",1031,10301]
[null,57,957,100957,"高崎市立南陽台小学校","高・南陽台","ﾀｶｻｷ.ﾅﾝﾖｳﾀﾞｲ",1036,10351]
[null,58,958,100958,"高崎市立岩平小学校","高・岩平","ﾀｶｻｷ.ｲﾜﾀﾞｲﾗ",1041,10401]
["１０",1,1001,101001,"安中市立安中小学校","安・安中","ｱﾝﾅｶ.ｱﾝﾅｶ",1046,10451]
["安中市",2,1002,101002,"安中市立原市小学校","安・原市","ｱﾝﾅｶ.ﾊﾗｲﾁ",1051,10501]
[null,3,1003,101003,"安中市立磯部小学校","安・磯部","ｱﾝﾅｶ.ｲｿﾍﾞ",1056,10551]
[null,4,1004,101004,"安中市立東横野小学校","安・東横野","ｱﾝﾅｶ.ﾋｶﾞｼﾖｺﾉ",1061,10601]
[null,5,1005,101005,"安中市立碓東小学校","安・碓東","ｱﾝﾅｶ.ﾀｲﾄｳ",1066,10651]
[null,6,1006,101006,"安中市立秋間小学校","安・秋間","ｱﾝﾅｶ.ｱｷﾏ",1071,10701]
[null,7,1007,101007,"安中市立後閑小学校","安・後閑","ｱﾝﾅｶ.ｺﾞｶﾝ",1076,10751]
[null,8,1008,101008,"安中市立松井田小学校","安・松井田","ｱﾝﾅｶ.ﾏﾂｲﾀﾞ",1081,10801]
[null,9,1009,101009,"安中市立臼井小学校","安・臼井","ｱﾝﾅｶ.ｳｽｲ",1086,10851]
[null,10,null,"","","","",1091,10901]
[null,11,1011,101011,"安中市立西横野小学校","安・西横野","ｱﾝﾅｶ.ﾆｼﾖｺﾉ",1096,10951]
[null,12,1012,101012,"安中市立九十九小学校","安・九十九","ｱﾝﾅｶ.ﾂｸﾓ",1101,11001]
[null,13,1013,101013,"安中市立細野小学校","安・細野","ｱﾝﾅｶ.ﾎｿﾉ",1106,11051]
["１１",1,1101,101101,"甘楽町立小幡小学校","甘・小幡","ｶﾝﾗ.ｵﾊﾞﾀ",1111,11101]
["甘楽郡",2,1102,101102,"甘楽町立福島小学校","甘・福島","ｶﾝﾗ.ﾌｸｼﾏ",1116,11151]
[null,3,1103,101103,"甘楽町立新屋小学校","甘・新屋","ｶﾝﾗ.ﾆｲﾔ",1121,11201]
["富岡市",4,1104,101104,"下仁田町立下仁田小学校","甘・下仁田","ｼﾓﾆﾀ.ｼﾓﾆﾀ",1126,11251]
[null,5,1105,101105,"南牧村立なんもく学園","甘・なんもく","ﾅﾝﾓｸ.ﾅﾝﾓｸ",1131,11301]
[null,6,1106,101106,"富岡市立富岡小学校","富・富岡","ﾄﾐｵｶ.ﾄﾐｵｶ",1136,11351]
[null,7,1107,101107,"富岡市立西小学校","富・富岡西","ﾄﾐｵｶ.ﾆｼ",1141,11401]
[null,8,1108,101108,"富岡市立黒岩小学校","富・黒岩","ﾄﾐｵｶ.ｸﾛｲﾜ",1146,11451]
[null,9,1109,101109,"富岡市立一ノ宮小学校","富・一ノ宮","ﾄﾐｵｶ.ｲﾁﾉﾐﾔ",1151,11501]
[null,10,1110,101110,"富岡市立高瀬小学校","富・高瀬","ﾄﾐｵｶ.ﾀｶｾ",1156,11551]
[null,11,1111,101111,"富岡市立額部小学校","富・額部","ﾄﾐｵｶ.ﾇｶﾍﾞ",1161,11601]
[null,12,1112,101112,"富岡市立小野小学校","富・小野","ﾄﾐｵｶ.ｵﾉ",1166,11651]
[null,13,1113,101113,"富岡市立吉田小学校","富・吉田","ﾄﾐｵｶ.ﾖｼﾀﾞ",1171,11701]
[null,14,1114,101114,"富岡市立丹生小学校","富・丹生","ﾄﾐｵｶ.ﾆｭｳ",1176,11751]
[null,15,1115,101115,"富岡市立高田小学校","富・高田","ﾄﾐｵｶ.ﾀｶﾀ",1181,11801]
[null,16,1116,101116,"富岡市立妙義小学校","富・妙義","ﾄﾐｵｶ.ﾐｮｳｷﾞ",1186,11851]
["１２",1,1201,101201,"藤岡市立藤岡第一小学校","藤・藤岡第一","ﾌｼﾞｵｶﾌｼﾞｵｶﾀﾞｲｲﾁ",1191,11901]
["藤岡市",2,1202,101202,"藤岡市立藤岡第二小学校","藤・藤岡第二","ﾌｼﾞｵｶ.ﾌｼﾞｵｶﾀﾞｲﾆ",1196,11951]
[null,3,1203,101203,"藤岡市立神流小学校","藤・神流","ﾌｼﾞｵｶ.ｶﾝﾅ",1201,12001]
["多野郡",4,1204,101204,"藤岡市立小野小学校","藤・小野","ﾌｼﾞｵｶ.ｵﾉ",1206,12051]
[null,5,1205,101205,"藤岡市立美土里小学校","藤・美土里","ﾌｼﾞｵｶ.ﾐﾄﾞﾘ",1211,12101]
[null,6,1206,101206,"藤岡市立美九里東小学校","藤・美九里東","ﾌｼﾞｵｶ.ﾐｸﾘﾋｶﾞｼ",1216,12151]
[null,7,1207,101207,"藤岡市立美九里西小学校","藤・美九里西","ﾌｼﾞｵｶ.ﾐｸﾘﾆｼ",1221,12201]
[null,8,1208,101208,"藤岡市立平井小学校","藤・平井","ﾌｼﾞｵｶ.ﾋﾗｲ",1226,12251]
[null,9,1209,101209,"藤岡市立日野小学校","藤・日野","ﾌｼﾞｵｶ.ﾋﾉ",1231,12301]
[null,10,1210,101210,"藤岡市立鬼石北小学校","藤・鬼石北","ﾌｼﾞｵｶ.ｵﾆｼｷﾀ",1236,12351]
[null,11,1211,101211,"藤岡市立鬼石小学校","藤・鬼石","ﾌｼﾞｵｶ.ｵﾆｼ",1241,12401]
[null,12,1212,101212,"上野村立上野小学校","藤・上野","ｳｴﾉ.ｳｴﾉ",1246,12451]
[null,13,1213,101213,"神流町立万場小学校","藤・万場","ｶﾝﾅ.ﾏﾝﾊﾞ",1251,12501]
["１３",1,1301,101301,"桐生市立東小学校","桐・東","ｷﾘｭｳ.ﾋｶﾞｼ",1256,12551]
["桐生市",2,1302,101302,"桐生市立西小学校","桐・西","ｷﾘｭｳ.ﾆｼ",1261,12601]
[null,3,1303,101303,"桐生市立南小学校","桐・南","ｷﾘｭｳ.ﾐﾅﾐ",1266,12651]
[null,4,1304,101304,"桐生市立北小学校","桐・北","ｷﾘｭｳ.ｷﾀ",1271,12701]
[null,5,null,"","","","",1276,12751]
[null,6,1306,101306,"桐生市立境野小学校","桐・境野","ｷﾘｭｳ.ｻｶｲﾉ",1281,12801]
[null,7,1307,101307,"桐生市立広沢小学校","桐・広沢","ｷﾘｭｳ.ﾋﾛｻﾜ",1286,12851]
[null,8,1308,101308,"桐生市立梅田南小学校","桐・梅田南","ｷﾘｭｳ.ｳﾒﾀﾞﾐﾅﾐ",1291,12901]
[null,9,1309,101309,"桐生市立相生小学校","桐・相生","ｷﾘｭｳ.ｱｲｵｲ",1296,12951]
[null,10,1310,101310,"桐生市立川内小学校","桐・川内","ｷﾘｭｳ.ｶﾜｳﾁ",1301,13001]
[null,11,1311,101311,"桐生市立桜木小学校","桐・桜木","ｷﾘｭｳ.ｻｸﾗｷﾞ",1306,13051]
[null,12,1312,101312,"桐生市立菱小学校","桐・菱","ｷﾘｭｳ.ﾋｼ",1311,13101]
[null,13,1313,101313,"桐生市立天沼小学校","桐・天沼","ｷﾘｭｳ.ｱﾏﾇﾏ",1316,13151]
[null,14,1314,101314,"桐生市立神明小学校","桐・神明","ｷﾘｭｳ.ｼﾝﾒｲ",1321,13201]
[null,15,1315,101315,"桐生市立新里中央小学校","桐・新里中央","ｷﾘｭｳ.ﾆｲｻﾄﾁｭｳｵｳ",1326,13251]
[null,16,1316,101316,"桐生市立新里東小学校","桐・新里東","ｷﾘｭｳ.ﾆｲｻﾄﾋｶﾞｼ",1331,13301]
[null,17,1317,101317,"桐生市立新里北小学校","桐・新里北","ｷﾘｭｳ.ﾆｲｻﾄｷﾀ",1336,13351]
[null,18,1318,101318,"桐生市立黒保根学園","桐・黒保根","ｷﾘｭｳ.ｸﾛﾎﾈ",1341,13401]
["１４",1,1401,101401,"みどり市立笠懸小学校","み・笠懸","ﾐﾄﾞﾘ.ｶｻｶｹ",1346,13451]
["みどり市",2,1402,101402,"みどり市立笠懸東小学校","み・笠懸東","ﾐﾄﾞﾘ.ｶｻｶｹﾋｶﾞｼ",1351,13501]
[null,3,1403,101403,"みどり市立笠懸北小学校","み・笠懸北","ﾐﾄﾞﾘ.ｶｻｶｹｷﾀ",1356,13551]
[null,4,1404,101404,"みどり市立笠懸西小学校","み・笠懸西","ﾐﾄﾞﾘ.ｶｻｶｹﾆｼ",1361,13601]
[null,5,1405,101405,"みどり市立大間々北小学校","み・大間々北","ﾐﾄﾞﾘ.ｵｵﾏﾏｷﾀ",1366,13651]
[null,6,1406,101406,"みどり市立大間々南小学校","み・大間々南","ﾐﾄﾞﾘ.ｵｵﾏﾏﾐﾅﾐ",1371,13701]
[null,7,1407,101407,"みどり市立大間々東小学校","み・大間々東","ﾐﾄﾞﾘ.ｵｵﾏﾏﾋｶﾞｼ",1376,13751]
[null,8,1408,101408,"みどり市立福岡中央小学校","み・福岡中央","ﾐﾄﾞﾘ.ﾌｸｵｶﾁｭｳｵｳ",1381,13801]
[null,9,1409,101409,"みどり市立あずま小学校","み・あずま","ﾐﾄﾞﾘ.ｱｽﾞﾏ",1386,13851]
["１５",1,1501,101501,"太田市立太田小学校","太・太田","ｵｵﾀ.ｵｵﾀ",1391,13901]
["太田市",2,1502,101502,"太田市立九合小学校","太・九合","ｵｵﾀ.ｸｱｲ",1396,13951]
[null,3,1503,101503,"太田市立沢野小学校","太・沢野","ｵｵﾀ.ｻﾜﾉ",1401,14001]
[null,4,1504,101504,"太田市立韮川小学校","太・韮川","ｵｵﾀ.ﾆﾗｶﾞﾜ",1406,14051]
[null,5,1505,101505,"太田市立鳥之郷小学校","太・鳥之郷","ｵｵﾀ.ﾄﾘﾉｺﾞｳ",1411,14101]
[null,6,null,"","","","",1416,14151]
[null,7,1507,101507,"太田市立南小学校","太・太田南","ｵｵﾀ.ﾐﾅﾐ",1421,14201]
[null,8,1508,101508,"太田市立休泊小学校","太・休泊","ｵｵﾀ.ｷｭｳﾊｸ",1426,14251]
[null,9,1509,101509,"太田市立強戸小学校","太・強戸","ｵｵﾀ.ｺﾞｳﾄﾞ",1431,14301]
[null,10,1510,101510,"太田市立宝泉小学校","太・宝泉","ｵｵﾀ.ﾎｳｾﾝ",1436,14351]
[null,11,1511,101511,"太田市立宝泉南小学校","太・宝泉南","ｵｵﾀ.ﾎｳｾﾝﾐﾅﾐ",1441,14401]
[null,12,1512,101512,"太田市立毛里田小学校","太・毛里田","ｵｵﾀ.ﾓﾘﾀ",1446,14451]
[null,13,1513,101513,"太田市立中央小学校","太・太田中央","ｵｵﾀ.ﾁｭｳｵｳ",1451,14501]
[null,14,1514,101514,"太田市立宝泉東小学校","太・宝泉東","ｵｵﾀ.ﾎｳｾﾝﾋｶﾞｼ",1456,14551]
[null,15,null,"","","","",1461,14601]
[null,16,1516,101516,"太田市立旭小学校","太・旭","ｵｵﾀ.ｱｻﾋ",1466,14651]
[null,17,1517,101517,"太田市立駒形小学校","太・駒形","ｵｵﾀ.ｺﾏｶﾞﾀ",1471,14701]
[null,18,1518,101518,"太田市立城西小学校","太・城西","ｵｵﾀ.ｼﾞｮｳｻｲ",1476,14751]
[null,19,1519,101519,"太田市立沢野中央小学校","太・沢野中央","ｵｵﾀ.ｻﾜﾉﾁｭｳｵｳ",1481,14801]
[null,20,1520,101520,"太田市立尾島小学校","太・尾島","ｵｵﾀ.ｵｼﾞﾏ",1486,14851]
[null,21,1521,101521,"太田市立世良田小学校","太・世良田","ｵｵﾀ.ｾﾗﾀﾞ",1491,14901]
[null,22,1522,101522,"太田市立木崎小学校","太・木崎","ｵｵﾀ.ｷｻﾞｷ",1496,14951]
[null,23,1523,101523,"太田市立生品小学校","太・生品","ｵｵﾀ.ｲｸｼﾅ",1501,15001]
[null,24,1524,101524,"太田市立綿打小学校","太・綿打","ｵｵﾀ.ﾜﾀｳﾁ",1506,15051]
[null,25,1525,101525,"太田市立藪塚本町小学校","太・藪塚","ｵｵﾀ.ﾔﾌﾞﾂﾞｶ",1511,15101]
[null,26,1526,101526,"太田市立藪塚本町南小学校","太・藪塚南","ｵｵﾀ.ﾔﾌﾞﾂﾞｶﾐﾅﾐ",1516,15151]
[null,27,1527,101527,"北の杜学園","太・北の杜","ｵｵﾀ.ｷﾀﾉﾓﾘ",1521,15201]
[null,28,1528,101528,"学校法人太田国際学園ぐんま国際アカデミー","太・ＧＫＡ","ｸﾞﾝﾏｺｸｻｲｱｶﾃﾞﾐｰ",1526,15251]
["１６",1,1601,101601,"板倉町立東小学校","邑・板倉東","ｲﾀｸﾗ.ﾋｶﾞｼ",1531,15301]
["邑楽郡",2,1602,101602,"板倉町立西小学校","邑・板倉西","ｲﾀｸﾗ.ﾆｼ",1536,15351]
[null,3,1603,101603,"板倉町立南小学校","邑・板倉南","ｲﾀｸﾗ.ﾐﾅﾐ",1541,15401]
[null,4,1604,101604,"板倉町立北小学校","邑・板倉北","ｲﾀｸﾗ.ｷﾀ",1546,15451]
[null,5,1605,101605,"明和町立明和東小学校","邑・明和東","ﾒｲﾜ.ﾒｲﾜﾋｶﾞｼ",1551,15501]
[null,6,1606,101606,"明和町立明和西小学校","邑・明和西","ﾒｲﾜ.ﾒｲﾜﾆｼ",1556,15551]
[null,7,1607,101607,"千代田町立西小学校","邑・千代田西","ﾁﾖﾀﾞ.ﾆｼ",1561,15601]
[null,8,1608,101608,"千代田町立東小学校","邑・千代田東","ﾁﾖﾀﾞ.ﾋｶﾞｼ",1566,15651]
[null,9,1609,101609,"大泉町立南小学校","邑・大泉南","ｵｵｲｽﾞﾐ.ﾐﾅﾐ",1571,15701]
[null,10,1610,101610,"大泉町立北小学校","邑・大泉北","ｵｵｲｽﾞﾐ.ｷﾀ",1576,15751]
[null,11,1611,101611,"大泉町立西小学校","邑・大泉西","ｵｵｲｽﾞﾐ.ﾆｼ",1581,15801]
[null,12,1612,101612,"大泉町立東小学校","邑・大泉東","ｵｵｲｽﾞﾐ.ﾋｶﾞｼ",1586,15851]
[null,13,1613,101613,"邑楽町立中野小学校","邑・中野","ｵｳﾗ.ﾅｶﾉ",1591,15901]
[null,14,1614,101614,"邑楽町立高島小学校","邑・高島","ｵｳﾗ.ﾀｶｼﾏ",1596,15951]
[null,15,1615,101615,"邑楽町立長柄小学校","邑・長柄","ｵｳﾗ.ﾅｶﾞｴ",1601,16001]
[null,16,1616,101616,"邑楽町立中野東小学校","邑・中野東","ｵｳﾗ.ﾅｶﾉﾋｶﾞｼ",1606,16051]
["１７",1,1701,101701,"館林市立第一小学校","館・第一","ﾀﾃﾊﾞﾔｼ.ﾀﾞｲｲﾁ",1611,16101]
["館林市",2,1702,101702,"館林市立第二小学校","館・第二","ﾀﾃﾊﾞﾔｼ.ﾀﾞｲﾆ",1616,16151]
[null,3,1703,101703,"館林市立第三小学校","館・第三","ﾀﾃﾊﾞﾔｼ.ﾀﾞｲｻﾝ",1621,16201]
[null,4,1704,101704,"館林市立第四小学校","館・第四","ﾀﾃﾊﾞﾔｼ.ﾀﾞｲﾖﾝ",1626,16251]
[null,5,1705,101705,"館林市立第五小学校","館・第五","ﾀﾃﾊﾞﾔｼ.ﾀﾞｲｺﾞ",1631,16301]
[null,6,1706,101706,"館林市立第六小学校","館・第六","ﾀﾃﾊﾞﾔｼ.ﾀﾞｲﾛｸ",1636,16351]
[null,7,1707,101707,"館林市立第七小学校","館・第七","ﾀﾃﾊﾞﾔｼ.ﾀﾞｲﾅﾅ",1641,16401]
[null,8,1708,101708,"館林市立第八小学校","館・第八","ﾀﾃﾊﾞﾔｼ.ﾀﾞｲﾊﾁ",1646,16451]
[null,9,1709,101709,"館林市立第九小学校","館・第九","ﾀﾃﾊﾞﾔｼ.ﾀﾞｲｷｭｳ",1651,16501]
[null,10,1710,101710,"館林市立第十小学校","館・第十","ﾀﾃﾊﾞﾔｼ.ﾀﾞｲｼﾞｭｳ",1656,16551]
[null,11,1711,101711,"館林市立美園小学校","館・美園","ﾀﾃﾊﾞﾔｼ.ﾐｿﾉ",1661,16601]
[]
[null,null,5000,5000,"群馬県立テスト小学校","群・テスト","ｹﾝﾘﾂ.ﾃｽﾄ",1671,16701]