{"text_format":"3","workbook":"xlsx","n_sheets":6,"sheets":["表紙","選手入力","リレー入力","学校データ","郡市データ","競技データ"],"not_rendered":{"macros":1},"read":"whole","date_system":"1900"}

{"sheet":"表紙","index":0,"n_rows":34,"n_cols":5,"rows_kept":34,"merged":[[0,0,0,1]]}
["令和5年度　○○市○○郡小学校陸上教室記録会エントリー"]
["学校NO"]
["学校名（自動表示）",{"$f":"VLOOKUP($B$2,学校データ!$A$1:$H$312,3,FALSE)","v":{"$error":"#N/A"}}]
["郡市NO"]
["郡市名（自動表示）",{"$f":"VLOOKUP(B4,郡市データ!$A$1:$B$19,2,FALSE)","v":"な　し"}]
["学校電話番号","027-123-1234",null,"男子",5]
["担当者名","群馬　太郎",null,"女子",6]
["担当者メールアドレス","gepra-joho@gepra7.ec-net.jp"]
["担当者電話番号","027-123-4567"]
[null,"エントリー人数"]
["１００ｍ男子小学５年",{"$f":"COUNTIF(選手入力!$AM$3:$AM$202,表紙!D11)","v":0},null,"002   105"]
["１００ｍ男子小学６年",{"$f":"COUNTIF(選手入力!$AM$3:$AM$202,表紙!D12)","v":0},null,"002   106"]
["１０００ｍ男子小学５・６年",{"$f":"COUNTIF(選手入力!$AM$3:$AM$202,表紙!D13)","v":0},null,"007   100"]
["５０ｍＨ男子小学５・６年",{"$f":"COUNTIF(選手入力!$AM$3:$AM$202,表紙!D14)","v":0},null,"042   100"]
["１００ｍ男子小学友好レース",{"$f":"COUNTIF(選手入力!$AM$3:$AM$202,表紙!D15)","v":0},null,"002   107"]
["４×１００ｍ男子小学５・６年",{"$f":"IF(リレー入力!I3=\"\",0,1)","v":0},null,"601   100"]
["走高跳男子小学５・６年",{"$f":"COUNTIF(選手入力!$AM$3:$AM$202,表紙!D17)","v":0},null,"071   100"]
["走幅跳男子小学５・６年",{"$f":"COUNTIF(選手入力!$AM$3:$AM$202,表紙!D18)","v":0},null,"073   100"]
["リレーのみ男子",{"$f":"COUNTIF(選手入力!$AM$3:$AM$202,表紙!D19)","v":0},null,"999   100"]
["ボール投男子小学５・６年",{"$f":"COUNTIF(選手入力!$AM$3:$AM$202,表紙!D20)","v":0},null,"092   100"]
["１００ｍ女子小学５年",{"$f":"COUNTIF(選手入力!$AM$3:$AM$202,表紙!D21)","v":0},null,"002   205"]
["１００ｍ女子小学６年",{"$f":"COUNTIF(選手入力!$AM$3:$AM$202,表紙!D22)","v":0},null,"002   206"]
["８００ｍ女子小学５・６年",{"$f":"COUNTIF(選手入力!$AM$3:$AM$202,表紙!D23)","v":0},null,"006   200"]
["５０ｍＨ女子小学５・６年",{"$f":"COUNTIF(選手入力!$AM$3:$AM$202,表紙!D24)","v":0},null,"042   200"]
["１００ｍ女子小学友好レース",{"$f":"COUNTIF(選手入力!$AM$3:$AM$202,表紙!D25)","v":0},null,"002   207"]
["４×１００ｍ女子小学５・６年",{"$f":"IF(リレー入力!I43=\"\",0,1)","v":0},null,"601   200"]
["走高跳女子小学５・６年",{"$f":"COUNTIF(選手入力!$AM$3:$AM$202,表紙!D27)","v":0},null,"071   200"]
["走幅跳女子小学５・６年",{"$f":"COUNTIF(選手入力!$AM$3:$AM$202,表紙!D28)","v":0},null,"073   200"]
["ボール投女子小学５・６年",{"$f":"COUNTIF(選手入力!$AM$3:$AM$202,表紙!D29)","v":0},null,"092   200"]
["リレーのみ女子",{"$f":"COUNTIF(選手入力!$AM$3:$AM$202,表紙!D30)","v":0},null,"999   200"]
[]
["以下処理用"]
["選手初期NO",{"$f":"VLOOKUP($B$2,学校データ!$A$1:$H$312,7,FALSE)","v":{"$error":"#N/A"}}]
["リレー初期NO",{"$f":"VLOOKUP($B$2,学校データ!$A$1:$H$312,8,FALSE)","v":{"$error":"#N/A"}}]

{"sheet":"選手入力","index":1,"n_rows":202,"n_cols":39,"rows_kept":202,"merged":[[0,0,0,4],[0,8,0,12]]}
[{"$f":"CONCATENATE(表紙!B3,\"チーム選手入力\")","v":{"$error":"#N/A"}},{"$nulls":6},"友好・リレーのみもこちらに","申込みタイム（各位ずつ記入）"]
["選手NO","漢字氏名","ﾖﾐｶﾞﾅ","学年","性別","学校NO（自動表示）","学校名（自動表示）","種目1","分",null,"秒・ｍ","1/10","1/100・ｃｍ",{"$nulls":10},"DB","N1","N2","SX","KC","MC","TL","WT","ZK","S1","S2","S3","S4"]
[1,{"$nulls":4},{"$f":"IF(B3=\"\",\"\",表紙!$B$2)","v":""},{"$f":"IF(B3=\"\",\"\",VLOOKUP(F3,学校データ!A:D,4,FALSE))","v":""},{"$nulls":7},{"$f":"IF(I3=\"\",0,I3)","v":0},{"$f":"IF(J3=\"\",0,J3)","v":0},{"$f":"IF(K3=\"\",0,K3)","v":0},{"$f":"IF(L3=\"\",0,L3)","v":0},{"$f":"IF(M3=\"\",0,M3)","v":0},{"$f":"CONCATENATE(\"00\",O3,P3,Q3,R3,S3)","v":"0000000"},{"$f":"IF(B3=\"\",\"\",VLOOKUP(H3,競技データ!$B$21:$C$29,2,FALSE))","v":""},{"$f":"IF(B3=\"\",\"\",IF(H3=\"100ｍ\",CONCATENATE(\"0\",D3),IF(H3=\"友好100ｍ\",\"07\",\"00\")))","v":""},null,{"$f":"IF(B3=\"\",\"\",表紙!$B$33+選手入力!A3)","v":""},{"$f":"IF(B3=\"\",\"\",B3 & \"(\" &D3&\")\")","v":""},{"$f":"IF(B3=\"\",\"\",C3)","v":""},{"$f":"IF(E3=\"\",\"\",IF(E3=\"男子\",1,2))","v":""},{"$f":"IF(B3=\"\",\"\",表紙!$B$4)","v":""},{"$f":"IF(B3=\"\",\"\",F3)","v":""},null,null,{"$f":"IF(B3=\"\",\"\",X3)","v":""},{"$f":"IF(B3=\"\",\"\",IF(H3=\"リレーのみ\",\"R99900\",CONCATENATE(U3,V3,\" \",T3)))","v":""},{"$nulls":3},{"$f":"IF(AG3=\"\",\"\",RIGHT(LEFT(AG3,4),3))","v":""},{"$f":"IF(AG3=\"\",\"\",RIGHT(LEFT(AG3,6),2))","v":""},{"$f":"IF(AG3=\"\",\"\",CONCATENATE(AK3,\"   \",AA3,AL3))","v":""}]
[2,{"$nulls":4},{"$f":"IF(B4=\"\",\"\",表紙!$B$2)","v":""},{"$f":"IF(B4=\"\",\"\",VLOOKUP(F4,学校データ!A:D,4,FALSE))","v":""},{"$nulls":7},{"$f":"IF(I4=\"\",0,I4)","v":0},0,0,0,0,{"$f":"CONCATENATE(\"00\",O4,P4,Q4,R4,S4)","v":"0000000"},{"$f":"IF(B4=\"\",\"\",VLOOKUP(H4,競技データ!$B$21:$C$29,2,FALSE))","v":""},{"$f":"IF(B4=\"\",\"\",IF(H4=\"100ｍ\",CONCATENATE(\"0\",D4),IF(H4=\"友好100ｍ\",\"07\",\"00\")))","v":""},null,{"$f":"IF(B4=\"\",\"\",表紙!$B$33+選手入力!A4)","v":""},{"$f":"IF(B4=\"\",\"\",B4 & \"(\" &D4&\")\")","v":""},"","",{"$f":"IF(B4=\"\",\"\",表紙!$B$4)","v":""},"",null,null,"",{"$f":"IF(B4=\"\",\"\",IF(H4=\"リレーのみ\",\"R99900\",CONCATENATE(U4,V4,\" \",T4)))","v":""},{"$nulls":3},{"$f":"IF(AG4=\"\",\"\",RIGHT(LEFT(AG4,4),3))","v":""},{"$f":"IF(AG4=\"\",\"\",RIGHT(LEFT(AG4,6),2))","v":""},{"$f":"IF(AG4=\"\",\"\",CONCATENATE(AK4,\"   \",AA4,AL4))","v":""}]
[3,{"$nulls":4},{"$f":"IF(B5=\"\",\"\",表紙!$B$2)","v":""},{"$f":"IF(B5=\"\",\"\",VLOOKUP(F5,学校データ!A:D,4,FALSE))","v":""},{"$nulls":7},0,0,0,0,0,"0000000",{"$f":"IF(B5=\"\",\"\",VLOOKUP(H5,競技データ!$B$21:$C$29,2,FALSE))","v":""},"",null,{"$f":"IF(B5=\"\",\"\",表紙!$B$33+選手入力!A5)","v":""},"","","",{"$f":"IF(B5=\"\",\"\",表紙!$B$4)","v":""},"",null,null,"","",{"$nulls":3},"","",""]
[4,{"$nulls":4},{"$f":"IF(B6=\"\",\"\",表紙!$B$2)","v":""},{"$f":"IF(B6=\"\",\"\",VLOOKUP(F6,学校データ!A:D,4,FALSE))","v":""},{"$nulls":7},0,0,0,0,0,"0000000",{"$f":"IF(B6=\"\",\"\",VLOOKUP(H6,競技データ!$B$21:$C$29,2,FALSE))","v":""},"",null,{"$f":"IF(B6=\"\",\"\",表紙!$B$33+選手入力!A6)","v":""},"","","",{"$f":"IF(B6=\"\",\"\",表紙!$B$4)","v":""},"",null,null,"","",{"$nulls":3},"","",""]
[5,{"$nulls":4},{"$f":"IF(B7=\"\",\"\",表紙!$B$2)","v":""},{"$f":"IF(B7=\"\",\"\",VLOOKUP(F7,学校データ!A:D,4,FALSE))","v":""},{"$nulls":7},0,0,0,0,0,"0000000",{"$f":"IF(B7=\"\",\"\",VLOOKUP(H7,競技データ!$B$21:$C$29,2,FALSE))","v":""},"",null,{"$f":"IF(B7=\"\",\"\",表紙!$B$33+選手入力!A7)","v":""},"","","",{"$f":"IF(B7=\"\",\"\",表紙!$B$4)","v":""},"",null,null,"","",{"$nulls":3},"","",""]
[6,{"$nulls":4},{"$f":"IF(B8=\"\",\"\",表紙!$B$2)","v":""},{"$f":"IF(B8=\"\",\"\",VLOOKUP(F8,学校データ!A:D,4,FALSE))","v":""},{"$nulls":7},0,0,0,0,0,"0000000",{"$f":"IF(B8=\"\",\"\",VLOOKUP(H8,競技データ!$B$21:$C$29,2,FALSE))","v":""},"",null,{"$f":"IF(B8=\"\",\"\",表紙!$B$33+選手入力!A8)","v":""},"","","",{"$f":"IF(B8=\"\",\"\",表紙!$B$4)","v":""},"",null,null,"","",{"$nulls":3},"","",""]
[7,{"$nulls":4},{"$f":"IF(B9=\"\",\"\",表紙!$B$2)","v":""},{"$f":"IF(B9=\"\",\"\",VLOOKUP(F9,学校データ!A:D,4,FALSE))","v":""},{"$nulls":7},0,0,0,0,0,"0000000",{"$f":"IF(B9=\"\",\"\",VLOOKUP(H9,競技データ!$B$21:$C$29,2,FALSE))","v":""},"",null,{"$f":"IF(B9=\"\",\"\",表紙!$B$33+選手入力!A9)","v":""},"","","",{"$f":"IF(B9=\"\",\"\",表紙!$B$4)","v":""},"",null,null,"","",{"$nulls":3},"","",""]
[8,{"$nulls":4},{"$f":"IF(B10=\"\",\"\",表紙!$B$2)","v":""},{"$f":"IF(B10=\"\",\"\",VLOOKUP(F10,学校データ!A:D,4,FALSE))","v":""},{"$nulls":7},0,0,0,0,0,"0000000",{"$f":"IF(B10=\"\",\"\",VLOOKUP(H10,競技データ!$B$21:$C$29,2,FALSE))","v":""},"",null,{"$f":"IF(B10=\"\",\"\",表紙!$B$33+選手入力!A10)","v":""},"","","",{"$f":"IF(B10=\"\",\"\",表紙!$B$4)","v":""},"",null,null,"","",{"$nulls":3},"","",""]
[9,{"$nulls":4},{"$f":"IF(B11=\"\",\"\",表紙!$B$2)","v":""},{"$f":"IF(B11=\"\",\"\",VLOOKUP(F11,学校データ!A:D,4,FALSE))","v":""},{"$nulls":7},0,0,0,0,0,"0000000",{"$f":"IF(B11=\"\",\"\",VLOOKUP(H11,競技データ!$B$21:$C$29,2,FALSE))","v":""},"",null,{"$f":"IF(B11=\"\",\"\",表紙!$B$33+選手入力!A11)","v":""},"","","",{"$f":"IF(B11=\"\",\"\",表紙!$B$4)","v":""},"",null,null,"","",{"$nulls":3},"","",""]
[10,{"$nulls":4},{"$f":"IF(B12=\"\",\"\",表紙!$B$2)","v":""},{"$f":"IF(B12=\"\",\"\",VLOOKUP(F12,学校データ!A:D,4,FALSE))","v":""},{"$nulls":7},0,0,0,0,0,"0000000",{"$f":"IF(B12=\"\",\"\",VLOOKUP(H12,競技データ!$B$21:$C$29,2,FALSE))","v":""},"",null,{"$f":"IF(B12=\"\",\"\",表紙!$B$33+選手入力!A12)","v":""},"","","",{"$f":"IF(B12=\"\",\"\",表紙!$B$4)","v":""},"",null,null,"","",{"$nulls":3},"","",""]
[11,{"$nulls":4},{"$f":"IF(B13=\"\",\"\",表紙!$B$2)","v":""},{"$f":"IF(B13=\"\",\"\",VLOOKUP(F13,学校データ!A:D,4,FALSE))","v":""},{"$nulls":7},0,0,0,0,0,"0000000",{"$f":"IF(B13=\"\",\"\",VLOOKUP(H13,競技データ!$B$21:$C$29,2,FALSE))","v":""},"",null,{"$f":"IF(B13=\"\",\"\",表紙!$B$33+選手入力!A13)","v":""},"","","",{"$f":"IF(B13=\"\",\"\",表紙!$B$4)","v":""},"",null,null,"","",{"$nulls":3},"","",""]
[12,{"$nulls":4},{"$f":"IF(B14=\"\",\"\",表紙!$B$2)","v":""},{"$f":"IF(B14=\"\",\"\",VLOOKUP(F14,学校データ!A:D,4,FALSE))","v":""},{"$nulls":7},0,0,0,0,0,"0000000",{"$f":"IF(B14=\"\",\"\",VLOOKUP(H14,競技データ!$B$21:$C$29,2,FALSE))","v":""},"",null,{"$f":"IF(B14=\"\",\"\",表紙!$B$33+選手入力!A14)","v":""},"","","",{"$f":"IF(B14=\"\",\"\",表紙!$B$4)","v":""},"",null,null,"","",{"$nulls":3},"","",""]
[13,{"$nulls":4},{"$f":"IF(B15=\"\",\"\",表紙!$B$2)","v":""},{"$f":"IF(B15=\"\",\"\",VLOOKUP(F15,学校データ!A:D,4,FALSE))","v":""},{"$nulls":7},0,0,0,0,0,"0000000",{"$f":"IF(B15=\"\",\"\",VLOOKUP(H15,競技データ!$B$21:$C$29,2,FALSE))","v":""},"",null,{"$f":"IF(B15=\"\",\"\",表紙!$B$33+選手入力!A15)","v":""},"","","",{"$f":"IF(B15=\"\",\"\",表紙!$B$4)","v":""},"",null,null,"","",{"$nulls":3},"","",""]
[14,{"$nulls":4},{"$f":"IF(B16=\"\",\"\",表紙!$B$2)","v":""},{"$f":"IF(B16=\"\",\"\",VLOOKUP(F16,学校データ!A:D,4,FALSE))","v":""},{"$nulls":7},0,0,0,0,0,"0000000",{"$f":"IF(B16=\"\",\"\",VLOOKUP(H16,競技データ!$B$21:$C$29,2,FALSE))","v":""},"",null,{"$f":"IF(B16=\"\",\"\",表紙!$B$33+選手入力!A16)","v":""},"","","",{"$f":"IF(B16=\"\",\"\",表紙!$B$4)","v":""},"",null,null,"","",{"$nulls":3},"","",""]
[15,{"$nulls":4},{"$f":"IF(B17=\"\",\"\",表紙!$B$2)","v":""},{"$f":"IF(B17=\"\",\"\",VLOOKUP(F17,学校データ!A:D,4,FALSE))","v":""},{"$nulls":7},0,0,0,0,0,"0000000",{"$f":"IF(B17=\"\",\"\",VLOOKUP(H17,競技データ!$B$21:$C$29,2,FALSE))","v":""},"",null,{"$f":"IF(B17=\"\",\"\",表紙!$B$33+選手入力!A17)","v":""},"","","",{"$f":"IF(B17=\"\",\"\",表紙!$B$4)","v":""},"",null,null,"","",{"$nulls":3},"","",""]
[16,{"$nulls":4},{"$f":"IF(B18=\"\",\"\",表紙!$B$2)","v":""},{"$f":"IF(B18=\"\",\"\",VLOOKUP(F18,学校データ!A:D,4,FALSE))","v":""},{"$nulls":7},0,0,0,0,0,"0000000",{"$f":"IF(B18=\"\",\"\",VLOOKUP(H18,競技データ!$B$21:$C$29,2,FALSE))","v":""},"",null,{"$f":"IF(B18=\"\",\"\",表紙!$B$33+選手入力!A18)","v":""},"","","",{"$f":"IF(B18=\"\",\"\",表紙!$B$4)","v":""},"",null,null,"","",{"$nulls":3},"","",""]
[17,{"$nulls":4},{"$f":"IF(B19=\"\",\"\",表紙!$B$2)","v":""},{"$f":"IF(B19=\"\",\"\",VLOOKUP(F19,学校データ!A:D,4,FALSE))","v":""},{"$nulls":7},0,0,0,0,0,"0000000",{"$f":"IF(B19=\"\",\"\",VLOOKUP(H19,競技データ!$B$21:$C$29,2,FALSE))","v":""},"",null,{"$f":"IF(B19=\"\",\"\",表紙!$B$33+選手入力!A19)","v":""},"","","",{"$f":"IF(B19=\"\",\"\",表紙!$B$4)","v":""},"",null,null,"","",{"$nulls":3},"","",""]
[18,{"$nulls":4},{"$f":"IF(B20=\"\",\"\",表紙!$B$2)","v":""},{"$f":"IF(B20=\"\",\"\",VLOOKUP(F20,学校データ!A:D,4,FALSE))","v":""},{"$nulls":7},0,0,0,0,0,"0000000",{"$f":"IF(B20=\"\",\"\",VLOOKUP(H20,競技データ!$B$21:$C$29,2,FALSE))","v":""},"",null,{"$f":"IF(B20=\"\",\"\",表紙!$B$33+選手入力!A20)","v":""},"","","",{"$f":"IF(B20=\"\",\"\",表紙!$B$4)","v":""},"",null,null,"","",{"$nulls":3},"","",""]
[19,{"$nulls":4},{"$f":"IF(B21=\"\",\"\",表紙!$B$2)","v":""},{"$f":"IF(B21=\"\",\"\",VLOOKUP(F21,学校データ!A:D,4,FALSE))","v":""},{"$nulls":7},0,0,0,0,0,"0000000",{"$f":"IF(B21=\"\",\"\",VLOOKUP(H21,競技データ!$B$21:$C$29,2,FALSE))","v":""},"",null,{"$f":"IF(B21=\"\",\"\",表紙!$B$33+選手入力!A21)","v":""},"","","",{"$f":"IF(B21=\"\",\"\",表紙!$B$4)","v":""},"",null,null,"","",{"$nulls":3},"","",""]
[20,{"$nulls":4},{"$f":"IF(B22=\"\",\"\",表紙!$B$2)","v":""},{"$f":"IF(B22=\"\",\"\",VLOOKUP(F22,学校データ!A:D,4,FALSE))","v":""},{"$nulls":7},0,0,0,0,0,"0000000",{"$f":"IF(B22=\"\",\"\",VLOOKUP(H22,競技データ!$B$21:$C$29,2,FALSE))","v":""},"",null,{"$f":"IF(B22=\"\",\"\",表紙!$B$33+選手入力!A22)","v":""},"","","",{"$f":"IF(B22=\"\",\"\",表紙!$B$4)","v":""},"",null,null,"","",{"$nulls":3},"","",""]
[21,{"$nulls":4},{"$f":"IF(B23=\"\",\"\",表紙!$B$2)","v":""},{"$f":"IF(B23=\"\",\"\",VLOOKUP(F23,学校データ!A:D,4,FALSE))","v":""},{"$nulls":7},0,0,0,0,0,"0000000",{"$f":"IF(B23=\"\",\"\",VLOOKUP(H23,競技データ!$B$21:$C$29,2,FALSE))","v":""},"",null,{"$f":"IF(B23=\"\",\"\",表紙!$B$33+選手入力!A23)","v":""},"","","",{"$f":"IF(B23=\"\",\"\",表紙!$B$4)","v":""},"",null,null,"","",{"$nulls":3},"","",""]
[22,{"$nulls":4},{"$f":"IF(B24=\"\",\"\",表紙!$B$2)","v":""},{"$f":"IF(B24=\"\",\"\",VLOOKUP(F24,学校データ!A:D,4,FALSE))","v":""},{"$nulls":7},0,0,0,0,0,"0000000",{"$f":"IF(B24=\"\",\"\",VLOOKUP(H24,競技データ!$B$21:$C$29,2,FALSE))","v":""},"",null,{"$f":"IF(B24=\"\",\"\",表紙!$B$33+選手入力!A24)","v":""},"","","",{"$f":"IF(B24=\"\",\"\",表紙!$B$4)","v":""},"",null,null,"","",{"$nulls":3},"","",""]
[23,{"$nulls":4},{"$f":"IF(B25=\"\",\"\",表紙!$B$2)","v":""},{"$f":"IF(B25=\"\",\"\",VLOOKUP(F25,学校データ!A:D,4,FALSE))","v":""},{"$nulls":7},0,0,0,0,0,"0000000",{"$f":"IF(B25=\"\",\"\",VLOOKUP(H25,競技データ!$B$21:$C$29,2,FALSE))","v":""},"",null,{"$f":"IF(B25=\"\",\"\",表紙!$B$33+選手入力!A25)","v":""},"","","",{"$f":"IF(B25=\"\",\"\",表紙!$B$4)","v":""},"",null,null,"","",{"$nulls":3},"","",""]
[24,{"$nulls":4},{"$f":"IF(B26=\"\",\"\",表紙!$B$2)","v":""},{"$f":"IF(B26=\"\",\"\",VLOOKUP(F26,学校データ!A:D,4,FALSE))","v":""},{"$nulls":7},0,0,0,0,0,"0000000",{"$f":"IF(B26=\"\",\"\",VLOOKUP(H26,競技データ!$B$21:$C$29,2,FALSE))","v":""},"",null,{"$f":"IF(B26=\"\",\"\",表紙!$B$33+選手入力!A26)","v":""},"","","",{"$f":"IF(B26=\"\",\"\",表紙!$B$4)","v":""},"",null,null,"","",{"$nulls":3},"","",""]
[25,{"$nulls":4},{"$f":"IF(B27=\"\",\"\",表紙!$B$2)","v":""},{"$f":"IF(B27=\"\",\"\",VLOOKUP(F27,学校データ!A:D,4,FALSE))","v":""},{"$nulls":7},0,0,0,0,0,"0000000",{"$f":"IF(B27=\"\",\"\",VLOOKUP(H27,競技データ!$B$21:$C$29,2,FALSE))","v":""},"",null,{"$f":"IF(B27=\"\",\"\",表紙!$B$33+選手入力!A27)","v":""},"","","",{"$f":"IF(B27=\"\",\"\",表紙!$B$4)","v":""},"",null,null,"","",{"$nulls":3},"","",""]
[26,{"$nulls":4},{"$f":"IF(B28=\"\",\"\",表紙!$B$2)","v":""},{"$f":"IF(B28=\"\",\"\",VLOOKUP(F28,学校データ!A:D,4,FALSE))","v":""},{"$nulls":7},0,0,0,0,0,"0000000",{"$f":"IF(B28=\"\",\"\",VLOOKUP(H28,競技データ!$B$21:$C$29,2,FALSE))","v":""},"",null,{"$f":"IF(B28=\"\",\"\",表紙!$B$33+選手入力!A28)","v":""},"","","",{"$f":"IF(B28=\"\",\"\",表紙!$B$4)","v":""},"",null,null,"","",{"$nulls":3},"","",""]
[27,{"$nulls":4},{"$f":"IF(B29=\"\",\"\",表紙!$B$2)","v":""},{"$f":"IF(B29=\"\",\"\",VLOOKUP(F29,学校データ!A:D,4,FALSE))","v":""},{"$nulls":7},0,0,0,0,0,"0000000",{"$f":"IF(B29=\"\",\"\",VLOOKUP(H29,競技データ!$B$21:$C$29,2,FALSE))","v":""},"",null,{"$f":"IF(B29=\"\",\"\",表紙!$B$33+選手入力!A29)","v":""},"","","",{"$f":"IF(B29=\"\",\"\",表紙!$B$4)","v":""},"",null,null,"","",{"$nulls":3},"","",""]
[28,{"$nulls":4},{"$f":"IF(B30=\"\",\"\",表紙!$B$2)","v":""},{"$f":"IF(B30=\"\",\"\",VLOOKUP(F30,学校データ!A:D,4,FALSE))","v":""},{"$nulls":7},0,0,0,0,0,"0000000",{"$f":"IF(B30=\"\",\"\",VLOOKUP(H30,競技データ!$B$21:$C$29,2,FALSE))","v":""},"",null,{"$f":"IF(B30=\"\",\"\",表紙!$B$33+選手入力!A30)","v":""},"","","",{"$f":"IF(B30=\"\",\"\",表紙!$B$4)","v":""},"",null,null,"","",{"$nulls":3},"","",""]
[29,{"$nulls":4},{"$f":"IF(B31=\"\",\"\",表紙!$B$2)","v":""},{"$f":"IF(B31=\"\",\"\",VLOOKUP(F31,学校データ!A:D,4,FALSE))","v":""},{"$nulls":7},0,0,0,0,0,"0000000",{"$f":"IF(B31=\"\",\"\",VLOOKUP(H31,競技データ!$B$21:$C$29,2,FALSE))","v":""},"",null,{"$f":"IF(B31=\"\",\"\",表紙!$B$33+選手入力!A31)","v":""},"","","",{"$f":"IF(B31=\"\",\"\",表紙!$B$4)","v":""},"",null,null,"","",{"$nulls":3},"","",""]
[30,{"$nulls":4},{"$f":"IF(B32=\"\",\"\",表紙!$B$2)","v":""},{"$f":"IF(B32=\"\",\"\",VLOOKUP(F32,学校データ!A:D,4,FALSE))","v":""},{"$nulls":7},0,0,0,0,0,"0000000",{"$f":"IF(B32=\"\",\"\",VLOOKUP(H32,競技データ!$B$21:$C$29,2,FALSE))","v":""},"",null,{"$f":"IF(B32=\"\",\"\",表紙!$B$33+選手入力!A32)","v":""},"","","",{"$f":"IF(B32=\"\",\"\",表紙!$B$4)","v":""},"",null,null,"","",{"$nulls":3},"","",""]
[31,{"$nulls":4},{"$f":"IF(B33=\"\",\"\",表紙!$B$2)","v":""},{"$f":"IF(B33=\"\",\"\",VLOOKUP(F33,学校データ!A:D,4,FALSE))","v":""},{"$nulls":7},0,0,0,0,0,"0000000",{"$f":"IF(B33=\"\",\"\",VLOOKUP(H33,競技データ!$B$21:$C$29,2,FALSE))","v":""},"",null,{"$f":"IF(B33=\"\",\"\",表紙!$B$33+選手入力!A33)","v":""},"","","",{"$f":"IF(B33=\"\",\"\",表紙!$B$4)","v":""},"",null,null,"","",{"$nulls":3},"","",""]
[32,{"$nulls":4},{"$f":"IF(B34=\"\",\"\",表紙!$B$2)","v":""},{"$f":"IF(B34=\"\",\"\",VLOOKUP(F34,学校データ!A:D,4,FALSE))","v":""},{"$nulls":7},0,0,0,0,0,"0000000",{"$f":"IF(B34=\"\",\"\",VLOOKUP(H34,競技データ!$B$21:$C$29,2,FALSE))","v":""},"",null,{"$f":"IF(B34=\"\",\"\",表紙!$B$33+選手入力!A34)","v":""},"","","",{"$f":"IF(B34=\"\",\"\",表紙!$B$4)","v":""},"",null,null,"","",{"$nulls":3},"","",""]
[33,{"$nulls":4},{"$f":"IF(B35=\"\",\"\",表紙!$B$2)","v":""},{"$f":"IF(B35=\"\",\"\",VLOOKUP(F35,学校データ!A:D,4,FALSE))","v":""},{"$nulls":7},0,0,0,0,0,"0000000",{"$f":"IF(B35=\"\",\"\",VLOOKUP(H35,競技データ!$B$21:$C$29,2,FALSE))","v":""},"",null,{"$f":"IF(B35=\"\",\"\",表紙!$B$33+選手入力!A35)","v":""},"",{"$f":"IF(B35=\"\",\"\",C35)","v":""},{"$f":"IF(E35=\"\",\"\",IF(E35=\"男子\",1,2))","v":""},{"$f":"IF(B35=\"\",\"\",表紙!$B$4)","v":""},{"$f":"IF(B35=\"\",\"\",F35)","v":""},null,null,{"$f":"IF(B35=\"\",\"\",X35)","v":""},"",{"$nulls":3},"","",""]
[34,{"$nulls":4},{"$f":"IF(B36=\"\",\"\",表紙!$B$2)","v":""},{"$f":"IF(B36=\"\",\"\",VLOOKUP(F36,学校データ!A:D,4,FALSE))","v":""},{"$nulls":7},0,0,0,0,0,"0000000",{"$f":"IF(B36=\"\",\"\",VLOOKUP(H36,競技データ!$B$21:$C$29,2,FALSE))","v":""},"",null,{"$f":"IF(B36=\"\",\"\",表紙!$B$33+選手入力!A36)","v":""},"","","",{"$f":"IF(B36=\"\",\"\",表紙!$B$4)","v":""},"",null,null,"","",{"$nulls":3},"","",""]
[35,{"$nulls":4},{"$f":"IF(B37=\"\",\"\",表紙!$B$2)","v":""},{"$f":"IF(B37=\"\",\"\",VLOOKUP(F37,学校データ!A:D,4,FALSE))","v":""},{"$nulls":7},0,0,0,0,0,"0000000",{"$f":"IF(B37=\"\",\"\",VLOOKUP(H37,競技データ!$B$21:$C$29,2,FALSE))","v":""},"",null,{"$f":"IF(B37=\"\",\"\",表紙!$B$33+選手入力!A37)","v":""},"","","",{"$f":"IF(B37=\"\",\"\",表紙!$B$4)","v":""},"",null,null,"","",{"$nulls":3},"","",""]
[36,{"$nulls":4},{"$f":"IF(B38=\"\",\"\",表紙!$B$2)","v":""},{"$f":"IF(B38=\"\",\"\",VLOOKUP(F38,学校データ!A:D,4,FALSE))","v":""},{"$nulls":7},0,0,0,0,0,"0000000",{"$f":"IF(B38=\"\",\"\",VLOOKUP(H38,競技データ!$B$21:$C$29,2,FALSE))","v":""},"",null,{"$f":"IF(B38=\"\",\"\",表紙!$B$33+選手入力!A38)","v":""},"","","",{"$f":"IF(B38=\"\",\"\",表紙!$B$4)","v":""},"",null,null,"","",{"$nulls":3},"","",""]
[37,{"$nulls":4},{"$f":"IF(B39=\"\",\"\",表紙!$B$2)","v":""},{"$f":"IF(B39=\"\",\"\",VLOOKUP(F39,学校データ!A:D,4,FALSE))","v":""},{"$nulls":7},0,0,0,0,0,"0000000",{"$f":"IF(B39=\"\",\"\",VLOOKUP(H39,競技データ!$B$21:$C$29,2,FALSE))","v":""},"",null,{"$f":"IF(B39=\"\",\"\",表紙!$B$33+選手入力!A39)","v":""},"","","",{"$f":"IF(B39=\"\",\"\",表紙!$B$4)","v":""},"",null,null,"","",{"$nulls":3},"","",""]
[38,{"$nulls":4},{"$f":"IF(B40=\"\",\"\",表紙!$B$2)","v":""},{"$f":"IF(B40=\"\",\"\",VLOOKUP(F40,学校データ!A:D,4,FALSE))","v":""},{"$nulls":7},0,0,0,0,0,"0000000",{"$f":"IF(B40=\"\",\"\",VLOOKUP(H40,競技データ!$B$21:$C$29,2,FALSE))","v":""},"",null,{"$f":"IF(B40=\"\",\"\",表紙!$B$33+選手入力!A40)","v":""},"","","",{"$f":"IF(B40=\"\",\"\",表紙!$B$4)","v":""},"",null,null,"","",{"$nulls":3},"","",""]
[39,{"$nulls":4},{"$f":"IF(B41=\"\",\"\",表紙!$B$2)","v":""},{"$f":"IF(B41=\"\",\"\",VLOOKUP(F41,学校データ!A:D,4,FALSE))","v":""},{"$nulls":7},0,0,0,0,0,"0000000",{"$f":"IF(B41=\"\",\"\",VLOOKUP(H41,競技データ!$B$21:$C$29,2,FALSE))","v":""},"",null,{"$f":"IF(B41=\"\",\"\",表紙!$B$33+選手入力!A41)","v":""},"","","",{"$f":"IF(B41=\"\",\"\",表紙!$B$4)","v":""},"",null,null,"","",{"$nulls":3},"","",""]
[40,{"$nulls":4},{"$f":"IF(B42=\"\",\"\",表紙!$B$2)","v":""},{"$f":"IF(B42=\"\",\"\",VLOOKUP(F42,学校データ!A:D,4,FALSE))","v":""},{"$nulls":7},0,0,0,0,0,"0000000",{"$f":"IF(B42=\"\",\"\",VLOOKUP(H42,競技データ!$B$21:$C$29,2,FALSE))","v":""},"",null,{"$f":"IF(B42=\"\",\"\",表紙!$B$33+選手入力!A42)","v":""},"","","",{"$f":"IF(B42=\"\",\"\",表紙!$B$4)","v":""},"",null,null,"","",{"$nulls":3},"","",""]
[41,{"$nulls":4},{"$f":"IF(B43=\"\",\"\",表紙!$B$2)","v":""},{"$f":"IF(B43=\"\",\"\",VLOOKUP(F43,学校データ!A:D,4,FALSE))","v":""},{"$nulls":7},0,0,0,0,0,"0000000",{"$f":"IF(B43=\"\",\"\",VLOOKUP(H43,競技データ!$B$21:$C$29,2,FALSE))","v":""},"",null,{"$f":"IF(B43=\"\",\"\",表紙!$B$33+選手入力!A43)","v":""},"","","",{"$f":"IF(B43=\"\",\"\",表紙!$B$4)","v":""},"",null,null,"","",{"$nulls":3},"","",""]
[42,{"$nulls":4},{"$f":"IF(B44=\"\",\"\",表紙!$B$2)","v":""},{"$f":"IF(B44=\"\",\"\",VLOOKUP(F44,学校データ!A:D,4,FALSE))","v":""},{"$nulls":7},0,0,0,0,0,"0000000",{"$f":"IF(B44=\"\",\"\",VLOOKUP(H44,競技データ!$B$21:$C$29,2,FALSE))","v":""},"",null,{"$f":"IF(B44=\"\",\"\",表紙!$B$33+選手入力!A44)","v":""},"","","",{"$f":"IF(B44=\"\",\"\",表紙!$B$4)","v":""},"",null,null,"","",{"$nulls":3},"","",""]
[43,{"$nulls":4},{"$f":"IF(B45=\"\",\"\",表紙!$B$2)","v":""},{"$f":"IF(B45=\"\",\"\",VLOOKUP(F45,学校データ!A:D,4,FALSE))","v":""},{"$nulls":7},0,0,0,0,0,"0000000",{"$f":"IF(B45=\"\",\"\",VLOOKUP(H45,競技データ!$B$21:$C$29,2,FALSE))","v":""},"",null,{"$f":"IF(B45=\"\",\"\",表紙!$B$33+選手入力!A45)","v":""},"","","",{"$f":"IF(B45=\"\",\"\",表紙!$B$4)","v":""},"",null,null,"","",{"$nulls":3},"","",""]
[44,{"$nulls":4},{"$f":"IF(B46=\"\",\"\",表紙!$B$2)","v":""},{"$f":"IF(B46=\"\",\"\",VLOOKUP(F46,学校データ!A:D,4,FALSE))","v":""},{"$nulls":7},0,0,0,0,0,"0000000",{"$f":"IF(B46=\"\",\"\",VLOOKUP(H46,競技データ!$B$21:$C$29,2,FALSE))","v":""},"",null,{"$f":"IF(B46=\"\",\"\",表紙!$B$33+選手入力!A46)","v":""},"","","",{"$f":"IF(B46=\"\",\"\",表紙!$B$4)","v":""},"",null,null,"","",{"$nulls":3},"","",""]
[45,{"$nulls":4},{"$f":"IF(B47=\"\",\"\",表紙!$B$2)","v":""},{"$f":"IF(B47=\"\",\"\",VLOOKUP(F47,学校データ!A:D,4,FALSE))","v":""},{"$nulls":7},0,0,0,0,0,"0000000",{"$f":"IF(B47=\"\",\"\",VLOOKUP(H47,競技データ!$B$21:$C$29,2,FALSE))","v":""},"",null,{"$f":"IF(B47=\"\",\"\",表紙!$B$33+選手入力!A47)","v":""},"","","",{"$f":"IF(B47=\"\",\"\",表紙!$B$4)","v":""},"",null,null,"","",{"$nulls":3},"","",""]
[46,{"$nulls":4},{"$f":"IF(B48=\"\",\"\",表紙!$B$2)","v":""},{"$f":"IF(B48=\"\",\"\",VLOOKUP(F48,学校データ!A:D,4,FALSE))","v":""},{"$nulls":7},0,0,0,0,0,"0000000",{"$f":"IF(B48=\"\",\"\",VLOOKUP(H48,競技データ!$B$21:$C$29,2,FALSE))","v":""},"",null,{"$f":"IF(B48=\"\",\"\",表紙!$B$33+選手入力!A48)","v":""},"","","",{"$f":"IF(B48=\"\",\"\",表紙!$B$4)","v":""},"",null,null,"","",{"$nulls":3},"","",""]
[47,{"$nulls":4},{"$f":"IF(B49=\"\",\"\",表紙!$B$2)","v":""},{"$f":"IF(B49=\"\",\"\",VLOOKUP(F49,学校データ!A:D,4,FALSE))","v":""},{"$nulls":7},0,0,0,0,0,"0000000",{"$f":"IF(B49=\"\",\"\",VLOOKUP(H49,競技データ!$B$21:$C$29,2,FALSE))","v":""},"",null,{"$f":"IF(B49=\"\",\"\",表紙!$B$33+選手入力!A49)","v":""},"","","",{"$f":"IF(B49=\"\",\"\",表紙!$B$4)","v":""},"",null,null,"","",{"$nulls":3},"","",""]
[48,{"$nulls":4},{"$f":"IF(B50=\"\",\"\",表紙!$B$2)","v":""},{"$f":"IF(B50=\"\",\"\",VLOOKUP(F50,学校データ!A:D,4,FALSE))","v":""},{"$nulls":7},0,0,0,0,0,"0000000",{"$f":"IF(B50=\"\",\"\",VLOOKUP(H50,競技データ!$B$21:$C$29,2,FALSE))","v":""},"",null,{"$f":"IF(B50=\"\",\"\",表紙!$B$33+選手入力!A50)","v":""},"","","",{"$f":"IF(B50=\"\",\"\",表紙!$B$4)","v":""},"",null,null,"","",{"$nulls":3},"","",""]
[49,{"$nulls":4},{"$f":"IF(B51=\"\",\"\",表紙!$B$2)","v":""},{"$f":"IF(B51=\"\",\"\",VLOOKUP(F51,学校データ!A:D,4,FALSE))","v":""},{"$nulls":7},0,0,0,0,0,"0000000",{"$f":"IF(B51=\"\",\"\",VLOOKUP(H51,競技データ!$B$21:$C$29,2,FALSE))","v":""},"",null,{"$f":"IF(B51=\"\",\"\",表紙!$B$33+選手入力!A51)","v":""},"","","",{"$f":"IF(B51=\"\",\"\",表紙!$B$4)","v":""},"",null,null,"","",{"$nulls":3},"","",""]
[50,{"$nulls":4},{"$f":"IF(B52=\"\",\"\",表紙!$B$2)","v":""},{"$f":"IF(B52=\"\",\"\",VLOOKUP(F52,学校データ!A:D,4,FALSE))","v":""},{"$nulls":7},0,0,0,0,0,"0000000",{"$f":"IF(B52=\"\",\"\",VLOOKUP(H52,競技データ!$B$21:$C$29,2,FALSE))","v":""},"",null,{"$f":"IF(B52=\"\",\"\",表紙!$B$33+選手入力!A52)","v":""},"","","",{"$f":"IF(B52=\"\",\"\",表紙!$B$4)","v":""},"",null,null,"","",{"$nulls":3},"","",""]
[51,{"$nulls":4},{"$f":"IF(B53=\"\",\"\",表紙!$B$2)","v":""},{"$f":"IF(B53=\"\",\"\",VLOOKUP(F53,学校データ!A:D,4,FALSE))","v":""},{"$nulls":7},0,0,0,0,0,"0000000",{"$f":"IF(B53=\"\",\"\",VLOOKUP(H53,競技データ!$B$21:$C$29,2,FALSE))","v":""},"",null,{"$f":"IF(B53=\"\",\"\",表紙!$B$33+選手入力!A53)","v":""},"","","",{"$f":"IF(B53=\"\",\"\",表紙!$B$4)","v":""},"",null,null,"","",{"$nulls":3},"","",""]
[52,{"$nulls":4},{"$f":"IF(B54=\"\",\"\",表紙!$B$2)","v":""},{"$f":"IF(B54=\"\",\"\",VLOOKUP(F54,学校データ!A:D,4,FALSE))","v":""},{"$nulls":7},0,0,0,0,0,"0000000",{"$f":"IF(B54=\"\",\"\",VLOOKUP(H54,競技データ!$B$21:$C$29,2,FALSE))","v":""},"",null,{"$f":"IF(B54=\"\",\"\",表紙!$B$33+選手入力!A54)","v":""},"","","",{"$f":"IF(B54=\"\",\"\",表紙!$B$4)","v":""},"",null,null,"","",{"$nulls":3},"","",""]
[53,{"$nulls":4},{"$f":"IF(B55=\"\",\"\",表紙!$B$2)","v":""},{"$f":"IF(B55=\"\",\"\",VLOOKUP(F55,学校データ!A:D,4,FALSE))","v":""},{"$nulls":7},0,0,0,0,0,"0000000",{"$f":"IF(B55=\"\",\"\",VLOOKUP(H55,競技データ!$B$21:$C$29,2,FALSE))","v":""},"",null,{"$f":"IF(B55=\"\",\"\",表紙!$B$33+選手入力!A55)","v":""},"","","",{"$f":"IF(B55=\"\",\"\",表紙!$B$4)","v":""},"",null,null,"","",{"$nulls":3},"","",""]
[54,{"$nulls":4},{"$f":"IF(B56=\"\",\"\",表紙!$B$2)","v":""},{"$f":"IF(B56=\"\",\"\",VLOOKUP(F56,学校データ!A:D,4,FALSE))","v":""},{"$nulls":7},0,0,0,0,0,"0000000",{"$f":"IF(B56=\"\",\"\",VLOOKUP(H56,競技データ!$B$21:$C$29,2,FALSE))","v":""},"",null,{"$f":"IF(B56=\"\",\"\",表紙!$B$33+選手入力!A56)","v":""},"","","",{"$f":"IF(B56=\"\",\"\",表紙!$B$4)","v":""},"",null,null,"","",{"$nulls":3},"","",""]
[55,{"$nulls":4},{"$f":"IF(B57=\"\",\"\",表紙!$B$2)","v":""},{"$f":"IF(B57=\"\",\"\",VLOOKUP(F57,学校データ!A:D,4,FALSE))","v":""},{"$nulls":7},0,0,0,0,0,"0000000",{"$f":"IF(B57=\"\",\"\",VLOOKUP(H57,競技データ!$B$21:$C$29,2,FALSE))","v":""},"",null,{"$f":"IF(B57=\"\",\"\",表紙!$B$33+選手入力!A57)","v":""},"","","",{"$f":"IF(B57=\"\",\"\",表紙!$B$4)","v":""},"",null,null,"","",{"$nulls":3},"","",""]
[56,{"$nulls":4},{"$f":"IF(B58=\"\",\"\",表紙!$B$2)","v":""},{"$f":"IF(B58=\"\",\"\",VLOOKUP(F58,学校データ!A:D,4,FALSE))","v":""},{"$nulls":7},0,0,0,0,0,"0000000",{"$f":"IF(B58=\"\",\"\",VLOOKUP(H58,競技データ!$B$21:$C$29,2,FALSE))","v":""},"",null,{"$f":"IF(B58=\"\",\"\",表紙!$B$33+選手入力!A58)","v":""},"","","",{"$f":"IF(B58=\"\",\"\",表紙!$B$4)","v":""},"",null,null,"","",{"$nulls":3},"","",""]
[57,{"$nulls":4},{"$f":"IF(B59=\"\",\"\",表紙!$B$2)","v":""},{"$f":"IF(B59=\"\",\"\",VLOOKUP(F59,学校データ!A:D,4,FALSE))","v":""},{"$nulls":7},0,0,0,0,0,"0000000",{"$f":"IF(B59=\"\",\"\",VLOOKUP(H59,競技データ!$B$21:$C$29,2,FALSE))","v":""},"",null,{"$f":"IF(B59=\"\",\"\",表紙!$B$33+選手入力!A59)","v":""},"","","",{"$f":"IF(B59=\"\",\"\",表紙!$B$4)","v":""},"",null,null,"","",{"$nulls":3},"","",""]
[58,{"$nulls":4},{"$f":"IF(B60=\"\",\"\",表紙!$B$2)","v":""},{"$f":"IF(B60=\"\",\"\",VLOOKUP(F60,学校データ!A:D,4,FALSE))","v":""},{"$nulls":7},0,0,0,0,0,"0000000",{"$f":"IF(B60=\"\",\"\",VLOOKUP(H60,競技データ!$B$21:$C$29,2,FALSE))","v":""},"",null,{"$f":"IF(B60=\"\",\"\",表紙!$B$33+選手入力!A60)","v":""},"","","",{"$f":"IF(B60=\"\",\"\",表紙!$B$4)","v":""},"",null,null,"","",{"$nulls":3},"","",""]
[59,{"$nulls":4},{"$f":"IF(B61=\"\",\"\",表紙!$B$2)","v":""},{"$f":"IF(B61=\"\",\"\",VLOOKUP(F61,学校データ!A:D,4,FALSE))","v":""},{"$nulls":7},0,0,0,0,0,"0000000",{"$f":"IF(B61=\"\",\"\",VLOOKUP(H61,競技データ!$B$21:$C$29,2,FALSE))","v":""},"",null,{"$f":"IF(B61=\"\",\"\",表紙!$B$33+選手入力!A61)","v":""},"","","",{"$f":"IF(B61=\"\",\"\",表紙!$B$4)","v":""},"",null,null,"","",{"$nulls":3},"","",""]
[60,{"$nulls":4},{"$f":"IF(B62=\"\",\"\",表紙!$B$2)","v":""},{"$f":"IF(B62=\"\",\"\",VLOOKUP(F62,学校データ!A:D,4,FALSE))","v":""},{"$nulls":7},0,0,0,0,0,"0000000",{"$f":"IF(B62=\"\",\"\",VLOOKUP(H62,競技データ!$B$21:$C$29,2,FALSE))","v":""},"",null,{"$f":"IF(B62=\"\",\"\",表紙!$B$33+選手入力!A62)","v":""},"","","",{"$f":"IF(B62=\"\",\"\",表紙!$B$4)","v":""},"",null,null,"","",{"$nulls":3},"","",""]
[61,{"$nulls":4},{"$f":"IF(B63=\"\",\"\",表紙!$B$2)","v":""},{"$f":"IF(B63=\"\",\"\",VLOOKUP(F63,学校データ!A:D,4,FALSE))","v":""},{"$nulls":7},0,0,0,0,0,"0000000",{"$f":"IF(B63=\"\",\"\",VLOOKUP(H63,競技データ!$B$21:$C$29,2,FALSE))","v":""},"",null,{"$f":"IF(B63=\"\",\"\",表紙!$B$33+選手入力!A63)","v":""},"","","",{"$f":"IF(B63=\"\",\"\",表紙!$B$4)","v":""},"",null,null,"","",{"$nulls":3},"","",""]
[62,{"$nulls":4},{"$f":"IF(B64=\"\",\"\",表紙!$B$2)","v":""},{"$f":"IF(B64=\"\",\"\",VLOOKUP(F64,学校データ!A:D,4,FALSE))","v":""},{"$nulls":7},0,0,0,0,0,"0000000",{"$f":"IF(B64=\"\",\"\",VLOOKUP(H64,競技データ!$B$21:$C$29,2,FALSE))","v":""},"",null,{"$f":"IF(B64=\"\",\"\",表紙!$B$33+選手入力!A64)","v":""},"","","",{"$f":"IF(B64=\"\",\"\",表紙!$B$4)","v":""},"",null,null,"","",{"$nulls":3},"","",""]
[63,{"$nulls":4},{"$f":"IF(B65=\"\",\"\",表紙!$B$2)","v":""},{"$f":"IF(B65=\"\",\"\",VLOOKUP(F65,学校データ!A:D,4,FALSE))","v":""},{"$nulls":7},0,0,0,0,0,"0000000",{"$f":"IF(B65=\"\",\"\",VLOOKUP(H65,競技データ!$B$21:$C$29,2,FALSE))","v":""},"",null,{"$f":"IF(B65=\"\",\"\",表紙!$B$33+選手入力!A65)","v":""},"","","",{"$f":"IF(B65=\"\",\"\",表紙!$B$4)","v":""},"",null,null,"","",{"$nulls":3},"","",""]
[64,{"$nulls":4},{"$f":"IF(B66=\"\",\"\",表紙!$B$2)","v":""},{"$f":"IF(B66=\"\",\"\",VLOOKUP(F66,学校データ!A:D,4,FALSE))","v":""},{"$nulls":7},0,0,0,0,0,"0000000",{"$f":"IF(B66=\"\",\"\",VLOOKUP(H66,競技データ!$B$21:$C$29,2,FALSE))","v":""},"",null,{"$f":"IF(B66=\"\",\"\",表紙!$B$33+選手入力!A66)","v":""},"","","",{"$f":"IF(B66=\"\",\"\",表紙!$B$4)","v":""},"",null,null,"","",{"$nulls":3},"","",""]
[65,{"$nulls":4},{"$f":"IF(B67=\"\",\"\",表紙!$B$2)","v":""},{"$f":"IF(B67=\"\",\"\",VLOOKUP(F67,学校データ!A:D,4,FALSE))","v":""},{"$nulls":7},0,{"$f":"IF(J67=\"\",0,J67)","v":0},{"$f":"IF(K67=\"\",0,K67)","v":0},{"$f":"IF(L67=\"\",0,L67)","v":0},{"$f":"IF(M67=\"\",0,M67)","v":0},"0000000",{"$f":"IF(B67=\"\",\"\",VLOOKUP(H67,競技データ!$B$21:$C$29,2,FALSE))","v":""},"",null,{"$f":"IF(B67=\"\",\"\",表紙!$B$33+選手入力!A67)","v":""},"",{"$f":"IF(B67=\"\",\"\",C67)","v":""},{"$f":"IF(E67=\"\",\"\",IF(E67=\"男子\",1,2))","v":""},{"$f":"IF(B67=\"\",\"\",表紙!$B$4)","v":""},{"$f":"IF(B67=\"\",\"\",F67)","v":""},null,null,{"$f":"IF(B67=\"\",\"\",X67)","v":""},"",{"$nulls":3},"","",""]
[66,{"$nulls":4},{"$f":"IF(B68=\"\",\"\",表紙!$B$2)","v":""},{"$f":"IF(B68=\"\",\"\",VLOOKUP(F68,学校データ!A:D,4,FALSE))","v":""},{"$nulls":7},{"$f":"IF(I68=\"\",0,I68)","v":0},0,0,0,0,{"$f":"CONCATENATE(\"00\",O68,P68,Q68,R68,S68)","v":"0000000"},{"$f":"IF(B68=\"\",\"\",VLOOKUP(H68,競技データ!$B$21:$C$29,2,FALSE))","v":""},{"$f":"IF(B68=\"\",\"\",IF(H68=\"100ｍ\",CONCATENATE(\"0\",D68),IF(H68=\"友好100ｍ\",\"07\",\"00\")))","v":""},null,{"$f":"IF(B68=\"\",\"\",表紙!$B$33+選手入力!A68)","v":""},{"$f":"IF(B68=\"\",\"\",B68 & \"(\" &D68&\")\")","v":""},"","",{"$f":"IF(B68=\"\",\"\",表紙!$B$4)","v":""},"",null,null,"",{"$f":"IF(B68=\"\",\"\",IF(H68=\"リレーのみ\",\"R99900\",CONCATENATE(U68,V68,\" \",T68)))","v":""},{"$nulls":3},{"$f":"IF(AG68=\"\",\"\",RIGHT(LEFT(AG68,4),3))","v":""},{"$f":"IF(AG68=\"\",\"\",RIGHT(LEFT(AG68,6),2))","v":""},{"$f":"IF(AG68=\"\",\"\",CONCATENATE(AK68,\"   \",AA68,AL68))","v":""}]
[67,{"$nulls":4},{"$f":"IF(B69=\"\",\"\",表紙!$B$2)","v":""},{"$f":"IF(B69=\"\",\"\",VLOOKUP(F69,学校データ!A:D,4,FALSE))","v":""},{"$nulls":7},0,0,0,0,0,"0000000",{"$f":"IF(B69=\"\",\"\",VLOOKUP(H69,競技データ!$B$21:$C$29,2,FALSE))","v":""},"",null,{"$f":"IF(B69=\"\",\"\",表紙!$B$33+選手入力!A69)","v":""},"","","",{"$f":"IF(B69=\"\",\"\",表紙!$B$4)","v":""},"",null,null,"","",{"$nulls":3},"","",""]
[68,{"$nulls":4},{"$f":"IF(B70=\"\",\"\",表紙!$B$2)","v":""},{"$f":"IF(B70=\"\",\"\",VLOOKUP(F70,学校データ!A:D,4,FALSE))","v":""},{"$nulls":7},0,0,0,0,0,"0000000",{"$f":"IF(B70=\"\",\"\",VLOOKUP(H70,競技データ!$B$21:$C$29,2,FALSE))","v":""},"",null,{"$f":"IF(B70=\"\",\"\",表紙!$B$33+選手入力!A70)","v":""},"","","",{"$f":"IF(B70=\"\",\"\",表紙!$B$4)","v":""},"",null,null,"","",{"$nulls":3},"","",""]
[69,{"$nulls":4},{"$f":"IF(B71=\"\",\"\",表紙!$B$2)","v":""},{"$f":"IF(B71=\"\",\"\",VLOOKUP(F71,学校データ!A:D,4,FALSE))","v":""},{"$nulls":7},0,0,0,0,0,"0000000",{"$f":"IF(B71=\"\",\"\",VLOOKUP(H71,競技データ!$B$21:$C$29,2,FALSE))","v":""},"",null,{"$f":"IF(B71=\"\",\"\",表紙!$B$33+選手入力!A71)","v":""},"","","",{"$f":"IF(B71=\"\",\"\",表紙!$B$4)","v":""},"",null,null,"","",{"$nulls":3},"","",""]
[70,{"$nulls":4},{"$f":"IF(B72=\"\",\"\",表紙!$B$2)","v":""},{"$f":"IF(B72=\"\",\"\",VLOOKUP(F72,学校データ!A:D,4,FALSE))","v":""},{"$nulls":7},0,0,0,0,0,"0000000",{"$f":"IF(B72=\"\",\"\",VLOOKUP(H72,競技データ!$B$21:$C$29,2,FALSE))","v":""},"",null,{"$f":"IF(B72=\"\",\"\",表紙!$B$33+選手入力!A72)","v":""},"","","",{"$f":"IF(B72=\"\",\"\",表紙!$B$4)","v":""},"",null,null,"","",{"$nulls":3},"","",""]
[71,{"$nulls":4},{"$f":"IF(B73=\"\",\"\",表紙!$B$2)","v":""},{"$f":"IF(B73=\"\",\"\",VLOOKUP(F73,学校データ!A:D,4,FALSE))","v":""},{"$nulls":7},0,0,0,0,0,"0000000",{"$f":"IF(B73=\"\",\"\",VLOOKUP(H73,競技データ!$B$21:$C$29,2,FALSE))","v":""},"",null,{"$f":"IF(B73=\"\",\"\",表紙!$B$33+選手入力!A73)","v":""},"","","",{"$f":"IF(B73=\"\",\"\",表紙!$B$4)","v":""},"",null,null,"","",{"$nulls":3},"","",""]
[72,{"$nulls":4},{"$f":"IF(B74=\"\",\"\",表紙!$B$2)","v":""},{"$f":"IF(B74=\"\",\"\",VLOOKUP(F74,学校データ!A:D,4,FALSE))","v":""},{"$nulls":7},0,0,0,0,0,"0000000",{"$f":"IF(B74=\"\",\"\",VLOOKUP(H74,競技データ!$B$21:$C$29,2,FALSE))","v":""},"",null,{"$f":"IF(B74=\"\",\"\",表紙!$B$33+選手入力!A74)","v":""},"","","",{"$f":"IF(B74=\"\",\"\",表紙!$B$4)","v":""},"",null,null,"","",{"$nulls":3},"","",""]
[73,{"$nulls":4},{"$f":"IF(B75=\"\",\"\",表紙!$B$2)","v":""},{"$f":"IF(B75=\"\",\"\",VLOOKUP(F75,学校データ!A:D,4,FALSE))","v":""},{"$nulls":7},0,0,0,0,0,"0000000",{"$f":"IF(B75=\"\",\"\",VLOOKUP(H75,競技データ!$B$21:$C$29,2,FALSE))","v":""},"",null,{"$f":"IF(B75=\"\",\"\",表紙!$B$33+選手入力!A75)","v":""},"","","",{"$f":"IF(B75=\"\",\"\",表紙!$B$4)","v":""},"",null,null,"","",{"$nulls":3},"","",""]
[74,{"$nulls":4},{"$f":"IF(B76=\"\",\"\",表紙!$B$2)","v":""},{"$f":"IF(B76=\"\",\"\",VLOOKUP(F76,学校データ!A:D,4,FALSE))","v":""},{"$nulls":7},0,0,0,0,0,"0000000",{"$f":"IF(B76=\"\",\"\",VLOOKUP(H76,競技データ!$B$21:$C$29,2,FALSE))","v":""},"",null,{"$f":"IF(B76=\"\",\"\",表紙!$B$33+選手入力!A76)","v":""},"","","",{"$f":"IF(B76=\"\",\"\",表紙!$B$4)","v":""},"",null,null,"","",{"$nulls":3},"","",""]
[75,{"$nulls":4},{"$f":"IF(B77=\"\",\"\",表紙!$B$2)","v":""},{"$f":"IF(B77=\"\",\"\",VLOOKUP(F77,学校データ!A:D,4,FALSE))","v":""},{"$nulls":7},0,0,0,0,0,"0000000",{"$f":"IF(B77=\"\",\"\",VLOOKUP(H77,競技データ!$B$21:$C$29,2,FALSE))","v":""},"",null,{"$f":"IF(B77=\"\",\"\",表紙!$B$33+選手入力!A77)","v":""},"","","",{"$f":"IF(B77=\"\",\"\",表紙!$B$4)","v":""},"",null,null,"","",{"$nulls":3},"","",""]
[76,{"$nulls":4},{"$f":"IF(B78=\"\",\"\",表紙!$B$2)","v":""},{"$f":"IF(B78=\"\",\"\",VLOOKUP(F78,学校データ!A:D,4,FALSE))","v":""},{"$nulls":7},0,0,0,0,0,"0000000",{"$f":"IF(B78=\"\",\"\",VLOOKUP(H78,競技データ!$B$21:$C$29,2,FALSE))","v":""},"",null,{"$f":"IF(B78=\"\",\"\",表紙!$B$33+選手入力!A78)","v":""},"","","",{"$f":"IF(B78=\"\",\"\",表紙!$B$4)","v":""},"",null,null,"","",{"$nulls":3},"","",""]
[77,{"$nulls":4},{"$f":"IF(B79=\"\",\"\",表紙!$B$2)","v":""},{"$f":"IF(B79=\"\",\"\",VLOOKUP(F79,学校データ!A:D,4,FALSE))","v":""},{"$nulls":7},0,0,0,0,0,"0000000",{"$f":"IF(B79=\"\",\"\",VLOOKUP(H79,競技データ!$B$21:$C$29,2,FALSE))","v":""},"",null,{"$f":"IF(B79=\"\",\"\",表紙!$B$33+選手入力!A79)","v":""},"","","",{"$f":"IF(B79=\"\",\"\",表紙!$B$4)","v":""},"",null,null,"","",{"$nulls":3},"","",""]
[78,{"$nulls":4},{"$f":"IF(B80=\"\",\"\",表紙!$B$2)","v":""},{"$f":"IF(B80=\"\",\"\",VLOOKUP(F80,学校データ!A:D,4,FALSE))","v":""},{"$nulls":7},0,0,0,0,0,"0000000",{"$f":"IF(B80=\"\",\"\",VLOOKUP(H80,競技データ!$B$21:$C$29,2,FALSE))","v":""},"",null,{"$f":"IF(B80=\"\",\"\",表紙!$B$33+選手入力!A80)","v":""},"","","",{"$f":"IF(B80=\"\",\"\",表紙!$B$4)","v":""},"",null,null,"","",{"$nulls":3},"","",""]
[79,{"$nulls":4},{"$f":"IF(B81=\"\",\"\",表紙!$B$2)","v":""},{"$f":"IF(B81=\"\",\"\",VLOOKUP(F81,学校データ!A:D,4,FALSE))","v":""},{"$nulls":7},0,0,0,0,0,"0000000",{"$f":"IF(B81=\"\",\"\",VLOOKUP(H81,競技データ!$B$21:$C$29,2,FALSE))","v":""},"",null,{"$f":"IF(B81=\"\",\"\",表紙!$B$33+選手入力!A81)","v":""},"","","",{"$f":"IF(B81=\"\",\"\",表紙!$B$4)","v":""},"",null,null,"","",{"$nulls":3},"","",""]
[80,{"$nulls":4},{"$f":"IF(B82=\"\",\"\",表紙!$B$2)","v":""},{"$f":"IF(B82=\"\",\"\",VLOOKUP(F82,学校データ!A:D,4,FALSE))","v":""},{"$nulls":7},0,0,0,0,0,"0000000",{"$f":"IF(B82=\"\",\"\",VLOOKUP(H82,競技データ!$B$21:$C$29,2,FALSE))","v":""},"",null,{"$f":"IF(B82=\"\",\"\",表紙!$B$33+選手入力!A82)","v":""},"","","",{"$f":"IF(B82=\"\",\"\",表紙!$B$4)","v":""},"",null,null,"","",{"$nulls":3},"","",""]
[81,{"$nulls":4},{"$f":"IF(B83=\"\",\"\",表紙!$B$2)","v":""},{"$f":"IF(B83=\"\",\"\",VLOOKUP(F83,学校データ!A:D,4,FALSE))","v":""},{"$nulls":7},0,0,0,0,0,"0000000",{"$f":"IF(B83=\"\",\"\",VLOOKUP(H83,競技データ!$B$21:$C$29,2,FALSE))","v":""},"",null,{"$f":"IF(B83=\"\",\"\",表紙!$B$33+選手入力!A83)","v":""},"","","",{"$f":"IF(B83=\"\",\"\",表紙!$B$4)","v":""},"",null,null,"","",{"$nulls":3},"","",""]
[82,{"$nulls":4},{"$f":"IF(B84=\"\",\"\",表紙!$B$2)","v":""},{"$f":"IF(B84=\"\",\"\",VLOOKUP(F84,学校データ!A:D,4,FALSE))","v":""},{"$nulls":7},0,0,0,0,0,"0000000",{"$f":"IF(B84=\"\",\"\",VLOOKUP(H84,競技データ!$B$21:$C$29,2,FALSE))","v":""},"",null,{"$f":"IF(B84=\"\",\"\",表紙!$B$33+選手入力!A84)","v":""},"","","",{"$f":"IF(B84=\"\",\"\",表紙!$B$4)","v":""},"",null,null,"","",{"$nulls":3},"","",""]
[83,{"$nulls":4},{"$f":"IF(B85=\"\",\"\",表紙!$B$2)","v":""},{"$f":"IF(B85=\"\",\"\",VLOOKUP(F85,学校データ!A:D,4,FALSE))","v":""},{"$nulls":7},0,0,0,0,0,"0000000",{"$f":"IF(B85=\"\",\"\",VLOOKUP(H85,競技データ!$B$21:$C$29,2,FALSE))","v":""},"",null,{"$f":"IF(B85=\"\",\"\",表紙!$B$33+選手入力!A85)","v":""},"","","",{"$f":"IF(B85=\"\",\"\",表紙!$B$4)","v":""},"",null,null,"","",{"$nulls":3},"","",""]
[84,{"$nulls":4},{"$f":"IF(B86=\"\",\"\",表紙!$B$2)","v":""},{"$f":"IF(B86=\"\",\"\",VLOOKUP(F86,学校データ!A:D,4,FALSE))","v":""},{"$nulls":7},0,0,0,0,0,"0000000",{"$f":"IF(B86=\"\",\"\",VLOOKUP(H86,競技データ!$B$21:$C$29,2,FALSE))","v":""},"",null,{"$f":"IF(B86=\"\",\"\",表紙!$B$33+選手入力!A86)","v":""},"","","",{"$f":"IF(B86=\"\",\"\",表紙!$B$4)","v":""},"",null,null,"","",{"$nulls":3},"","",""]
[85,{"$nulls":4},{"$f":"IF(B87=\"\",\"\",表紙!$B$2)","v":""},{"$f":"IF(B87=\"\",\"\",VLOOKUP(F87,学校データ!A:D,4,FALSE))","v":""},{"$nulls":7},0,0,0,0,0,"0000000",{"$f":"IF(B87=\"\",\"\",VLOOKUP(H87,競技データ!$B$21:$C$29,2,FALSE))","v":""},"",null,{"$f":"IF(B87=\"\",\"\",表紙!$B$33+選手入力!A87)","v":""},"","","",{"$f":"IF(B87=\"\",\"\",表紙!$B$4)","v":""},"",null,null,"","",{"$nulls":3},"","",""]
[86,{"$nulls":4},{"$f":"IF(B88=\"\",\"\",表紙!$B$2)","v":""},{"$f":"IF(B88=\"\",\"\",VLOOKUP(F88,学校データ!A:D,4,FALSE))","v":""},{"$nulls":7},0,0,0,0,0,"0000000",{"$f":"IF(B88=\"\",\"\",VLOOKUP(H88,競技データ!$B$21:$C$29,2,FALSE))","v":""},"",null,{"$f":"IF(B88=\"\",\"\",表紙!$B$33+選手入力!A88)","v":""},"","","",{"$f":"IF(B88=\"\",\"\",表紙!$B$4)","v":""},"",null,null,"","",{"$nulls":3},"","",""]
[87,{"$nulls":4},{"$f":"IF(B89=\"\",\"\",表紙!$B$2)","v":""},{"$f":"IF(B89=\"\",\"\",VLOOKUP(F89,学校データ!A:D,4,FALSE))","v":""},{"$nulls":7},0,0,0,0,0,"0000000",{"$f":"IF(B89=\"\",\"\",VLOOKUP(H89,競技データ!$B$21:$C$29,2,FALSE))","v":""},"",null,{"$f":"IF(B89=\"\",\"\",表紙!$B$33+選手入力!A89)","v":""},"","","",{"$f":"IF(B89=\"\",\"\",表紙!$B$4)","v":""},"",null,null,"","",{"$nulls":3},"","",""]
[88,{"$nulls":4},{"$f":"IF(B90=\"\",\"\",表紙!$B$2)","v":""},{"$f":"IF(B90=\"\",\"\",VLOOKUP(F90,学校データ!A:D,4,FALSE))","v":""},{"$nulls":7},0,0,0,0,0,"0000000",{"$f":"IF(B90=\"\",\"\",VLOOKUP(H90,競技データ!$B$21:$C$29,2,FALSE))","v":""},"",null,{"$f":"IF(B90=\"\",\"\",表紙!$B$33+選手入力!A90)","v":""},"","","",{"$f":"IF(B90=\"\",\"\",表紙!$B$4)","v":""},"",null,null,"","",{"$nulls":3},"","",""]
[89,{"$nulls":4},{"$f":"IF(B91=\"\",\"\",表紙!$B$2)","v":""},{"$f":"IF(B91=\"\",\"\",VLOOKUP(F91,学校データ!A:D,4,FALSE))","v":""},{"$nulls":7},0,0,0,0,0,"0000000",{"$f":"IF(B91=\"\",\"\",VLOOKUP(H91,競技データ!$B$21:$C$29,2,FALSE))","v":""},"",null,{"$f":"IF(B91=\"\",\"\",表紙!$B$33+選手入力!A91)","v":""},"","","",{"$f":"IF(B91=\"\",\"\",表紙!$B$4)","v":""},"",null,null,"","",{"$nulls":3},"","",""]
[90,{"$nulls":4},{"$f":"IF(B92=\"\",\"\",表紙!$B$2)","v":""},{"$f":"IF(B92=\"\",\"\",VLOOKUP(F92,学校データ!A:D,4,FALSE))","v":""},{"$nulls":7},0,0,0,0,0,"0000000",{"$f":"IF(B92=\"\",\"\",VLOOKUP(H92,競技データ!$B$21:$C$29,2,FALSE))","v":""},"",null,{"$f":"IF(B92=\"\",\"\",表紙!$B$33+選手入力!A92)","v":""},"","","",{"$f":"IF(B92=\"\",\"\",表紙!$B$4)","v":""},"",null,null,"","",{"$nulls":3},"","",""]
[91,{"$nulls":4},{"$f":"IF(B93=\"\",\"\",表紙!$B$2)","v":""},{"$f":"IF(B93=\"\",\"\",VLOOKUP(F93,学校データ!A:D,4,FALSE))","v":""},{"$nulls":7},0,0,0,0,0,"0000000",{"$f":"IF(B93=\"\",\"\",VLOOKUP(H93,競技データ!$B$21:$C$29,2,FALSE))","v":""},"",null,{"$f":"IF(B93=\"\",\"\",表紙!$B$33+選手入力!A93)","v":""},"","","",{"$f":"IF(B93=\"\",\"\",表紙!$B$4)","v":""},"",null,null,"","",{"$nulls":3},"","",""]
[92,{"$nulls":4},{"$f":"IF(B94=\"\",\"\",表紙!$B$2)","v":""},{"$f":"IF(B94=\"\",\"\",VLOOKUP(F94,学校データ!A:D,4,FALSE))","v":""},{"$nulls":7},0,0,0,0,0,"0000000",{"$f":"IF(B94=\"\",\"\",VLOOKUP(H94,競技データ!$B$21:$C$29,2,FALSE))","v":""},"",null,{"$f":"IF(B94=\"\",\"\",表紙!$B$33+選手入力!A94)","v":""},"","","",{"$f":"IF(B94=\"\",\"\",表紙!$B$4)","v":""},"",null,null,"","",{"$nulls":3},"","",""]
[93,{"$nulls":4},{"$f":"IF(B95=\"\",\"\",表紙!$B$2)","v":""},{"$f":"IF(B95=\"\",\"\",VLOOKUP(F95,学校データ!A:D,4,FALSE))","v":""},{"$nulls":7},0,0,0,0,0,"0000000",{"$f":"IF(B95=\"\",\"\",VLOOKUP(H95,競技データ!$B$21:$C$29,2,FALSE))","v":""},"",null,{"$f":"IF(B95=\"\",\"\",表紙!$B$33+選手入力!A95)","v":""},"","","",{"$f":"IF(B95=\"\",\"\",表紙!$B$4)","v":""},"",null,null,"","",{"$nulls":3},"","",""]
[94,{"$nulls":4},{"$f":"IF(B96=\"\",\"\",表紙!$B$2)","v":""},{"$f":"IF(B96=\"\",\"\",VLOOKUP(F96,学校データ!A:D,4,FALSE))","v":""},{"$nulls":7},0,0,0,0,0,"0000000",{"$f":"IF(B96=\"\",\"\",VLOOKUP(H96,競技データ!$B$21:$C$29,2,FALSE))","v":""},"",null,{"$f":"IF(B96=\"\",\"\",表紙!$B$33+選手入力!A96)","v":""},"","","",{"$f":"IF(B96=\"\",\"\",表紙!$B$4)","v":""},"",null,null,"","",{"$nulls":3},"","",""]
[95,{"$nulls":4},{"$f":"IF(B97=\"\",\"\",表紙!$B$2)","v":""},{"$f":"IF(B97=\"\",\"\",VLOOKUP(F97,学校データ!A:D,4,FALSE))","v":""},{"$nulls":7},0,0,0,0,0,"0000000",{"$f":"IF(B97=\"\",\"\",VLOOKUP(H97,競技データ!$B$21:$C$29,2,FALSE))","v":""},"",null,{"$f":"IF(B97=\"\",\"\",表紙!$B$33+選手入力!A97)","v":""},"","","",{"$f":"IF(B97=\"\",\"\",表紙!$B$4)","v":""},"",null,null,"","",{"$nulls":3},"","",""]
[96,{"$nulls":4},{"$f":"IF(B98=\"\",\"\",表紙!$B$2)","v":""},{"$f":"IF(B98=\"\",\"\",VLOOKUP(F98,学校データ!A:D,4,FALSE))","v":""},{"$nulls":7},0,0,0,0,0,"0000000",{"$f":"IF(B98=\"\",\"\",VLOOKUP(H98,競技データ!$B$21:$C$29,2,FALSE))","v":""},"",null,{"$f":"IF(B98=\"\",\"\",表紙!$B$33+選手入力!A98)","v":""},"","","",{"$f":"IF(B98=\"\",\"\",表紙!$B$4)","v":""},"",null,null,"","",{"$nulls":3},"","",""]
[97,{"$nulls":4},{"$f":"IF(B99=\"\",\"\",表紙!$B$2)","v":""},{"$f":"IF(B99=\"\",\"\",VLOOKUP(F99,学校データ!A:D,4,FALSE))","v":""},{"$nulls":7},0,0,0,0,0,"0000000",{"$f":"IF(B99=\"\",\"\",VLOOKUP(H99,競技データ!$B$21:$C$29,2,FALSE))","v":""},"",null,{"$f":"IF(B99=\"\",\"\",表紙!$B$33+選手入力!A99)","v":""},"",{"$f":"IF(B99=\"\",\"\",C99)","v":""},{"$f":"IF(E99=\"\",\"\",IF(E99=\"男子\",1,2))","v":""},{"$f":"IF(B99=\"\",\"\",表紙!$B$4)","v":""},{"$f":"IF(B99=\"\",\"\",F99)","v":""},null,null,{"$f":"IF(B99=\"\",\"\",X99)","v":""},"",{"$nulls":3},"","",""]
[98,{"$nulls":4},{"$f":"IF(B100=\"\",\"\",表紙!$B$2)","v":""},{"$f":"IF(B100=\"\",\"\",VLOOKUP(F100,学校データ!A:D,4,FALSE))","v":""},{"$nulls":7},0,0,0,0,0,"0000000",{"$f":"IF(B100=\"\",\"\",VLOOKUP(H100,競技データ!$B$21:$C$29,2,FALSE))","v":""},"",null,{"$f":"IF(B100=\"\",\"\",表紙!$B$33+選手入力!A100)","v":""},"","","",{"$f":"IF(B100=\"\",\"\",表紙!$B$4)","v":""},"",null,null,"","",{"$nulls":3},"","",""]
[99,{"$nulls":4},{"$f":"IF(B101=\"\",\"\",表紙!$B$2)","v":""},{"$f":"IF(B101=\"\",\"\",VLOOKUP(F101,学校データ!A:D,4,FALSE))","v":""},{"$nulls":7},0,0,0,0,0,"0000000",{"$f":"IF(B101=\"\",\"\",VLOOKUP(H101,競技データ!$B$21:$C$29,2,FALSE))","v":""},"",null,{"$f":"IF(B101=\"\",\"\",表紙!$B$33+選手入力!A101)","v":""},"","","",{"$f":"IF(B101=\"\",\"\",表紙!$B$4)","v":""},"",null,null,"","",{"$nulls":3},"","",""]
[100,{"$nulls":4},{"$f":"IF(B102=\"\",\"\",表紙!$B$2)","v":""},{"$f":"IF(B102=\"\",\"\",VLOOKUP(F102,学校データ!A:D,4,FALSE))","v":""},{"$nulls":7},0,0,0,0,0,"0000000",{"$f":"IF(B102=\"\",\"\",VLOOKUP(H102,競技データ!$B$21:$C$29,2,FALSE))","v":""},"",null,{"$f":"IF(B102=\"\",\"\",表紙!$B$33+選手入力!A102)","v":""},"","","",{"$f":"IF(B102=\"\",\"\",表紙!$B$4)","v":""},"",null,null,"","",{"$nulls":3},"","",""]
[101,{"$nulls":4},{"$f":"IF(B103=\"\",\"\",表紙!$B$2)","v":""},{"$f":"IF(B103=\"\",\"\",VLOOKUP(F103,学校データ!A:D,4,FALSE))","v":""},{"$nulls":7},0,0,0,0,0,"0000000",{"$f":"IF(B103=\"\",\"\",VLOOKUP(H103,競技データ!$B$21:$C$29,2,FALSE))","v":""},"",null,{"$f":"IF(B103=\"\",\"\",表紙!$B$33+選手入力!A103)","v":""},"","","",{"$f":"IF(B103=\"\",\"\",表紙!$B$4)","v":""},"",null,null,"","",{"$nulls":3},"","",""]
[102,{"$nulls":4},{"$f":"IF(B104=\"\",\"\",表紙!$B$2)","v":""},{"$f":"IF(B104=\"\",\"\",VLOOKUP(F104,学校データ!A:D,4,FALSE))","v":""},{"$nulls":7},0,0,0,0,0,"0000000",{"$f":"IF(B104=\"\",\"\",VLOOKUP(H104,競技データ!$B$21:$C$29,2,FALSE))","v":""},"",null,{"$f":"IF(B104=\"\",\"\",表紙!$B$33+選手入力!A104)","v":""},"","","",{"$f":"IF(B104=\"\",\"\",表紙!$B$4)","v":""},"",null,null,"","",{"$nulls":3},"","",""]
[103,{"$nulls":4},{"$f":"IF(B105=\"\",\"\",表紙!$B$2)","v":""},{"$f":"IF(B105=\"\",\"\",VLOOKUP(F105,学校データ!A:D,4,FALSE))","v":""},{"$nulls":7},0,0,0,0,0,"0000000",{"$f":"IF(B105=\"\",\"\",VLOOKUP(H105,競技データ!$B$21:$C$29,2,FALSE))","v":""},"",null,{"$f":"IF(B105=\"\",\"\",表紙!$B$33+選手入力!A105)","v":""},"","","",{"$f":"IF(B105=\"\",\"\",表紙!$B$4)","v":""},"",null,null,"","",{"$nulls":3},"","",""]
[104,{"$nulls":4},{"$f":"IF(B106=\"\",\"\",表紙!$B$2)","v":""},{"$f":"IF(B106=\"\",\"\",VLOOKUP(F106,学校データ!A:D,4,FALSE))","v":""},{"$nulls":7},0,0,0,0,0,"0000000",{"$f":"IF(B106=\"\",\"\",VLOOKUP(H106,競技データ!$B$21:$C$29,2,FALSE))","v":""},"",null,{"$f":"IF(B106=\"\",\"\",表紙!$B$33+選手入力!A106)","v":""},"","","",{"$f":"IF(B106=\"\",\"\",表紙!$B$4)","v":""},"",null,null,"","",{"$nulls":3},"","",""]
[105,{"$nulls":4},{"$f":"IF(B107=\"\",\"\",表紙!$B$2)","v":""},{"$f":"IF(B107=\"\",\"\",VLOOKUP(F107,学校データ!A:D,4,FALSE))","v":""},{"$nulls":7},0,0,0,0,0,"0000000",{"$f":"IF(B107=\"\",\"\",VLOOKUP(H107,競技データ!$B$21:$C$29,2,FALSE))","v":""},"",null,{"$f":"IF(B107=\"\",\"\",表紙!$B$33+選手入力!A107)","v":""},"","","",{"$f":"IF(B107=\"\",\"\",表紙!$B$4)","v":""},"",null,null,"","",{"$nulls":3},"","",""]
[106,{"$nulls":4},{"$f":"IF(B108=\"\",\"\",表紙!$B$2)","v":""},{"$f":"IF(B108=\"\",\"\",VLOOKUP(F108,学校データ!A:D,4,FALSE))","v":""},{"$nulls":7},0,0,0,0,0,"0000000",{"$f":"IF(B108=\"\",\"\",VLOOKUP(H108,競技データ!$B$21:$C$29,2,FALSE))","v":""},"",null,{"$f":"IF(B108=\"\",\"\",表紙!$B$33+選手入力!A108)","v":""},"","","",{"$f":"IF(B108=\"\",\"\",表紙!$B$4)","v":""},"",null,null,"","",{"$nulls":3},"","",""]
[107,{"$nulls":4},{"$f":"IF(B109=\"\",\"\",表紙!$B$2)","v":""},{"$f":"IF(B109=\"\",\"\",VLOOKUP(F109,学校データ!A:D,4,FALSE))","v":""},{"$nulls":7},0,0,0,0,0,"0000000",{"$f":"IF(B109=\"\",\"\",VLOOKUP(H109,競技データ!$B$21:$C$29,2,FALSE))","v":""},"",null,{"$f":"IF(B109=\"\",\"\",表紙!$B$33+選手入力!A109)","v":""},"","","",{"$f":"IF(B109=\"\",\"\",表紙!$B$4)","v":""},"",null,null,"","",{"$nulls":3},"","",""]
[108,{"$nulls":4},{"$f":"IF(B110=\"\",\"\",表紙!$B$2)","v":""},{"$f":"IF(B110=\"\",\"\",VLOOKUP(F110,学校データ!A:D,4,FALSE))","v":""},{"$nulls":7},0,0,0,0,0,"0000000",{"$f":"IF(B110=\"\",\"\",VLOOKUP(H110,競技データ!$B$21:$C$29,2,FALSE))","v":""},"",null,{"$f":"IF(B110=\"\",\"\",表紙!$B$33+選手入力!A110)","v":""},"","","",{"$f":"IF(B110=\"\",\"\",表紙!$B$4)","v":""},"",null,null,"","",{"$nulls":3},"","",""]
[109,{"$nulls":4},{"$f":"IF(B111=\"\",\"\",表紙!$B$2)","v":""},{"$f":"IF(B111=\"\",\"\",VLOOKUP(F111,学校データ!A:D,4,FALSE))","v":""},{"$nulls":7},0,0,0,0,0,"0000000",{"$f":"IF(B111=\"\",\"\",VLOOKUP(H111,競技データ!$B$21:$C$29,2,FALSE))","v":""},"",null,{"$f":"IF(B111=\"\",\"\",表紙!$B$33+選手入力!A111)","v":""},"","","",{"$f":"IF(B111=\"\",\"\",表紙!$B$4)","v":""},"",null,null,"","",{"$nulls":3},"","",""]
[110,{"$nulls":4},{"$f":"IF(B112=\"\",\"\",表紙!$B$2)","v":""},{"$f":"IF(B112=\"\",\"\",VLOOKUP(F112,学校データ!A:D,4,FALSE))","v":""},{"$nulls":7},0,0,0,0,0,"0000000",{"$f":"IF(B112=\"\",\"\",VLOOKUP(H112,競技データ!$B$21:$C$29,2,FALSE))","v":""},"",null,{"$f":"IF(B112=\"\",\"\",表紙!$B$33+選手入力!A112)","v":""},"","","",{"$f":"IF(B112=\"\",\"\",表紙!$B$4)","v":""},"",null,null,"","",{"$nulls":3},"","",""]
[111,{"$nulls":4},{"$f":"IF(B113=\"\",\"\",表紙!$B$2)","v":""},{"$f":"IF(B113=\"\",\"\",VLOOKUP(F113,学校データ!A:D,4,FALSE))","v":""},{"$nulls":7},0,0,0,0,0,"0000000",{"$f":"IF(B113=\"\",\"\",VLOOKUP(H113,競技データ!$B$21:$C$29,2,FALSE))","v":""},"",null,{"$f":"IF(B113=\"\",\"\",表紙!$B$33+選手入力!A113)","v":""},"","","",{"$f":"IF(B113=\"\",\"\",表紙!$B$4)","v":""},"",null,null,"","",{"$nulls":3},"","",""]
[112,{"$nulls":4},{"$f":"IF(B114=\"\",\"\",表紙!$B$2)","v":""},{"$f":"IF(B114=\"\",\"\",VLOOKUP(F114,学校データ!A:D,4,FALSE))","v":""},{"$nulls":7},0,0,0,0,0,"0000000",{"$f":"IF(B114=\"\",\"\",VLOOKUP(H114,競技データ!$B$21:$C$29,2,FALSE))","v":""},"",null,{"$f":"IF(B114=\"\",\"\",表紙!$B$33+選手入力!A114)","v":""},"","","",{"$f":"IF(B114=\"\",\"\",表紙!$B$4)","v":""},"",null,null,"","",{"$nulls":3},"","",""]
[113,{"$nulls":4},{"$f":"IF(B115=\"\",\"\",表紙!$B$2)","v":""},{"$f":"IF(B115=\"\",\"\",VLOOKUP(F115,学校データ!A:D,4,FALSE))","v":""},{"$nulls":7},0,0,0,0,0,"0000000",{"$f":"IF(B115=\"\",\"\",VLOOKUP(H115,競技データ!$B$21:$C$29,2,FALSE))","v":""},"",null,{"$f":"IF(B115=\"\",\"\",表紙!$B$33+選手入力!A115)","v":""},"","","",{"$f":"IF(B115=\"\",\"\",表紙!$B$4)","v":""},"",null,null,"","",{"$nulls":3},"","",""]
[114,{"$nulls":4},{"$f":"IF(B116=\"\",\"\",表紙!$B$2)","v":""},{"$f":"IF(B116=\"\",\"\",VLOOKUP(F116,学校データ!A:D,4,FALSE))","v":""},{"$nulls":7},0,0,0,0,0,"0000000",{"$f":"IF(B116=\"\",\"\",VLOOKUP(H116,競技データ!$B$21:$C$29,2,FALSE))","v":""},"",null,{"$f":"IF(B116=\"\",\"\",表紙!$B$33+選手入力!A116)","v":""},"","","",{"$f":"IF(B116=\"\",\"\",表紙!$B$4)","v":""},"",null,null,"","",{"$nulls":3},"","",""]
[115,{"$nulls":4},{"$f":"IF(B117=\"\",\"\",表紙!$B$2)","v":""},{"$f":"IF(B117=\"\",\"\",VLOOKUP(F117,学校データ!A:D,4,FALSE))","v":""},{"$nulls":7},0,0,0,0,0,"0000000",{"$f":"IF(B117=\"\",\"\",VLOOKUP(H117,競技データ!$B$21:$C$29,2,FALSE))","v":""},"",null,{"$f":"IF(B117=\"\",\"\",表紙!$B$33+選手入力!A117)","v":""},"","","",{"$f":"IF(B117=\"\",\"\",表紙!$B$4)","v":""},"",null,null,"","",{"$nulls":3},"","",""]
[116,{"$nulls":4},{"$f":"IF(B118=\"\",\"\",表紙!$B$2)","v":""},{"$f":"IF(B118=\"\",\"\",VLOOKUP(F118,学校データ!A:D,4,FALSE))","v":""},{"$nulls":7},0,0,0,0,0,"0000000",{"$f":"IF(B118=\"\",\"\",VLOOKUP(H118,競技データ!$B$21:$C$29,2,FALSE))","v":""},"",null,{"$f":"IF(B118=\"\",\"\",表紙!$B$33+選手入力!A118)","v":""},"","","",{"$f":"IF(B118=\"\",\"\",表紙!$B$4)","v":""},"",null,null,"","",{"$nulls":3},"","",""]
[117,{"$nulls":4},{"$f":"IF(B119=\"\",\"\",表紙!$B$2)","v":""},{"$f":"IF(B119=\"\",\"\",VLOOKUP(F119,学校データ!A:D,4,FALSE))","v":""},{"$nulls":7},0,0,0,0,0,"0000000",{"$f":"IF(B119=\"\",\"\",VLOOKUP(H119,競技データ!$B$21:$C$29,2,FALSE))","v":""},"",null,{"$f":"IF(B119=\"\",\"\",表紙!$B$33+選手入力!A119)","v":""},"","","",{"$f":"IF(B119=\"\",\"\",表紙!$B$4)","v":""},"",null,null,"","",{"$nulls":3},"","",""]
[118,{"$nulls":4},{"$f":"IF(B120=\"\",\"\",表紙!$B$2)","v":""},{"$f":"IF(B120=\"\",\"\",VLOOKUP(F120,学校データ!A:D,4,FALSE))","v":""},{"$nulls":7},0,0,0,0,0,"0000000",{"$f":"IF(B120=\"\",\"\",VLOOKUP(H120,競技データ!$B$21:$C$29,2,FALSE))","v":""},"",null,{"$f":"IF(B120=\"\",\"\",表紙!$B$33+選手入力!A120)","v":""},"","","",{"$f":"IF(B120=\"\",\"\",表紙!$B$4)","v":""},"",null,null,"","",{"$nulls":3},"","",""]
[119,{"$nulls":4},{"$f":"IF(B121=\"\",\"\",表紙!$B$2)","v":""},{"$f":"IF(B121=\"\",\"\",VLOOKUP(F121,学校データ!A:D,4,FALSE))","v":""},{"$nulls":7},0,0,0,0,0,"0000000",{"$f":"IF(B121=\"\",\"\",VLOOKUP(H121,競技データ!$B$21:$C$29,2,FALSE))","v":""},"",null,{"$f":"IF(B121=\"\",\"\",表紙!$B$33+選手入力!A121)","v":""},"","","",{"$f":"IF(B121=\"\",\"\",表紙!$B$4)","v":""},"",null,null,"","",{"$nulls":3},"","",""]
[120,{"$nulls":4},{"$f":"IF(B122=\"\",\"\",表紙!$B$2)","v":""},{"$f":"IF(B122=\"\",\"\",VLOOKUP(F122,学校データ!A:D,4,FALSE))","v":""},{"$nulls":7},0,0,0,0,0,"0000000",{"$f":"IF(B122=\"\",\"\",VLOOKUP(H122,競技データ!$B$21:$C$29,2,FALSE))","v":""},"",null,{"$f":"IF(B122=\"\",\"\",表紙!$B$33+選手入力!A122)","v":""},"","","",{"$f":"IF(B122=\"\",\"\",表紙!$B$4)","v":""},"",null,null,"","",{"$nulls":3},"","",""]
[121,{"$nulls":4},{"$f":"IF(B123=\"\",\"\",表紙!$B$2)","v":""},{"$f":"IF(B123=\"\",\"\",VLOOKUP(F123,学校データ!A:D,4,FALSE))","v":""},{"$nulls":7},0,0,0,0,0,"0000000",{"$f":"IF(B123=\"\",\"\",VLOOKUP(H123,競技データ!$B$21:$C$29,2,FALSE))","v":""},"",null,{"$f":"IF(B123=\"\",\"\",表紙!$B$33+選手入力!A123)","v":""},"","","",{"$f":"IF(B123=\"\",\"\",表紙!$B$4)","v":""},"",null,null,"","",{"$nulls":3},"","",""]
[122,{"$nulls":4},{"$f":"IF(B124=\"\",\"\",表紙!$B$2)","v":""},{"$f":"IF(B124=\"\",\"\",VLOOKUP(F124,学校データ!A:D,4,FALSE))","v":""},{"$nulls":7},0,0,0,0,0,"0000000",{"$f":"IF(B124=\"\",\"\",VLOOKUP(H124,競技データ!$B$21:$C$29,2,FALSE))","v":""},"",null,{"$f":"IF(B124=\"\",\"\",表紙!$B$33+選手入力!A124)","v":""},"","","",{"$f":"IF(B124=\"\",\"\",表紙!$B$4)","v":""},"",null,null,"","",{"$nulls":3},"","",""]
[123,{"$nulls":4},{"$f":"IF(B125=\"\",\"\",表紙!$B$2)","v":""},{"$f":"IF(B125=\"\",\"\",VLOOKUP(F125,学校データ!A:D,4,FALSE))","v":""},{"$nulls":7},0,0,0,0,0,"0000000",{"$f":"IF(B125=\"\",\"\",VLOOKUP(H125,競技データ!$B$21:$C$29,2,FALSE))","v":""},"",null,{"$f":"IF(B125=\"\",\"\",表紙!$B$33+選手入力!A125)","v":""},"","","",{"$f":"IF(B125=\"\",\"\",表紙!$B$4)","v":""},"",null,null,"","",{"$nulls":3},"","",""]
[124,{"$nulls":4},{"$f":"IF(B126=\"\",\"\",表紙!$B$2)","v":""},{"$f":"IF(B126=\"\",\"\",VLOOKUP(F126,学校データ!A:D,4,FALSE))","v":""},{"$nulls":7},0,0,0,0,0,"0000000",{"$f":"IF(B126=\"\",\"\",VLOOKUP(H126,競技データ!$B$21:$C$29,2,FALSE))","v":""},"",null,{"$f":"IF(B126=\"\",\"\",表紙!$B$33+選手入力!A126)","v":""},"","","",{"$f":"IF(B126=\"\",\"\",表紙!$B$4)","v":""},"",null,null,"","",{"$nulls":3},"","",""]
[125,{"$nulls":4},{"$f":"IF(B127=\"\",\"\",表紙!$B$2)","v":""},{"$f":"IF(B127=\"\",\"\",VLOOKUP(F127,学校データ!A:D,4,FALSE))","v":""},{"$nulls":7},0,0,0,0,0,"0000000",{"$f":"IF(B127=\"\",\"\",VLOOKUP(H127,競技データ!$B$21:$C$29,2,FALSE))","v":""},"",null,{"$f":"IF(B127=\"\",\"\",表紙!$B$33+選手入力!A127)","v":""},"","","",{"$f":"IF(B127=\"\",\"\",表紙!$B$4)","v":""},"",null,null,"","",{"$nulls":3},"","",""]
[126,{"$nulls":4},{"$f":"IF(B128=\"\",\"\",表紙!$B$2)","v":""},{"$f":"IF(B128=\"\",\"\",VLOOKUP(F128,学校データ!A:D,4,FALSE))","v":""},{"$nulls":7},0,0,0,0,0,"0000000",{"$f":"IF(B128=\"\",\"\",VLOOKUP(H128,競技データ!$B$21:$C$29,2,FALSE))","v":""},"",null,{"$f":"IF(B128=\"\",\"\",表紙!$B$33+選手入力!A128)","v":""},"","","",{"$f":"IF(B128=\"\",\"\",表紙!$B$4)","v":""},"",null,null,"","",{"$nulls":3},"","",""]
[127,{"$nulls":4},{"$f":"IF(B129=\"\",\"\",表紙!$B$2)","v":""},{"$f":"IF(B129=\"\",\"\",VLOOKUP(F129,学校データ!A:D,4,FALSE))","v":""},{"$nulls":7},0,0,0,0,0,"0000000",{"$f":"IF(B129=\"\",\"\",VLOOKUP(H129,競技データ!$B$21:$C$29,2,FALSE))","v":""},"",null,{"$f":"IF(B129=\"\",\"\",表紙!$B$33+選手入力!A129)","v":""},"","","",{"$f":"IF(B129=\"\",\"\",表紙!$B$4)","v":""},"",null,null,"","",{"$nulls":3},"","",""]
[128,{"$nulls":4},{"$f":"IF(B130=\"\",\"\",表紙!$B$2)","v":""},{"$f":"IF(B130=\"\",\"\",VLOOKUP(F130,学校データ!A:D,4,FALSE))","v":""},{"$nulls":7},0,0,0,0,0,"0000000",{"$f":"IF(B130=\"\",\"\",VLOOKUP(H130,競技データ!$B$21:$C$29,2,FALSE))","v":""},"",null,{"$f":"IF(B130=\"\",\"\",表紙!$B$33+選手入力!A130)","v":""},"","","",{"$f":"IF(B130=\"\",\"\",表紙!$B$4)","v":""},"",null,null,"","",{"$nulls":3},"","",""]
[129,{"$nulls":4},{"$f":"IF(B131=\"\",\"\",表紙!$B$2)","v":""},{"$f":"IF(B131=\"\",\"\",VLOOKUP(F131,学校データ!A:D,4,FALSE))","v":""},{"$nulls":7},0,{"$f":"IF(J131=\"\",0,J131)","v":0},{"$f":"IF(K131=\"\",0,K131)","v":0},{"$f":"IF(L131=\"\",0,L131)","v":0},{"$f":"IF(M131=\"\",0,M131)","v":0},"0000000",{"$f":"IF(B131=\"\",\"\",VLOOKUP(H131,競技データ!$B$21:$C$29,2,FALSE))","v":""},"",null,{"$f":"IF(B131=\"\",\"\",表紙!$B$33+選手入力!A131)","v":""},"",{"$f":"IF(B131=\"\",\"\",C131)","v":""},{"$f":"IF(E131=\"\",\"\",IF(E131=\"男子\",1,2))","v":""},{"$f":"IF(B131=\"\",\"\",表紙!$B$4)","v":""},{"$f":"IF(B131=\"\",\"\",F131)","v":""},null,null,{"$f":"IF(B131=\"\",\"\",X131)","v":""},"",{"$nulls":3},"","",""]
[130,{"$nulls":4},{"$f":"IF(B132=\"\",\"\",表紙!$B$2)","v":""},{"$f":"IF(B132=\"\",\"\",VLOOKUP(F132,学校データ!A:D,4,FALSE))","v":""},{"$nulls":7},{"$f":"IF(I132=\"\",0,I132)","v":0},0,0,0,0,{"$f":"CONCATENATE(\"00\",O132,P132,Q132,R132,S132)","v":"0000000"},{"$f":"IF(B132=\"\",\"\",VLOOKUP(H132,競技データ!$B$21:$C$29,2,FALSE))","v":""},{"$f":"IF(B132=\"\",\"\",IF(H132=\"100ｍ\",CONCATENATE(\"0\",D132),IF(H132=\"友好100ｍ\",\"07\",\"00\")))","v":""},null,{"$f":"IF(B132=\"\",\"\",表紙!$B$33+選手入力!A132)","v":""},{"$f":"IF(B132=\"\",\"\",B132 & \"(\" &D132&\")\")","v":""},"","",{"$f":"IF(B132=\"\",\"\",表紙!$B$4)","v":""},"",null,null,"",{"$f":"IF(B132=\"\",\"\",IF(H132=\"リレーのみ\",\"R99900\",CONCATENATE(U132,V132,\" \",T132)))","v":""},{"$nulls":3},{"$f":"IF(AG132=\"\",\"\",RIGHT(LEFT(AG132,4),3))","v":""},{"$f":"IF(AG132=\"\",\"\",RIGHT(LEFT(AG132,6),2))","v":""},{"$f":"IF(AG132=\"\",\"\",CONCATENATE(AK132,\"   \",AA132,AL132))","v":""}]
[131,{"$nulls":4},{"$f":"IF(B133=\"\",\"\",表紙!$B$2)","v":""},{"$f":"IF(B133=\"\",\"\",VLOOKUP(F133,学校データ!A:D,4,FALSE))","v":""},{"$nulls":7},0,0,0,0,0,"0000000",{"$f":"IF(B133=\"\",\"\",VLOOKUP(H133,競技データ!$B$21:$C$29,2,FALSE))","v":""},"",null,{"$f":"IF(B133=\"\",\"\",表紙!$B$33+選手入力!A133)","v":""},"","","",{"$f":"IF(B133=\"\",\"\",表紙!$B$4)","v":""},"",null,null,"","",{"$nulls":3},"","",""]
[132,{"$nulls":4},{"$f":"IF(B134=\"\",\"\",表紙!$B$2)","v":""},{"$f":"IF(B134=\"\",\"\",VLOOKUP(F134,学校データ!A:D,4,FALSE))","v":""},{"$nulls":7},0,0,0,0,0,"0000000",{"$f":"IF(B134=\"\",\"\",VLOOKUP(H134,競技データ!$B$21:$C$29,2,FALSE))","v":""},"",null,{"$f":"IF(B134=\"\",\"\",表紙!$B$33+選手入力!A134)","v":""},"","","",{"$f":"IF(B134=\"\",\"\",表紙!$B$4)","v":""},"",null,null,"","",{"$nulls":3},"","",""]
[133,{"$nulls":4},{"$f":"IF(B135=\"\",\"\",表紙!$B$2)","v":""},{"$f":"IF(B135=\"\",\"\",VLOOKUP(F135,学校データ!A:D,4,FALSE))","v":""},{"$nulls":7},0,0,0,0,0,"0000000",{"$f":"IF(B135=\"\",\"\",VLOOKUP(H135,競技データ!$B$21:$C$29,2,FALSE))","v":""},"",null,{"$f":"IF(B135=\"\",\"\",表紙!$B$33+選手入力!A135)","v":""},"","","",{"$f":"IF(B135=\"\",\"\",表紙!$B$4)","v":""},"",null,null,"","",{"$nulls":3},"","",""]
[134,{"$nulls":4},{"$f":"IF(B136=\"\",\"\",表紙!$B$2)","v":""},{"$f":"IF(B136=\"\",\"\",VLOOKUP(F136,学校データ!A:D,4,FALSE))","v":""},{"$nulls":7},0,0,0,0,0,"0000000",{"$f":"IF(B136=\"\",\"\",VLOOKUP(H136,競技データ!$B$21:$C$29,2,FALSE))","v":""},"",null,{"$f":"IF(B136=\"\",\"\",表紙!$B$33+選手入力!A136)","v":""},"","","",{"$f":"IF(B136=\"\",\"\",表紙!$B$4)","v":""},"",null,null,"","",{"$nulls":3},"","",""]
[135,{"$nulls":4},{"$f":"IF(B137=\"\",\"\",表紙!$B$2)","v":""},{"$f":"IF(B137=\"\",\"\",VLOOKUP(F137,学校データ!A:D,4,FALSE))","v":""},{"$nulls":7},0,0,0,0,0,"0000000",{"$f":"IF(B137=\"\",\"\",VLOOKUP(H137,競技データ!$B$21:$C$29,2,FALSE))","v":""},"",null,{"$f":"IF(B137=\"\",\"\",表紙!$B$33+選手入力!A137)","v":""},"","","",{"$f":"IF(B137=\"\",\"\",表紙!$B$4)","v":""},"",null,null,"","",{"$nulls":3},"","",""]
[136,{"$nulls":4},{"$f":"IF(B138=\"\",\"\",表紙!$B$2)","v":""},{"$f":"IF(B138=\"\",\"\",VLOOKUP(F138,学校データ!A:D,4,FALSE))","v":""},{"$nulls":7},0,0,0,0,0,"0000000",{"$f":"IF(B138=\"\",\"\",VLOOKUP(H138,競技データ!$B$21:$C$29,2,FALSE))","v":""},"",null,{"$f":"IF(B138=\"\",\"\",表紙!$B$33+選手入力!A138)","v":""},"","","",{"$f":"IF(B138=\"\",\"\",表紙!$B$4)","v":""},"",null,null,"","",{"$nulls":3},"","",""]
[137,{"$nulls":4},{"$f":"IF(B139=\"\",\"\",表紙!$B$2)","v":""},{"$f":"IF(B139=\"\",\"\",VLOOKUP(F139,学校データ!A:D,4,FALSE))","v":""},{"$nulls":7},0,0,0,0,0,"0000000",{"$f":"IF(B139=\"\",\"\",VLOOKUP(H139,競技データ!$B$21:$C$29,2,FALSE))","v":""},"",null,{"$f":"IF(B139=\"\",\"\",表紙!$B$33+選手入力!A139)","v":""},"","","",{"$f":"IF(B139=\"\",\"\",表紙!$B$4)","v":""},"",null,null,"","",{"$nulls":3},"","",""]
[138,{"$nulls":4},{"$f":"IF(B140=\"\",\"\",表紙!$B$2)","v":""},{"$f":"IF(B140=\"\",\"\",VLOOKUP(F140,学校データ!A:D,4,FALSE))","v":""},{"$nulls":7},0,0,0,0,0,"0000000",{"$f":"IF(B140=\"\",\"\",VLOOKUP(H140,競技データ!$B$21:$C$29,2,FALSE))","v":""},"",null,{"$f":"IF(B140=\"\",\"\",表紙!$B$33+選手入力!A140)","v":""},"","","",{"$f":"IF(B140=\"\",\"\",表紙!$B$4)","v":""},"",null,null,"","",{"$nulls":3},"","",""]
[139,{"$nulls":4},{"$f":"IF(B141=\"\",\"\",表紙!$B$2)","v":""},{"$f":"IF(B141=\"\",\"\",VLOOKUP(F141,学校データ!A:D,4,FALSE))","v":""},{"$nulls":7},0,0,0,0,0,"0000000",{"$f":"IF(B141=\"\",\"\",VLOOKUP(H141,競技データ!$B$21:$C$29,2,FALSE))","v":""},"",null,{"$f":"IF(B141=\"\",\"\",表紙!$B$33+選手入力!A141)","v":""},"","","",{"$f":"IF(B141=\"\",\"\",表紙!$B$4)","v":""},"",null,null,"","",{"$nulls":3},"","",""]
[140,{"$nulls":4},{"$f":"IF(B142=\"\",\"\",表紙!$B$2)","v":""},{"$f":"IF(B142=\"\",\"\",VLOOKUP(F142,学校データ!A:D,4,FALSE))","v":""},{"$nulls":7},0,0,0,0,0,"0000000",{"$f":"IF(B142=\"\",\"\",VLOOKUP(H142,競技データ!$B$21:$C$29,2,FALSE))","v":""},"",null,{"$f":"IF(B142=\"\",\"\",表紙!$B$33+選手入力!A142)","v":""},"","","",{"$f":"IF(B142=\"\",\"\",表紙!$B$4)","v":""},"",null,null,"","",{"$nulls":3},"","",""]
[141,{"$nulls":4},{"$f":"IF(B143=\"\",\"\",表紙!$B$2)","v":""},{"$f":"IF(B143=\"\",\"\",VLOOKUP(F143,学校データ!A:D,4,FALSE))","v":""},{"$nulls":7},0,0,0,0,0,"0000000",{"$f":"IF(B143=\"\",\"\",VLOOKUP(H143,競技データ!$B$21:$C$29,2,FALSE))","v":""},"",null,{"$f":"IF(B143=\"\",\"\",表紙!$B$33+選手入力!A143)","v":""},"","","",{"$f":"IF(B143=\"\",\"\",表紙!$B$4)","v":""},"",null,null,"","",{"$nulls":3},"","",""]
[142,{"$nulls":4},{"$f":"IF(B144=\"\",\"\",表紙!$B$2)","v":""},{"$f":"IF(B144=\"\",\"\",VLOOKUP(F144,学校データ!A:D,4,FALSE))","v":""},{"$nulls":7},0,0,0,0,0,"0000000",{"$f":"IF(B144=\"\",\"\",VLOOKUP(H144,競技データ!$B$21:$C$29,2,FALSE))","v":""},"",null,{"$f":"IF(B144=\"\",\"\",表紙!$B$33+選手入力!A144)","v":""},"","","",{"$f":"IF(B144=\"\",\"\",表紙!$B$4)","v":""},"",null,null,"","",{"$nulls":3},"","",""]
[143,{"$nulls":4},{"$f":"IF(B145=\"\",\"\",表紙!$B$2)","v":""},{"$f":"IF(B145=\"\",\"\",VLOOKUP(F145,学校データ!A:D,4,FALSE))","v":""},{"$nulls":7},0,0,0,0,0,"0000000",{"$f":"IF(B145=\"\",\"\",VLOOKUP(H145,競技データ!$B$21:$C$29,2,FALSE))","v":""},"",null,{"$f":"IF(B145=\"\",\"\",表紙!$B$33+選手入力!A145)","v":""},"","","",{"$f":"IF(B145=\"\",\"\",表紙!$B$4)","v":""},"",null,null,"","",{"$nulls":3},"","",""]
[144,{"$nulls":4},{"$f":"IF(B146=\"\",\"\",表紙!$B$2)","v":""},{"$f":"IF(B146=\"\",\"\",VLOOKUP(F146,学校データ!A:D,4,FALSE))","v":""},{"$nulls":7},0,0,0,0,0,"0000000",{"$f":"IF(B146=\"\",\"\",VLOOKUP(H146,競技データ!$B$21:$C$29,2,FALSE))","v":""},"",null,{"$f":"IF(B146=\"\",\"\",表紙!$B$33+選手入力!A146)","v":""},"","","",{"$f":"IF(B146=\"\",\"\",表紙!$B$4)","v":""},"",null,null,"","",{"$nulls":3},"","",""]
[145,{"$nulls":4},{"$f":"IF(B147=\"\",\"\",表紙!$B$2)","v":""},{"$f":"IF(B147=\"\",\"\",VLOOKUP(F147,学校データ!A:D,4,FALSE))","v":""},{"$nulls":7},0,0,0,0,0,"0000000",{"$f":"IF(B147=\"\",\"\",VLOOKUP(H147,競技データ!$B$21:$C$29,2,FALSE))","v":""},"",null,{"$f":"IF(B147=\"\",\"\",表紙!$B$33+選手入力!A147)","v":""},"","","",{"$f":"IF(B147=\"\",\"\",表紙!$B$4)","v":""},"",null,null,"","",{"$nulls":3},"","",""]
[146,{"$nulls":4},{"$f":"IF(B148=\"\",\"\",表紙!$B$2)","v":""},{"$f":"IF(B148=\"\",\"\",VLOOKUP(F148,学校データ!A:D,4,FALSE))","v":""},{"$nulls":7},0,0,0,0,0,"0000000",{"$f":"IF(B148=\"\",\"\",VLOOKUP(H148,競技データ!$B$21:$C$29,2,FALSE))","v":""},"",null,{"$f":"IF(B148=\"\",\"\",表紙!$B$33+選手入力!A148)","v":""},"","","",{"$f":"IF(B148=\"\",\"\",表紙!$B$4)","v":""},"",null,null,"","",{"$nulls":3},"","",""]
[147,{"$nulls":4},{"$f":"IF(B149=\"\",\"\",表紙!$B$2)","v":""},{"$f":"IF(B149=\"\",\"\",VLOOKUP(F149,学校データ!A:D,4,FALSE))","v":""},{"$nulls":7},0,0,0,0,0,"0000000",{"$f":"IF(B149=\"\",\"\",VLOOKUP(H149,競技データ!$B$21:$C$29,2,FALSE))","v":""},"",null,{"$f":"IF(B149=\"\",\"\",表紙!$B$33+選手入力!A149)","v":""},"","","",{"$f":"IF(B149=\"\",\"\",表紙!$B$4)","v":""},"",null,null,"","",{"$nulls":3},"","",""]
[148,{"$nulls":4},{"$f":"IF(B150=\"\",\"\",表紙!$B$2)","v":""},{"$f":"IF(B150=\"\",\"\",VLOOKUP(F150,学校データ!A:D,4,FALSE))","v":""},{"$nulls":7},0,0,0,0,0,"0000000",{"$f":"IF(B150=\"\",\"\",VLOOKUP(H150,競技データ!$B$21:$C$29,2,FALSE))","v":""},"",null,{"$f":"IF(B150=\"\",\"\",表紙!$B$33+選手入力!A150)","v":""},"","","",{"$f":"IF(B150=\"\",\"\",表紙!$B$4)","v":""},"",null,null,"","",{"$nulls":3},"","",""]
[149,{"$nulls":4},{"$f":"IF(B151=\"\",\"\",表紙!$B$2)","v":""},{"$f":"IF(B151=\"\",\"\",VLOOKUP(F151,学校データ!A:D,4,FALSE))","v":""},{"$nulls":7},0,0,0,0,0,"0000000",{"$f":"IF(B151=\"\",\"\",VLOOKUP(H151,競技データ!$B$21:$C$29,2,FALSE))","v":""},"",null,{"$f":"IF(B151=\"\",\"\",表紙!$B$33+選手入力!A151)","v":""},"","","",{"$f":"IF(B151=\"\",\"\",表紙!$B$4)","v":""},"",null,null,"","",{"$nulls":3},"","",""]
[150,{"$nulls":4},{"$f":"IF(B152=\"\",\"\",表紙!$B$2)","v":""},{"$f":"IF(B152=\"\",\"\",VLOOKUP(F152,学校データ!A:D,4,FALSE))","v":""},{"$nulls":7},0,0,0,0,0,"0000000",{"$f":"IF(B152=\"\",\"\",VLOOKUP(H152,競技データ!$B$21:$C$29,2,FALSE))","v":""},"",null,{"$f":"IF(B152=\"\",\"\",表紙!$B$33+選手入力!A152)","v":""},"","","",{"$f":"IF(B152=\"\",\"\",表紙!$B$4)","v":""},"",null,null,"","",{"$nulls":3},"","",""]
[151,{"$nulls":4},{"$f":"IF(B153=\"\",\"\",表紙!$B$2)","v":""},{"$f":"IF(B153=\"\",\"\",VLOOKUP(F153,学校データ!A:D,4,FALSE))","v":""},{"$nulls":7},0,0,0,0,0,"0000000",{"$f":"IF(B153=\"\",\"\",VLOOKUP(H153,競技データ!$B$21:$C$29,2,FALSE))","v":""},"",null,{"$f":"IF(B153=\"\",\"\",表紙!$B$33+選手入力!A153)","v":""},"","","",{"$f":"IF(B153=\"\",\"\",表紙!$B$4)","v":""},"",null,null,"","",{"$nulls":3},"","",""]
[152,{"$nulls":4},{"$f":"IF(B154=\"\",\"\",表紙!$B$2)","v":""},{"$f":"IF(B154=\"\",\"\",VLOOKUP(F154,学校データ!A:D,4,FALSE))","v":""},{"$nulls":7},0,0,0,0,0,"0000000",{"$f":"IF(B154=\"\",\"\",VLOOKUP(H154,競技データ!$B$21:$C$29,2,FALSE))","v":""},"",null,{"$f":"IF(B154=\"\",\"\",表紙!$B$33+選手入力!A154)","v":""},"","","",{"$f":"IF(B154=\"\",\"\",表紙!$B$4)","v":""},"",null,null,"","",{"$nulls":3},"","",""]
[153,{"$nulls":4},{"$f":"IF(B155=\"\",\"\",表紙!$B$2)","v":""},{"$f":"IF(B155=\"\",\"\",VLOOKUP(F155,学校データ!A:D,4,FALSE))","v":""},{"$nulls":7},0,0,0,0,0,"0000000",{"$f":"IF(B155=\"\",\"\",VLOOKUP(H155,競技データ!$B$21:$C$29,2,FALSE))","v":""},"",null,{"$f":"IF(B155=\"\",\"\",表紙!$B$33+選手入力!A155)","v":""},"","","",{"$f":"IF(B155=\"\",\"\",表紙!$B$4)","v":""},"",null,null,"","",{"$nulls":3},"","",""]
[154,{"$nulls":4},{"$f":"IF(B156=\"\",\"\",表紙!$B$2)","v":""},{"$f":"IF(B156=\"\",\"\",VLOOKUP(F156,学校データ!A:D,4,FALSE))","v":""},{"$nulls":7},0,0,0,0,0,"0000000",{"$f":"IF(B156=\"\",\"\",VLOOKUP(H156,競技データ!$B$21:$C$29,2,FALSE))","v":""},"",null,{"$f":"IF(B156=\"\",\"\",表紙!$B$33+選手入力!A156)","v":""},"","","",{"$f":"IF(B156=\"\",\"\",表紙!$B$4)","v":""},"",null,null,"","",{"$nulls":3},"","",""]
[155,{"$nulls":4},{"$f":"IF(B157=\"\",\"\",表紙!$B$2)","v":""},{"$f":"IF(B157=\"\",\"\",VLOOKUP(F157,学校データ!A:D,4,FALSE))","v":""},{"$nulls":7},0,0,0,0,0,"0000000",{"$f":"IF(B157=\"\",\"\",VLOOKUP(H157,競技データ!$B$21:$C$29,2,FALSE))","v":""},"",null,{"$f":"IF(B157=\"\",\"\",表紙!$B$33+選手入力!A157)","v":""},"","","",{"$f":"IF(B157=\"\",\"\",表紙!$B$4)","v":""},"",null,null,"","",{"$nulls":3},"","",""]
[156,{"$nulls":4},{"$f":"IF(B158=\"\",\"\",表紙!$B$2)","v":""},{"$f":"IF(B158=\"\",\"\",VLOOKUP(F158,学校データ!A:D,4,FALSE))","v":""},{"$nulls":7},0,0,0,0,0,"0000000",{"$f":"IF(B158=\"\",\"\",VLOOKUP(H158,競技データ!$B$21:$C$29,2,FALSE))","v":""},"",null,{"$f":"IF(B158=\"\",\"\",表紙!$B$33+選手入力!A158)","v":""},"","","",{"$f":"IF(B158=\"\",\"\",表紙!$B$4)","v":""},"",null,null,"","",{"$nulls":3},"","",""]
[157,{"$nulls":4},{"$f":"IF(B159=\"\",\"\",表紙!$B$2)","v":""},{"$f":"IF(B159=\"\",\"\",VLOOKUP(F159,学校データ!A:D,4,FALSE))","v":""},{"$nulls":7},0,0,0,0,0,"0000000",{"$f":"IF(B159=\"\",\"\",VLOOKUP(H159,競技データ!$B$21:$C$29,2,FALSE))","v":""},"",null,{"$f":"IF(B159=\"\",\"\",表紙!$B$33+選手入力!A159)","v":""},"","","",{"$f":"IF(B159=\"\",\"\",表紙!$B$4)","v":""},"",null,null,"","",{"$nulls":3},"","",""]
[158,{"$nulls":4},{"$f":"IF(B160=\"\",\"\",表紙!$B$2)","v":""},{"$f":"IF(B160=\"\",\"\",VLOOKUP(F160,学校データ!A:D,4,FALSE))","v":""},{"$nulls":7},0,0,0,0,0,"0000000",{"$f":"IF(B160=\"\",\"\",VLOOKUP(H160,競技データ!$B$21:$C$29,2,FALSE))","v":""},"",null,{"$f":"IF(B160=\"\",\"\",表紙!$B$33+選手入力!A160)","v":""},"","","",{"$f":"IF(B160=\"\",\"\",表紙!$B$4)","v":""},"",null,null,"","",{"$nulls":3},"","",""]
[159,{"$nulls":4},{"$f":"IF(B161=\"\",\"\",表紙!$B$2)","v":""},{"$f":"IF(B161=\"\",\"\",VLOOKUP(F161,学校データ!A:D,4,FALSE))","v":""},{"$nulls":7},0,0,0,0,0,"0000000",{"$f":"IF(B161=\"\",\"\",VLOOKUP(H161,競技データ!$B$21:$C$29,2,FALSE))","v":""},"",null,{"$f":"IF(B161=\"\",\"\",表紙!$B$33+選手入力!A161)","v":""},"","","",{"$f":"IF(B161=\"\",\"\",表紙!$B$4)","v":""},"",null,null,"","",{"$nulls":3},"","",""]
[160,{"$nulls":4},{"$f":"IF(B162=\"\",\"\",表紙!$B$2)","v":""},{"$f":"IF(B162=\"\",\"\",VLOOKUP(F162,学校データ!A:D,4,FALSE))","v":""},{"$nulls":7},0,0,0,0,0,"0000000",{"$f":"IF(B162=\"\",\"\",VLOOKUP(H162,競技データ!$B$21:$C$29,2,FALSE))","v":""},"",null,{"$f":"IF(B162=\"\",\"\",表紙!$B$33+選手入力!A162)","v":""},"","","",{"$f":"IF(B162=\"\",\"\",表紙!$B$4)","v":""},"",null,null,"","",{"$nulls":3},"","",""]
[161,{"$nulls":4},{"$f":"IF(B163=\"\",\"\",表紙!$B$2)","v":""},{"$f":"IF(B163=\"\",\"\",VLOOKUP(F163,学校データ!A:D,4,FALSE))","v":""},{"$nulls":7},0,0,0,0,0,"0000000",{"$f":"IF(B163=\"\",\"\",VLOOKUP(H163,競技データ!$B$21:$C$29,2,FALSE))","v":""},"",null,{"$f":"IF(B163=\"\",\"\",表紙!$B$33+選手入力!A163)","v":""},"",{"$f":"IF(B163=\"\",\"\",C163)","v":""},{"$f":"IF(E163=\"\",\"\",IF(E163=\"男子\",1,2))","v":""},{"$f":"IF(B163=\"\",\"\",表紙!$B$4)","v":""},{"$f":"IF(B163=\"\",\"\",F163)","v":""},null,null,{"$f":"IF(B163=\"\",\"\",X163)","v":""},"",{"$nulls":3},"","",""]
[162,{"$nulls":4},{"$f":"IF(B164=\"\",\"\",表紙!$B$2)","v":""},{"$f":"IF(B164=\"\",\"\",VLOOKUP(F164,学校データ!A:D,4,FALSE))","v":""},{"$nulls":7},0,0,0,0,0,"0000000",{"$f":"IF(B164=\"\",\"\",VLOOKUP(H164,競技データ!$B$21:$C$29,2,FALSE))","v":""},"",null,{"$f":"IF(B164=\"\",\"\",表紙!$B$33+選手入力!A164)","v":""},"","","",{"$f":"IF(B164=\"\",\"\",表紙!$B$4)","v":""},"",null,null,"","",{"$nulls":3},"","",""]
[163,{"$nulls":4},{"$f":"IF(B165=\"\",\"\",表紙!$B$2)","v":""},{"$f":"IF(B165=\"\",\"\",VLOOKUP(F165,学校データ!A:D,4,FALSE))","v":""},{"$nulls":7},0,0,0,0,0,"0000000",{"$f":"IF(B165=\"\",\"\",VLOOKUP(H165,競技データ!$B$21:$C$29,2,FALSE))","v":""},"",null,{"$f":"IF(B165=\"\",\"\",表紙!$B$33+選手入力!A165)","v":""},"","","",{"$f":"IF(B165=\"\",\"\",表紙!$B$4)","v":""},"",null,null,"","",{"$nulls":3},"","",""]
[164,{"$nulls":4},{"$f":"IF(B166=\"\",\"\",表紙!$B$2)","v":""},{"$f":"IF(B166=\"\",\"\",VLOOKUP(F166,学校データ!A:D,4,FALSE))","v":""},{"$nulls":7},0,0,0,0,0,"0000000",{"$f":"IF(B166=\"\",\"\",VLOOKUP(H166,競技データ!$B$21:$C$29,2,FALSE))","v":""},"",null,{"$f":"IF(B166=\"\",\"\",表紙!$B$33+選手入力!A166)","v":""},"","","",{"$f":"IF(B166=\"\",\"\",表紙!$B$4)","v":""},"",null,null,"","",{"$nulls":3},"","",""]
[165,{"$nulls":4},{"$f":"IF(B167=\"\",\"\",表紙!$B$2)","v":""},{"$f":"IF(B167=\"\",\"\",VLOOKUP(F167,学校データ!A:D,4,FALSE))","v":""},{"$nulls":7},0,0,0,0,0,"0000000",{"$f":"IF(B167=\"\",\"\",VLOOKUP(H167,競技データ!$B$21:$C$29,2,FALSE))","v":""},"",null,{"$f":"IF(B167=\"\",\"\",表紙!$B$33+選手入力!A167)","v":""},"","","",{"$f":"IF(B167=\"\",\"\",表紙!$B$4)","v":""},"",null,null,"","",{"$nulls":3},"","",""]
[166,{"$nulls":4},{"$f":"IF(B168=\"\",\"\",表紙!$B$2)","v":""},{"$f":"IF(B168=\"\",\"\",VLOOKUP(F168,学校データ!A:D,4,FALSE))","v":""},{"$nulls":7},0,0,0,0,0,"0000000",{"$f":"IF(B168=\"\",\"\",VLOOKUP(H168,競技データ!$B$21:$C$29,2,FALSE))","v":""},"",null,{"$f":"IF(B168=\"\",\"\",表紙!$B$33+選手入力!A168)","v":""},"","","",{"$f":"IF(B168=\"\",\"\",表紙!$B$4)","v":""},"",null,null,"","",{"$nulls":3},"","",""]
[167,{"$nulls":4},{"$f":"IF(B169=\"\",\"\",表紙!$B$2)","v":""},{"$f":"IF(B169=\"\",\"\",VLOOKUP(F169,学校データ!A:D,4,FALSE))","v":""},{"$nulls":7},0,0,0,0,0,"0000000",{"$f":"IF(B169=\"\",\"\",VLOOKUP(H169,競技データ!$B$21:$C$29,2,FALSE))","v":""},"",null,{"$f":"IF(B169=\"\",\"\",表紙!$B$33+選手入力!A169)","v":""},"","","",{"$f":"IF(B169=\"\",\"\",表紙!$B$4)","v":""},"",null,null,"","",{"$nulls":3},"","",""]
[168,{"$nulls":4},{"$f":"IF(B170=\"\",\"\",表紙!$B$2)","v":""},{"$f":"IF(B170=\"\",\"\",VLOOKUP(F170,学校データ!A:D,4,FALSE))","v":""},{"$nulls":7},0,0,0,0,0,"0000000",{"$f":"IF(B170=\"\",\"\",VLOOKUP(H170,競技データ!$B$21:$C$29,2,FALSE))","v":""},"",null,{"$f":"IF(B170=\"\",\"\",表紙!$B$33+選手入力!A170)","v":""},"","","",{"$f":"IF(B170=\"\",\"\",表紙!$B$4)","v":""},"",null,null,"","",{"$nulls":3},"","",""]
[169,{"$nulls":4},{"$f":"IF(B171=\"\",\"\",表紙!$B$2)","v":""},{"$f":"IF(B171=\"\",\"\",VLOOKUP(F171,学校データ!A:D,4,FALSE))","v":""},{"$nulls":7},0,0,0,0,0,"0000000",{"$f":"IF(B171=\"\",\"\",VLOOKUP(H171,競技データ!$B$21:$C$29,2,FALSE))","v":""},"",null,{"$f":"IF(B171=\"\",\"\",表紙!$B$33+選手入力!A171)","v":""},"","","",{"$f":"IF(B171=\"\",\"\",表紙!$B$4)","v":""},"",null,null,"","",{"$nulls":3},"","",""]
[170,{"$nulls":4},{"$f":"IF(B172=\"\",\"\",表紙!$B$2)","v":""},{"$f":"IF(B172=\"\",\"\",VLOOKUP(F172,学校データ!A:D,4,FALSE))","v":""},{"$nulls":7},0,0,0,0,0,"0000000",{"$f":"IF(B172=\"\",\"\",VLOOKUP(H172,競技データ!$B$21:$C$29,2,FALSE))","v":""},"",null,{"$f":"IF(B172=\"\",\"\",表紙!$B$33+選手入力!A172)","v":""},"","","",{"$f":"IF(B172=\"\",\"\",表紙!$B$4)","v":""},"",null,null,"","",{"$nulls":3},"","",""]
[171,{"$nulls":4},{"$f":"IF(B173=\"\",\"\",表紙!$B$2)","v":""},{"$f":"IF(B173=\"\",\"\",VLOOKUP(F173,学校データ!A:D,4,FALSE))","v":""},{"$nulls":7},0,0,0,0,0,"0000000",{"$f":"IF(B173=\"\",\"\",VLOOKUP(H173,競技データ!$B$21:$C$29,2,FALSE))","v":""},"",null,{"$f":"IF(B173=\"\",\"\",表紙!$B$33+選手入力!A173)","v":""},"","","",{"$f":"IF(B173=\"\",\"\",表紙!$B$4)","v":""},"",null,null,"","",{"$nulls":3},"","",""]
[172,{"$nulls":4},{"$f":"IF(B174=\"\",\"\",表紙!$B$2)","v":""},{"$f":"IF(B174=\"\",\"\",VLOOKUP(F174,学校データ!A:D,4,FALSE))","v":""},{"$nulls":7},0,0,0,0,0,"0000000",{"$f":"IF(B174=\"\",\"\",VLOOKUP(H174,競技データ!$B$21:$C$29,2,FALSE))","v":""},"",null,{"$f":"IF(B174=\"\",\"\",表紙!$B$33+選手入力!A174)","v":""},"","","",{"$f":"IF(B174=\"\",\"\",表紙!$B$4)","v":""},"",null,null,"","",{"$nulls":3},"","",""]
[173,{"$nulls":4},{"$f":"IF(B175=\"\",\"\",表紙!$B$2)","v":""},{"$f":"IF(B175=\"\",\"\",VLOOKUP(F175,学校データ!A:D,4,FALSE))","v":""},{"$nulls":7},0,0,0,0,0,"0000000",{"$f":"IF(B175=\"\",\"\",VLOOKUP(H175,競技データ!$B$21:$C$29,2,FALSE))","v":""},"",null,{"$f":"IF(B175=\"\",\"\",表紙!$B$33+選手入力!A175)","v":""},"","","",{"$f":"IF(B175=\"\",\"\",表紙!$B$4)","v":""},"",null,null,"","",{"$nulls":3},"","",""]
[174,{"$nulls":4},{"$f":"IF(B176=\"\",\"\",表紙!$B$2)","v":""},{"$f":"IF(B176=\"\",\"\",VLOOKUP(F176,学校データ!A:D,4,FALSE))","v":""},{"$nulls":7},0,0,0,0,0,"0000000",{"$f":"IF(B176=\"\",\"\",VLOOKUP(H176,競技データ!$B$21:$C$29,2,FALSE))","v":""},"",null,{"$f":"IF(B176=\"\",\"\",表紙!$B$33+選手入力!A176)","v":""},"","","",{"$f":"IF(B176=\"\",\"\",表紙!$B$4)","v":""},"",null,null,"","",{"$nulls":3},"","",""]
[175,{"$nulls":4},{"$f":"IF(B177=\"\",\"\",表紙!$B$2)","v":""},{"$f":"IF(B177=\"\",\"\",VLOOKUP(F177,学校データ!A:D,4,FALSE))","v":""},{"$nulls":7},0,0,0,0,0,"0000000",{"$f":"IF(B177=\"\",\"\",VLOOKUP(H177,競技データ!$B$21:$C$29,2,FALSE))","v":""},"",null,{"$f":"IF(B177=\"\",\"\",表紙!$B$33+選手入力!A177)","v":""},"","","",{"$f":"IF(B177=\"\",\"\",表紙!$B$4)","v":""},"",null,null,"","",{"$nulls":3},"","",""]
[176,{"$nulls":4},{"$f":"IF(B178=\"\",\"\",表紙!$B$2)","v":""},{"$f":"IF(B178=\"\",\"\",VLOOKUP(F178,学校データ!A:D,4,FALSE))","v":""},{"$nulls":7},0,0,0,0,0,"0000000",{"$f":"IF(B178=\"\",\"\",VLOOKUP(H178,競技データ!$B$21:$C$29,2,FALSE))","v":""},"",null,{"$f":"IF(B178=\"\",\"\",表紙!$B$33+選手入力!A178)","v":""},"","","",{"$f":"IF(B178=\"\",\"\",表紙!$B$4)","v":""},"",null,null,"","",{"$nulls":3},"","",""]
[177,{"$nulls":4},{"$f":"IF(B179=\"\",\"\",表紙!$B$2)","v":""},{"$f":"IF(B179=\"\",\"\",VLOOKUP(F179,学校データ!A:D,4,FALSE))","v":""},{"$nulls":7},0,0,0,0,0,"0000000",{"$f":"IF(B179=\"\",\"\",VLOOKUP(H179,競技データ!$B$21:$C$29,2,FALSE))","v":""},"",null,{"$f":"IF(B179=\"\",\"\",表紙!$B$33+選手入力!A179)","v":""},"","","",{"$f":"IF(B179=\"\",\"\",表紙!$B$4)","v":""},"",null,null,"","",{"$nulls":3},"","",""]
[178,{"$nulls":4},{"$f":"IF(B180=\"\",\"\",表紙!$B$2)","v":""},{"$f":"IF(B180=\"\",\"\",VLOOKUP(F180,学校データ!A:D,4,FALSE))","v":""},{"$nulls":7},0,0,0,0,0,"0000000",{"$f":"IF(B180=\"\",\"\",VLOOKUP(H180,競技データ!$B$21:$C$29,2,FALSE))","v":""},"",null,{"$f":"IF(B180=\"\",\"\",表紙!$B$33+選手入力!A180)","v":""},"","","",{"$f":"IF(B180=\"\",\"\",表紙!$B$4)","v":""},"",null,null,"","",{"$nulls":3},"","",""]
[179,{"$nulls":4},{"$f":"IF(B181=\"\",\"\",表紙!$B$2)","v":""},{"$f":"IF(B181=\"\",\"\",VLOOKUP(F181,学校データ!A:D,4,FALSE))","v":""},{"$nulls":7},0,0,0,0,0,"0000000",{"$f":"IF(B181=\"\",\"\",VLOOKUP(H181,競技データ!$B$21:$C$29,2,FALSE))","v":""},"",null,{"$f":"IF(B181=\"\",\"\",表紙!$B$33+選手入力!A181)","v":""},"","","",{"$f":"IF(B181=\"\",\"\",表紙!$B$4)","v":""},"",null,null,"","",{"$nulls":3},"","",""]
[180,{"$nulls":4},{"$f":"IF(B182=\"\",\"\",表紙!$B$2)","v":""},{"$f":"IF(B182=\"\",\"\",VLOOKUP(F182,学校データ!A:D,4,FALSE))","v":""},{"$nulls":7},0,0,0,0,0,"0000000",{"$f":"IF(B182=\"\",\"\",VLOOKUP(H182,競技データ!$B$21:$C$29,2,FALSE))","v":""},"",null,{"$f":"IF(B182=\"\",\"\",表紙!$B$33+選手入力!A182)","v":""},"","","",{"$f":"IF(B182=\"\",\"\",表紙!$B$4)","v":""},"",null,null,"","",{"$nulls":3},"","",""]
[181,{"$nulls":4},{"$f":"IF(B183=\"\",\"\",表紙!$B$2)","v":""},{"$f":"IF(B183=\"\",\"\",VLOOKUP(F183,学校データ!A:D,4,FALSE))","v":""},{"$nulls":7},0,0,0,0,0,"0000000",{"$f":"IF(B183=\"\",\"\",VLOOKUP(H183,競技データ!$B$21:$C$29,2,FALSE))","v":""},"",null,{"$f":"IF(B183=\"\",\"\",表紙!$B$33+選手入力!A183)","v":""},"","","",{"$f":"IF(B183=\"\",\"\",表紙!$B$4)","v":""},"",null,null,"","",{"$nulls":3},"","",""]
[182,{"$nulls":4},{"$f":"IF(B184=\"\",\"\",表紙!$B$2)","v":""},{"$f":"IF(B184=\"\",\"\",VLOOKUP(F184,学校データ!A:D,4,FALSE))","v":""},{"$nulls":7},0,0,0,0,0,"0000000",{"$f":"IF(B184=\"\",\"\",VLOOKUP(H184,競技データ!$B$21:$C$29,2,FALSE))","v":""},"",null,{"$f":"IF(B184=\"\",\"\",表紙!$B$33+選手入力!A184)","v":""},"","","",{"$f":"IF(B184=\"\",\"\",表紙!$B$4)","v":""},"",null,null,"","",{"$nulls":3},"","",""]
[183,{"$nulls":4},{"$f":"IF(B185=\"\",\"\",表紙!$B$2)","v":""},{"$f":"IF(B185=\"\",\"\",VLOOKUP(F185,学校データ!A:D,4,FALSE))","v":""},{"$nulls":7},0,0,0,0,0,"0000000",{"$f":"IF(B185=\"\",\"\",VLOOKUP(H185,競技データ!$B$21:$C$29,2,FALSE))","v":""},"",null,{"$f":"IF(B185=\"\",\"\",表紙!$B$33+選手入力!A185)","v":""},"","","",{"$f":"IF(B185=\"\",\"\",表紙!$B$4)","v":""},"",null,null,"","",{"$nulls":3},"","",""]
[184,{"$nulls":4},{"$f":"IF(B186=\"\",\"\",表紙!$B$2)","v":""},{"$f":"IF(B186=\"\",\"\",VLOOKUP(F186,学校データ!A:D,4,FALSE))","v":""},{"$nulls":7},0,0,0,0,0,"0000000",{"$f":"IF(B186=\"\",\"\",VLOOKUP(H186,競技データ!$B$21:$C$29,2,FALSE))","v":""},"",null,{"$f":"IF(B186=\"\",\"\",表紙!$B$33+選手入力!A186)","v":""},"","","",{"$f":"IF(B186=\"\",\"\",表紙!$B$4)","v":""},"",null,null,"","",{"$nulls":3},"","",""]
[185,{"$nulls":4},{"$f":"IF(B187=\"\",\"\",表紙!$B$2)","v":""},{"$f":"IF(B187=\"\",\"\",VLOOKUP(F187,学校データ!A:D,4,FALSE))","v":""},{"$nulls":7},0,0,0,0,0,"0000000",{"$f":"IF(B187=\"\",\"\",VLOOKUP(H187,競技データ!$B$21:$C$29,2,FALSE))","v":""},"",null,{"$f":"IF(B187=\"\",\"\",表紙!$B$33+選手入力!A187)","v":""},"","","",{"$f":"IF(B187=\"\",\"\",表紙!$B$4)","v":""},"",null,null,"","",{"$nulls":3},"","",""]
[186,{"$nulls":4},{"$f":"IF(B188=\"\",\"\",表紙!$B$2)","v":""},{"$f":"IF(B188=\"\",\"\",VLOOKUP(F188,学校データ!A:D,4,FALSE))","v":""},{"$nulls":7},0,0,0,0,0,"0000000",{"$f":"IF(B188=\"\",\"\",VLOOKUP(H188,競技データ!$B$21:$C$29,2,FALSE))","v":""},"",null,{"$f":"IF(B188=\"\",\"\",表紙!$B$33+選手入力!A188)","v":""},"","","",{"$f":"IF(B188=\"\",\"\",表紙!$B$4)","v":""},"",null,null,"","",{"$nulls":3},"","",""]
[187,{"$nulls":4},{"$f":"IF(B189=\"\",\"\",表紙!$B$2)","v":""},{"$f":"IF(B189=\"\",\"\",VLOOKUP(F189,学校データ!A:D,4,FALSE))","v":""},{"$nulls":7},0,0,0,0,0,"0000000",{"$f":"IF(B189=\"\",\"\",VLOOKUP(H189,競技データ!$B$21:$C$29,2,FALSE))","v":""},"",null,{"$f":"IF(B189=\"\",\"\",表紙!$B$33+選手入力!A189)","v":""},"","","",{"$f":"IF(B189=\"\",\"\",表紙!$B$4)","v":""},"",null,null,"","",{"$nulls":3},"","",""]
[188,{"$nulls":4},{"$f":"IF(B190=\"\",\"\",表紙!$B$2)","v":""},{"$f":"IF(B190=\"\",\"\",VLOOKUP(F190,学校データ!A:D,4,FALSE))","v":""},{"$nulls":7},0,0,0,0,0,"0000000",{"$f":"IF(B190=\"\",\"\",VLOOKUP(H190,競技データ!$B$21:$C$29,2,FALSE))","v":""},"",null,{"$f":"IF(B190=\"\",\"\",表紙!$B$33+選手入力!A190)","v":""},"","","",{"$f":"IF(B190=\"\",\"\",表紙!$B$4)","v":""},"",null,null,"","",{"$nulls":3},"","",""]
[189,{"$nulls":4},{"$f":"IF(B191=\"\",\"\",表紙!$B$2)","v":""},{"$f":"IF(B191=\"\",\"\",VLOOKUP(F191,学校データ!A:D,4,FALSE))","v":""},{"$nulls":7},0,0,0,0,0,"0000000",{"$f":"IF(B191=\"\",\"\",VLOOKUP(H191,競技データ!$B$21:$C$29,2,FALSE))","v":""},"",null,{"$f":"IF(B191=\"\",\"\",表紙!$B$33+選手入力!A191)","v":""},"","","",{"$f":"IF(B191=\"\",\"\",表紙!$B$4)","v":""},"",null,null,"","",{"$nulls":3},"","",""]
[190,{"$nulls":4},{"$f":"IF(B192=\"\",\"\",表紙!$B$2)","v":""},{"$f":"IF(B192=\"\",\"\",VLOOKUP(F192,学校データ!A:D,4,FALSE))","v":""},{"$nulls":7},0,0,0,0,0,"0000000",{"$f":"IF(B192=\"\",\"\",VLOOKUP(H192,競技データ!$B$21:$C$29,2,FALSE))","v":""},"",null,{"$f":"IF(B192=\"\",\"\",表紙!$B$33+選手入力!A192)","v":""},"","","",{"$f":"IF(B192=\"\",\"\",表紙!$B$4)","v":""},"",null,null,"","",{"$nulls":3},"","",""]
[191,{"$nulls":4},{"$f":"IF(B193=\"\",\"\",表紙!$B$2)","v":""},{"$f":"IF(B193=\"\",\"\",VLOOKUP(F193,学校データ!A:D,4,FALSE))","v":""},{"$nulls":7},0,0,0,0,0,"0000000",{"$f":"IF(B193=\"\",\"\",VLOOKUP(H193,競技データ!$B$21:$C$29,2,FALSE))","v":""},"",null,{"$f":"IF(B193=\"\",\"\",表紙!$B$33+選手入力!A193)","v":""},"","","",{"$f":"IF(B193=\"\",\"\",表紙!$B$4)","v":""},"",null,null,"","",{"$nulls":3},"","",""]
[192,{"$nulls":4},{"$f":"IF(B194=\"\",\"\",表紙!$B$2)","v":""},{"$f":"IF(B194=\"\",\"\",VLOOKUP(F194,学校データ!A:D,4,FALSE))","v":""},{"$nulls":7},0,0,0,0,0,"0000000",{"$f":"IF(B194=\"\",\"\",VLOOKUP(H194,競技データ!$B$21:$C$29,2,FALSE))","v":""},"",null,{"$f":"IF(B194=\"\",\"\",表紙!$B$33+選手入力!A194)","v":""},"","","",{"$f":"IF(B194=\"\",\"\",表紙!$B$4)","v":""},"",null,null,"","",{"$nulls":3},"","",""]
[193,{"$nulls":4},{"$f":"IF(B195=\"\",\"\",表紙!$B$2)","v":""},{"$f":"IF(B195=\"\",\"\",VLOOKUP(F195,学校データ!A:D,4,FALSE))","v":""},{"$nulls":7},0,{"$f":"IF(J195=\"\",0,J195)","v":0},{"$f":"IF(K195=\"\",0,K195)","v":0},{"$f":"IF(L195=\"\",0,L195)","v":0},{"$f":"IF(M195=\"\",0,M195)","v":0},"0000000",{"$f":"IF(B195=\"\",\"\",VLOOKUP(H195,競技データ!$B$21:$C$29,2,FALSE))","v":""},"",null,{"$f":"IF(B195=\"\",\"\",表紙!$B$33+選手入力!A195)","v":""},"",{"$f":"IF(B195=\"\",\"\",C195)","v":""},{"$f":"IF(E195=\"\",\"\",IF(E195=\"男子\",1,2))","v":""},{"$f":"IF(B195=\"\",\"\",表紙!$B$4)","v":""},{"$f":"IF(B195=\"\",\"\",F195)","v":""},null,null,{"$f":"IF(B195=\"\",\"\",X195)","v":""},"",{"$nulls":3},"","",""]
[194,{"$nulls":4},{"$f":"IF(B196=\"\",\"\",表紙!$B$2)","v":""},{"$f":"IF(B196=\"\",\"\",VLOOKUP(F196,学校データ!A:D,4,FALSE))","v":""},{"$nulls":7},{"$f":"IF(I196=\"\",0,I196)","v":0},0,0,0,0,{"$f":"CONCATENATE(\"00\",O196,P196,Q196,R196,S196)","v":"0000000"},{"$f":"IF(B196=\"\",\"\",VLOOKUP(H196,競技データ!$B$21:$C$29,2,FALSE))","v":""},{"$f":"IF(B196=\"\",\"\",IF(H196=\"100ｍ\",CONCATENATE(\"0\",D196),IF(H196=\"友好100ｍ\",\"07\",\"00\")))","v":""},null,{"$f":"IF(B196=\"\",\"\",表紙!$B$33+選手入力!A196)","v":""},{"$f":"IF(B196=\"\",\"\",B196 & \"(\" &D196&\")\")","v":""},"","",{"$f":"IF(B196=\"\",\"\",表紙!$B$4)","v":""},"",null,null,"",{"$f":"IF(B196=\"\",\"\",IF(H196=\"リレーのみ\",\"R99900\",CONCATENATE(U196,V196,\" \",T196)))","v":""},{"$nulls":3},{"$f":"IF(AG196=\"\",\"\",RIGHT(LEFT(AG196,4),3))","v":""},{"$f":"IF(AG196=\"\",\"\",RIGHT(LEFT(AG196,6),2))","v":""},{"$f":"IF(AG196=\"\",\"\",CONCATENATE(AK196,\"   \",AA196,AL196))","v":""}]
[195,{"$nulls":4},{"$f":"IF(B197=\"\",\"\",表紙!$B$2)","v":""},{"$f":"IF(B197=\"\",\"\",VLOOKUP(F197,学校データ!A:D,4,FALSE))","v":""},{"$nulls":7},0,0,0,0,0,"0000000",{"$f":"IF(B197=\"\",\"\",VLOOKUP(H197,競技データ!$B$21:$C$29,2,FALSE))","v":""},"",null,{"$f":"IF(B197=\"\",\"\",表紙!$B$33+選手入力!A197)","v":""},"","","",{"$f":"IF(B197=\"\",\"\",表紙!$B$4)","v":""},"",null,null,"","",{"$nulls":3},"","",""]
[196,{"$nulls":4},{"$f":"IF(B198=\"\",\"\",表紙!$B$2)","v":""},{"$f":"IF(B198=\"\",\"\",VLOOKUP(F198,学校データ!A:D,4,FALSE))","v":""},{"$nulls":7},0,0,0,0,0,"0000000",{"$f":"IF(B198=\"\",\"\",VLOOKUP(H198,競技データ!$B$21:$C$29,2,FALSE))","v":""},"",null,{"$f":"IF(B198=\"\",\"\",表紙!$B$33+選手入力!A198)","v":""},"","","",{"$f":"IF(B198=\"\",\"\",表紙!$B$4)","v":""},"",null,null,"","",{"$nulls":3},"","",""]
[197,{"$nulls":4},{"$f":"IF(B199=\"\",\"\",表紙!$B$2)","v":""},{"$f":"IF(B199=\"\",\"\",VLOOKUP(F199,学校データ!A:D,4,FALSE))","v":""},{"$nulls":7},0,0,0,0,0,"0000000",{"$f":"IF(B199=\"\",\"\",VLOOKUP(H199,競技データ!$B$21:$C$29,2,FALSE))","v":""},"",null,{"$f":"IF(B199=\"\",\"\",表紙!$B$33+選手入力!A199)","v":""},"","","",{"$f":"IF(B199=\"\",\"\",表紙!$B$4)","v":""},"",null,null,"","",{"$nulls":3},"","",""]
[198,{"$nulls":4},{"$f":"IF(B200=\"\",\"\",表紙!$B$2)","v":""},{"$f":"IF(B200=\"\",\"\",VLOOKUP(F200,学校データ!A:D,4,FALSE))","v":""},{"$nulls":7},0,0,0,0,0,"0000000",{"$f":"IF(B200=\"\",\"\",VLOOKUP(H200,競技データ!$B$21:$C$29,2,FALSE))","v":""},"",null,{"$f":"IF(B200=\"\",\"\",表紙!$B$33+選手入力!A200)","v":""},"","","",{"$f":"IF(B200=\"\",\"\",表紙!$B$4)","v":""},"",null,null,"","",{"$nulls":3},"","",""]
[199,{"$nulls":4},{"$f":"IF(B201=\"\",\"\",表紙!$B$2)","v":""},{"$f":"IF(B201=\"\",\"\",VLOOKUP(F201,学校データ!A:D,4,FALSE))","v":""},{"$nulls":7},0,0,0,0,0,"0000000",{"$f":"IF(B201=\"\",\"\",VLOOKUP(H201,競技データ!$B$21:$C$29,2,FALSE))","v":""},"",null,{"$f":"IF(B201=\"\",\"\",表紙!$B$33+選手入力!A201)","v":""},"","","",{"$f":"IF(B201=\"\",\"\",表紙!$B$4)","v":""},"",null,null,"","",{"$nulls":3},"","",""]
[200,{"$nulls":4},{"$f":"IF(B202=\"\",\"\",表紙!$B$2)","v":""},{"$f":"IF(B202=\"\",\"\",VLOOKUP(F202,学校データ!A:D,4,FALSE))","v":""},{"$nulls":7},0,0,0,0,0,"0000000",{"$f":"IF(B202=\"\",\"\",VLOOKUP(H202,競技データ!$B$21:$C$29,2,FALSE))","v":""},"",null,{"$f":"IF(B202=\"\",\"\",表紙!$B$33+選手入力!A202)","v":""},"","","",{"$f":"IF(B202=\"\",\"\",表紙!$B$4)","v":""},"",null,null,"","",{"$nulls":3},"","",""]

{"sheet":"リレー入力","index":2,"n_rows":82,"n_cols":42,"rows_kept":82,"merged":[[0,0,0,2]]}
[{"$f":"CONCATENATE(表紙!B3,\"リレー入力\")","v":{"$error":"#N/A"}},{"$nulls":4},"申込みタイム（各位ずつ記入）"]
["種目名","学校NO（自動表示）","学校名（自動表示）","分",null,"秒","1/10","1／100","1走選手NO","1走選手名（自動表示）","2走選手NO","2走選手名（自動表示）","3走選手NO","3走選手名（自動表示）","4走選手NO","4走選手名（自動表示）","補員選手NO","補員名（自動表示）",{"$nulls":8},"DB","ZK","KC","N1","N2","TM","KM","LN","S1","S2","S3","S4","S5","S6","S7","S8"]
["男子4×100mリレー",{"$f":"IF(I3=\"\",\"\",表紙!$B$2)","v":""},{"$f":"IF(B3=\"\",\"\",VLOOKUP(リレー入力!B3,学校データ!$A:$E,4,FALSE))","v":""},{"$nulls":6},{"$f":"IF(I3=\"\",\"\",VLOOKUP(I3,選手入力!$A$2:$B$202,2,FALSE))","v":""},null,{"$f":"IF(K3=\"\",\"\",VLOOKUP(K3,選手入力!$A$2:$B$202,2,FALSE))","v":""},null,{"$f":"IF(M3=\"\",\"\",VLOOKUP(M3,選手入力!$A$2:$B$202,2,FALSE))","v":""},null,{"$f":"IF(O3=\"\",\"\",VLOOKUP(O3,選手入力!$A$2:$B$202,2,FALSE))","v":""},null,{"$f":"IF(Q3=\"\",\"\",VLOOKUP(Q3,選手入力!$A$2:$B$202,2,FALSE))","v":""},1,{"$f":"IF(D3=\"\",0,D3)","v":0},{"$f":"IF(E3=\"\",0,E3)","v":0},{"$f":"IF(F3=\"\",0,F3)","v":0},{"$f":"IF(G3=\"\",0,G3)","v":0},{"$f":"IF(H3=\"\",0,H3)","v":0},{"$f":"CONCATENATE(\"00\",T3,U3,V3,W3,X3)","v":"0000000"},null,{"$f":"IF($B3=\"\",\"\",表紙!$B$34+リレー入力!$S3)","v":""},{"$f":"IF($B3=\"\",\"\",AA3)","v":""},{"$f":"IF($B3=\"\",\"\",表紙!$B$4)","v":""},{"$f":"IF($B3=\"\",\"\",C3)","v":""},null,{"$f":"IF($B3=\"\",\"\",Y3)","v":""},null,null,{"$f":"IF(I3=\"\",\"\",VLOOKUP(J3,選手入力!$B$2:$X$202,23,FALSE))","v":""},{"$f":"IF(K3=\"\",\"\",VLOOKUP(L3,選手入力!$B$2:$X$202,23,FALSE))","v":""},{"$f":"IF(M3=\"\",\"\",VLOOKUP(N3,選手入力!$B$2:$X$202,23,FALSE))","v":""},{"$f":"IF(O3=\"\",\"\",VLOOKUP(P3,選手入力!$B$2:$X$202,23,FALSE))","v":""},{"$f":"IF(Q3=\"\",\"\",VLOOKUP(R3,選手入力!$B$2:$X$202,23,FALSE))","v":""}]
[{"$nulls":9},{"$f":"IF(I4=\"\",\"\",VLOOKUP(I4,選手入力!$A$2:$B$202,2,FALSE))","v":""},null,{"$f":"IF(K4=\"\",\"\",VLOOKUP(K4,選手入力!$A$2:$B$202,2,FALSE))","v":""},null,{"$f":"IF(M4=\"\",\"\",VLOOKUP(M4,選手入力!$A$2:$B$202,2,FALSE))","v":""},null,{"$f":"IF(O4=\"\",\"\",VLOOKUP(O4,選手入力!$A$2:$B$202,2,FALSE))","v":""},null,{"$f":"IF(Q4=\"\",\"\",VLOOKUP(Q4,選手入力!$A$2:$B$202,2,FALSE))","v":""},2,{"$f":"IF(D4=\"\",0,D4)","v":0},0,0,0,0,{"$f":"CONCATENATE(\"00\",T4,U4,V4,W4,X4)","v":"0000000"},null,{"$f":"IF($B4=\"\",\"\",表紙!$B$34+リレー入力!$S4)","v":""},{"$f":"IF($B4=\"\",\"\",AA4)","v":""},{"$f":"IF($B4=\"\",\"\",表紙!$B$4)","v":""},{"$f":"IF($B4=\"\",\"\",C4)","v":""},null,{"$f":"IF($B4=\"\",\"\",Y4)","v":""},null,null,{"$f":"IF(I4=\"\",\"\",VLOOKUP(J4,選手入力!$B$2:$X$202,23,FALSE))","v":""},{"$f":"IF(K4=\"\",\"\",VLOOKUP(L4,選手入力!$B$2:$X$202,23,FALSE))","v":""},{"$f":"IF(M4=\"\",\"\",VLOOKUP(N4,選手入力!$B$2:$X$202,23,FALSE))","v":""},{"$f":"IF(O4=\"\",\"\",VLOOKUP(P4,選手入力!$B$2:$X$202,23,FALSE))","v":""},{"$f":"IF(Q4=\"\",\"\",VLOOKUP(R4,選手入力!$B$2:$X$202,23,FALSE))","v":""}]
[{"$nulls":9},{"$f":"IF(I5=\"\",\"\",VLOOKUP(I5,選手入力!$A$2:$B$202,2,FALSE))","v":""},null,{"$f":"IF(K5=\"\",\"\",VLOOKUP(K5,選手入力!$A$2:$B$202,2,FALSE))","v":""},null,{"$f":"IF(M5=\"\",\"\",VLOOKUP(M5,選手入力!$A$2:$B$202,2,FALSE))","v":""},null,{"$f":"IF(O5=\"\",\"\",VLOOKUP(O5,選手入力!$A$2:$B$202,2,FALSE))","v":""},null,{"$f":"IF(Q5=\"\",\"\",VLOOKUP(Q5,選手入力!$A$2:$B$202,2,FALSE))","v":""},3,0,0,0,0,0,"0000000",null,{"$f":"IF($B5=\"\",\"\",表紙!$B$34+リレー入力!$S5)","v":""},"",{"$f":"IF($B5=\"\",\"\",表紙!$B$4)","v":""},"",null,"",null,null,{"$f":"IF(I5=\"\",\"\",VLOOKUP(J5,選手入力!$B$2:$X$202,23,FALSE))","v":""},{"$f":"IF(K5=\"\",\"\",VLOOKUP(L5,選手入力!$B$2:$X$202,23,FALSE))","v":""},{"$f":"IF(M5=\"\",\"\",VLOOKUP(N5,選手入力!$B$2:$X$202,23,FALSE))","v":""},{"$f":"IF(O5=\"\",\"\",VLOOKUP(P5,選手入力!$B$2:$X$202,23,FALSE))","v":""},{"$f":"IF(Q5=\"\",\"\",VLOOKUP(R5,選手入力!$B$2:$X$202,23,FALSE))","v":""}]
[{"$nulls":9},{"$f":"IF(I6=\"\",\"\",VLOOKUP(I6,選手入力!$A$2:$B$202,2,FALSE))","v":""},null,{"$f":"IF(K6=\"\",\"\",VLOOKUP(K6,選手入力!$A$2:$B$202,2,FALSE))","v":""},null,{"$f":"IF(M6=\"\",\"\",VLOOKUP(M6,選手入力!$A$2:$B$202,2,FALSE))","v":""},null,{"$f":"IF(O6=\"\",\"\",VLOOKUP(O6,選手入力!$A$2:$B$202,2,FALSE))","v":""},null,{"$f":"IF(Q6=\"\",\"\",VLOOKUP(Q6,選手入力!$A$2:$B$202,2,FALSE))","v":""},4,0,0,0,0,0,"0000000",null,{"$f":"IF($B6=\"\",\"\",表紙!$B$34+リレー入力!$S6)","v":""},"",{"$f":"IF($B6=\"\",\"\",表紙!$B$4)","v":""},"",null,"",null,null,{"$f":"IF(I6=\"\",\"\",VLOOKUP(J6,選手入力!$B$2:$X$202,23,FALSE))","v":""},{"$f":"IF(K6=\"\",\"\",VLOOKUP(L6,選手入力!$B$2:$X$202,23,FALSE))","v":""},{"$f":"IF(M6=\"\",\"\",VLOOKUP(N6,選手入力!$B$2:$X$202,23,FALSE))","v":""},{"$f":"IF(O6=\"\",\"\",VLOOKUP(P6,選手入力!$B$2:$X$202,23,FALSE))","v":""},{"$f":"IF(Q6=\"\",\"\",VLOOKUP(R6,選手入力!$B$2:$X$202,23,FALSE))","v":""}]
[{"$nulls":9},{"$f":"IF(I7=\"\",\"\",VLOOKUP(I7,選手入力!$A$2:$B$202,2,FALSE))","v":""},null,{"$f":"IF(K7=\"\",\"\",VLOOKUP(K7,選手入力!$A$2:$B$202,2,FALSE))","v":""},null,{"$f":"IF(M7=\"\",\"\",VLOOKUP(M7,選手入力!$A$2:$B$202,2,FALSE))","v":""},null,{"$f":"IF(O7=\"\",\"\",VLOOKUP(O7,選手入力!$A$2:$B$202,2,FALSE))","v":""},null,{"$f":"IF(Q7=\"\",\"\",VLOOKUP(Q7,選手入力!$A$2:$B$202,2,FALSE))","v":""},5,0,0,0,0,0,"0000000",null,{"$f":"IF($B7=\"\",\"\",表紙!$B$34+リレー入力!$S7)","v":""},"",{"$f":"IF($B7=\"\",\"\",表紙!$B$4)","v":""},"",null,"",null,null,{"$f":"IF(I7=\"\",\"\",VLOOKUP(J7,選手入力!$B$2:$X$202,23,FALSE))","v":""},{"$f":"IF(K7=\"\",\"\",VLOOKUP(L7,選手入力!$B$2:$X$202,23,FALSE))","v":""},{"$f":"IF(M7=\"\",\"\",VLOOKUP(N7,選手入力!$B$2:$X$202,23,FALSE))","v":""},{"$f":"IF(O7=\"\",\"\",VLOOKUP(P7,選手入力!$B$2:$X$202,23,FALSE))","v":""},{"$f":"IF(Q7=\"\",\"\",VLOOKUP(R7,選手入力!$B$2:$X$202,23,FALSE))","v":""}]
[{"$nulls":9},{"$f":"IF(I8=\"\",\"\",VLOOKUP(I8,選手入力!$A$2:$B$202,2,FALSE))","v":""},null,{"$f":"IF(K8=\"\",\"\",VLOOKUP(K8,選手入力!$A$2:$B$202,2,FALSE))","v":""},null,{"$f":"IF(M8=\"\",\"\",VLOOKUP(M8,選手入力!$A$2:$B$202,2,FALSE))","v":""},null,{"$f":"IF(O8=\"\",\"\",VLOOKUP(O8,選手入力!$A$2:$B$202,2,FALSE))","v":""},null,{"$f":"IF(Q8=\"\",\"\",VLOOKUP(Q8,選手入力!$A$2:$B$202,2,FALSE))","v":""},6,0,0,0,0,0,"0000000",null,{"$f":"IF($B8=\"\",\"\",表紙!$B$34+リレー入力!$S8)","v":""},"",{"$f":"IF($B8=\"\",\"\",表紙!$B$4)","v":""},"",null,"",null,null,{"$f":"IF(I8=\"\",\"\",VLOOKUP(J8,選手入力!$B$2:$X$202,23,FALSE))","v":""},{"$f":"IF(K8=\"\",\"\",VLOOKUP(L8,選手入力!$B$2:$X$202,23,FALSE))","v":""},{"$f":"IF(M8=\"\",\"\",VLOOKUP(N8,選手入力!$B$2:$X$202,23,FALSE))","v":""},{"$f":"IF(O8=\"\",\"\",VLOOKUP(P8,選手入力!$B$2:$X$202,23,FALSE))","v":""},{"$f":"IF(Q8=\"\",\"\",VLOOKUP(R8,選手入力!$B$2:$X$202,23,FALSE))","v":""}]
[{"$nulls":9},{"$f":"IF(I9=\"\",\"\",VLOOKUP(I9,選手入力!$A$2:$B$202,2,FALSE))","v":""},null,{"$f":"IF(K9=\"\",\"\",VLOOKUP(K9,選手入力!$A$2:$B$202,2,FALSE))","v":""},null,{"$f":"IF(M9=\"\",\"\",VLOOKUP(M9,選手入力!$A$2:$B$202,2,FALSE))","v":""},null,{"$f":"IF(O9=\"\",\"\",VLOOKUP(O9,選手入力!$A$2:$B$202,2,FALSE))","v":""},null,{"$f":"IF(Q9=\"\",\"\",VLOOKUP(Q9,選手入力!$A$2:$B$202,2,FALSE))","v":""},7,0,0,0,0,0,"0000000",null,{"$f":"IF($B9=\"\",\"\",表紙!$B$34+リレー入力!$S9)","v":""},"",{"$f":"IF($B9=\"\",\"\",表紙!$B$4)","v":""},"",null,"",null,null,{"$f":"IF(I9=\"\",\"\",VLOOKUP(J9,選手入力!$B$2:$X$202,23,FALSE))","v":""},{"$f":"IF(K9=\"\",\"\",VLOOKUP(L9,選手入力!$B$2:$X$202,23,FALSE))","v":""},{"$f":"IF(M9=\"\",\"\",VLOOKUP(N9,選手入力!$B$2:$X$202,23,FALSE))","v":""},{"$f":"IF(O9=\"\",\"\",VLOOKUP(P9,選手入力!$B$2:$X$202,23,FALSE))","v":""},{"$f":"IF(Q9=\"\",\"\",VLOOKUP(R9,選手入力!$B$2:$X$202,23,FALSE))","v":""}]
[{"$nulls":9},{"$f":"IF(I10=\"\",\"\",VLOOKUP(I10,選手入力!$A$2:$B$202,2,FALSE))","v":""},null,{"$f":"IF(K10=\"\",\"\",VLOOKUP(K10,選手入力!$A$2:$B$202,2,FALSE))","v":""},null,{"$f":"IF(M10=\"\",\"\",VLOOKUP(M10,選手入力!$A$2:$B$202,2,FALSE))","v":""},null,{"$f":"IF(O10=\"\",\"\",VLOOKUP(O10,選手入力!$A$2:$B$202,2,FALSE))","v":""},null,{"$f":"IF(Q10=\"\",\"\",VLOOKUP(Q10,選手入力!$A$2:$B$202,2,FALSE))","v":""},8,0,0,0,0,0,"0000000",null,{"$f":"IF($B10=\"\",\"\",表紙!$B$34+リレー入力!$S10)","v":""},"",{"$f":"IF($B10=\"\",\"\",表紙!$B$4)","v":""},"",null,"",null,null,{"$f":"IF(I10=\"\",\"\",VLOOKUP(J10,選手入力!$B$2:$X$202,23,FALSE))","v":""},{"$f":"IF(K10=\"\",\"\",VLOOKUP(L10,選手入力!$B$2:$X$202,23,FALSE))","v":""},{"$f":"IF(M10=\"\",\"\",VLOOKUP(N10,選手入力!$B$2:$X$202,23,FALSE))","v":""},{"$f":"IF(O10=\"\",\"\",VLOOKUP(P10,選手入力!$B$2:$X$202,23,FALSE))","v":""},{"$f":"IF(Q10=\"\",\"\",VLOOKUP(R10,選手入力!$B$2:$X$202,23,FALSE))","v":""}]
[{"$nulls":9},{"$f":"IF(I11=\"\",\"\",VLOOKUP(I11,選手入力!$A$2:$B$202,2,FALSE))","v":""},null,{"$f":"IF(K11=\"\",\"\",VLOOKUP(K11,選手入力!$A$2:$B$202,2,FALSE))","v":""},null,{"$f":"IF(M11=\"\",\"\",VLOOKUP(M11,選手入力!$A$2:$B$202,2,FALSE))","v":""},null,{"$f":"IF(O11=\"\",\"\",VLOOKUP(O11,選手入力!$A$2:$B$202,2,FALSE))","v":""},null,{"$f":"IF(Q11=\"\",\"\",VLOOKUP(Q11,選手入力!$A$2:$B$202,2,FALSE))","v":""},9,0,0,0,0,0,"0000000",null,{"$f":"IF($B11=\"\",\"\",表紙!$B$34+リレー入力!$S11)","v":""},"",{"$f":"IF($B11=\"\",\"\",表紙!$B$4)","v":""},"",null,"",null,null,{"$f":"IF(I11=\"\",\"\",VLOOKUP(J11,選手入力!$B$2:$X$202,23,FALSE))","v":""},{"$f":"IF(K11=\"\",\"\",VLOOKUP(L11,選手入力!$B$2:$X$202,23,FALSE))","v":""},{"$f":"IF(M11=\"\",\"\",VLOOKUP(N11,選手入力!$B$2:$X$202,23,FALSE))","v":""},{"$f":"IF(O11=\"\",\"\",VLOOKUP(P11,選手入力!$B$2:$X$202,23,FALSE))","v":""},{"$f":"IF(Q11=\"\",\"\",VLOOKUP(R11,選手入力!$B$2:$X$202,23,FALSE))","v":""}]
[{"$nulls":9},{"$f":"IF(I12=\"\",\"\",VLOOKUP(I12,選手入力!$A$2:$B$202,2,FALSE))","v":""},null,{"$f":"IF(K12=\"\",\"\",VLOOKUP(K12,選手入力!$A$2:$B$202,2,FALSE))","v":""},null,{"$f":"IF(M12=\"\",\"\",VLOOKUP(M12,選手入力!$A$2:$B$202,2,FALSE))","v":""},null,{"$f":"IF(O12=\"\",\"\",VLOOKUP(O12,選手入力!$A$2:$B$202,2,FALSE))","v":""},null,{"$f":"IF(Q12=\"\",\"\",VLOOKUP(Q12,選手入力!$A$2:$B$202,2,FALSE))","v":""},10,0,0,0,0,0,"0000000",null,{"$f":"IF($B12=\"\",\"\",表紙!$B$34+リレー入力!$S12)","v":""},"",{"$f":"IF($B12=\"\",\"\",表紙!$B$4)","v":""},"",null,"",null,null,{"$f":"IF(I12=\"\",\"\",VLOOKUP(J12,選手入力!$B$2:$X$202,23,FALSE))","v":""},{"$f":"IF(K12=\"\",\"\",VLOOKUP(L12,選手入力!$B$2:$X$202,23,FALSE))","v":""},{"$f":"IF(M12=\"\",\"\",VLOOKUP(N12,選手入力!$B$2:$X$202,23,FALSE))","v":""},{"$f":"IF(O12=\"\",\"\",VLOOKUP(P12,選手入力!$B$2:$X$202,23,FALSE))","v":""},{"$f":"IF(Q12=\"\",\"\",VLOOKUP(R12,選手入力!$B$2:$X$202,23,FALSE))","v":""}]
[{"$nulls":9},{"$f":"IF(I13=\"\",\"\",VLOOKUP(I13,選手入力!$A$2:$B$202,2,FALSE))","v":""},null,{"$f":"IF(K13=\"\",\"\",VLOOKUP(K13,選手入力!$A$2:$B$202,2,FALSE))","v":""},null,{"$f":"IF(M13=\"\",\"\",VLOOKUP(M13,選手入力!$A$2:$B$202,2,FALSE))","v":""},null,{"$f":"IF(O13=\"\",\"\",VLOOKUP(O13,選手入力!$A$2:$B$202,2,FALSE))","v":""},null,{"$f":"IF(Q13=\"\",\"\",VLOOKUP(Q13,選手入力!$A$2:$B$202,2,FALSE))","v":""},11,0,0,0,0,0,"0000000",null,{"$f":"IF($B13=\"\",\"\",表紙!$B$34+リレー入力!$S13)","v":""},"",{"$f":"IF($B13=\"\",\"\",表紙!$B$4)","v":""},"",null,"",null,null,{"$f":"IF(I13=\"\",\"\",VLOOKUP(J13,選手入力!$B$2:$X$202,23,FALSE))","v":""},{"$f":"IF(K13=\"\",\"\",VLOOKUP(L13,選手入力!$B$2:$X$202,23,FALSE))","v":""},{"$f":"IF(M13=\"\",\"\",VLOOKUP(N13,選手入力!$B$2:$X$202,23,FALSE))","v":""},{"$f":"IF(O13=\"\",\"\",VLOOKUP(P13,選手入力!$B$2:$X$202,23,FALSE))","v":""},{"$f":"IF(Q13=\"\",\"\",VLOOKUP(R13,選手入力!$B$2:$X$202,23,FALSE))","v":""}]
[{"$nulls":9},{"$f":"IF(I14=\"\",\"\",VLOOKUP(I14,選手入力!$A$2:$B$202,2,FALSE))","v":""},null,{"$f":"IF(K14=\"\",\"\",VLOOKUP(K14,選手入力!$A$2:$B$202,2,FALSE))","v":""},null,{"$f":"IF(M14=\"\",\"\",VLOOKUP(M14,選手入力!$A$2:$B$202,2,FALSE))","v":""},null,{"$f":"IF(O14=\"\",\"\",VLOOKUP(O14,選手入力!$A$2:$B$202,2,FALSE))","v":""},null,{"$f":"IF(Q14=\"\",\"\",VLOOKUP(Q14,選手入力!$A$2:$B$202,2,FALSE))","v":""},12,0,0,0,0,0,"0000000",null,{"$f":"IF($B14=\"\",\"\",表紙!$B$34+リレー入力!$S14)","v":""},"",{"$f":"IF($B14=\"\",\"\",表紙!$B$4)","v":""},"",null,"",null,null,{"$f":"IF(I14=\"\",\"\",VLOOKUP(J14,選手入力!$B$2:$X$202,23,FALSE))","v":""},{"$f":"IF(K14=\"\",\"\",VLOOKUP(L14,選手入力!$B$2:$X$202,23,FALSE))","v":""},{"$f":"IF(M14=\"\",\"\",VLOOKUP(N14,選手入力!$B$2:$X$202,23,FALSE))","v":""},{"$f":"IF(O14=\"\",\"\",VLOOKUP(P14,選手入力!$B$2:$X$202,23,FALSE))","v":""},{"$f":"IF(Q14=\"\",\"\",VLOOKUP(R14,選手入力!$B$2:$X$202,23,FALSE))","v":""}]
[{"$nulls":9},{"$f":"IF(I15=\"\",\"\",VLOOKUP(I15,選手入力!$A$2:$B$202,2,FALSE))","v":""},null,{"$f":"IF(K15=\"\",\"\",VLOOKUP(K15,選手入力!$A$2:$B$202,2,FALSE))","v":""},null,{"$f":"IF(M15=\"\",\"\",VLOOKUP(M15,選手入力!$A$2:$B$202,2,FALSE))","v":""},null,{"$f":"IF(O15=\"\",\"\",VLOOKUP(O15,選手入力!$A$2:$B$202,2,FALSE))","v":""},null,{"$f":"IF(Q15=\"\",\"\",VLOOKUP(Q15,選手入力!$A$2:$B$202,2,FALSE))","v":""},13,0,0,0,0,0,"0000000",null,{"$f":"IF($B15=\"\",\"\",表紙!$B$34+リレー入力!$S15)","v":""},"",{"$f":"IF($B15=\"\",\"\",表紙!$B$4)","v":""},"",null,"",null,null,{"$f":"IF(I15=\"\",\"\",VLOOKUP(J15,選手入力!$B$2:$X$202,23,FALSE))","v":""},{"$f":"IF(K15=\"\",\"\",VLOOKUP(L15,選手入力!$B$2:$X$202,23,FALSE))","v":""},{"$f":"IF(M15=\"\",\"\",VLOOKUP(N15,選手入力!$B$2:$X$202,23,FALSE))","v":""},{"$f":"IF(O15=\"\",\"\",VLOOKUP(P15,選手入力!$B$2:$X$202,23,FALSE))","v":""},{"$f":"IF(Q15=\"\",\"\",VLOOKUP(R15,選手入力!$B$2:$X$202,23,FALSE))","v":""}]
[{"$nulls":9},{"$f":"IF(I16=\"\",\"\",VLOOKUP(I16,選手入力!$A$2:$B$202,2,FALSE))","v":""},null,{"$f":"IF(K16=\"\",\"\",VLOOKUP(K16,選手入力!$A$2:$B$202,2,FALSE))","v":""},null,{"$f":"IF(M16=\"\",\"\",VLOOKUP(M16,選手入力!$A$2:$B$202,2,FALSE))","v":""},null,{"$f":"IF(O16=\"\",\"\",VLOOKUP(O16,選手入力!$A$2:$B$202,2,FALSE))","v":""},null,{"$f":"IF(Q16=\"\",\"\",VLOOKUP(Q16,選手入力!$A$2:$B$202,2,FALSE))","v":""},14,0,0,0,0,0,"0000000",null,{"$f":"IF($B16=\"\",\"\",表紙!$B$34+リレー入力!$S16)","v":""},"",{"$f":"IF($B16=\"\",\"\",表紙!$B$4)","v":""},"",null,"",null,null,{"$f":"IF(I16=\"\",\"\",VLOOKUP(J16,選手入力!$B$2:$X$202,23,FALSE))","v":""},{"$f":"IF(K16=\"\",\"\",VLOOKUP(L16,選手入力!$B$2:$X$202,23,FALSE))","v":""},{"$f":"IF(M16=\"\",\"\",VLOOKUP(N16,選手入力!$B$2:$X$202,23,FALSE))","v":""},{"$f":"IF(O16=\"\",\"\",VLOOKUP(P16,選手入力!$B$2:$X$202,23,FALSE))","v":""},{"$f":"IF(Q16=\"\",\"\",VLOOKUP(R16,選手入力!$B$2:$X$202,23,FALSE))","v":""}]
[{"$nulls":9},{"$f":"IF(I17=\"\",\"\",VLOOKUP(I17,選手入力!$A$2:$B$202,2,FALSE))","v":""},null,{"$f":"IF(K17=\"\",\"\",VLOOKUP(K17,選手入力!$A$2:$B$202,2,FALSE))","v":""},null,{"$f":"IF(M17=\"\",\"\",VLOOKUP(M17,選手入力!$A$2:$B$202,2,FALSE))","v":""},null,{"$f":"IF(O17=\"\",\"\",VLOOKUP(O17,選手入力!$A$2:$B$202,2,FALSE))","v":""},null,{"$f":"IF(Q17=\"\",\"\",VLOOKUP(Q17,選手入力!$A$2:$B$202,2,FALSE))","v":""},15,0,0,0,0,0,"0000000",null,{"$f":"IF($B17=\"\",\"\",表紙!$B$34+リレー入力!$S17)","v":""},"",{"$f":"IF($B17=\"\",\"\",表紙!$B$4)","v":""},"",null,"",null,null,{"$f":"IF(I17=\"\",\"\",VLOOKUP(J17,選手入力!$B$2:$X$202,23,FALSE))","v":""},{"$f":"IF(K17=\"\",\"\",VLOOKUP(L17,選手入力!$B$2:$X$202,23,FALSE))","v":""},{"$f":"IF(M17=\"\",\"\",VLOOKUP(N17,選手入力!$B$2:$X$202,23,FALSE))","v":""},{"$f":"IF(O17=\"\",\"\",VLOOKUP(P17,選手入力!$B$2:$X$202,23,FALSE))","v":""},{"$f":"IF(Q17=\"\",\"\",VLOOKUP(R17,選手入力!$B$2:$X$202,23,FALSE))","v":""}]
[{"$nulls":9},{"$f":"IF(I18=\"\",\"\",VLOOKUP(I18,選手入力!$A$2:$B$202,2,FALSE))","v":""},null,{"$f":"IF(K18=\"\",\"\",VLOOKUP(K18,選手入力!$A$2:$B$202,2,FALSE))","v":""},null,{"$f":"IF(M18=\"\",\"\",VLOOKUP(M18,選手入力!$A$2:$B$202,2,FALSE))","v":""},null,{"$f":"IF(O18=\"\",\"\",VLOOKUP(O18,選手入力!$A$2:$B$202,2,FALSE))","v":""},null,{"$f":"IF(Q18=\"\",\"\",VLOOKUP(Q18,選手入力!$A$2:$B$202,2,FALSE))","v":""},16,0,0,0,0,0,"0000000",null,{"$f":"IF($B18=\"\",\"\",表紙!$B$34+リレー入力!$S18)","v":""},"",{"$f":"IF($B18=\"\",\"\",表紙!$B$4)","v":""},"",null,"",null,null,{"$f":"IF(I18=\"\",\"\",VLOOKUP(J18,選手入力!$B$2:$X$202,23,FALSE))","v":""},{"$f":"IF(K18=\"\",\"\",VLOOKUP(L18,選手入力!$B$2:$X$202,23,FALSE))","v":""},{"$f":"IF(M18=\"\",\"\",VLOOKUP(N18,選手入力!$B$2:$X$202,23,FALSE))","v":""},{"$f":"IF(O18=\"\",\"\",VLOOKUP(P18,選手入力!$B$2:$X$202,23,FALSE))","v":""},{"$f":"IF(Q18=\"\",\"\",VLOOKUP(R18,選手入力!$B$2:$X$202,23,FALSE))","v":""}]
[{"$nulls":9},{"$f":"IF(I19=\"\",\"\",VLOOKUP(I19,選手入力!$A$2:$B$202,2,FALSE))","v":""},null,{"$f":"IF(K19=\"\",\"\",VLOOKUP(K19,選手入力!$A$2:$B$202,2,FALSE))","v":""},null,{"$f":"IF(M19=\"\",\"\",VLOOKUP(M19,選手入力!$A$2:$B$202,2,FALSE))","v":""},null,{"$f":"IF(O19=\"\",\"\",VLOOKUP(O19,選手入力!$A$2:$B$202,2,FALSE))","v":""},null,{"$f":"IF(Q19=\"\",\"\",VLOOKUP(Q19,選手入力!$A$2:$B$202,2,FALSE))","v":""},17,0,0,0,0,0,"0000000",null,{"$f":"IF($B19=\"\",\"\",表紙!$B$34+リレー入力!$S19)","v":""},"",{"$f":"IF($B19=\"\",\"\",表紙!$B$4)","v":""},"",null,"",null,null,{"$f":"IF(I19=\"\",\"\",VLOOKUP(J19,選手入力!$B$2:$X$202,23,FALSE))","v":""},{"$f":"IF(K19=\"\",\"\",VLOOKUP(L19,選手入力!$B$2:$X$202,23,FALSE))","v":""},{"$f":"IF(M19=\"\",\"\",VLOOKUP(N19,選手入力!$B$2:$X$202,23,FALSE))","v":""},{"$f":"IF(O19=\"\",\"\",VLOOKUP(P19,選手入力!$B$2:$X$202,23,FALSE))","v":""},{"$f":"IF(Q19=\"\",\"\",VLOOKUP(R19,選手入力!$B$2:$X$202,23,FALSE))","v":""}]
[{"$nulls":9},{"$f":"IF(I20=\"\",\"\",VLOOKUP(I20,選手入力!$A$2:$B$202,2,FALSE))","v":""},null,{"$f":"IF(K20=\"\",\"\",VLOOKUP(K20,選手入力!$A$2:$B$202,2,FALSE))","v":""},null,{"$f":"IF(M20=\"\",\"\",VLOOKUP(M20,選手入力!$A$2:$B$202,2,FALSE))","v":""},null,{"$f":"IF(O20=\"\",\"\",VLOOKUP(O20,選手入力!$A$2:$B$202,2,FALSE))","v":""},null,{"$f":"IF(Q20=\"\",\"\",VLOOKUP(Q20,選手入力!$A$2:$B$202,2,FALSE))","v":""},18,0,0,0,0,0,"0000000",null,{"$f":"IF($B20=\"\",\"\",表紙!$B$34+リレー入力!$S20)","v":""},"",{"$f":"IF($B20=\"\",\"\",表紙!$B$4)","v":""},"",null,"",null,null,{"$f":"IF(I20=\"\",\"\",VLOOKUP(J20,選手入力!$B$2:$X$202,23,FALSE))","v":""},{"$f":"IF(K20=\"\",\"\",VLOOKUP(L20,選手入力!$B$2:$X$202,23,FALSE))","v":""},{"$f":"IF(M20=\"\",\"\",VLOOKUP(N20,選手入力!$B$2:$X$202,23,FALSE))","v":""},{"$f":"IF(O20=\"\",\"\",VLOOKUP(P20,選手入力!$B$2:$X$202,23,FALSE))","v":""},{"$f":"IF(Q20=\"\",\"\",VLOOKUP(R20,選手入力!$B$2:$X$202,23,FALSE))","v":""}]
[{"$nulls":9},{"$f":"IF(I21=\"\",\"\",VLOOKUP(I21,選手入力!$A$2:$B$202,2,FALSE))","v":""},null,{"$f":"IF(K21=\"\",\"\",VLOOKUP(K21,選手入力!$A$2:$B$202,2,FALSE))","v":""},null,{"$f":"IF(M21=\"\",\"\",VLOOKUP(M21,選手入力!$A$2:$B$202,2,FALSE))","v":""},null,{"$f":"IF(O21=\"\",\"\",VLOOKUP(O21,選手入力!$A$2:$B$202,2,FALSE))","v":""},null,{"$f":"IF(Q21=\"\",\"\",VLOOKUP(Q21,選手入力!$A$2:$B$202,2,FALSE))","v":""},19,0,0,0,0,0,"0000000",null,{"$f":"IF($B21=\"\",\"\",表紙!$B$34+リレー入力!$S21)","v":""},"",{"$f":"IF($B21=\"\",\"\",表紙!$B$4)","v":""},"",null,"",null,null,{"$f":"IF(I21=\"\",\"\",VLOOKUP(J21,選手入力!$B$2:$X$202,23,FALSE))","v":""},{"$f":"IF(K21=\"\",\"\",VLOOKUP(L21,選手入力!$B$2:$X$202,23,FALSE))","v":""},{"$f":"IF(M21=\"\",\"\",VLOOKUP(N21,選手入力!$B$2:$X$202,23,FALSE))","v":""},{"$f":"IF(O21=\"\",\"\",VLOOKUP(P21,選手入力!$B$2:$X$202,23,FALSE))","v":""},{"$f":"IF(Q21=\"\",\"\",VLOOKUP(R21,選手入力!$B$2:$X$202,23,FALSE))","v":""}]
[{"$nulls":9},{"$f":"IF(I22=\"\",\"\",VLOOKUP(I22,選手入力!$A$2:$B$202,2,FALSE))","v":""},null,{"$f":"IF(K22=\"\",\"\",VLOOKUP(K22,選手入力!$A$2:$B$202,2,FALSE))","v":""},null,{"$f":"IF(M22=\"\",\"\",VLOOKUP(M22,選手入力!$A$2:$B$202,2,FALSE))","v":""},null,{"$f":"IF(O22=\"\",\"\",VLOOKUP(O22,選手入力!$A$2:$B$202,2,FALSE))","v":""},null,{"$f":"IF(Q22=\"\",\"\",VLOOKUP(Q22,選手入力!$A$2:$B$202,2,FALSE))","v":""},20,0,0,0,0,0,"0000000",null,{"$f":"IF($B22=\"\",\"\",表紙!$B$34+リレー入力!$S22)","v":""},"",{"$f":"IF($B22=\"\",\"\",表紙!$B$4)","v":""},"",null,"",null,null,{"$f":"IF(I22=\"\",\"\",VLOOKUP(J22,選手入力!$B$2:$X$202,23,FALSE))","v":""},{"$f":"IF(K22=\"\",\"\",VLOOKUP(L22,選手入力!$B$2:$X$202,23,FALSE))","v":""},{"$f":"IF(M22=\"\",\"\",VLOOKUP(N22,選手入力!$B$2:$X$202,23,FALSE))","v":""},{"$f":"IF(O22=\"\",\"\",VLOOKUP(P22,選手入力!$B$2:$X$202,23,FALSE))","v":""},{"$f":"IF(Q22=\"\",\"\",VLOOKUP(R22,選手入力!$B$2:$X$202,23,FALSE))","v":""}]
[{"$nulls":9},{"$f":"IF(I23=\"\",\"\",VLOOKUP(I23,選手入力!$A$2:$B$202,2,FALSE))","v":""},null,{"$f":"IF(K23=\"\",\"\",VLOOKUP(K23,選手入力!$A$2:$B$202,2,FALSE))","v":""},null,{"$f":"IF(M23=\"\",\"\",VLOOKUP(M23,選手入力!$A$2:$B$202,2,FALSE))","v":""},null,{"$f":"IF(O23=\"\",\"\",VLOOKUP(O23,選手入力!$A$2:$B$202,2,FALSE))","v":""},null,{"$f":"IF(Q23=\"\",\"\",VLOOKUP(Q23,選手入力!$A$2:$B$202,2,FALSE))","v":""},21,0,0,0,0,0,"0000000",null,{"$f":"IF($B23=\"\",\"\",表紙!$B$34+リレー入力!$S23)","v":""},"",{"$f":"IF($B23=\"\",\"\",表紙!$B$4)","v":""},"",null,"",null,null,{"$f":"IF(I23=\"\",\"\",VLOOKUP(J23,選手入力!$B$2:$X$202,23,FALSE))","v":""},{"$f":"IF(K23=\"\",\"\",VLOOKUP(L23,選手入力!$B$2:$X$202,23,FALSE))","v":""},{"$f":"IF(M23=\"\",\"\",VLOOKUP(N23,選手入力!$B$2:$X$202,23,FALSE))","v":""},{"$f":"IF(O23=\"\",\"\",VLOOKUP(P23,選手入力!$B$2:$X$202,23,FALSE))","v":""},{"$f":"IF(Q23=\"\",\"\",VLOOKUP(R23,選手入力!$B$2:$X$202,23,FALSE))","v":""}]
[{"$nulls":9},{"$f":"IF(I24=\"\",\"\",VLOOKUP(I24,選手入力!$A$2:$B$202,2,FALSE))","v":""},null,{"$f":"IF(K24=\"\",\"\",VLOOKUP(K24,選手入力!$A$2:$B$202,2,FALSE))","v":""},null,{"$f":"IF(M24=\"\",\"\",VLOOKUP(M24,選手入力!$A$2:$B$202,2,FALSE))","v":""},null,{"$f":"IF(O24=\"\",\"\",VLOOKUP(O24,選手入力!$A$2:$B$202,2,FALSE))","v":""},null,{"$f":"IF(Q24=\"\",\"\",VLOOKUP(Q24,選手入力!$A$2:$B$202,2,FALSE))","v":""},22,0,0,0,0,0,"0000000",null,{"$f":"IF($B24=\"\",\"\",表紙!$B$34+リレー入力!$S24)","v":""},"",{"$f":"IF($B24=\"\",\"\",表紙!$B$4)","v":""},"",null,"",null,null,{"$f":"IF(I24=\"\",\"\",VLOOKUP(J24,選手入力!$B$2:$X$202,23,FALSE))","v":""},{"$f":"IF(K24=\"\",\"\",VLOOKUP(L24,選手入力!$B$2:$X$202,23,FALSE))","v":""},{"$f":"IF(M24=\"\",\"\",VLOOKUP(N24,選手入力!$B$2:$X$202,23,FALSE))","v":""},{"$f":"IF(O24=\"\",\"\",VLOOKUP(P24,選手入力!$B$2:$X$202,23,FALSE))","v":""},{"$f":"IF(Q24=\"\",\"\",VLOOKUP(R24,選手入力!$B$2:$X$202,23,FALSE))","v":""}]
[{"$nulls":9},{"$f":"IF(I25=\"\",\"\",VLOOKUP(I25,選手入力!$A$2:$B$202,2,FALSE))","v":""},null,{"$f":"IF(K25=\"\",\"\",VLOOKUP(K25,選手入力!$A$2:$B$202,2,FALSE))","v":""},null,{"$f":"IF(M25=\"\",\"\",VLOOKUP(M25,選手入力!$A$2:$B$202,2,FALSE))","v":""},null,{"$f":"IF(O25=\"\",\"\",VLOOKUP(O25,選手入力!$A$2:$B$202,2,FALSE))","v":""},null,{"$f":"IF(Q25=\"\",\"\",VLOOKUP(Q25,選手入力!$A$2:$B$202,2,FALSE))","v":""},23,0,0,0,0,0,"0000000",null,{"$f":"IF($B25=\"\",\"\",表紙!$B$34+リレー入力!$S25)","v":""},"",{"$f":"IF($B25=\"\",\"\",表紙!$B$4)","v":""},"",null,"",null,null,{"$f":"IF(I25=\"\",\"\",VLOOKUP(J25,選手入力!$B$2:$X$202,23,FALSE))","v":""},{"$f":"IF(K25=\"\",\"\",VLOOKUP(L25,選手入力!$B$2:$X$202,23,FALSE))","v":""},{"$f":"IF(M25=\"\",\"\",VLOOKUP(N25,選手入力!$B$2:$X$202,23,FALSE))","v":""},{"$f":"IF(O25=\"\",\"\",VLOOKUP(P25,選手入力!$B$2:$X$202,23,FALSE))","v":""},{"$f":"IF(Q25=\"\",\"\",VLOOKUP(R25,選手入力!$B$2:$X$202,23,FALSE))","v":""}]
[{"$nulls":9},{"$f":"IF(I26=\"\",\"\",VLOOKUP(I26,選手入力!$A$2:$B$202,2,FALSE))","v":""},null,{"$f":"IF(K26=\"\",\"\",VLOOKUP(K26,選手入力!$A$2:$B$202,2,FALSE))","v":""},null,{"$f":"IF(M26=\"\",\"\",VLOOKUP(M26,選手入力!$A$2:$B$202,2,FALSE))","v":""},null,{"$f":"IF(O26=\"\",\"\",VLOOKUP(O26,選手入力!$A$2:$B$202,2,FALSE))","v":""},null,{"$f":"IF(Q26=\"\",\"\",VLOOKUP(Q26,選手入力!$A$2:$B$202,2,FALSE))","v":""},24,0,0,0,0,0,"0000000",null,{"$f":"IF($B26=\"\",\"\",表紙!$B$34+リレー入力!$S26)","v":""},"",{"$f":"IF($B26=\"\",\"\",表紙!$B$4)","v":""},"",null,"",null,null,{"$f":"IF(I26=\"\",\"\",VLOOKUP(J26,選手入力!$B$2:$X$202,23,FALSE))","v":""},{"$f":"IF(K26=\"\",\"\",VLOOKUP(L26,選手入力!$B$2:$X$202,23,FALSE))","v":""},{"$f":"IF(M26=\"\",\"\",VLOOKUP(N26,選手入力!$B$2:$X$202,23,FALSE))","v":""},{"$f":"IF(O26=\"\",\"\",VLOOKUP(P26,選手入力!$B$2:$X$202,23,FALSE))","v":""},{"$f":"IF(Q26=\"\",\"\",VLOOKUP(R26,選手入力!$B$2:$X$202,23,FALSE))","v":""}]
[{"$nulls":9},{"$f":"IF(I27=\"\",\"\",VLOOKUP(I27,選手入力!$A$2:$B$202,2,FALSE))","v":""},null,{"$f":"IF(K27=\"\",\"\",VLOOKUP(K27,選手入力!$A$2:$B$202,2,FALSE))","v":""},null,{"$f":"IF(M27=\"\",\"\",VLOOKUP(M27,選手入力!$A$2:$B$202,2,FALSE))","v":""},null,{"$f":"IF(O27=\"\",\"\",VLOOKUP(O27,選手入力!$A$2:$B$202,2,FALSE))","v":""},null,{"$f":"IF(Q27=\"\",\"\",VLOOKUP(Q27,選手入力!$A$2:$B$202,2,FALSE))","v":""},25,0,0,0,0,0,"0000000",null,{"$f":"IF($B27=\"\",\"\",表紙!$B$34+リレー入力!$S27)","v":""},"",{"$f":"IF($B27=\"\",\"\",表紙!$B$4)","v":""},"",null,"",null,null,{"$f":"IF(I27=\"\",\"\",VLOOKUP(J27,選手入力!$B$2:$X$202,23,FALSE))","v":""},{"$f":"IF(K27=\"\",\"\",VLOOKUP(L27,選手入力!$B$2:$X$202,23,FALSE))","v":""},{"$f":"IF(M27=\"\",\"\",VLOOKUP(N27,選手入力!$B$2:$X$202,23,FALSE))","v":""},{"$f":"IF(O27=\"\",\"\",VLOOKUP(P27,選手入力!$B$2:$X$202,23,FALSE))","v":""},{"$f":"IF(Q27=\"\",\"\",VLOOKUP(R27,選手入力!$B$2:$X$202,23,FALSE))","v":""}]
[{"$nulls":9},{"$f":"IF(I28=\"\",\"\",VLOOKUP(I28,選手入力!$A$2:$B$202,2,FALSE))","v":""},null,{"$f":"IF(K28=\"\",\"\",VLOOKUP(K28,選手入力!$A$2:$B$202,2,FALSE))","v":""},null,{"$f":"IF(M28=\"\",\"\",VLOOKUP(M28,選手入力!$A$2:$B$202,2,FALSE))","v":""},null,{"$f":"IF(O28=\"\",\"\",VLOOKUP(O28,選手入力!$A$2:$B$202,2,FALSE))","v":""},null,{"$f":"IF(Q28=\"\",\"\",VLOOKUP(Q28,選手入力!$A$2:$B$202,2,FALSE))","v":""},26,0,0,0,0,0,"0000000",null,{"$f":"IF($B28=\"\",\"\",表紙!$B$34+リレー入力!$S28)","v":""},"",{"$f":"IF($B28=\"\",\"\",表紙!$B$4)","v":""},"",null,"",null,null,{"$f":"IF(I28=\"\",\"\",VLOOKUP(J28,選手入力!$B$2:$X$202,23,FALSE))","v":""},{"$f":"IF(K28=\"\",\"\",VLOOKUP(L28,選手入力!$B$2:$X$202,23,FALSE))","v":""},{"$f":"IF(M28=\"\",\"\",VLOOKUP(N28,選手入力!$B$2:$X$202,23,FALSE))","v":""},{"$f":"IF(O28=\"\",\"\",VLOOKUP(P28,選手入力!$B$2:$X$202,23,FALSE))","v":""},{"$f":"IF(Q28=\"\",\"\",VLOOKUP(R28,選手入力!$B$2:$X$202,23,FALSE))","v":""}]
[{"$nulls":9},{"$f":"IF(I29=\"\",\"\",VLOOKUP(I29,選手入力!$A$2:$B$202,2,FALSE))","v":""},null,{"$f":"IF(K29=\"\",\"\",VLOOKUP(K29,選手入力!$A$2:$B$202,2,FALSE))","v":""},null,{"$f":"IF(M29=\"\",\"\",VLOOKUP(M29,選手入力!$A$2:$B$202,2,FALSE))","v":""},null,{"$f":"IF(O29=\"\",\"\",VLOOKUP(O29,選手入力!$A$2:$B$202,2,FALSE))","v":""},null,{"$f":"IF(Q29=\"\",\"\",VLOOKUP(Q29,選手入力!$A$2:$B$202,2,FALSE))","v":""},27,0,0,0,0,0,"0000000",null,{"$f":"IF($B29=\"\",\"\",表紙!$B$34+リレー入力!$S29)","v":""},"",{"$f":"IF($B29=\"\",\"\",表紙!$B$4)","v":""},"",null,"",null,null,{"$f":"IF(I29=\"\",\"\",VLOOKUP(J29,選手入力!$B$2:$X$202,23,FALSE))","v":""},{"$f":"IF(K29=\"\",\"\",VLOOKUP(L29,選手入力!$B$2:$X$202,23,FALSE))","v":""},{"$f":"IF(M29=\"\",\"\",VLOOKUP(N29,選手入力!$B$2:$X$202,23,FALSE))","v":""},{"$f":"IF(O29=\"\",\"\",VLOOKUP(P29,選手入力!$B$2:$X$202,23,FALSE))","v":""},{"$f":"IF(Q29=\"\",\"\",VLOOKUP(R29,選手入力!$B$2:$X$202,23,FALSE))","v":""}]
[{"$nulls":9},{"$f":"IF(I30=\"\",\"\",VLOOKUP(I30,選手入力!$A$2:$B$202,2,FALSE))","v":""},null,{"$f":"IF(K30=\"\",\"\",VLOOKUP(K30,選手入力!$A$2:$B$202,2,FALSE))","v":""},null,{"$f":"IF(M30=\"\",\"\",VLOOKUP(M30,選手入力!$A$2:$B$202,2,FALSE))","v":""},null,{"$f":"IF(O30=\"\",\"\",VLOOKUP(O30,選手入力!$A$2:$B$202,2,FALSE))","v":""},null,{"$f":"IF(Q30=\"\",\"\",VLOOKUP(Q30,選手入力!$A$2:$B$202,2,FALSE))","v":""},28,0,0,0,0,0,"0000000",null,{"$f":"IF($B30=\"\",\"\",表紙!$B$34+リレー入力!$S30)","v":""},"",{"$f":"IF($B30=\"\",\"\",表紙!$B$4)","v":""},"",null,"",null,null,{"$f":"IF(I30=\"\",\"\",VLOOKUP(J30,選手入力!$B$2:$X$202,23,FALSE))","v":""},{"$f":"IF(K30=\"\",\"\",VLOOKUP(L30,選手入力!$B$2:$X$202,23,FALSE))","v":""},{"$f":"IF(M30=\"\",\"\",VLOOKUP(N30,選手入力!$B$2:$X$202,23,FALSE))","v":""},{"$f":"IF(O30=\"\",\"\",VLOOKUP(P30,選手入力!$B$2:$X$202,23,FALSE))","v":""},{"$f":"IF(Q30=\"\",\"\",VLOOKUP(R30,選手入力!$B$2:$X$202,23,FALSE))","v":""}]
[{"$nulls":9},{"$f":"IF(I31=\"\",\"\",VLOOKUP(I31,選手入力!$A$2:$B$202,2,FALSE))","v":""},null,{"$f":"IF(K31=\"\",\"\",VLOOKUP(K31,選手入力!$A$2:$B$202,2,FALSE))","v":""},null,{"$f":"IF(M31=\"\",\"\",VLOOKUP(M31,選手入力!$A$2:$B$202,2,FALSE))","v":""},null,{"$f":"IF(O31=\"\",\"\",VLOOKUP(O31,選手入力!$A$2:$B$202,2,FALSE))","v":""},null,{"$f":"IF(Q31=\"\",\"\",VLOOKUP(Q31,選手入力!$A$2:$B$202,2,FALSE))","v":""},29,0,0,0,0,0,"0000000",null,{"$f":"IF($B31=\"\",\"\",表紙!$B$34+リレー入力!$S31)","v":""},"",{"$f":"IF($B31=\"\",\"\",表紙!$B$4)","v":""},"",null,"",null,null,{"$f":"IF(I31=\"\",\"\",VLOOKUP(J31,選手入力!$B$2:$X$202,23,FALSE))","v":""},{"$f":"IF(K31=\"\",\"\",VLOOKUP(L31,選手入力!$B$2:$X$202,23,FALSE))","v":""},{"$f":"IF(M31=\"\",\"\",VLOOKUP(N31,選手入力!$B$2:$X$202,23,FALSE))","v":""},{"$f":"IF(O31=\"\",\"\",VLOOKUP(P31,選手入力!$B$2:$X$202,23,FALSE))","v":""},{"$f":"IF(Q31=\"\",\"\",VLOOKUP(R31,選手入力!$B$2:$X$202,23,FALSE))","v":""}]
[{"$nulls":9},{"$f":"IF(I32=\"\",\"\",VLOOKUP(I32,選手入力!$A$2:$B$202,2,FALSE))","v":""},null,{"$f":"IF(K32=\"\",\"\",VLOOKUP(K32,選手入力!$A$2:$B$202,2,FALSE))","v":""},null,{"$f":"IF(M32=\"\",\"\",VLOOKUP(M32,選手入力!$A$2:$B$202,2,FALSE))","v":""},null,{"$f":"IF(O32=\"\",\"\",VLOOKUP(O32,選手入力!$A$2:$B$202,2,FALSE))","v":""},null,{"$f":"IF(Q32=\"\",\"\",VLOOKUP(Q32,選手入力!$A$2:$B$202,2,FALSE))","v":""},30,0,0,0,0,0,"0000000",null,{"$f":"IF($B32=\"\",\"\",表紙!$B$34+リレー入力!$S32)","v":""},"",{"$f":"IF($B32=\"\",\"\",表紙!$B$4)","v":""},"",null,"",null,null,{"$f":"IF(I32=\"\",\"\",VLOOKUP(J32,選手入力!$B$2:$X$202,23,FALSE))","v":""},{"$f":"IF(K32=\"\",\"\",VLOOKUP(L32,選手入力!$B$2:$X$202,23,FALSE))","v":""},{"$f":"IF(M32=\"\",\"\",VLOOKUP(N32,選手入力!$B$2:$X$202,23,FALSE))","v":""},{"$f":"IF(O32=\"\",\"\",VLOOKUP(P32,選手入力!$B$2:$X$202,23,FALSE))","v":""},{"$f":"IF(Q32=\"\",\"\",VLOOKUP(R32,選手入力!$B$2:$X$202,23,FALSE))","v":""}]
[{"$nulls":9},{"$f":"IF(I33=\"\",\"\",VLOOKUP(I33,選手入力!$A$2:$B$202,2,FALSE))","v":""},null,{"$f":"IF(K33=\"\",\"\",VLOOKUP(K33,選手入力!$A$2:$B$202,2,FALSE))","v":""},null,{"$f":"IF(M33=\"\",\"\",VLOOKUP(M33,選手入力!$A$2:$B$202,2,FALSE))","v":""},null,{"$f":"IF(O33=\"\",\"\",VLOOKUP(O33,選手入力!$A$2:$B$202,2,FALSE))","v":""},null,{"$f":"IF(Q33=\"\",\"\",VLOOKUP(Q33,選手入力!$A$2:$B$202,2,FALSE))","v":""},31,0,0,0,0,0,"0000000",null,{"$f":"IF($B33=\"\",\"\",表紙!$B$34+リレー入力!$S33)","v":""},"",{"$f":"IF($B33=\"\",\"\",表紙!$B$4)","v":""},"",null,"",null,null,{"$f":"IF(I33=\"\",\"\",VLOOKUP(J33,選手入力!$B$2:$X$202,23,FALSE))","v":""},{"$f":"IF(K33=\"\",\"\",VLOOKUP(L33,選手入力!$B$2:$X$202,23,FALSE))","v":""},{"$f":"IF(M33=\"\",\"\",VLOOKUP(N33,選手入力!$B$2:$X$202,23,FALSE))","v":""},{"$f":"IF(O33=\"\",\"\",VLOOKUP(P33,選手入力!$B$2:$X$202,23,FALSE))","v":""},{"$f":"IF(Q33=\"\",\"\",VLOOKUP(R33,選手入力!$B$2:$X$202,23,FALSE))","v":""}]
[{"$nulls":9},{"$f":"IF(I34=\"\",\"\",VLOOKUP(I34,選手入力!$A$2:$B$202,2,FALSE))","v":""},null,{"$f":"IF(K34=\"\",\"\",VLOOKUP(K34,選手入力!$A$2:$B$202,2,FALSE))","v":""},null,{"$f":"IF(M34=\"\",\"\",VLOOKUP(M34,選手入力!$A$2:$B$202,2,FALSE))","v":""},null,{"$f":"IF(O34=\"\",\"\",VLOOKUP(O34,選手入力!$A$2:$B$202,2,FALSE))","v":""},null,{"$f":"IF(Q34=\"\",\"\",VLOOKUP(Q34,選手入力!$A$2:$B$202,2,FALSE))","v":""},32,0,0,0,0,0,"0000000",null,{"$f":"IF($B34=\"\",\"\",表紙!$B$34+リレー入力!$S34)","v":""},"",{"$f":"IF($B34=\"\",\"\",表紙!$B$4)","v":""},"",null,"",null,null,{"$f":"IF(I34=\"\",\"\",VLOOKUP(J34,選手入力!$B$2:$X$202,23,FALSE))","v":""},{"$f":"IF(K34=\"\",\"\",VLOOKUP(L34,選手入力!$B$2:$X$202,23,FALSE))","v":""},{"$f":"IF(M34=\"\",\"\",VLOOKUP(N34,選手入力!$B$2:$X$202,23,FALSE))","v":""},{"$f":"IF(O34=\"\",\"\",VLOOKUP(P34,選手入力!$B$2:$X$202,23,FALSE))","v":""},{"$f":"IF(Q34=\"\",\"\",VLOOKUP(R34,選手入力!$B$2:$X$202,23,FALSE))","v":""}]
[{"$nulls":9},{"$f":"IF(I35=\"\",\"\",VLOOKUP(I35,選手入力!$A$2:$B$202,2,FALSE))","v":""},null,{"$f":"IF(K35=\"\",\"\",VLOOKUP(K35,選手入力!$A$2:$B$202,2,FALSE))","v":""},null,{"$f":"IF(M35=\"\",\"\",VLOOKUP(M35,選手入力!$A$2:$B$202,2,FALSE))","v":""},null,{"$f":"IF(O35=\"\",\"\",VLOOKUP(O35,選手入力!$A$2:$B$202,2,FALSE))","v":""},null,{"$f":"IF(Q35=\"\",\"\",VLOOKUP(Q35,選手入力!$A$2:$B$202,2,FALSE))","v":""},33,0,0,0,0,0,"0000000",null,{"$f":"IF($B35=\"\",\"\",表紙!$B$34+リレー入力!$S35)","v":""},"",{"$f":"IF($B35=\"\",\"\",表紙!$B$4)","v":""},"",null,"",null,null,{"$f":"IF(I35=\"\",\"\",VLOOKUP(J35,選手入力!$B$2:$X$202,23,FALSE))","v":""},{"$f":"IF(K35=\"\",\"\",VLOOKUP(L35,選手入力!$B$2:$X$202,23,FALSE))","v":""},{"$f":"IF(M35=\"\",\"\",VLOOKUP(N35,選手入力!$B$2:$X$202,23,FALSE))","v":""},{"$f":"IF(O35=\"\",\"\",VLOOKUP(P35,選手入力!$B$2:$X$202,23,FALSE))","v":""},{"$f":"IF(Q35=\"\",\"\",VLOOKUP(R35,選手入力!$B$2:$X$202,23,FALSE))","v":""}]
[{"$nulls":9},{"$f":"IF(I36=\"\",\"\",VLOOKUP(I36,選手入力!$A$2:$B$202,2,FALSE))","v":""},null,{"$f":"IF(K36=\"\",\"\",VLOOKUP(K36,選手入力!$A$2:$B$202,2,FALSE))","v":""},null,{"$f":"IF(M36=\"\",\"\",VLOOKUP(M36,選手入力!$A$2:$B$202,2,FALSE))","v":""},null,{"$f":"IF(O36=\"\",\"\",VLOOKUP(O36,選手入力!$A$2:$B$202,2,FALSE))","v":""},null,{"$f":"IF(Q36=\"\",\"\",VLOOKUP(Q36,選手入力!$A$2:$B$202,2,FALSE))","v":""},34,0,0,0,0,0,"0000000",null,{"$f":"IF($B36=\"\",\"\",表紙!$B$34+リレー入力!$S36)","v":""},"",{"$f":"IF($B36=\"\",\"\",表紙!$B$4)","v":""},"",null,"",null,null,{"$f":"IF(I36=\"\",\"\",VLOOKUP(J36,選手入力!$B$2:$X$202,23,FALSE))","v":""},{"$f":"IF(K36=\"\",\"\",VLOOKUP(L36,選手入力!$B$2:$X$202,23,FALSE))","v":""},{"$f":"IF(M36=\"\",\"\",VLOOKUP(N36,選手入力!$B$2:$X$202,23,FALSE))","v":""},{"$f":"IF(O36=\"\",\"\",VLOOKUP(P36,選手入力!$B$2:$X$202,23,FALSE))","v":""},{"$f":"IF(Q36=\"\",\"\",VLOOKUP(R36,選手入力!$B$2:$X$202,23,FALSE))","v":""}]
[{"$nulls":9},{"$f":"IF(I37=\"\",\"\",VLOOKUP(I37,選手入力!$A$2:$B$202,2,FALSE))","v":""},null,{"$f":"IF(K37=\"\",\"\",VLOOKUP(K37,選手入力!$A$2:$B$202,2,FALSE))","v":""},null,{"$f":"IF(M37=\"\",\"\",VLOOKUP(M37,選手入力!$A$2:$B$202,2,FALSE))","v":""},null,{"$f":"IF(O37=\"\",\"\",VLOOKUP(O37,選手入力!$A$2:$B$202,2,FALSE))","v":""},null,{"$f":"IF(Q37=\"\",\"\",VLOOKUP(Q37,選手入力!$A$2:$B$202,2,FALSE))","v":""},35,0,0,0,0,0,"0000000",null,{"$f":"IF($B37=\"\",\"\",表紙!$B$34+リレー入力!$S37)","v":""},"",{"$f":"IF($B37=\"\",\"\",表紙!$B$4)","v":""},"",null,"",null,null,{"$f":"IF(I37=\"\",\"\",VLOOKUP(J37,選手入力!$B$2:$X$202,23,FALSE))","v":""},{"$f":"IF(K37=\"\",\"\",VLOOKUP(L37,選手入力!$B$2:$X$202,23,FALSE))","v":""},{"$f":"IF(M37=\"\",\"\",VLOOKUP(N37,選手入力!$B$2:$X$202,23,FALSE))","v":""},{"$f":"IF(O37=\"\",\"\",VLOOKUP(P37,選手入力!$B$2:$X$202,23,FALSE))","v":""},{"$f":"IF(Q37=\"\",\"\",VLOOKUP(R37,選手入力!$B$2:$X$202,23,FALSE))","v":""}]
[{"$nulls":9},{"$f":"IF(I38=\"\",\"\",VLOOKUP(I38,選手入力!$A$2:$B$202,2,FALSE))","v":""},null,{"$f":"IF(K38=\"\",\"\",VLOOKUP(K38,選手入力!$A$2:$B$202,2,FALSE))","v":""},null,{"$f":"IF(M38=\"\",\"\",VLOOKUP(M38,選手入力!$A$2:$B$202,2,FALSE))","v":""},null,{"$f":"IF(O38=\"\",\"\",VLOOKUP(O38,選手入力!$A$2:$B$202,2,FALSE))","v":""},null,{"$f":"IF(Q38=\"\",\"\",VLOOKUP(Q38,選手入力!$A$2:$B$202,2,FALSE))","v":""},36,0,0,0,0,0,"0000000",null,{"$f":"IF($B38=\"\",\"\",表紙!$B$34+リレー入力!$S38)","v":""},"",{"$f":"IF($B38=\"\",\"\",表紙!$B$4)","v":""},"",null,"",null,null,{"$f":"IF(I38=\"\",\"\",VLOOKUP(J38,選手入力!$B$2:$X$202,23,FALSE))","v":""},{"$f":"IF(K38=\"\",\"\",VLOOKUP(L38,選手入力!$B$2:$X$202,23,FALSE))","v":""},{"$f":"IF(M38=\"\",\"\",VLOOKUP(N38,選手入力!$B$2:$X$202,23,FALSE))","v":""},{"$f":"IF(O38=\"\",\"\",VLOOKUP(P38,選手入力!$B$2:$X$202,23,FALSE))","v":""},{"$f":"IF(Q38=\"\",\"\",VLOOKUP(R38,選手入力!$B$2:$X$202,23,FALSE))","v":""}]
[{"$nulls":9},{"$f":"IF(I39=\"\",\"\",VLOOKUP(I39,選手入力!$A$2:$B$202,2,FALSE))","v":""},null,{"$f":"IF(K39=\"\",\"\",VLOOKUP(K39,選手入力!$A$2:$B$202,2,FALSE))","v":""},null,{"$f":"IF(M39=\"\",\"\",VLOOKUP(M39,選手入力!$A$2:$B$202,2,FALSE))","v":""},null,{"$f":"IF(O39=\"\",\"\",VLOOKUP(O39,選手入力!$A$2:$B$202,2,FALSE))","v":""},null,{"$f":"IF(Q39=\"\",\"\",VLOOKUP(Q39,選手入力!$A$2:$B$202,2,FALSE))","v":""},37,0,0,0,0,0,"0000000",null,{"$f":"IF($B39=\"\",\"\",表紙!$B$34+リレー入力!$S39)","v":""},"",{"$f":"IF($B39=\"\",\"\",表紙!$B$4)","v":""},"",null,"",null,null,{"$f":"IF(I39=\"\",\"\",VLOOKUP(J39,選手入力!$B$2:$X$202,23,FALSE))","v":""},{"$f":"IF(K39=\"\",\"\",VLOOKUP(L39,選手入力!$B$2:$X$202,23,FALSE))","v":""},{"$f":"IF(M39=\"\",\"\",VLOOKUP(N39,選手入力!$B$2:$X$202,23,FALSE))","v":""},{"$f":"IF(O39=\"\",\"\",VLOOKUP(P39,選手入力!$B$2:$X$202,23,FALSE))","v":""},{"$f":"IF(Q39=\"\",\"\",VLOOKUP(R39,選手入力!$B$2:$X$202,23,FALSE))","v":""}]
[{"$nulls":9},{"$f":"IF(I40=\"\",\"\",VLOOKUP(I40,選手入力!$A$2:$B$202,2,FALSE))","v":""},null,{"$f":"IF(K40=\"\",\"\",VLOOKUP(K40,選手入力!$A$2:$B$202,2,FALSE))","v":""},null,{"$f":"IF(M40=\"\",\"\",VLOOKUP(M40,選手入力!$A$2:$B$202,2,FALSE))","v":""},null,{"$f":"IF(O40=\"\",\"\",VLOOKUP(O40,選手入力!$A$2:$B$202,2,FALSE))","v":""},null,{"$f":"IF(Q40=\"\",\"\",VLOOKUP(Q40,選手入力!$A$2:$B$202,2,FALSE))","v":""},38,0,0,0,0,0,"0000000",null,{"$f":"IF($B40=\"\",\"\",表紙!$B$34+リレー入力!$S40)","v":""},"",{"$f":"IF($B40=\"\",\"\",表紙!$B$4)","v":""},"",null,"",null,null,{"$f":"IF(I40=\"\",\"\",VLOOKUP(J40,選手入力!$B$2:$X$202,23,FALSE))","v":""},{"$f":"IF(K40=\"\",\"\",VLOOKUP(L40,選手入力!$B$2:$X$202,23,FALSE))","v":""},{"$f":"IF(M40=\"\",\"\",VLOOKUP(N40,選手入力!$B$2:$X$202,23,FALSE))","v":""},{"$f":"IF(O40=\"\",\"\",VLOOKUP(P40,選手入力!$B$2:$X$202,23,FALSE))","v":""},{"$f":"IF(Q40=\"\",\"\",VLOOKUP(R40,選手入力!$B$2:$X$202,23,FALSE))","v":""}]
[{"$nulls":9},{"$f":"IF(I41=\"\",\"\",VLOOKUP(I41,選手入力!$A$2:$B$202,2,FALSE))","v":""},null,{"$f":"IF(K41=\"\",\"\",VLOOKUP(K41,選手入力!$A$2:$B$202,2,FALSE))","v":""},null,{"$f":"IF(M41=\"\",\"\",VLOOKUP(M41,選手入力!$A$2:$B$202,2,FALSE))","v":""},null,{"$f":"IF(O41=\"\",\"\",VLOOKUP(O41,選手入力!$A$2:$B$202,2,FALSE))","v":""},null,{"$f":"IF(Q41=\"\",\"\",VLOOKUP(Q41,選手入力!$A$2:$B$202,2,FALSE))","v":""},39,0,0,0,0,0,"0000000",null,{"$f":"IF($B41=\"\",\"\",表紙!$B$34+リレー入力!$S41)","v":""},"",{"$f":"IF($B41=\"\",\"\",表紙!$B$4)","v":""},"",null,"",null,null,{"$f":"IF(I41=\"\",\"\",VLOOKUP(J41,選手入力!$B$2:$X$202,23,FALSE))","v":""},{"$f":"IF(K41=\"\",\"\",VLOOKUP(L41,選手入力!$B$2:$X$202,23,FALSE))","v":""},{"$f":"IF(M41=\"\",\"\",VLOOKUP(N41,選手入力!$B$2:$X$202,23,FALSE))","v":""},{"$f":"IF(O41=\"\",\"\",VLOOKUP(P41,選手入力!$B$2:$X$202,23,FALSE))","v":""},{"$f":"IF(Q41=\"\",\"\",VLOOKUP(R41,選手入力!$B$2:$X$202,23,FALSE))","v":""}]
[{"$nulls":9},{"$f":"IF(I42=\"\",\"\",VLOOKUP(I42,選手入力!$A$2:$B$202,2,FALSE))","v":""},null,{"$f":"IF(K42=\"\",\"\",VLOOKUP(K42,選手入力!$A$2:$B$202,2,FALSE))","v":""},null,{"$f":"IF(M42=\"\",\"\",VLOOKUP(M42,選手入力!$A$2:$B$202,2,FALSE))","v":""},null,{"$f":"IF(O42=\"\",\"\",VLOOKUP(O42,選手入力!$A$2:$B$202,2,FALSE))","v":""},null,{"$f":"IF(Q42=\"\",\"\",VLOOKUP(Q42,選手入力!$A$2:$B$202,2,FALSE))","v":""},40,0,0,0,0,0,"0000000",null,{"$f":"IF($B42=\"\",\"\",表紙!$B$34+リレー入力!$S42)","v":""},"",{"$f":"IF($B42=\"\",\"\",表紙!$B$4)","v":""},"",null,"",null,null,{"$f":"IF(I42=\"\",\"\",VLOOKUP(J42,選手入力!$B$2:$X$202,23,FALSE))","v":""},{"$f":"IF(K42=\"\",\"\",VLOOKUP(L42,選手入力!$B$2:$X$202,23,FALSE))","v":""},{"$f":"IF(M42=\"\",\"\",VLOOKUP(N42,選手入力!$B$2:$X$202,23,FALSE))","v":""},{"$f":"IF(O42=\"\",\"\",VLOOKUP(P42,選手入力!$B$2:$X$202,23,FALSE))","v":""},{"$f":"IF(Q42=\"\",\"\",VLOOKUP(R42,選手入力!$B$2:$X$202,23,FALSE))","v":""}]
["女子4×100mリレー",{"$f":"IF(I43=\"\",\"\",表紙!$B$2)","v":""},{"$f":"IF(B43=\"\",\"\",VLOOKUP(リレー入力!B43,学校データ!$A:$E,4,FALSE))","v":""},{"$nulls":6},{"$f":"IF(I43=\"\",\"\",VLOOKUP(I43,選手入力!$A$2:$B$202,2,FALSE))","v":""},null,{"$f":"IF(K43=\"\",\"\",VLOOKUP(K43,選手入力!$A$2:$B$202,2,FALSE))","v":""},null,{"$f":"IF(M43=\"\",\"\",VLOOKUP(M43,選手入力!$A$2:$B$202,2,FALSE))","v":""},null,{"$f":"IF(O43=\"\",\"\",VLOOKUP(O43,選手入力!$A$2:$B$202,2,FALSE))","v":""},null,{"$f":"IF(Q43=\"\",\"\",VLOOKUP(Q43,選手入力!$A$2:$B$202,2,FALSE))","v":""},41,0,0,0,0,0,"0000000",null,{"$f":"IF($B43=\"\",\"\",表紙!$B$34+リレー入力!$S43)","v":""},"",{"$f":"IF($B43=\"\",\"\",表紙!$B$4)","v":""},"",null,"",null,null,{"$f":"IF(I43=\"\",\"\",VLOOKUP(J43,選手入力!$B$2:$X$202,23,FALSE))","v":""},{"$f":"IF(K43=\"\",\"\",VLOOKUP(L43,選手入力!$B$2:$X$202,23,FALSE))","v":""},{"$f":"IF(M43=\"\",\"\",VLOOKUP(N43,選手入力!$B$2:$X$202,23,FALSE))","v":""},{"$f":"IF(O43=\"\",\"\",VLOOKUP(P43,選手入力!$B$2:$X$202,23,FALSE))","v":""},{"$f":"IF(Q43=\"\",\"\",VLOOKUP(R43,選手入力!$B$2:$X$202,23,FALSE))","v":""}]
[{"$nulls":9},{"$f":"IF(I44=\"\",\"\",VLOOKUP(I44,選手入力!$A$2:$B$202,2,FALSE))","v":""},null,{"$f":"IF(K44=\"\",\"\",VLOOKUP(K44,選手入力!$A$2:$B$202,2,FALSE))","v":""},null,{"$f":"IF(M44=\"\",\"\",VLOOKUP(M44,選手入力!$A$2:$B$202,2,FALSE))","v":""},null,{"$f":"IF(O44=\"\",\"\",VLOOKUP(O44,選手入力!$A$2:$B$202,2,FALSE))","v":""},null,{"$f":"IF(Q44=\"\",\"\",VLOOKUP(Q44,選手入力!$A$2:$B$202,2,FALSE))","v":""},42,0,0,0,0,0,"0000000",null,{"$f":"IF($B44=\"\",\"\",表紙!$B$34+リレー入力!$S44)","v":""},"",{"$f":"IF($B44=\"\",\"\",表紙!$B$4)","v":""},"",null,"",null,null,{"$f":"IF(I44=\"\",\"\",VLOOKUP(J44,選手入力!$B$2:$X$202,23,FALSE))","v":""},{"$f":"IF(K44=\"\",\"\",VLOOKUP(L44,選手入力!$B$2:$X$202,23,FALSE))","v":""},{"$f":"IF(M44=\"\",\"\",VLOOKUP(N44,選手入力!$B$2:$X$202,23,FALSE))","v":""},{"$f":"IF(O44=\"\",\"\",VLOOKUP(P44,選手入力!$B$2:$X$202,23,FALSE))","v":""},{"$f":"IF(Q44=\"\",\"\",VLOOKUP(R44,選手入力!$B$2:$X$202,23,FALSE))","v":""}]
[{"$nulls":9},{"$f":"IF(I45=\"\",\"\",VLOOKUP(I45,選手入力!$A$2:$B$202,2,FALSE))","v":""},null,{"$f":"IF(K45=\"\",\"\",VLOOKUP(K45,選手入力!$A$2:$B$202,2,FALSE))","v":""},null,{"$f":"IF(M45=\"\",\"\",VLOOKUP(M45,選手入力!$A$2:$B$202,2,FALSE))","v":""},null,{"$f":"IF(O45=\"\",\"\",VLOOKUP(O45,選手入力!$A$2:$B$202,2,FALSE))","v":""},null,{"$f":"IF(Q45=\"\",\"\",VLOOKUP(Q45,選手入力!$A$2:$B$202,2,FALSE))","v":""},43,0,0,0,0,0,"0000000",null,{"$f":"IF($B45=\"\",\"\",表紙!$B$34+リレー入力!$S45)","v":""},"",{"$f":"IF($B45=\"\",\"\",表紙!$B$4)","v":""},"",null,"",null,null,{"$f":"IF(I45=\"\",\"\",VLOOKUP(J45,選手入力!$B$2:$X$202,23,FALSE))","v":""},{"$f":"IF(K45=\"\",\"\",VLOOKUP(L45,選手入力!$B$2:$X$202,23,FALSE))","v":""},{"$f":"IF(M45=\"\",\"\",VLOOKUP(N45,選手入力!$B$2:$X$202,23,FALSE))","v":""},{"$f":"IF(O45=\"\",\"\",VLOOKUP(P45,選手入力!$B$2:$X$202,23,FALSE))","v":""},{"$f":"IF(Q45=\"\",\"\",VLOOKUP(R45,選手入力!$B$2:$X$202,23,FALSE))","v":""}]
[{"$nulls":9},{"$f":"IF(I46=\"\",\"\",VLOOKUP(I46,選手入力!$A$2:$B$202,2,FALSE))","v":""},null,{"$f":"IF(K46=\"\",\"\",VLOOKUP(K46,選手入力!$A$2:$B$202,2,FALSE))","v":""},null,{"$f":"IF(M46=\"\",\"\",VLOOKUP(M46,選手入力!$A$2:$B$202,2,FALSE))","v":""},null,{"$f":"IF(O46=\"\",\"\",VLOOKUP(O46,選手入力!$A$2:$B$202,2,FALSE))","v":""},null,{"$f":"IF(Q46=\"\",\"\",VLOOKUP(Q46,選手入力!$A$2:$B$202,2,FALSE))","v":""},44,0,0,0,0,0,"0000000",null,{"$f":"IF($B46=\"\",\"\",表紙!$B$34+リレー入力!$S46)","v":""},"",{"$f":"IF($B46=\"\",\"\",表紙!$B$4)","v":""},"",null,"",null,null,{"$f":"IF(I46=\"\",\"\",VLOOKUP(J46,選手入力!$B$2:$X$202,23,FALSE))","v":""},{"$f":"IF(K46=\"\",\"\",VLOOKUP(L46,選手入力!$B$2:$X$202,23,FALSE))","v":""},{"$f":"IF(M46=\"\",\"\",VLOOKUP(N46,選手入力!$B$2:$X$202,23,FALSE))","v":""},{"$f":"IF(O46=\"\",\"\",VLOOKUP(P46,選手入力!$B$2:$X$202,23,FALSE))","v":""},{"$f":"IF(Q46=\"\",\"\",VLOOKUP(R46,選手入力!$B$2:$X$202,23,FALSE))","v":""}]
[{"$nulls":9},{"$f":"IF(I47=\"\",\"\",VLOOKUP(I47,選手入力!$A$2:$B$202,2,FALSE))","v":""},null,{"$f":"IF(K47=\"\",\"\",VLOOKUP(K47,選手入力!$A$2:$B$202,2,FALSE))","v":""},null,{"$f":"IF(M47=\"\",\"\",VLOOKUP(M47,選手入力!$A$2:$B$202,2,FALSE))","v":""},null,{"$f":"IF(O47=\"\",\"\",VLOOKUP(O47,選手入力!$A$2:$B$202,2,FALSE))","v":""},null,{"$f":"IF(Q47=\"\",\"\",VLOOKUP(Q47,選手入力!$A$2:$B$202,2,FALSE))","v":""},45,0,0,0,0,0,"0000000",null,{"$f":"IF($B47=\"\",\"\",表紙!$B$34+リレー入力!$S47)","v":""},"",{"$f":"IF($B47=\"\",\"\",表紙!$B$4)","v":""},"",null,"",null,null,{"$f":"IF(I47=\"\",\"\",VLOOKUP(J47,選手入力!$B$2:$X$202,23,FALSE))","v":""},{"$f":"IF(K47=\"\",\"\",VLOOKUP(L47,選手入力!$B$2:$X$202,23,FALSE))","v":""},{"$f":"IF(M47=\"\",\"\",VLOOKUP(N47,選手入力!$B$2:$X$202,23,FALSE))","v":""},{"$f":"IF(O47=\"\",\"\",VLOOKUP(P47,選手入力!$B$2:$X$202,23,FALSE))","v":""},{"$f":"IF(Q47=\"\",\"\",VLOOKUP(R47,選手入力!$B$2:$X$202,23,FALSE))","v":""}]
[{"$nulls":9},{"$f":"IF(I48=\"\",\"\",VLOOKUP(I48,選手入力!$A$2:$B$202,2,FALSE))","v":""},null,{"$f":"IF(K48=\"\",\"\",VLOOKUP(K48,選手入力!$A$2:$B$202,2,FALSE))","v":""},null,{"$f":"IF(M48=\"\",\"\",VLOOKUP(M48,選手入力!$A$2:$B$202,2,FALSE))","v":""},null,{"$f":"IF(O48=\"\",\"\",VLOOKUP(O48,選手入力!$A$2:$B$202,2,FALSE))","v":""},null,{"$f":"IF(Q48=\"\",\"\",VLOOKUP(Q48,選手入力!$A$2:$B$202,2,FALSE))","v":""},46,0,0,0,0,0,"0000000",null,{"$f":"IF($B48=\"\",\"\",表紙!$B$34+リレー入力!$S48)","v":""},"",{"$f":"IF($B48=\"\",\"\",表紙!$B$4)","v":""},"",null,"",null,null,{"$f":"IF(I48=\"\",\"\",VLOOKUP(J48,選手入力!$B$2:$X$202,23,FALSE))","v":""},{"$f":"IF(K48=\"\",\"\",VLOOKUP(L48,選手入力!$B$2:$X$202,23,FALSE))","v":""},{"$f":"IF(M48=\"\",\"\",VLOOKUP(N48,選手入力!$B$2:$X$202,23,FALSE))","v":""},{"$f":"IF(O48=\"\",\"\",VLOOKUP(P48,選手入力!$B$2:$X$202,23,FALSE))","v":""},{"$f":"IF(Q48=\"\",\"\",VLOOKUP(R48,選手入力!$B$2:$X$202,23,FALSE))","v":""}]
[{"$nulls":9},{"$f":"IF(I49=\"\",\"\",VLOOKUP(I49,選手入力!$A$2:$B$202,2,FALSE))","v":""},null,{"$f":"IF(K49=\"\",\"\",VLOOKUP(K49,選手入力!$A$2:$B$202,2,FALSE))","v":""},null,{"$f":"IF(M49=\"\",\"\",VLOOKUP(M49,選手入力!$A$2:$B$202,2,FALSE))","v":""},null,{"$f":"IF(O49=\"\",\"\",VLOOKUP(O49,選手入力!$A$2:$B$202,2,FALSE))","v":""},null,{"$f":"IF(Q49=\"\",\"\",VLOOKUP(Q49,選手入力!$A$2:$B$202,2,FALSE))","v":""},47,0,0,0,0,0,"0000000",null,{"$f":"IF($B49=\"\",\"\",表紙!$B$34+リレー入力!$S49)","v":""},"",{"$f":"IF($B49=\"\",\"\",表紙!$B$4)","v":""},"",null,"",null,null,{"$f":"IF(I49=\"\",\"\",VLOOKUP(J49,選手入力!$B$2:$X$202,23,FALSE))","v":""},{"$f":"IF(K49=\"\",\"\",VLOOKUP(L49,選手入力!$B$2:$X$202,23,FALSE))","v":""},{"$f":"IF(M49=\"\",\"\",VLOOKUP(N49,選手入力!$B$2:$X$202,23,FALSE))","v":""},{"$f":"IF(O49=\"\",\"\",VLOOKUP(P49,選手入力!$B$2:$X$202,23,FALSE))","v":""},{"$f":"IF(Q49=\"\",\"\",VLOOKUP(R49,選手入力!$B$2:$X$202,23,FALSE))","v":""}]
[{"$nulls":9},{"$f":"IF(I50=\"\",\"\",VLOOKUP(I50,選手入力!$A$2:$B$202,2,FALSE))","v":""},null,{"$f":"IF(K50=\"\",\"\",VLOOKUP(K50,選手入力!$A$2:$B$202,2,FALSE))","v":""},null,{"$f":"IF(M50=\"\",\"\",VLOOKUP(M50,選手入力!$A$2:$B$202,2,FALSE))","v":""},null,{"$f":"IF(O50=\"\",\"\",VLOOKUP(O50,選手入力!$A$2:$B$202,2,FALSE))","v":""},null,{"$f":"IF(Q50=\"\",\"\",VLOOKUP(Q50,選手入力!$A$2:$B$202,2,FALSE))","v":""},48,0,0,0,0,0,"0000000",null,{"$f":"IF($B50=\"\",\"\",表紙!$B$34+リレー入力!$S50)","v":""},"",{"$f":"IF($B50=\"\",\"\",表紙!$B$4)","v":""},"",null,"",null,null,{"$f":"IF(I50=\"\",\"\",VLOOKUP(J50,選手入力!$B$2:$X$202,23,FALSE))","v":""},{"$f":"IF(K50=\"\",\"\",VLOOKUP(L50,選手入力!$B$2:$X$202,23,FALSE))","v":""},{"$f":"IF(M50=\"\",\"\",VLOOKUP(N50,選手入力!$B$2:$X$202,23,FALSE))","v":""},{"$f":"IF(O50=\"\",\"\",VLOOKUP(P50,選手入力!$B$2:$X$202,23,FALSE))","v":""},{"$f":"IF(Q50=\"\",\"\",VLOOKUP(R50,選手入力!$B$2:$X$202,23,FALSE))","v":""}]
[{"$nulls":9},{"$f":"IF(I51=\"\",\"\",VLOOKUP(I51,選手入力!$A$2:$B$202,2,FALSE))","v":""},null,{"$f":"IF(K51=\"\",\"\",VLOOKUP(K51,選手入力!$A$2:$B$202,2,FALSE))","v":""},null,{"$f":"IF(M51=\"\",\"\",VLOOKUP(M51,選手入力!$A$2:$B$202,2,FALSE))","v":""},null,{"$f":"IF(O51=\"\",\"\",VLOOKUP(O51,選手入力!$A$2:$B$202,2,FALSE))","v":""},null,{"$f":"IF(Q51=\"\",\"\",VLOOKUP(Q51,選手入力!$A$2:$B$202,2,FALSE))","v":""},49,0,0,0,0,0,"0000000",null,{"$f":"IF($B51=\"\",\"\",表紙!$B$34+リレー入力!$S51)","v":""},"",{"$f":"IF($B51=\"\",\"\",表紙!$B$4)","v":""},"",null,"",null,null,{"$f":"IF(I51=\"\",\"\",VLOOKUP(J51,選手入力!$B$2:$X$202,23,FALSE))","v":""},{"$f":"IF(K51=\"\",\"\",VLOOKUP(L51,選手入力!$B$2:$X$202,23,FALSE))","v":""},{"$f":"IF(M51=\"\",\"\",VLOOKUP(N51,選手入力!$B$2:$X$202,23,FALSE))","v":""},{"$f":"IF(O51=\"\",\"\",VLOOKUP(P51,選手入力!$B$2:$X$202,23,FALSE))","v":""},{"$f":"IF(Q51=\"\",\"\",VLOOKUP(R51,選手入力!$B$2:$X$202,23,FALSE))","v":""}]
[{"$nulls":9},{"$f":"IF(I52=\"\",\"\",VLOOKUP(I52,選手入力!$A$2:$B$202,2,FALSE))","v":""},null,{"$f":"IF(K52=\"\",\"\",VLOOKUP(K52,選手入力!$A$2:$B$202,2,FALSE))","v":""},null,{"$f":"IF(M52=\"\",\"\",VLOOKUP(M52,選手入力!$A$2:$B$202,2,FALSE))","v":""},null,{"$f":"IF(O52=\"\",\"\",VLOOKUP(O52,選手入力!$A$2:$B$202,2,FALSE))","v":""},null,{"$f":"IF(Q52=\"\",\"\",VLOOKUP(Q52,選手入力!$A$2:$B$202,2,FALSE))","v":""},50,0,0,0,0,0,"0000000",null,{"$f":"IF($B52=\"\",\"\",表紙!$B$34+リレー入力!$S52)","v":""},"",{"$f":"IF($B52=\"\",\"\",表紙!$B$4)","v":""},"",null,"",null,null,{"$f":"IF(I52=\"\",\"\",VLOOKUP(J52,選手入力!$B$2:$X$202,23,FALSE))","v":""},{"$f":"IF(K52=\"\",\"\",VLOOKUP(L52,選手入力!$B$2:$X$202,23,FALSE))","v":""},{"$f":"IF(M52=\"\",\"\",VLOOKUP(N52,選手入力!$B$2:$X$202,23,FALSE))","v":""},{"$f":"IF(O52=\"\",\"\",VLOOKUP(P52,選手入力!$B$2:$X$202,23,FALSE))","v":""},{"$f":"IF(Q52=\"\",\"\",VLOOKUP(R52,選手入力!$B$2:$X$202,23,FALSE))","v":""}]
[{"$nulls":9},{"$f":"IF(I53=\"\",\"\",VLOOKUP(I53,選手入力!$A$2:$B$202,2,FALSE))","v":""},null,{"$f":"IF(K53=\"\",\"\",VLOOKUP(K53,選手入力!$A$2:$B$202,2,FALSE))","v":""},null,{"$f":"IF(M53=\"\",\"\",VLOOKUP(M53,選手入力!$A$2:$B$202,2,FALSE))","v":""},null,{"$f":"IF(O53=\"\",\"\",VLOOKUP(O53,選手入力!$A$2:$B$202,2,FALSE))","v":""},null,{"$f":"IF(Q53=\"\",\"\",VLOOKUP(Q53,選手入力!$A$2:$B$202,2,FALSE))","v":""},51,0,0,0,0,0,"0000000",null,{"$f":"IF($B53=\"\",\"\",表紙!$B$34+リレー入力!$S53)","v":""},"",{"$f":"IF($B53=\"\",\"\",表紙!$B$4)","v":""},"",null,"",null,null,{"$f":"IF(I53=\"\",\"\",VLOOKUP(J53,選手入力!$B$2:$X$202,23,FALSE))","v":""},{"$f":"IF(K53=\"\",\"\",VLOOKUP(L53,選手入力!$B$2:$X$202,23,FALSE))","v":""},{"$f":"IF(M53=\"\",\"\",VLOOKUP(N53,選手入力!$B$2:$X$202,23,FALSE))","v":""},{"$f":"IF(O53=\"\",\"\",VLOOKUP(P53,選手入力!$B$2:$X$202,23,FALSE))","v":""},{"$f":"IF(Q53=\"\",\"\",VLOOKUP(R53,選手入力!$B$2:$X$202,23,FALSE))","v":""}]
[{"$nulls":9},{"$f":"IF(I54=\"\",\"\",VLOOKUP(I54,選手入力!$A$2:$B$202,2,FALSE))","v":""},null,{"$f":"IF(K54=\"\",\"\",VLOOKUP(K54,選手入力!$A$2:$B$202,2,FALSE))","v":""},null,{"$f":"IF(M54=\"\",\"\",VLOOKUP(M54,選手入力!$A$2:$B$202,2,FALSE))","v":""},null,{"$f":"IF(O54=\"\",\"\",VLOOKUP(O54,選手入力!$A$2:$B$202,2,FALSE))","v":""},null,{"$f":"IF(Q54=\"\",\"\",VLOOKUP(Q54,選手入力!$A$2:$B$202,2,FALSE))","v":""},52,0,0,0,0,0,"0000000",null,{"$f":"IF($B54=\"\",\"\",表紙!$B$34+リレー入力!$S54)","v":""},"",{"$f":"IF($B54=\"\",\"\",表紙!$B$4)","v":""},"",null,"",null,null,{"$f":"IF(I54=\"\",\"\",VLOOKUP(J54,選手入力!$B$2:$X$202,23,FALSE))","v":""},{"$f":"IF(K54=\"\",\"\",VLOOKUP(L54,選手入力!$B$2:$X$202,23,FALSE))","v":""},{"$f":"IF(M54=\"\",\"\",VLOOKUP(N54,選手入力!$B$2:$X$202,23,FALSE))","v":""},{"$f":"IF(O54=\"\",\"\",VLOOKUP(P54,選手入力!$B$2:$X$202,23,FALSE))","v":""},{"$f":"IF(Q54=\"\",\"\",VLOOKUP(R54,選手入力!$B$2:$X$202,23,FALSE))","v":""}]
[{"$nulls":9},{"$f":"IF(I55=\"\",\"\",VLOOKUP(I55,選手入力!$A$2:$B$202,2,FALSE))","v":""},null,{"$f":"IF(K55=\"\",\"\",VLOOKUP(K55,選手入力!$A$2:$B$202,2,FALSE))","v":""},null,{"$f":"IF(M55=\"\",\"\",VLOOKUP(M55,選手入力!$A$2:$B$202,2,FALSE))","v":""},null,{"$f":"IF(O55=\"\",\"\",VLOOKUP(O55,選手入力!$A$2:$B$202,2,FALSE))","v":""},null,{"$f":"IF(Q55=\"\",\"\",VLOOKUP(Q55,選手入力!$A$2:$B$202,2,FALSE))","v":""},53,0,0,0,0,0,"0000000",null,{"$f":"IF($B55=\"\",\"\",表紙!$B$34+リレー入力!$S55)","v":""},"",{"$f":"IF($B55=\"\",\"\",表紙!$B$4)","v":""},"",null,"",null,null,{"$f":"IF(I55=\"\",\"\",VLOOKUP(J55,選手入力!$B$2:$X$202,23,FALSE))","v":""},{"$f":"IF(K55=\"\",\"\",VLOOKUP(L55,選手入力!$B$2:$X$202,23,FALSE))","v":""},{"$f":"IF(M55=\"\",\"\",VLOOKUP(N55,選手入力!$B$2:$X$202,23,FALSE))","v":""},{"$f":"IF(O55=\"\",\"\",VLOOKUP(P55,選手入力!$B$2:$X$202,23,FALSE))","v":""},{"$f":"IF(Q55=\"\",\"\",VLOOKUP(R55,選手入力!$B$2:$X$202,23,FALSE))","v":""}]
[{"$nulls":9},{"$f":"IF(I56=\"\",\"\",VLOOKUP(I56,選手入力!$A$2:$B$202,2,FALSE))","v":""},null,{"$f":"IF(K56=\"\",\"\",VLOOKUP(K56,選手入力!$A$2:$B$202,2,FALSE))","v":""},null,{"$f":"IF(M56=\"\",\"\",VLOOKUP(M56,選手入力!$A$2:$B$202,2,FALSE))","v":""},null,{"$f":"IF(O56=\"\",\"\",VLOOKUP(O56,選手入力!$A$2:$B$202,2,FALSE))","v":""},null,{"$f":"IF(Q56=\"\",\"\",VLOOKUP(Q56,選手入力!$A$2:$B$202,2,FALSE))","v":""},54,0,0,0,0,0,"0000000",null,{"$f":"IF($B56=\"\",\"\",表紙!$B$34+リレー入力!$S56)","v":""},"",{"$f":"IF($B56=\"\",\"\",表紙!$B$4)","v":""},"",null,"",null,null,{"$f":"IF(I56=\"\",\"\",VLOOKUP(J56,選手入力!$B$2:$X$202,23,FALSE))","v":""},{"$f":"IF(K56=\"\",\"\",VLOOKUP(L56,選手入力!$B$2:$X$202,23,FALSE))","v":""},{"$f":"IF(M56=\"\",\"\",VLOOKUP(N56,選手入力!$B$2:$X$202,23,FALSE))","v":""},{"$f":"IF(O56=\"\",\"\",VLOOKUP(P56,選手入力!$B$2:$X$202,23,FALSE))","v":""},{"$f":"IF(Q56=\"\",\"\",VLOOKUP(R56,選手入力!$B$2:$X$202,23,FALSE))","v":""}]
[{"$nulls":9},{"$f":"IF(I57=\"\",\"\",VLOOKUP(I57,選手入力!$A$2:$B$202,2,FALSE))","v":""},null,{"$f":"IF(K57=\"\",\"\",VLOOKUP(K57,選手入力!$A$2:$B$202,2,FALSE))","v":""},null,{"$f":"IF(M57=\"\",\"\",VLOOKUP(M57,選手入力!$A$2:$B$202,2,FALSE))","v":""},null,{"$f":"IF(O57=\"\",\"\",VLOOKUP(O57,選手入力!$A$2:$B$202,2,FALSE))","v":""},null,{"$f":"IF(Q57=\"\",\"\",VLOOKUP(Q57,選手入力!$A$2:$B$202,2,FALSE))","v":""},55,0,0,0,0,0,"0000000",null,{"$f":"IF($B57=\"\",\"\",表紙!$B$34+リレー入力!$S57)","v":""},"",{"$f":"IF($B57=\"\",\"\",表紙!$B$4)","v":""},"",null,"",null,null,{"$f":"IF(I57=\"\",\"\",VLOOKUP(J57,選手入力!$B$2:$X$202,23,FALSE))","v":""},{"$f":"IF(K57=\"\",\"\",VLOOKUP(L57,選手入力!$B$2:$X$202,23,FALSE))","v":""},{"$f":"IF(M57=\"\",\"\",VLOOKUP(N57,選手入力!$B$2:$X$202,23,FALSE))","v":""},{"$f":"IF(O57=\"\",\"\",VLOOKUP(P57,選手入力!$B$2:$X$202,23,FALSE))","v":""},{"$f":"IF(Q57=\"\",\"\",VLOOKUP(R57,選手入力!$B$2:$X$202,23,FALSE))","v":""}]
[{"$nulls":9},{"$f":"IF(I58=\"\",\"\",VLOOKUP(I58,選手入力!$A$2:$B$202,2,FALSE))","v":""},null,{"$f":"IF(K58=\"\",\"\",VLOOKUP(K58,選手入力!$A$2:$B$202,2,FALSE))","v":""},null,{"$f":"IF(M58=\"\",\"\",VLOOKUP(M58,選手入力!$A$2:$B$202,2,FALSE))","v":""},null,{"$f":"IF(O58=\"\",\"\",VLOOKUP(O58,選手入力!$A$2:$B$202,2,FALSE))","v":""},null,{"$f":"IF(Q58=\"\",\"\",VLOOKUP(Q58,選手入力!$A$2:$B$202,2,FALSE))","v":""},56,0,0,0,0,0,"0000000",null,{"$f":"IF($B58=\"\",\"\",表紙!$B$34+リレー入力!$S58)","v":""},"",{"$f":"IF($B58=\"\",\"\",表紙!$B$4)","v":""},"",null,"",null,null,{"$f":"IF(I58=\"\",\"\",VLOOKUP(J58,選手入力!$B$2:$X$202,23,FALSE))","v":""},{"$f":"IF(K58=\"\",\"\",VLOOKUP(L58,選手入力!$B$2:$X$202,23,FALSE))","v":""},{"$f":"IF(M58=\"\",\"\",VLOOKUP(N58,選手入力!$B$2:$X$202,23,FALSE))","v":""},{"$f":"IF(O58=\"\",\"\",VLOOKUP(P58,選手入力!$B$2:$X$202,23,FALSE))","v":""},{"$f":"IF(Q58=\"\",\"\",VLOOKUP(R58,選手入力!$B$2:$X$202,23,FALSE))","v":""}]
[{"$nulls":9},{"$f":"IF(I59=\"\",\"\",VLOOKUP(I59,選手入力!$A$2:$B$202,2,FALSE))","v":""},null,{"$f":"IF(K59=\"\",\"\",VLOOKUP(K59,選手入力!$A$2:$B$202,2,FALSE))","v":""},null,{"$f":"IF(M59=\"\",\"\",VLOOKUP(M59,選手入力!$A$2:$B$202,2,FALSE))","v":""},null,{"$f":"IF(O59=\"\",\"\",VLOOKUP(O59,選手入力!$A$2:$B$202,2,FALSE))","v":""},null,{"$f":"IF(Q59=\"\",\"\",VLOOKUP(Q59,選手入力!$A$2:$B$202,2,FALSE))","v":""},57,0,0,0,0,0,"0000000",null,{"$f":"IF($B59=\"\",\"\",表紙!$B$34+リレー入力!$S59)","v":""},"",{"$f":"IF($B59=\"\",\"\",表紙!$B$4)","v":""},"",null,"",null,null,{"$f":"IF(I59=\"\",\"\",VLOOKUP(J59,選手入力!$B$2:$X$202,23,FALSE))","v":""},{"$f":"IF(K59=\"\",\"\",VLOOKUP(L59,選手入力!$B$2:$X$202,23,FALSE))","v":""},{"$f":"IF(M59=\"\",\"\",VLOOKUP(N59,選手入力!$B$2:$X$202,23,FALSE))","v":""},{"$f":"IF(O59=\"\",\"\",VLOOKUP(P59,選手入力!$B$2:$X$202,23,FALSE))","v":""},{"$f":"IF(Q59=\"\",\"\",VLOOKUP(R59,選手入力!$B$2:$X$202,23,FALSE))","v":""}]
[{"$nulls":9},{"$f":"IF(I60=\"\",\"\",VLOOKUP(I60,選手入力!$A$2:$B$202,2,FALSE))","v":""},null,{"$f":"IF(K60=\"\",\"\",VLOOKUP(K60,選手入力!$A$2:$B$202,2,FALSE))","v":""},null,{"$f":"IF(M60=\"\",\"\",VLOOKUP(M60,選手入力!$A$2:$B$202,2,FALSE))","v":""},null,{"$f":"IF(O60=\"\",\"\",VLOOKUP(O60,選手入力!$A$2:$B$202,2,FALSE))","v":""},null,{"$f":"IF(Q60=\"\",\"\",VLOOKUP(Q60,選手入力!$A$2:$B$202,2,FALSE))","v":""},58,0,0,0,0,0,"0000000",null,{"$f":"IF($B60=\"\",\"\",表紙!$B$34+リレー入力!$S60)","v":""},"",{"$f":"IF($B60=\"\",\"\",表紙!$B$4)","v":""},"",null,"",null,null,{"$f":"IF(I60=\"\",\"\",VLOOKUP(J60,選手入力!$B$2:$X$202,23,FALSE))","v":""},{"$f":"IF(K60=\"\",\"\",VLOOKUP(L60,選手入力!$B$2:$X$202,23,FALSE))","v":""},{"$f":"IF(M60=\"\",\"\",VLOOKUP(N60,選手入力!$B$2:$X$202,23,FALSE))","v":""},{"$f":"IF(O60=\"\",\"\",VLOOKUP(P60,選手入力!$B$2:$X$202,23,FALSE))","v":""},{"$f":"IF(Q60=\"\",\"\",VLOOKUP(R60,選手入力!$B$2:$X$202,23,FALSE))","v":""}]
[{"$nulls":9},{"$f":"IF(I61=\"\",\"\",VLOOKUP(I61,選手入力!$A$2:$B$202,2,FALSE))","v":""},null,{"$f":"IF(K61=\"\",\"\",VLOOKUP(K61,選手入力!$A$2:$B$202,2,FALSE))","v":""},null,{"$f":"IF(M61=\"\",\"\",VLOOKUP(M61,選手入力!$A$2:$B$202,2,FALSE))","v":""},null,{"$f":"IF(O61=\"\",\"\",VLOOKUP(O61,選手入力!$A$2:$B$202,2,FALSE))","v":""},null,{"$f":"IF(Q61=\"\",\"\",VLOOKUP(Q61,選手入力!$A$2:$B$202,2,FALSE))","v":""},59,0,0,0,0,0,"0000000",null,{"$f":"IF($B61=\"\",\"\",表紙!$B$34+リレー入力!$S61)","v":""},"",{"$f":"IF($B61=\"\",\"\",表紙!$B$4)","v":""},"",null,"",null,null,{"$f":"IF(I61=\"\",\"\",VLOOKUP(J61,選手入力!$B$2:$X$202,23,FALSE))","v":""},{"$f":"IF(K61=\"\",\"\",VLOOKUP(L61,選手入力!$B$2:$X$202,23,FALSE))","v":""},{"$f":"IF(M61=\"\",\"\",VLOOKUP(N61,選手入力!$B$2:$X$202,23,FALSE))","v":""},{"$f":"IF(O61=\"\",\"\",VLOOKUP(P61,選手入力!$B$2:$X$202,23,FALSE))","v":""},{"$f":"IF(Q61=\"\",\"\",VLOOKUP(R61,選手入力!$B$2:$X$202,23,FALSE))","v":""}]
[{"$nulls":9},{"$f":"IF(I62=\"\",\"\",VLOOKUP(I62,選手入力!$A$2:$B$202,2,FALSE))","v":""},null,{"$f":"IF(K62=\"\",\"\",VLOOKUP(K62,選手入力!$A$2:$B$202,2,FALSE))","v":""},null,{"$f":"IF(M62=\"\",\"\",VLOOKUP(M62,選手入力!$A$2:$B$202,2,FALSE))","v":""},null,{"$f":"IF(O62=\"\",\"\",VLOOKUP(O62,選手入力!$A$2:$B$202,2,FALSE))","v":""},null,{"$f":"IF(Q62=\"\",\"\",VLOOKUP(Q62,選手入力!$A$2:$B$202,2,FALSE))","v":""},60,0,0,0,0,0,"0000000",null,{"$f":"IF($B62=\"\",\"\",表紙!$B$34+リレー入力!$S62)","v":""},"",{"$f":"IF($B62=\"\",\"\",表紙!$B$4)","v":""},"",null,"",null,null,{"$f":"IF(I62=\"\",\"\",VLOOKUP(J62,選手入力!$B$2:$X$202,23,FALSE))","v":""},{"$f":"IF(K62=\"\",\"\",VLOOKUP(L62,選手入力!$B$2:$X$202,23,FALSE))","v":""},{"$f":"IF(M62=\"\",\"\",VLOOKUP(N62,選手入力!$B$2:$X$202,23,FALSE))","v":""},{"$f":"IF(O62=\"\",\"\",VLOOKUP(P62,選手入力!$B$2:$X$202,23,FALSE))","v":""},{"$f":"IF(Q62=\"\",\"\",VLOOKUP(R62,選手入力!$B$2:$X$202,23,FALSE))","v":""}]
[{"$nulls":9},{"$f":"IF(I63=\"\",\"\",VLOOKUP(I63,選手入力!$A$2:$B$202,2,FALSE))","v":""},null,{"$f":"IF(K63=\"\",\"\",VLOOKUP(K63,選手入力!$A$2:$B$202,2,FALSE))","v":""},null,{"$f":"IF(M63=\"\",\"\",VLOOKUP(M63,選手入力!$A$2:$B$202,2,FALSE))","v":""},null,{"$f":"IF(O63=\"\",\"\",VLOOKUP(O63,選手入力!$A$2:$B$202,2,FALSE))","v":""},null,{"$f":"IF(Q63=\"\",\"\",VLOOKUP(Q63,選手入力!$A$2:$B$202,2,FALSE))","v":""},61,0,0,0,0,0,"0000000",null,{"$f":"IF($B63=\"\",\"\",表紙!$B$34+リレー入力!$S63)","v":""},"",{"$f":"IF($B63=\"\",\"\",表紙!$B$4)","v":""},"",null,"",null,null,{"$f":"IF(I63=\"\",\"\",VLOOKUP(J63,選手入力!$B$2:$X$202,23,FALSE))","v":""},{"$f":"IF(K63=\"\",\"\",VLOOKUP(L63,選手入力!$B$2:$X$202,23,FALSE))","v":""},{"$f":"IF(M63=\"\",\"\",VLOOKUP(N63,選手入力!$B$2:$X$202,23,FALSE))","v":""},{"$f":"IF(O63=\"\",\"\",VLOOKUP(P63,選手入力!$B$2:$X$202,23,FALSE))","v":""},{"$f":"IF(Q63=\"\",\"\",VLOOKUP(R63,選手入力!$B$2:$X$202,23,FALSE))","v":""}]
[{"$nulls":9},{"$f":"IF(I64=\"\",\"\",VLOOKUP(I64,選手入力!$A$2:$B$202,2,FALSE))","v":""},null,{"$f":"IF(K64=\"\",\"\",VLOOKUP(K64,選手入力!$A$2:$B$202,2,FALSE))","v":""},null,{"$f":"IF(M64=\"\",\"\",VLOOKUP(M64,選手入力!$A$2:$B$202,2,FALSE))","v":""},null,{"$f":"IF(O64=\"\",\"\",VLOOKUP(O64,選手入力!$A$2:$B$202,2,FALSE))","v":""},null,{"$f":"IF(Q64=\"\",\"\",VLOOKUP(Q64,選手入力!$A$2:$B$202,2,FALSE))","v":""},62,0,0,0,0,0,"0000000",null,{"$f":"IF($B64=\"\",\"\",表紙!$B$34+リレー入力!$S64)","v":""},"",{"$f":"IF($B64=\"\",\"\",表紙!$B$4)","v":""},"",null,"",null,null,{"$f":"IF(I64=\"\",\"\",VLOOKUP(J64,選手入力!$B$2:$X$202,23,FALSE))","v":""},{"$f":"IF(K64=\"\",\"\",VLOOKUP(L64,選手入力!$B$2:$X$202,23,FALSE))","v":""},{"$f":"IF(M64=\"\",\"\",VLOOKUP(N64,選手入力!$B$2:$X$202,23,FALSE))","v":""},{"$f":"IF(O64=\"\",\"\",VLOOKUP(P64,選手入力!$B$2:$X$202,23,FALSE))","v":""},{"$f":"IF(Q64=\"\",\"\",VLOOKUP(R64,選手入力!$B$2:$X$202,23,FALSE))","v":""}]
[{"$nulls":9},{"$f":"IF(I65=\"\",\"\",VLOOKUP(I65,選手入力!$A$2:$B$202,2,FALSE))","v":""},null,{"$f":"IF(K65=\"\",\"\",VLOOKUP(K65,選手入力!$A$2:$B$202,2,FALSE))","v":""},null,{"$f":"IF(M65=\"\",\"\",VLOOKUP(M65,選手入力!$A$2:$B$202,2,FALSE))","v":""},null,{"$f":"IF(O65=\"\",\"\",VLOOKUP(O65,選手入力!$A$2:$B$202,2,FALSE))","v":""},null,{"$f":"IF(Q65=\"\",\"\",VLOOKUP(Q65,選手入力!$A$2:$B$202,2,FALSE))","v":""},63,0,0,0,0,0,"0000000",null,{"$f":"IF($B65=\"\",\"\",表紙!$B$34+リレー入力!$S65)","v":""},"",{"$f":"IF($B65=\"\",\"\",表紙!$B$4)","v":""},"",null,"",null,null,{"$f":"IF(I65=\"\",\"\",VLOOKUP(J65,選手入力!$B$2:$X$202,23,FALSE))","v":""},{"$f":"IF(K65=\"\",\"\",VLOOKUP(L65,選手入力!$B$2:$X$202,23,FALSE))","v":""},{"$f":"IF(M65=\"\",\"\",VLOOKUP(N65,選手入力!$B$2:$X$202,23,FALSE))","v":""},{"$f":"IF(O65=\"\",\"\",VLOOKUP(P65,選手入力!$B$2:$X$202,23,FALSE))","v":""},{"$f":"IF(Q65=\"\",\"\",VLOOKUP(R65,選手入力!$B$2:$X$202,23,FALSE))","v":""}]
[{"$nulls":9},{"$f":"IF(I66=\"\",\"\",VLOOKUP(I66,選手入力!$A$2:$B$202,2,FALSE))","v":""},null,{"$f":"IF(K66=\"\",\"\",VLOOKUP(K66,選手入力!$A$2:$B$202,2,FALSE))","v":""},null,{"$f":"IF(M66=\"\",\"\",VLOOKUP(M66,選手入力!$A$2:$B$202,2,FALSE))","v":""},null,{"$f":"IF(O66=\"\",\"\",VLOOKUP(O66,選手入力!$A$2:$B$202,2,FALSE))","v":""},null,{"$f":"IF(Q66=\"\",\"\",VLOOKUP(Q66,選手入力!$A$2:$B$202,2,FALSE))","v":""},64,0,0,0,0,0,"0000000",null,{"$f":"IF($B66=\"\",\"\",表紙!$B$34+リレー入力!$S66)","v":""},"",{"$f":"IF($B66=\"\",\"\",表紙!$B$4)","v":""},"",null,"",null,null,{"$f":"IF(I66=\"\",\"\",VLOOKUP(J66,選手入力!$B$2:$X$202,23,FALSE))","v":""},{"$f":"IF(K66=\"\",\"\",VLOOKUP(L66,選手入力!$B$2:$X$202,23,FALSE))","v":""},{"$f":"IF(M66=\"\",\"\",VLOOKUP(N66,選手入力!$B$2:$X$202,23,FALSE))","v":""},{"$f":"IF(O66=\"\",\"\",VLOOKUP(P66,選手入力!$B$2:$X$202,23,FALSE))","v":""},{"$f":"IF(Q66=\"\",\"\",VLOOKUP(R66,選手入力!$B$2:$X$202,23,FALSE))","v":""}]
[{"$nulls":9},{"$f":"IF(I67=\"\",\"\",VLOOKUP(I67,選手入力!$A$2:$B$202,2,FALSE))","v":""},null,{"$f":"IF(K67=\"\",\"\",VLOOKUP(K67,選手入力!$A$2:$B$202,2,FALSE))","v":""},null,{"$f":"IF(M67=\"\",\"\",VLOOKUP(M67,選手入力!$A$2:$B$202,2,FALSE))","v":""},null,{"$f":"IF(O67=\"\",\"\",VLOOKUP(O67,選手入力!$A$2:$B$202,2,FALSE))","v":""},null,{"$f":"IF(Q67=\"\",\"\",VLOOKUP(Q67,選手入力!$A$2:$B$202,2,FALSE))","v":""},65,0,{"$f":"IF(E67=\"\",0,E67)","v":0},{"$f":"IF(F67=\"\",0,F67)","v":0},{"$f":"IF(G67=\"\",0,G67)","v":0},{"$f":"IF(H67=\"\",0,H67)","v":0},"0000000",null,{"$f":"IF($B67=\"\",\"\",表紙!$B$34+リレー入力!$S67)","v":""},"",{"$f":"IF($B67=\"\",\"\",表紙!$B$4)","v":""},"",null,"",null,null,{"$f":"IF(I67=\"\",\"\",VLOOKUP(J67,選手入力!$B$2:$X$202,23,FALSE))","v":""},{"$f":"IF(K67=\"\",\"\",VLOOKUP(L67,選手入力!$B$2:$X$202,23,FALSE))","v":""},{"$f":"IF(M67=\"\",\"\",VLOOKUP(N67,選手入力!$B$2:$X$202,23,FALSE))","v":""},{"$f":"IF(O67=\"\",\"\",VLOOKUP(P67,選手入力!$B$2:$X$202,23,FALSE))","v":""},{"$f":"IF(Q67=\"\",\"\",VLOOKUP(R67,選手入力!$B$2:$X$202,23,FALSE))","v":""}]
[{"$nulls":9},{"$f":"IF(I68=\"\",\"\",VLOOKUP(I68,選手入力!$A$2:$B$202,2,FALSE))","v":""},null,{"$f":"IF(K68=\"\",\"\",VLOOKUP(K68,選手入力!$A$2:$B$202,2,FALSE))","v":""},null,{"$f":"IF(M68=\"\",\"\",VLOOKUP(M68,選手入力!$A$2:$B$202,2,FALSE))","v":""},null,{"$f":"IF(O68=\"\",\"\",VLOOKUP(O68,選手入力!$A$2:$B$202,2,FALSE))","v":""},null,{"$f":"IF(Q68=\"\",\"\",VLOOKUP(Q68,選手入力!$A$2:$B$202,2,FALSE))","v":""},66,{"$f":"IF(D68=\"\",0,D68)","v":0},0,0,0,0,{"$f":"CONCATENATE(\"00\",T68,U68,V68,W68,X68)","v":"0000000"},null,{"$f":"IF($B68=\"\",\"\",表紙!$B$34+リレー入力!$S68)","v":""},{"$f":"IF($B68=\"\",\"\",AA68)","v":""},{"$f":"IF($B68=\"\",\"\",表紙!$B$4)","v":""},{"$f":"IF($B68=\"\",\"\",C68)","v":""},null,{"$f":"IF($B68=\"\",\"\",Y68)","v":""},null,null,{"$f":"IF(I68=\"\",\"\",VLOOKUP(J68,選手入力!$B$2:$X$202,23,FALSE))","v":""},{"$f":"IF(K68=\"\",\"\",VLOOKUP(L68,選手入力!$B$2:$X$202,23,FALSE))","v":""},{"$f":"IF(M68=\"\",\"\",VLOOKUP(N68,選手入力!$B$2:$X$202,23,FALSE))","v":""},{"$f":"IF(O68=\"\",\"\",VLOOKUP(P68,選手入力!$B$2:$X$202,23,FALSE))","v":""},{"$f":"IF(Q68=\"\",\"\",VLOOKUP(R68,選手入力!$B$2:$X$202,23,FALSE))","v":""}]
[{"$nulls":9},{"$f":"IF(I69=\"\",\"\",VLOOKUP(I69,選手入力!$A$2:$B$202,2,FALSE))","v":""},null,{"$f":"IF(K69=\"\",\"\",VLOOKUP(K69,選手入力!$A$2:$B$202,2,FALSE))","v":""},null,{"$f":"IF(M69=\"\",\"\",VLOOKUP(M69,選手入力!$A$2:$B$202,2,FALSE))","v":""},null,{"$f":"IF(O69=\"\",\"\",VLOOKUP(O69,選手入力!$A$2:$B$202,2,FALSE))","v":""},null,{"$f":"IF(Q69=\"\",\"\",VLOOKUP(Q69,選手入力!$A$2:$B$202,2,FALSE))","v":""},67,0,0,0,0,0,"0000000",null,{"$f":"IF($B69=\"\",\"\",表紙!$B$34+リレー入力!$S69)","v":""},"",{"$f":"IF($B69=\"\",\"\",表紙!$B$4)","v":""},"",null,"",null,null,{"$f":"IF(I69=\"\",\"\",VLOOKUP(J69,選手入力!$B$2:$X$202,23,FALSE))","v":""},{"$f":"IF(K69=\"\",\"\",VLOOKUP(L69,選手入力!$B$2:$X$202,23,FALSE))","v":""},{"$f":"IF(M69=\"\",\"\",VLOOKUP(N69,選手入力!$B$2:$X$202,23,FALSE))","v":""},{"$f":"IF(O69=\"\",\"\",VLOOKUP(P69,選手入力!$B$2:$X$202,23,FALSE))","v":""},{"$f":"IF(Q69=\"\",\"\",VLOOKUP(R69,選手入力!$B$2:$X$202,23,FALSE))","v":""}]
[{"$nulls":9},{"$f":"IF(I70=\"\",\"\",VLOOKUP(I70,選手入力!$A$2:$B$202,2,FALSE))","v":""},null,{"$f":"IF(K70=\"\",\"\",VLOOKUP(K70,選手入力!$A$2:$B$202,2,FALSE))","v":""},null,{"$f":"IF(M70=\"\",\"\",VLOOKUP(M70,選手入力!$A$2:$B$202,2,FALSE))","v":""},null,{"$f":"IF(O70=\"\",\"\",VLOOKUP(O70,選手入力!$A$2:$B$202,2,FALSE))","v":""},null,{"$f":"IF(Q70=\"\",\"\",VLOOKUP(Q70,選手入力!$A$2:$B$202,2,FALSE))","v":""},68,0,0,0,0,0,"0000000",null,{"$f":"IF($B70=\"\",\"\",表紙!$B$34+リレー入力!$S70)","v":""},"",{"$f":"IF($B70=\"\",\"\",表紙!$B$4)","v":""},"",null,"",null,null,{"$f":"IF(I70=\"\",\"\",VLOOKUP(J70,選手入力!$B$2:$X$202,23,FALSE))","v":""},{"$f":"IF(K70=\"\",\"\",VLOOKUP(L70,選手入力!$B$2:$X$202,23,FALSE))","v":""},{"$f":"IF(M70=\"\",\"\",VLOOKUP(N70,選手入力!$B$2:$X$202,23,FALSE))","v":""},{"$f":"IF(O70=\"\",\"\",VLOOKUP(P70,選手入力!$B$2:$X$202,23,FALSE))","v":""},{"$f":"IF(Q70=\"\",\"\",VLOOKUP(R70,選手入力!$B$2:$X$202,23,FALSE))","v":""}]
[{"$nulls":9},{"$f":"IF(I71=\"\",\"\",VLOOKUP(I71,選手入力!$A$2:$B$202,2,FALSE))","v":""},null,{"$f":"IF(K71=\"\",\"\",VLOOKUP(K71,選手入力!$A$2:$B$202,2,FALSE))","v":""},null,{"$f":"IF(M71=\"\",\"\",VLOOKUP(M71,選手入力!$A$2:$B$202,2,FALSE))","v":""},null,{"$f":"IF(O71=\"\",\"\",VLOOKUP(O71,選手入力!$A$2:$B$202,2,FALSE))","v":""},null,{"$f":"IF(Q71=\"\",\"\",VLOOKUP(Q71,選手入力!$A$2:$B$202,2,FALSE))","v":""},69,0,0,0,0,0,"0000000",null,{"$f":"IF($B71=\"\",\"\",表紙!$B$34+リレー入力!$S71)","v":""},"",{"$f":"IF($B71=\"\",\"\",表紙!$B$4)","v":""},"",null,"",null,null,{"$f":"IF(I71=\"\",\"\",VLOOKUP(J71,選手入力!$B$2:$X$202,23,FALSE))","v":""},{"$f":"IF(K71=\"\",\"\",VLOOKUP(L71,選手入力!$B$2:$X$202,23,FALSE))","v":""},{"$f":"IF(M71=\"\",\"\",VLOOKUP(N71,選手入力!$B$2:$X$202,23,FALSE))","v":""},{"$f":"IF(O71=\"\",\"\",VLOOKUP(P71,選手入力!$B$2:$X$202,23,FALSE))","v":""},{"$f":"IF(Q71=\"\",\"\",VLOOKUP(R71,選手入力!$B$2:$X$202,23,FALSE))","v":""}]
[{"$nulls":9},{"$f":"IF(I72=\"\",\"\",VLOOKUP(I72,選手入力!$A$2:$B$202,2,FALSE))","v":""},null,{"$f":"IF(K72=\"\",\"\",VLOOKUP(K72,選手入力!$A$2:$B$202,2,FALSE))","v":""},null,{"$f":"IF(M72=\"\",\"\",VLOOKUP(M72,選手入力!$A$2:$B$202,2,FALSE))","v":""},null,{"$f":"IF(O72=\"\",\"\",VLOOKUP(O72,選手入力!$A$2:$B$202,2,FALSE))","v":""},null,{"$f":"IF(Q72=\"\",\"\",VLOOKUP(Q72,選手入力!$A$2:$B$202,2,FALSE))","v":""},70,0,0,0,0,0,"0000000",null,{"$f":"IF($B72=\"\",\"\",表紙!$B$34+リレー入力!$S72)","v":""},"",{"$f":"IF($B72=\"\",\"\",表紙!$B$4)","v":""},"",null,"",null,null,{"$f":"IF(I72=\"\",\"\",VLOOKUP(J72,選手入力!$B$2:$X$202,23,FALSE))","v":""},{"$f":"IF(K72=\"\",\"\",VLOOKUP(L72,選手入力!$B$2:$X$202,23,FALSE))","v":""},{"$f":"IF(M72=\"\",\"\",VLOOKUP(N72,選手入力!$B$2:$X$202,23,FALSE))","v":""},{"$f":"IF(O72=\"\",\"\",VLOOKUP(P72,選手入力!$B$2:$X$202,23,FALSE))","v":""},{"$f":"IF(Q72=\"\",\"\",VLOOKUP(R72,選手入力!$B$2:$X$202,23,FALSE))","v":""}]
[{"$nulls":9},{"$f":"IF(I73=\"\",\"\",VLOOKUP(I73,選手入力!$A$2:$B$202,2,FALSE))","v":""},null,{"$f":"IF(K73=\"\",\"\",VLOOKUP(K73,選手入力!$A$2:$B$202,2,FALSE))","v":""},null,{"$f":"IF(M73=\"\",\"\",VLOOKUP(M73,選手入力!$A$2:$B$202,2,FALSE))","v":""},null,{"$f":"IF(O73=\"\",\"\",VLOOKUP(O73,選手入力!$A$2:$B$202,2,FALSE))","v":""},null,{"$f":"IF(Q73=\"\",\"\",VLOOKUP(Q73,選手入力!$A$2:$B$202,2,FALSE))","v":""},71,0,0,0,0,0,"0000000",null,{"$f":"IF($B73=\"\",\"\",表紙!$B$34+リレー入力!$S73)","v":""},"",{"$f":"IF($B73=\"\",\"\",表紙!$B$4)","v":""},"",null,"",null,null,{"$f":"IF(I73=\"\",\"\",VLOOKUP(J73,選手入力!$B$2:$X$202,23,FALSE))","v":""},{"$f":"IF(K73=\"\",\"\",VLOOKUP(L73,選手入力!$B$2:$X$202,23,FALSE))","v":""},{"$f":"IF(M73=\"\",\"\",VLOOKUP(N73,選手入力!$B$2:$X$202,23,FALSE))","v":""},{"$f":"IF(O73=\"\",\"\",VLOOKUP(P73,選手入力!$B$2:$X$202,23,FALSE))","v":""},{"$f":"IF(Q73=\"\",\"\",VLOOKUP(R73,選手入力!$B$2:$X$202,23,FALSE))","v":""}]
[{"$nulls":9},{"$f":"IF(I74=\"\",\"\",VLOOKUP(I74,選手入力!$A$2:$B$202,2,FALSE))","v":""},null,{"$f":"IF(K74=\"\",\"\",VLOOKUP(K74,選手入力!$A$2:$B$202,2,FALSE))","v":""},null,{"$f":"IF(M74=\"\",\"\",VLOOKUP(M74,選手入力!$A$2:$B$202,2,FALSE))","v":""},null,{"$f":"IF(O74=\"\",\"\",VLOOKUP(O74,選手入力!$A$2:$B$202,2,FALSE))","v":""},null,{"$f":"IF(Q74=\"\",\"\",VLOOKUP(Q74,選手入力!$A$2:$B$202,2,FALSE))","v":""},72,0,0,0,0,0,"0000000",null,{"$f":"IF($B74=\"\",\"\",表紙!$B$34+リレー入力!$S74)","v":""},"",{"$f":"IF($B74=\"\",\"\",表紙!$B$4)","v":""},"",null,"",null,null,{"$f":"IF(I74=\"\",\"\",VLOOKUP(J74,選手入力!$B$2:$X$202,23,FALSE))","v":""},{"$f":"IF(K74=\"\",\"\",VLOOKUP(L74,選手入力!$B$2:$X$202,23,FALSE))","v":""},{"$f":"IF(M74=\"\",\"\",VLOOKUP(N74,選手入力!$B$2:$X$202,23,FALSE))","v":""},{"$f":"IF(O74=\"\",\"\",VLOOKUP(P74,選手入力!$B$2:$X$202,23,FALSE))","v":""},{"$f":"IF(Q74=\"\",\"\",VLOOKUP(R74,選手入力!$B$2:$X$202,23,FALSE))","v":""}]
[{"$nulls":9},{"$f":"IF(I75=\"\",\"\",VLOOKUP(I75,選手入力!$A$2:$B$202,2,FALSE))","v":""},null,{"$f":"IF(K75=\"\",\"\",VLOOKUP(K75,選手入力!$A$2:$B$202,2,FALSE))","v":""},null,{"$f":"IF(M75=\"\",\"\",VLOOKUP(M75,選手入力!$A$2:$B$202,2,FALSE))","v":""},null,{"$f":"IF(O75=\"\",\"\",VLOOKUP(O75,選手入力!$A$2:$B$202,2,FALSE))","v":""},null,{"$f":"IF(Q75=\"\",\"\",VLOOKUP(Q75,選手入力!$A$2:$B$202,2,FALSE))","v":""},73,0,0,0,0,0,"0000000",null,{"$f":"IF($B75=\"\",\"\",表紙!$B$34+リレー入力!$S75)","v":""},"",{"$f":"IF($B75=\"\",\"\",表紙!$B$4)","v":""},"",null,"",null,null,{"$f":"IF(I75=\"\",\"\",VLOOKUP(J75,選手入力!$B$2:$X$202,23,FALSE))","v":""},{"$f":"IF(K75=\"\",\"\",VLOOKUP(L75,選手入力!$B$2:$X$202,23,FALSE))","v":""},{"$f":"IF(M75=\"\",\"\",VLOOKUP(N75,選手入力!$B$2:$X$202,23,FALSE))","v":""},{"$f":"IF(O75=\"\",\"\",VLOOKUP(P75,選手入力!$B$2:$X$202,23,FALSE))","v":""},{"$f":"IF(Q75=\"\",\"\",VLOOKUP(R75,選手入力!$B$2:$X$202,23,FALSE))","v":""}]
[{"$nulls":9},{"$f":"IF(I76=\"\",\"\",VLOOKUP(I76,選手入力!$A$2:$B$202,2,FALSE))","v":""},null,{"$f":"IF(K76=\"\",\"\",VLOOKUP(K76,選手入力!$A$2:$B$202,2,FALSE))","v":""},null,{"$f":"IF(M76=\"\",\"\",VLOOKUP(M76,選手入力!$A$2:$B$202,2,FALSE))","v":""},null,{"$f":"IF(O76=\"\",\"\",VLOOKUP(O76,選手入力!$A$2:$B$202,2,FALSE))","v":""},null,{"$f":"IF(Q76=\"\",\"\",VLOOKUP(Q76,選手入力!$A$2:$B$202,2,FALSE))","v":""},74,0,0,0,0,0,"0000000",null,{"$f":"IF($B76=\"\",\"\",表紙!$B$34+リレー入力!$S76)","v":""},"",{"$f":"IF($B76=\"\",\"\",表紙!$B$4)","v":""},"",null,"",null,null,{"$f":"IF(I76=\"\",\"\",VLOOKUP(J76,選手入力!$B$2:$X$202,23,FALSE))","v":""},{"$f":"IF(K76=\"\",\"\",VLOOKUP(L76,選手入力!$B$2:$X$202,23,FALSE))","v":""},{"$f":"IF(M76=\"\",\"\",VLOOKUP(N76,選手入力!$B$2:$X$202,23,FALSE))","v":""},{"$f":"IF(O76=\"\",\"\",VLOOKUP(P76,選手入力!$B$2:$X$202,23,FALSE))","v":""},{"$f":"IF(Q76=\"\",\"\",VLOOKUP(R76,選手入力!$B$2:$X$202,23,FALSE))","v":""}]
[{"$nulls":9},{"$f":"IF(I77=\"\",\"\",VLOOKUP(I77,選手入力!$A$2:$B$202,2,FALSE))","v":""},null,{"$f":"IF(K77=\"\",\"\",VLOOKUP(K77,選手入力!$A$2:$B$202,2,FALSE))","v":""},null,{"$f":"IF(M77=\"\",\"\",VLOOKUP(M77,選手入力!$A$2:$B$202,2,FALSE))","v":""},null,{"$f":"IF(O77=\"\",\"\",VLOOKUP(O77,選手入力!$A$2:$B$202,2,FALSE))","v":""},null,{"$f":"IF(Q77=\"\",\"\",VLOOKUP(Q77,選手入力!$A$2:$B$202,2,FALSE))","v":""},75,0,0,0,0,0,"0000000",null,{"$f":"IF($B77=\"\",\"\",表紙!$B$34+リレー入力!$S77)","v":""},"",{"$f":"IF($B77=\"\",\"\",表紙!$B$4)","v":""},"",null,"",null,null,{"$f":"IF(I77=\"\",\"\",VLOOKUP(J77,選手入力!$B$2:$X$202,23,FALSE))","v":""},{"$f":"IF(K77=\"\",\"\",VLOOKUP(L77,選手入力!$B$2:$X$202,23,FALSE))","v":""},{"$f":"IF(M77=\"\",\"\",VLOOKUP(N77,選手入力!$B$2:$X$202,23,FALSE))","v":""},{"$f":"IF(O77=\"\",\"\",VLOOKUP(P77,選手入力!$B$2:$X$202,23,FALSE))","v":""},{"$f":"IF(Q77=\"\",\"\",VLOOKUP(R77,選手入力!$B$2:$X$202,23,FALSE))","v":""}]
[{"$nulls":9},{"$f":"IF(I78=\"\",\"\",VLOOKUP(I78,選手入力!$A$2:$B$202,2,FALSE))","v":""},null,{"$f":"IF(K78=\"\",\"\",VLOOKUP(K78,選手入力!$A$2:$B$202,2,FALSE))","v":""},null,{"$f":"IF(M78=\"\",\"\",VLOOKUP(M78,選手入力!$A$2:$B$202,2,FALSE))","v":""},null,{"$f":"IF(O78=\"\",\"\",VLOOKUP(O78,選手入力!$A$2:$B$202,2,FALSE))","v":""},null,{"$f":"IF(Q78=\"\",\"\",VLOOKUP(Q78,選手入力!$A$2:$B$202,2,FALSE))","v":""},76,0,0,0,0,0,"0000000",null,{"$f":"IF($B78=\"\",\"\",表紙!$B$34+リレー入力!$S78)","v":""},"",{"$f":"IF($B78=\"\",\"\",表紙!$B$4)","v":""},"",null,"",null,null,{"$f":"IF(I78=\"\",\"\",VLOOKUP(J78,選手入力!$B$2:$X$202,23,FALSE))","v":""},{"$f":"IF(K78=\"\",\"\",VLOOKUP(L78,選手入力!$B$2:$X$202,23,FALSE))","v":""},{"$f":"IF(M78=\"\",\"\",VLOOKUP(N78,選手入力!$B$2:$X$202,23,FALSE))","v":""},{"$f":"IF(O78=\"\",\"\",VLOOKUP(P78,選手入力!$B$2:$X$202,23,FALSE))","v":""},{"$f":"IF(Q78=\"\",\"\",VLOOKUP(R78,選手入力!$B$2:$X$202,23,FALSE))","v":""}]
[{"$nulls":9},{"$f":"IF(I79=\"\",\"\",VLOOKUP(I79,選手入力!$A$2:$B$202,2,FALSE))","v":""},null,{"$f":"IF(K79=\"\",\"\",VLOOKUP(K79,選手入力!$A$2:$B$202,2,FALSE))","v":""},null,{"$f":"IF(M79=\"\",\"\",VLOOKUP(M79,選手入力!$A$2:$B$202,2,FALSE))","v":""},null,{"$f":"IF(O79=\"\",\"\",VLOOKUP(O79,選手入力!$A$2:$B$202,2,FALSE))","v":""},null,{"$f":"IF(Q79=\"\",\"\",VLOOKUP(Q79,選手入力!$A$2:$B$202,2,FALSE))","v":""},77,0,0,0,0,0,"0000000",null,{"$f":"IF($B79=\"\",\"\",表紙!$B$34+リレー入力!$S79)","v":""},"",{"$f":"IF($B79=\"\",\"\",表紙!$B$4)","v":""},"",null,"",null,null,{"$f":"IF(I79=\"\",\"\",VLOOKUP(J79,選手入力!$B$2:$X$202,23,FALSE))","v":""},{"$f":"IF(K79=\"\",\"\",VLOOKUP(L79,選手入力!$B$2:$X$202,23,FALSE))","v":""},{"$f":"IF(M79=\"\",\"\",VLOOKUP(N79,選手入力!$B$2:$X$202,23,FALSE))","v":""},{"$f":"IF(O79=\"\",\"\",VLOOKUP(P79,選手入力!$B$2:$X$202,23,FALSE))","v":""},{"$f":"IF(Q79=\"\",\"\",VLOOKUP(R79,選手入力!$B$2:$X$202,23,FALSE))","v":""}]
[{"$nulls":9},{"$f":"IF(I80=\"\",\"\",VLOOKUP(I80,選手入力!$A$2:$B$202,2,FALSE))","v":""},null,{"$f":"IF(K80=\"\",\"\",VLOOKUP(K80,選手入力!$A$2:$B$202,2,FALSE))","v":""},null,{"$f":"IF(M80=\"\",\"\",VLOOKUP(M80,選手入力!$A$2:$B$202,2,FALSE))","v":""},null,{"$f":"IF(O80=\"\",\"\",VLOOKUP(O80,選手入力!$A$2:$B$202,2,FALSE))","v":""},null,{"$f":"IF(Q80=\"\",\"\",VLOOKUP(Q80,選手入力!$A$2:$B$202,2,FALSE))","v":""},78,0,0,0,0,0,"0000000",null,{"$f":"IF($B80=\"\",\"\",表紙!$B$34+リレー入力!$S80)","v":""},"",{"$f":"IF($B80=\"\",\"\",表紙!$B$4)","v":""},"",null,"",null,null,{"$f":"IF(I80=\"\",\"\",VLOOKUP(J80,選手入力!$B$2:$X$202,23,FALSE))","v":""},{"$f":"IF(K80=\"\",\"\",VLOOKUP(L80,選手入力!$B$2:$X$202,23,FALSE))","v":""},{"$f":"IF(M80=\"\",\"\",VLOOKUP(N80,選手入力!$B$2:$X$202,23,FALSE))","v":""},{"$f":"IF(O80=\"\",\"\",VLOOKUP(P80,選手入力!$B$2:$X$202,23,FALSE))","v":""},{"$f":"IF(Q80=\"\",\"\",VLOOKUP(R80,選手入力!$B$2:$X$202,23,FALSE))","v":""}]
[{"$nulls":9},{"$f":"IF(I81=\"\",\"\",VLOOKUP(I81,選手入力!$A$2:$B$202,2,FALSE))","v":""},null,{"$f":"IF(K81=\"\",\"\",VLOOKUP(K81,選手入力!$A$2:$B$202,2,FALSE))","v":""},null,{"$f":"IF(M81=\"\",\"\",VLOOKUP(M81,選手入力!$A$2:$B$202,2,FALSE))","v":""},null,{"$f":"IF(O81=\"\",\"\",VLOOKUP(O81,選手入力!$A$2:$B$202,2,FALSE))","v":""},null,{"$f":"IF(Q81=\"\",\"\",VLOOKUP(Q81,選手入力!$A$2:$B$202,2,FALSE))","v":""},79,0,0,0,0,0,"0000000",null,{"$f":"IF($B81=\"\",\"\",表紙!$B$34+リレー入力!$S81)","v":""},"",{"$f":"IF($B81=\"\",\"\",表紙!$B$4)","v":""},"",null,"",null,null,{"$f":"IF(I81=\"\",\"\",VLOOKUP(J81,選手入力!$B$2:$X$202,23,FALSE))","v":""},{"$f":"IF(K81=\"\",\"\",VLOOKUP(L81,選手入力!$B$2:$X$202,23,FALSE))","v":""},{"$f":"IF(M81=\"\",\"\",VLOOKUP(N81,選手入力!$B$2:$X$202,23,FALSE))","v":""},{"$f":"IF(O81=\"\",\"\",VLOOKUP(P81,選手入力!$B$2:$X$202,23,FALSE))","v":""},{"$f":"IF(Q81=\"\",\"\",VLOOKUP(R81,選手入力!$B$2:$X$202,23,FALSE))","v":""}]
[{"$nulls":9},{"$f":"IF(I82=\"\",\"\",VLOOKUP(I82,選手入力!$A$2:$B$202,2,FALSE))","v":""},null,{"$f":"IF(K82=\"\",\"\",VLOOKUP(K82,選手入力!$A$2:$B$202,2,FALSE))","v":""},null,{"$f":"IF(M82=\"\",\"\",VLOOKUP(M82,選手入力!$A$2:$B$202,2,FALSE))","v":""},null,{"$f":"IF(O82=\"\",\"\",VLOOKUP(O82,選手入力!$A$2:$B$202,2,FALSE))","v":""},null,{"$f":"IF(Q82=\"\",\"\",VLOOKUP(Q82,選手入力!$A$2:$B$202,2,FALSE))","v":""},80,0,0,0,0,0,"0000000",null,{"$f":"IF($B82=\"\",\"\",表紙!$B$34+リレー入力!$S82)","v":""},"",{"$f":"IF($B82=\"\",\"\",表紙!$B$4)","v":""},"",null,"",null,null,{"$f":"IF(I82=\"\",\"\",VLOOKUP(J82,選手入力!$B$2:$X$202,23,FALSE))","v":""},{"$f":"IF(K82=\"\",\"\",VLOOKUP(L82,選手入力!$B$2:$X$202,23,FALSE))","v":""},{"$f":"IF(M82=\"\",\"\",VLOOKUP(N82,選手入力!$B$2:$X$202,23,FALSE))","v":""},{"$f":"IF(O82=\"\",\"\",VLOOKUP(P82,選手入力!$B$2:$X$202,23,FALSE))","v":""},{"$f":"IF(Q82=\"\",\"\",VLOOKUP(R82,選手入力!$B$2:$X$202,23,FALSE))","v":""}]

{"sheet":"学校データ","index":3,"n_rows":312,"n_cols":8,"rows_kept":312}
["学校コード","N1","N2","N3","KC",null,"選手初期NO","リレー初期NO"]
[101,"ﾏｴﾊﾞｼ.ﾓﾓﾉｲ","前橋市立桃井小学校","前・桃井",1,1,{"$f":"F2*1000","v":1000},{"$f":"F2*10","v":10}]
[102,"ﾏｴﾊﾞｼ.ﾅｶｶﾞﾜ","前橋市立中川小学校","前・中川",1,2,{"$f":"F3*1000","v":2000},{"$f":"F3*10","v":20}]
[103,"ﾏｴﾊﾞｼ.ｼｷｼﾏ","前橋市立敷島小学校","前・敷島",1,3,3000,30]
[104,"ﾏｴﾊﾞｼ.ｼﾞｮｳﾅﾝ","前橋市立城南小学校","前・城南",1,4,4000,40]
[105,"ﾏｴﾊﾞｼ.ｼﾞｮｳﾄｳ","前橋市立城東小学校","前・城東",1,5,5000,50]
[106,"ﾏｴﾊﾞｼ.ﾜｶﾐﾔ","前橋市立若宮小学校","前・若宮",1,6,6000,60]
[107,"ﾏｴﾊﾞｼ.ｱﾏｶﾞﾜ","前橋市立天川小学校","前・天川",1,7,7000,70]
[108,"ﾏｴﾊﾞｼ.ｲﾜｶﾞﾐ","前橋市立岩神小学校","前・岩神",1,8,8000,80]
[110,"ﾏｴﾊﾞｼ.ﾋﾛｾ","前橋市立広瀬小学校","前・広瀬",1,9,9000,90]
[111,"ﾏｴﾊﾞｼ.ｻﾝﾉｳ","前橋市立山王小学校","前・山王",1,10,10000,100]
[112,"ﾏｴﾊﾞｼ.ﾜｶﾊﾞ","前橋市立わかば小学校","前・わかば",1,11,11000,110]
[114,"ﾏｴﾊﾞｼ.ｶﾐｶﾜﾌﾁ","前橋市立上川淵小学校","前・上川淵",1,12,12000,120]
[115,"ﾏｴﾊﾞｼ.ｼﾓｶﾜﾌﾁ","前橋市立下川淵小学校","前・下川淵",1,13,13000,130]
[116,"ﾏｴﾊﾞｼ.ｶｲｶﾞﾔ","前橋市立桂萱小学校","前・桂萱",1,14,14000,140]
[117,"ﾏｴﾊﾞｼ.ﾓﾓﾉｷ","前橋市立桃木小学校","前・桃木",1,15,15000,150]
[118,"ﾏｴﾊﾞｼ.ｶｲｶﾞﾔﾋｶﾞｼ","前橋市立桂萱東小学校","前・桂萱東",1,16,16000,160]
[119,"ﾏｴﾊﾞｼ.ﾓﾓﾉｾ","前橋市立桃瀬小学校","前・桃瀬",1,17,17000,170]
[120,"ﾏｴﾊﾞｼ.ﾊｶﾞ","前橋市立芳賀小学校","前・芳賀",1,18,18000,180]
[122,"ﾏｴﾊﾞｼ.ｿｳｼﾞｬ","前橋市立総社小学校","前・総社",1,19,19000,190]
[123,"ﾏｴﾊﾞｼ.ｶﾂﾔﾏ","前橋市立勝山小学校","前・勝山",1,20,20000,200]
[124,"ﾏｴﾊﾞｼ.ﾓﾄｿｳｼﾞｬ","前橋市立元総社小学校","前・元総社",1,21,21000,210]
[125,"ﾏｴﾊﾞｼﾓﾄｿｳｼﾞｬﾐﾅﾐ","前橋市立元総社南小学校","前・元総社南",1,22,22000,220]
[126,"ﾏｴﾊﾞｼ.ﾓﾄｿｳｼﾞｬｷﾀ","前橋市立元総社北小学校","前・元総社北",1,23,23000,230]
[127,"ﾏｴﾊﾞｼ.ｱｽﾞﾏ","前橋市立東小学校","前・東",1,24,24000,240]
[128,"ﾏｴﾊﾞｼ.ｵｵﾄﾈ","前橋市立大利根小学校","前・大利根",1,25,25000,250]
[129,"ﾏｴﾊﾞｼ.ｼﾝﾃﾞﾝ","前橋市立新田小学校","前・新田",1,26,26000,260]
[130,"ﾏｴﾊﾞｼ.ﾎｿｲ","前橋市立細井小学校","前・細井",1,27,27000,270]
[131,"ﾏｴﾊﾞｼ.ﾓﾓｶﾜ","前橋市立桃川小学校","前・桃川",1,28,28000,280]
[132,"ﾏｴﾊﾞｼ.ｱﾗﾏｷ","前橋市立荒牧小学校","前・荒牧",1,29,29000,290]
[133,"ﾏｴﾊﾞｼ.ｷﾖｻﾄ","前橋市立清里小学校","前・清里",1,30,30000,300]
[134,"ﾏｴﾊﾞｼ.ｴｲﾒｲ","前橋市立永明小学校","前・永明",1,31,31000,310]
[135,"ﾏｴﾊﾞｼ.ｺﾏｶﾞﾀ","前橋市立駒形小学校","前・駒形",1,32,32000,320]
[136,"ﾏｴﾊﾞｼ.ｱﾗｺ","前橋市立荒子小学校","前・荒子",1,33,33000,330]
[137,"ﾏｴﾊﾞｼ.ｵｵﾑﾛ","前橋市立大室小学校","前・大室",1,34,34000,340]
[138,"ﾏｴﾊﾞｼ.ﾆﾉﾐﾔ","前橋市立二之宮小学校","前・二之宮",1,35,35000,350]
[139,"ﾏｴﾊﾞｼ.ｳﾂﾎﾞｲ","前橋市立笂井小学校","前・笂井",1,36,36000,360]
[140,"ﾏｴﾊﾞｼ.ｵｵｺﾞ","前橋市立大胡小学校","前・大胡",1,37,37000,370]
[141,"ﾏｴﾊﾞｼ.ﾀｷｸﾎﾞ","前橋市立滝窪小学校","前・滝窪",1,38,38000,380]
[142,"ﾏｴﾊﾞｼ.ｵｵｺﾞﾋｶﾞｼ","前橋市立大胡東小学校","前・大胡東",1,39,39000,390]
[143,"ﾏｴﾊﾞｼ.ﾐﾔｷﾞ","前橋市立宮城小学校","前・宮城",1,40,40000,400]
[144,"ﾏｴﾊﾞｼ.ｶｽｶﾜ","前橋市立粕川小学校","前・粕川",1,41,41000,410]
[145,"ﾏｴﾊﾞｼ.ﾂｷﾀﾞ","前橋市立月田小学校","前・月田",1,42,42000,420]
[146,"ﾏｴﾊﾞｼ.ﾊﾗ","前橋市立原小学校","前・原",1,43,43000,430]
[147,"ﾏｴﾊﾞｼ.ｲｼｲ","前橋市立石井小学校","前・石井",1,44,44000,440]
[148,"ﾏｴﾊﾞｼ.ﾄｷｻﾞﾜ","前橋市立時沢小学校","前・時沢",1,45,45000,450]
[149,"ﾏｴﾊﾞｼ.ｼﾗｶﾜ","前橋市立白川小学校","前・白川",1,46,46000,460]
[150,"ｸﾞﾝﾀﾞｲﾌｿﾞｸ","群馬大学附属小学校","前・群大附属",1,47,47000,470]
[151,"ｹﾝﾘﾂﾛｳｶﾞｯｺｳ","群馬県立聾学校小学部","前・県聾",1,48,48000,480]
[152,"ﾏｴﾊﾞｼ.ｷｮｳｱｲ","共愛学園小学校","前・共愛",1,49,49000,490]
[201,"ｲｾｻｷ.ｷﾀ","伊勢崎市立北小学校","伊・北",2,50,50000,500]
[202,"ｲｾｻｷ.ﾐﾅﾐ","伊勢崎市立南小学校","伊・南",2,51,51000,510]
[203,"ｲｾｻｷ.ｳｴﾊｽ","伊勢崎市立殖蓮小学校","伊・殖蓮",2,52,52000,520]
[204,"ｲｾｻｷ.ﾓﾛ","伊勢崎市立茂呂小学校","伊・茂呂",2,53,53000,530]
[205,"ｲｾｻｷ.ﾐｻﾄ","伊勢崎市立三郷小学校","伊・三郷",2,54,54000,540]
[206,"ｲｾｻｷ.ﾐﾔｺﾞｳ","伊勢崎市立宮郷小学校","伊・宮郷",2,55,55000,550]
[207,"ｲｾｻｷ.ﾅﾜ","伊勢崎市立名和小学校","伊・名和",2,56,56000,560]
[208,"ｲｾｻｷ.ﾄﾖｳｹ","伊勢崎市立豊受小学校","伊・豊受",2,57,57000,570]
[209,"ｲｾｻｷ.ｷﾀﾀﾞｲﾆ","伊勢崎市立北第二小学校","伊・北第二",2,58,58000,580]
[210,"ｲｾｻｷ.ｳｴﾊｽﾀﾞｲﾆ","伊勢崎市立殖蓮第二小学校","伊・殖蓮第二",2,59,59000,590]
[211,"ｲｾｻｷ.ﾋﾛｾ","伊勢崎市立広瀬小学校","伊・広瀬",2,60,60000,600]
[212,"ｲｾｻｷ.ﾊﾞﾝﾄﾞｳ","伊勢崎市立坂東小学校","伊・坂東",2,61,61000,610]
[213,"ｲｾｻｷ.ﾐﾔｺﾞｳﾀﾞｲﾆ","伊勢崎市立宮郷第二小学校","伊・宮郷第二",2,62,62000,620]
[214,"ｲｾｻｷ.ｱｶﾎﾞﾘ","伊勢崎市立赤堀小学校","伊・赤堀",2,63,63000,630]
[215,"ｲｾｻｷ.ｱｶﾎﾞﾘﾐﾅﾐ","伊勢崎市立赤堀南小学校","伊・赤堀南",2,64,64000,640]
[216,"ｲｾｻｷ.ｱｶﾎﾞﾘﾋｶﾞｼ","伊勢崎市立赤堀東小学校","伊・赤堀東",2,65,65000,650]
[217,"ｲｾｻｷ.ｱｽﾞﾏ","伊勢崎市立あずま小学校","伊・あずま",2,66,{"$f":"F67*1000","v":66000},{"$f":"F67*10","v":660}]
[218,"ｲｾｻｷ.ｱｽﾞﾏﾐﾅﾐ","伊勢崎市立あずま南小学校","伊・あずま南",2,67,67000,670]
[219,"ｲｾｻｷ.ｱｽﾞﾏｷﾀ","伊勢崎市立あずま北小学校","伊・あずま北",2,68,68000,680]
[220,"ｲｾｻｷ.ｻｶｲ","伊勢崎市立境小学校","伊・境",2,69,69000,690]
[221,"ｲｾｻｷ.ｻｶｲｳﾈﾒ","伊勢崎市立境采女小学校","伊・境采女",2,70,70000,700]
[222,"ｲｾｻｷ.ｻｶｲｺﾞｳｼ","伊勢崎市立境剛志小学校","伊・境剛志",2,71,71000,710]
[224,"ｲｾｻｷ.ｻｶｲﾋｶﾞｼ","伊勢崎市立境東小学校","伊・境東",2,72,72000,720]
[301,"ﾀﾏﾑﾗ.ﾀﾏﾑﾗ","玉村町立玉村小学校","佐・玉村",3,73,73000,730]
[302,"ﾀﾏﾑﾗ.ｼﾞｮｳﾖｳ","玉村町立上陽小学校","佐・上陽",3,74,74000,740]
[303,"ﾀﾏﾑﾗ.ｼﾊﾞﾈ","玉村町立芝根小学校","佐・芝根",3,75,75000,750]
[304,"ﾀﾏﾑﾗ.ﾁｭｳｵｳ","玉村町立中央小学校","佐・玉村中央",3,76,76000,760]
[305,"ﾀﾏﾑﾗ.ﾐﾅﾐ","玉村町立南小学校","佐・玉村南",3,77,77000,770]
[306,"ﾌｪﾘｰﾁｪﾀﾏﾑﾗｺｸｻｲ","フェリーチェ玉村国際小学校","佐・ﾌｪﾘｰﾁｪ",3,78,78000,780]
[401,"ｼﾝﾄｳ.ｷﾀ","榛東村立北小学校","北・榛東北",4,79,79000,790]
[402,"ｼﾝﾄｳ.ﾐﾅﾐ","榛東村立南小学校","北・榛東南",4,80,80000,800]
[403,"ﾖｼｵｶ.ﾒｲｼﾞ","吉岡村立明治小学校","北・明治",4,81,81000,810]
[404,"ﾖｼｵｶ.ｺﾏﾖｾ","吉岡村立駒寄小学校","北・駒寄",4,82,82000,820]
[501,"ｼﾌﾞｶﾜ.ｷﾀ","渋川市立渋川北小学校","渋・渋川北",5,83,83000,830]
[502,"ｼﾌﾞｶﾜ.ﾐﾅﾐ","渋川市立渋川南小学校","渋・渋川南",5,84,84000,840]
[503,"ｼﾌﾞｶﾜ.ｶﾅｼﾏ","渋川市立金島小学校","渋・金島",5,85,85000,850]
[504,"ｼﾌﾞｶﾜ.ﾌﾙﾏｷ","渋川市立古巻小学校","渋・古巻",5,86,86000,860]
[505,"ｼﾌﾞｶﾜ.ﾄﾖｱｷ","渋川市立豊秋小学校","渋・豊秋",5,87,87000,870]
[506,"ｼﾌﾞｶﾜ.ﾆｼ","渋川市立渋川西小学校","渋・渋川西",5,88,88000,880]
[507,"ｼﾌﾞｶﾜ.ｲｶﾎ","渋川市立伊香保小学校","渋・伊香保",5,89,89000,890]
[508,"ｼﾌﾞｶﾜ.ｵﾉｶﾞﾐ","渋川市立小野上小学校","渋・小野上",5,90,90000,900]
[510,"ｼﾌﾞｶﾜ.ﾅｶｺﾞｳ","渋川市立中郷小学校","渋・中郷",5,91,91000,910]
[511,"ｼﾌﾞｶﾜ.ﾅｶﾞｵ","渋川市立長尾小学校","渋・長尾",5,92,92000,920]
[512,"ｼﾌﾞｶﾜ.ﾐﾊﾗﾀﾞ","渋川市立三原田小学校","渋・三原田",5,93,93000,930]
[514,"ｼﾌﾞｶﾜ.ﾂｸﾀﾞ","渋川市立津久田小学校","渋・津久田",5,94,94000,940]
[516,"ｼﾌﾞｶﾜ.ﾀﾁﾊﾞﾅ","渋川市立橘小学校","渋・橘",5,95,95000,950]
[517,"ｼﾌﾞｶﾜ.ﾀﾁﾊﾞﾅｷﾀ","渋川市立橘北小学校","渋・橘北",5,96,96000,960]
[601,"ｶﾀｼﾅ.ｶﾀｼﾅ","片品町立片品小学校","利・片品",6,97,97000,970]
[605,"ｶﾜﾊﾞ.ｶﾜﾊﾞ","川場村立川場小学校","利・川場",6,98,98000,980]
[606,"ﾐﾅｶﾐ.ｺﾒﾏｷ","みなかみ町立古馬牧小学校","利・古馬牧",6,99,99000,990]
[607,"ﾐﾅｶﾐ.ﾓﾓﾉ","みなかみ町立桃野小学校","利・桃野",6,100,100000,1000]
[608,"ﾐﾅｶﾐ.ﾂｷﾖﾉｷﾀ","みなかみ町立月夜野北小学校","利・月夜野北",6,101,101000,1010]
[609,"ﾐﾅｶﾐ.ﾐﾅｶﾐ","みなかみ町立水上小学校","利・水上",6,102,102000,1020]
[610,"ﾐﾅｶﾐ.ﾌｼﾞﾜﾗ","みなかみ町立藤原小学校","利・藤原",6,103,103000,1030]
[611,"ﾐﾅｶﾐ.ﾆｲﾊﾙ","みなかみ町立新治小学校","利・新治",6,104,104000,1040]
[612,"ｼｮｳﾜ.ﾋｶﾞｼ","昭和村立東小学校","利・昭和東",6,105,105000,1050]
[613,"ｼｮｳﾜ.ﾐﾅﾐ","昭和村立南小学校","利・昭和南",6,106,106000,1060]
[614,"ｼｮｳﾜ.ｵｵｶﾜﾗ","昭和村立大河原小学校","利・大河原",6,107,107000,1070]
[701,"ﾇﾏﾀ.ﾇﾏﾀ","沼田市立沼田小学校","沼・沼田",7,108,108000,1080]
[702,"ﾇﾏﾀ.ﾇﾏﾀﾋｶﾞｼ","沼田市立沼田東小学校","沼・沼田東",7,109,109000,1090]
[703,"ﾇﾏﾀ.ﾇﾏﾀｷﾀ","沼田市立沼田北小学校","沼・沼田北",7,110,110000,1100]
[704,"ﾇﾏﾀ.ﾏｽｶﾞﾀ","沼田市立升形小学校","沼・升形",7,111,111000,1110]
[705,"ﾇﾏﾀ.ﾄﾅﾐﾋｶﾞｼ","沼田市立利南東小学校","沼・利南東",7,112,112000,1120]
[706,"ﾇﾏﾀ.ｲｹﾀﾞ","沼田市立池田小学校","沼・池田",7,113,113000,1130]
[707,"ﾇﾏﾀ.ｳｽﾈ","沼田市立薄根小学校","沼・薄根",7,114,114000,1140]
[708,"ﾇﾏﾀ.ｶﾜﾀﾞ","沼田市立川田小学校","沼・川田",7,115,115000,1150]
[709,"ﾇﾏﾀ.ｼﾗｻﾜ","沼田市立白沢小学校","沼・白沢",7,116,116000,1160]
[710,"ﾇﾏﾀ.ﾄﾈ","沼田市立利根小学校","沼・利根",7,117,117000,1170]
[713,"ﾇﾏﾀ.ﾀﾅ","沼田市立多那小学校","沼・多那",7,118,118000,1180]
[801,"ﾅｶﾉｼﾞｮｳ.ﾅｶﾉｼﾞｮｳ","中之条町立中之条小学校","吾・中之条",8,119,119000,1190]
[805,"ﾅｶﾉｼﾞｮｳ.ｸﾆ","中之条町立六合小学校","吾・六合",8,120,120000,1200]
[806,"ﾋｶﾞｼｱｶﾞﾂﾏ.ｱｽﾞﾏ","東吾妻町立東小学校","吾・東吾妻東",8,121,121000,1210]
[807,"ﾋｶﾞｼｱｶﾞﾂﾏ.ﾊﾗﾏﾁ","東吾妻町立原町小学校","吾・原町",8,122,122000,1220]
[808,"ﾋｶﾞｼｱｶﾞﾂﾏ.ｵｵﾀ","東吾妻町立太田小学校","吾・東吾妻太田",8,123,123000,1230]
[809,"ﾋｶﾞｼｱｶﾞﾂﾏ.ｲﾜｼﾏ","東吾妻町立岩島小学校","吾・岩島",8,124,124000,1240]
[810,"ﾋｶﾞｼｱｶﾞﾂﾏ.ｻｶｳｴ","東吾妻町立坂上小学校","吾・坂上",8,125,125000,1250]
[811,"ﾅｶﾞﾉﾊﾗ.ﾁｭｳｵｳ","長野原町立中央小学校","吾・長野原中央",8,126,126000,1260]
[813,"ﾅｶﾞﾉﾊﾗ.ｵｳｸﾜ","長野原町立応桑小学校","吾・応桑",8,127,127000,1270]
[814,"ﾅｶﾞﾉﾊﾗ.ｷﾀｶﾙｲｻﾞﾜ","長野原町立北軽井沢小学校","吾・北軽井沢",8,128,128000,1280]
[815,"ﾂﾏｺﾞｲ.ﾄｳﾌﾞ","嬬恋村立東部小学校","吾・嬬恋東部",8,129,129000,1290]
[816,"ﾂﾏｺﾞｲ.ｾｲﾌﾞ","嬬恋村立西部小学校","吾・嬬恋西部",8,130,{"$f":"F131*1000","v":130000},{"$f":"F131*10","v":1300}]
[820,"ｸｻﾂ.ｸｻﾂ","草津町立草津小学校","吾・草津",8,131,131000,1310]
[821,"ﾀｶﾔﾏ.ﾀｶﾔﾏ","高山村立高山小学校","吾・高山",8,132,132000,1320]
[901,"ﾀｶｻｷ.ﾁｭｳｵｳ","高崎市立中央小学校","高・中央",9,133,133000,1330]
[902,"ﾀｶｻｷ.ｷﾀ","高崎市立北小学校","高・北",9,134,134000,1340]
[903,"ﾀｶｻｷ.ﾐﾅﾐ","高崎市立南小学校","高・南",9,135,135000,1350]
[904,"ﾀｶｻｷ.ﾋｶﾞｼ","高崎市立東小学校","高・東",9,136,136000,1360]
[905,"ﾀｶｻｷ.ﾆｼ","高崎市立西小学校","高・西",9,137,137000,1370]
[906,"ﾀｶｻｷ.ﾂｶｻﾜ","高崎市立塚沢小学校","高・塚沢",9,138,138000,1380]
[907,"ﾀｶｻｷ.ｶﾀｵｶ","高崎市立片岡小学校","高・片岡",9,139,139000,1390]
[908,"ﾀｶｻｷ.ﾃﾗｵ","高崎市立寺尾小学校","高・寺尾",9,140,140000,1400]
[909,"ﾀｶｻｷ.ｻﾉ","高崎市立佐野小学校","高・佐野",9,141,141000,1410]
[910,"ﾀｶｻｷ.ﾛｸｺﾞｳ","高崎市立六郷小学校","高・六郷",9,142,142000,1420]
[911,"ﾀｶｻｷ.ｼﾞｮｳﾅﾝ","高崎市立城南小学校","高・城南",9,143,143000,1430]
[912,"ﾀｶｻｷ.ｼﾞｮｳﾄｳ","高崎市立城東小学校","高・城東",9,144,144000,1440]
[913,"ﾀｶｻｷ.ｼﾝﾀｶｵ","高崎市立新高尾小学校","高・新高尾",9,145,145000,1450]
[914,"ﾀｶｻｷ.ﾅｶｶﾞﾜ","高崎市立中川小学校","高・中川",9,146,146000,1460]
[915,"ﾀｶｻｷ.ﾔﾜﾀ","高崎市立八幡小学校","高・八幡",9,147,147000,1470]
[916,"ﾀｶｻｷ.ﾄﾖｵｶ","高崎市立豊岡小学校","高・豊岡",9,148,148000,1480]
[917,"ﾀｶｻｷ.ﾅｶﾞﾉ","高崎市立長野小学校","高・長野",9,149,149000,1490]
[918,"ﾀｶｻｷ.ｵｵﾙｲ","高崎市立大類小学校","高・大類",9,150,150000,1500]
[919,"ﾀｶｻｷ.ﾐﾅﾐﾔﾜﾀ","高崎市立南八幡小学校","高・南八幡",9,151,151000,1510]
[920,"ﾀｶｻｷ.ｸﾗｶﾞﾉ","高崎市立倉賀野小学校","高・倉賀野",9,152,152000,1520]
[921,"ﾀｶｻｷ.ｲﾜﾊﾅ","高崎市立岩鼻小学校","高・岩鼻",9,153,153000,1530]
[922,"ﾀｶｻｷ.ｷｮｳｶﾞｼﾏ","高崎市立京ヶ島小学校","高・京ヶ島",9,154,154000,1540]
[923,"ﾀｶｻｷ.ﾀｷｶﾞﾜ","高崎市立滝川小学校","高・滝川",9,155,155000,1550]
[924,"ﾀｶｻｷ.ﾄｳﾌﾞ","高崎市立東部小学校","高・東部",9,156,156000,1560]
[925,"ﾀｶｻｷ.ﾅｶｲ","高崎市立中居小学校","高・中居",9,157,157000,1570]
[926,"ﾀｶｻｷ.ﾎｸﾌﾞ","高崎市立北部小学校","高・北部",9,158,158000,1580]
[927,"ﾀｶｻｷ.ｾｲﾌﾞ","高崎市立西部小学校","高・西部",9,159,159000,1590]
[928,"ﾀｶｻｷ.ﾉﾂｹ","高崎市立乗附小学校","高・乗附",9,160,160000,1600]
[929,"ﾀｶｻｷ.ﾊﾏｼﾞﾘ","高崎市立浜尻小学校","高・浜尻",9,161,161000,1610]
[930,"ﾀｶｻｷ.ﾔﾅｶ","高崎市立矢中小学校","高・矢中",9,162,162000,1620]
[931,"ﾀｶｻｷ.ｼﾛﾔﾏ","高崎市立城山小学校","高・城山",9,163,163000,1630]
[932,"ﾀｶｻｷ.ﾊﾅﾀﾞｶ","高崎市立鼻高小学校","高・鼻高",9,164,164000,1640]
[933,"ﾀｶｻｷ.ｸﾗﾌﾞﾁ","高崎市立倉渕小学校","高・倉渕",9,165,165000,1650]
[934,"ﾀｶｻｷ.ﾐﾉﾜ","高崎市立箕輪小学校","高・箕輪",9,166,166000,1660]
[935,"ﾀｶｻｷ.ｸﾙﾏｻﾄ","高崎市立車郷小学校","高・車郷",9,167,167000,1670]
[936,"ﾀｶｻｷ.ﾐｻﾄﾋｶﾞｼ","高崎市立箕郷東小学校","高・箕郷東",9,168,168000,1680]
[937,"ﾀｶｻｷ.ｶﾈｺ","高崎市立金古小学校","高・金古",9,169,169000,1690]
[938,"ﾀｶｻｷ.ｺｸﾌ","高崎市立国府小学校","高・国府",9,170,170000,1700]
[939,"ﾀｶｻｷ.ﾂﾂﾐｶﾞｵｶ","高崎市立堤ヶ岡小学校","高・堤ヶ岡",9,171,171000,1710]
[940,"ﾀｶｻｷ.ｶﾐｻﾄ","高崎市立上郊小学校","高・上郊",9,172,172000,1720]
[941,"ﾀｶｻｷ.ｶﾈｺﾐﾅﾐ","高崎市立金古南小学校","高・金古南",9,173,173000,1730]
[942,"ﾀｶｻｷ.ｻｸﾗﾔﾏ","高崎市立桜山小学校","高・桜山",9,174,174000,1740]
[943,"ﾀｶｻｷ.ｼﾝﾏﾁﾀﾞｲｲﾁ","高崎市立新町第一小学校","高・新町第一",9,175,175000,1750]
[944,"ﾀｶｻｷ.ｼﾝﾏﾁﾀﾞｲﾆ","高崎市立新町第二小学校","高・新町第二",9,176,176000,1760]
[945,"ﾀｶｻｷ.ｼﾓﾑﾛﾀ","高崎市立下室田小学校","高・下室田",9,177,177000,1770]
[946,"ﾀｶｻｷ.ﾅｶﾑﾛﾀ","高崎市立中室田小学校","高・中室田",9,178,178000,1780]
[947,"ﾀｶｻｷ.ｶﾐﾑﾛﾀ","高崎市立上室田小学校","高・上室田",9,179,179000,1790]
[948,"ﾀｶｻｷ.ｻﾄﾐ","高崎市立里見小学校","高・里見",9,180,180000,1800]
[949,"ﾀｶｻｷ.ｸﾙﾏ","高崎市立久留馬小学校","高・久留馬",9,181,181000,1810]
[950,"ﾀｶｻｷ.ｼﾓｻﾄﾐ","高崎市立下里見小学校","高・下里見",9,182,182000,1820]
[951,"ﾀｶｻｷ.ﾐﾔｻﾞﾜ","高崎市立宮沢小学校","高・宮沢",9,183,183000,1830]
[952,"ﾀｶｻｷ.ﾀｶｻｷ","高崎市立吉井小学校","高・吉井",9,184,184000,1840]
[953,"ﾀｶｻｷ.ﾀｶｻｷﾆｼ","高崎市立吉井西小学校","高・吉井西",9,185,185000,1850]
[954,"ﾀｶｻｷ.ﾀｺﾞ","高崎市立多胡小学校","高・多胡",9,186,186000,1860]
[955,"ﾀｶｻｷ.ｲﾘﾉ","高崎市立入野小学校","高・入野",9,187,187000,1870]
[956,"ﾀｶｻｷ.ﾏﾆﾜ","高崎市立馬庭小学校","高・馬庭",9,188,188000,1880]
[957,"ﾀｶｻｷ.ﾅﾝﾖｳﾀﾞｲ","高崎市立南陽台小学校","高・南陽台",9,189,189000,1890]
[958,"ﾀｶｻｷ.ｲﾜﾀﾞｲﾗ","高崎市立岩平小学校","高・岩平",9,190,190000,1900]
[1001,"ｱﾝﾅｶ.ｱﾝﾅｶ","安中市立安中小学校","安・安中",10,191,191000,1910]
[1002,"ｱﾝﾅｶ.ﾊﾗｲﾁ","安中市立原市小学校","安・原市",10,192,192000,1920]
[1003,"ｱﾝﾅｶ.ｲｿﾍﾞ","安中市立磯部小学校","安・磯部",10,193,193000,1930]
[1004,"ｱﾝﾅｶ.ﾋｶﾞｼﾖｺﾉ","安中市立東横野小学校","安・東横野",10,194,{"$f":"F195*1000","v":194000},{"$f":"F195*10","v":1940}]
[1005,"ｱﾝﾅｶ.ﾀｲﾄｳ","安中市立碓東小学校","安・碓東",10,195,195000,1950]
[1006,"ｱﾝﾅｶ.ｱｷﾏ","安中市立秋間小学校","安・秋間",10,196,196000,1960]
[1007,"ｱﾝﾅｶ.ｺﾞｶﾝ","安中市立後閑小学校","安・後閑",10,197,197000,1970]
[1008,"ｱﾝﾅｶ.ﾏﾂｲﾀﾞ","安中市立松井田小学校","安・松井田",10,198,198000,1980]
[1009,"ｱﾝﾅｶ.ｳｽｲ","安中市立臼井小学校","安・臼井",10,199,199000,1990]
[1011,"ｱﾝﾅｶ.ﾆｼﾖｺﾉ","安中市立西横野小学校","安・西横野",10,200,200000,2000]
[1012,"ｱﾝﾅｶ.ﾂｸﾓ","安中市立九十九小学校","安・九十九",10,201,201000,2010]
[1013,"ｱﾝﾅｶ.ﾎｿﾉ","安中市立細野小学校","安・細野",10,202,202000,2020]
[1101,"ｶﾝﾗ.ｵﾊﾞﾀ","甘楽町立小幡小学校","甘・小幡",11,203,203000,2030]
[1102,"ｶﾝﾗ.ﾌｸｼﾏ","甘楽町立福島小学校","甘・福島",11,204,204000,2040]
[1103,"ｶﾝﾗ.ﾆｲﾔ","甘楽町立新屋小学校","甘・新屋",11,205,205000,2050]
[1104,"ｼﾓﾆﾀ.ｼﾓﾆﾀ","下仁田町立下仁田小学校","甘・下仁田",11,206,206000,2060]
[1105,"ﾅﾝﾓｸ.ﾅﾝﾓｸ","南牧村立南牧小学校","甘・南牧",11,207,207000,2070]
[1106,"ﾄﾐｵｶ.ﾄﾐｵｶ","富岡市立富岡小学校","富・富岡",11,208,208000,2080]
[1107,"ﾄﾐｵｶ.ﾆｼ","富岡市立西小学校","富・富岡西",11,209,209000,2090]
[1108,"ﾄﾐｵｶ.ｸﾛｲﾜ","富岡市立黒岩小学校","富・黒岩",11,210,210000,2100]
[1109,"ﾄﾐｵｶ.ｲﾁﾉﾐﾔ","富岡市立一ノ宮小学校","富・一ノ宮",11,211,211000,2110]
[1110,"ﾄﾐｵｶ.ﾀｶｾ","富岡市立高瀬小学校","富・高瀬",11,212,212000,2120]
[1111,"ﾄﾐｵｶ.ﾇｶﾍﾞ","富岡市立額部小学校","富・額部",11,213,213000,2130]
[1112,"ﾄﾐｵｶ.ｵﾉ","富岡市立小野小学校","富・小野",11,214,214000,2140]
[1113,"ﾄﾐｵｶ.ﾖｼﾀﾞ","富岡市立吉田小学校","富・吉田",11,215,215000,2150]
[1114,"ﾄﾐｵｶ.ﾆｭｳ","富岡市立丹生小学校","富・丹生",11,216,216000,2160]
[1115,"ﾄﾐｵｶ.ﾀｶﾀ","富岡市立高田小学校","富・高田",11,217,217000,2170]
[1116,"ﾄﾐｵｶ.ﾐｮｳｷﾞ","富岡市立妙義小学校","富・妙義",11,218,218000,2180]
[1201,"ﾌｼﾞｵｶﾌｼﾞｵｶﾀﾞｲｲﾁ","藤岡市立藤岡第一小学校","藤・藤岡第一",12,219,219000,2190]
[1202,"ﾌｼﾞｵｶ.ﾌｼﾞｵｶﾀﾞｲﾆ","藤岡市立藤岡第二小学校","藤・藤岡第二",12,220,220000,2200]
[1203,"ﾌｼﾞｵｶ.ｶﾝﾅ","藤岡市立神流小学校","藤・神流",12,221,221000,2210]
[1204,"ﾌｼﾞｵｶ.ｵﾉ","藤岡市立小野小学校","藤・小野",12,222,222000,2220]
[1205,"ﾌｼﾞｵｶ.ﾐﾄﾞﾘ","藤岡市立美土里小学校","藤・美土里",12,223,223000,2230]
[1206,"ﾌｼﾞｵｶ.ﾐｸﾘﾋｶﾞｼ","藤岡市立美九里東小学校","藤・美九里東",12,224,224000,2240]
[1207,"ﾌｼﾞｵｶ.ﾐｸﾘﾆｼ","藤岡市立美九里西小学校","藤・美九里西",12,225,225000,2250]
[1208,"ﾌｼﾞｵｶ.ﾋﾗｲ","藤岡市立平井小学校","藤・平井",12,226,226000,2260]
[1209,"ﾌｼﾞｵｶ.ﾋﾉ","藤岡市立日野小学校","藤・日野",12,227,227000,2270]
[1210,"ﾌｼﾞｵｶ.ｵﾆｼｷﾀ","藤岡市立鬼石北小学校","藤・鬼石北",12,228,228000,2280]
[1211,"ﾌｼﾞｵｶ.ｵﾆｼ","藤岡市立鬼石小学校","藤・鬼石",12,229,229000,2290]
[1212,"ｳｴﾉ.ｳｴﾉ","上野村立上野小学校","藤・上野",12,230,230000,2300]
[1213,"ｶﾝﾅ.ﾏﾝﾊﾞ","神流町立万場小学校","藤・万場",12,231,231000,2310]
[1301,"ｷﾘｭｳ.ﾋｶﾞｼ","桐生市立東小学校","桐・東",13,232,232000,2320]
[1302,"ｷﾘｭｳ.ﾆｼ","桐生市立西小学校","桐・西",13,233,233000,2330]
[1303,"ｷﾘｭｳ.ﾐﾅﾐ","桐生市立南小学校","桐・南",13,234,234000,2340]
[1304,"ｷﾘｭｳ.ｷﾀ","桐生市立北小学校","桐・北",13,235,235000,2350]
[1306,"ｷﾘｭｳ.ｻｶｲﾉ","桐生市立境野小学校","桐・境野",13,236,236000,2360]
[1307,"ｷﾘｭｳ.ﾋﾛｻﾜ","桐生市立広沢小学校","桐・広沢",13,237,237000,2370]
[1308,"ｷﾘｭｳ.ｳﾒﾀﾞﾐﾅﾐ","桐生市立梅田南小学校","桐・梅田南",13,238,238000,2380]
[1309,"ｷﾘｭｳ.ｱｲｵｲ","桐生市立相生小学校","桐・相生",13,239,239000,2390]
[1310,"ｷﾘｭｳ.ｶﾜｳﾁ","桐生市立川内小学校","桐・川内",13,240,240000,2400]
[1311,"ｷﾘｭｳ.ｻｸﾗｷﾞ","桐生市立桜木小学校","桐・桜木",13,241,241000,2410]
[1312,"ｷﾘｭｳ.ﾋｼ","桐生市立菱小学校","桐・菱",13,242,242000,2420]
[1313,"ｷﾘｭｳ.ｱﾏﾇﾏ","桐生市立天沼小学校","桐・天沼",13,243,243000,2430]
[1314,"ｷﾘｭｳ.ｼﾝﾒｲ","桐生市立神明小学校","桐・神明",13,244,244000,2440]
[1315,"ｷﾘｭｳ.ﾆｲｻﾄﾁｭｳｵｳ","桐生市立新里中央小学校","桐・新里中央",13,245,245000,2450]
[1316,"ｷﾘｭｳ.ﾆｲｻﾄﾋｶﾞｼ","桐生市立新里東小学校","桐・新里東",13,246,246000,2460]
[1317,"ｷﾘｭｳ.ﾆｲｻﾄｷﾀ","桐生市立新里北小学校","桐・新里北",13,247,247000,2470]
[1318,"ｷﾘｭｳ.ｸﾛﾎﾈ","桐生市立黒保根小学校","桐・黒保根",13,248,248000,2480]
[1401,"ﾐﾄﾞﾘ.ｶｻｶｹ","みどり市立笠懸小学校","み・笠懸",14,249,249000,2490]
[1402,"ﾐﾄﾞﾘ.ｶｻｶｹﾋｶﾞｼ","みどり市立笠懸東小学校","み・笠懸東",14,250,250000,2500]
[1403,"ﾐﾄﾞﾘ.ｶｻｶｹｷﾀ","みどり市立笠懸北小学校","み・笠懸北",14,251,251000,2510]
[1404,"ﾐﾄﾞﾘ.ｶｻｶｹﾆｼ","みどり市立笠懸西小学校","み・笠懸西",14,252,252000,2520]
[1405,"ﾐﾄﾞﾘ.ｵｵﾏﾏｷﾀ","みどり市立大間々北小学校","み・大間々北",14,253,253000,2530]
[1406,"ﾐﾄﾞﾘ.ｵｵﾏﾏﾐﾅﾐ","みどり市立大間々南小学校","み・大間々南",14,254,254000,2540]
[1407,"ﾐﾄﾞﾘ.ｵｵﾏﾏﾋｶﾞｼ","みどり市立大間々東小学校","み・大間々東",14,255,255000,2550]
[1408,"ﾐﾄﾞﾘ.ﾌｸｵｶﾁｭｳｵｳ","みどり市立福岡中央小学校","み・福岡中央",14,256,256000,2560]
[1409,"ﾐﾄﾞﾘ.ｱｽﾞﾏ","みどり市立あずま小学校","み・あずま",14,257,257000,2570]
[1501,"ｵｵﾀ.ｵｵﾀ","太田市立太田小学校","太・太田",15,258,{"$f":"F259*1000","v":258000},{"$f":"F259*10","v":2580}]
[1502,"ｵｵﾀ.ｸｱｲ","太田市立九合小学校","太・九合",15,259,259000,2590]
[1503,"ｵｵﾀ.ｻﾜﾉ","太田市立沢野小学校","太・沢野",15,260,260000,2600]
[1504,"ｵｵﾀ.ﾆﾗｶﾞﾜ","太田市立韮川小学校","太・韮川",15,261,261000,2610]
[1505,"ｵｵﾀ.ﾄﾘﾉｺﾞｳ","太田市立鳥之郷小学校","太・鳥之郷",15,262,262000,2620]
[1507,"ｵｵﾀ.ﾐﾅﾐ","太田市立南小学校","太・太田南",15,263,263000,2630]
[1508,"ｵｵﾀ.ｷｭｳﾊｸ","太田市立休泊小学校","太・休泊",15,264,264000,2640]
[1509,"ｵｵﾀ.ｺﾞｳﾄﾞ","太田市立強戸小学校","太・強戸",15,265,265000,2650]
[1510,"ｵｵﾀ.ﾎｳｾﾝ","太田市立宝泉小学校","太・宝泉",15,266,266000,2660]
[1511,"ｵｵﾀ.ﾎｳｾﾝﾐﾅﾐ","太田市立宝泉南小学校","太・宝泉南",15,267,267000,2670]
[1512,"ｵｵﾀ.ﾓﾘﾀ","太田市立毛里田小学校","太・毛里田",15,268,268000,2680]
[1513,"ｵｵﾀ.ﾁｭｳｵｳ","太田市立中央小学校","太・太田中央",15,269,269000,2690]
[1514,"ｵｵﾀ.ﾎｳｾﾝﾋｶﾞｼ","太田市立宝泉東小学校","太・宝泉東",15,270,270000,2700]
[1516,"ｵｵﾀ.ｱｻﾋ","太田市立旭小学校","太・旭",15,271,271000,2710]
[1517,"ｵｵﾀ.ｺﾏｶﾞﾀ","太田市立駒形小学校","太・駒形",15,272,272000,2720]
[1518,"ｵｵﾀ.ｼﾞｮｳｻｲ","太田市立城西小学校","太・城西",15,273,273000,2730]
[1519,"ｵｵﾀ.ｻﾜﾉﾁｭｳｵｳ","太田市立沢野中央小学校","太・沢野中央",15,274,274000,2740]
[1520,"ｵｵﾀ.ｵｼﾞﾏ","太田市立尾島小学校","太・尾島",15,275,275000,2750]
[1521,"ｵｵﾀ.ｾﾗﾀﾞ","太田市立世良田小学校","太・世良田",15,276,276000,2760]
[1522,"ｵｵﾀ.ｷｻﾞｷ","太田市立木崎小学校","太・木崎",15,277,277000,2770]
[1523,"ｵｵﾀ.ｲｸｼﾅ","太田市立生品小学校","太・生品",15,278,278000,2780]
[1524,"ｵｵﾀ.ﾜﾀｳﾁ","太田市立綿打小学校","太・綿打",15,279,279000,2790]
[1525,"ｵｵﾀ.ﾔﾌﾞﾂﾞｶ","太田市立藪塚本町小学校","太・藪塚",15,280,280000,2800]
[1526,"ｵｵﾀ.ﾔﾌﾞﾂﾞｶﾐﾅﾐ","太田市立藪塚本町南小学校","太・藪塚南",15,281,281000,2810]
[1527,"ｵｵﾀ.ｷﾀﾉﾓﾘ","北の杜学園","太・北の杜",15,282,282000,2820]
[1528,"ｸﾞﾝﾏｺｸｻｲｱｶﾃﾞﾐｰ","学校法人太田国際学園ぐんま国際アカデミー","太・ＧＫＡ",15,283,283000,2830]
[1601,"ｲﾀｸﾗ.ﾋｶﾞｼ","板倉町立東小学校","邑・板倉東",16,284,284000,2840]
[1602,"ｲﾀｸﾗ.ﾆｼ","板倉町立西小学校","邑・板倉西",16,285,285000,2850]
[1603,"ｲﾀｸﾗ.ﾐﾅﾐ","板倉町立南小学校","邑・板倉南",16,286,286000,2860]
[1604,"ｲﾀｸﾗ.ｷﾀ","板倉町立北小学校","邑・板倉北",16,287,287000,2870]
[1605,"ﾒｲﾜ.ﾒｲﾜﾋｶﾞｼ","明和町立明和東小学校","邑・明和東",16,288,288000,2880]
[1606,"ﾒｲﾜ.ﾒｲﾜﾆｼ","明和町立明和西小学校","邑・明和西",16,289,289000,2890]
[1607,"ﾁﾖﾀﾞ.ﾆｼ","千代田町立西小学校","邑・千代田西",16,290,290000,2900]
[1608,"ﾁﾖﾀﾞ.ﾋｶﾞｼ","千代田町立東小学校","邑・千代田東",16,291,291000,2910]
[1609,"ｵｵｲｽﾞﾐ.ﾐﾅﾐ","大泉町立南小学校","邑・大泉南",16,292,292000,2920]
[1610,"ｵｵｲｽﾞﾐ.ｷﾀ","大泉町立北小学校","邑・大泉北",16,293,293000,2930]
[1611,"ｵｵｲｽﾞﾐ.ﾆｼ","大泉町立西小学校","邑・大泉西",16,294,294000,2940]
[1612,"ｵｵｲｽﾞﾐ.ﾋｶﾞｼ","大泉町立東小学校","邑・大泉東",16,295,295000,2950]
[1613,"ｵｳﾗ.ﾅｶﾉ","邑楽町立中野小学校","邑・中野",16,296,296000,2960]
[1614,"ｵｳﾗ.ﾀｶｼﾏ","邑楽町立高島小学校","邑・高島",16,297,297000,2970]
[1615,"ｵｳﾗ.ﾅｶﾞｴ","邑楽町立長柄小学校","邑・長柄",16,298,298000,2980]
[1616,"ｵｳﾗ.ﾅｶﾉﾋｶﾞｼ","邑楽町立中野東小学校","邑・中野東",16,299,299000,2990]
[1701,"ﾀﾃﾊﾞﾔｼ.ﾀﾞｲｲﾁ","館林市立第一小学校","館・第一",17,300,300000,3000]
[1702,"ﾀﾃﾊﾞﾔｼ.ﾀﾞｲﾆ","館林市立第二小学校","館・第二",17,301,301000,3010]
[1703,"ﾀﾃﾊﾞﾔｼ.ﾀﾞｲｻﾝ","館林市立第三小学校","館・第三",17,302,302000,3020]
[1704,"ﾀﾃﾊﾞﾔｼ.ﾀﾞｲﾖﾝ","館林市立第四小学校","館・第四",17,303,303000,3030]
[1705,"ﾀﾃﾊﾞﾔｼ.ﾀﾞｲｺﾞ","館林市立第五小学校","館・第五",17,304,304000,3040]
[1706,"ﾀﾃﾊﾞﾔｼ.ﾀﾞｲﾛｸ","館林市立第六小学校","館・第六",17,305,305000,3050]
[1707,"ﾀﾃﾊﾞﾔｼ.ﾀﾞｲﾅﾅ","館林市立第七小学校","館・第七",17,306,306000,3060]
[1708,"ﾀﾃﾊﾞﾔｼ.ﾀﾞｲﾊﾁ","館林市立第八小学校","館・第八",17,307,307000,3070]
[1709,"ﾀﾃﾊﾞﾔｼ.ﾀﾞｲｷｭｳ","館林市立第九小学校","館・第九",17,308,308000,3080]
[1710,"ﾀﾃﾊﾞﾔｼ.ﾀﾞｲｼﾞｭｳ","館林市立第十小学校","館・第十",17,309,309000,3090]
[1711,"ﾀﾃﾊﾞﾔｼ.ﾐｿﾉ","館林市立美園小学校","館・美園",17,310,310000,3100]
[5000,"ｹﾝﾘﾂ.ﾃｽﾄ","群馬県立テスト小学校","群・テスト",0,311,311000,3110]

{"sheet":"郡市データ","index":4,"n_rows":19,"n_cols":4,"rows_kept":19}
["郡市NO","郡市名","選手初期NO","リレー初期NO"]
[0,"な　し",{"$f":"A2*1000","v":0},{"$f":"A2*100","v":0}]
[1,"前　橋",{"$f":"A3*1000","v":1000},{"$f":"A3*100","v":100}]
[2,"伊勢崎",2000,200]
[3,"佐　波",3000,300]
[4,"北群馬",4000,400]
[5,"渋　川",5000,500]
[6,"利　根",6000,600]
[7,"沼　田",7000,700]
[8,"吾　妻",8000,800]
[9,"高　崎",9000,900]
[10,"安　中",10000,1000]
[11,"甘・富",11000,1100]
[12,"藤・多",12000,1200]
[13,"桐　生",13000,1300]
[14,"みどり",14000,1400]
[15,"太　田",15000,1500]
[16,"邑　楽",16000,1600]
[17,"館　林",17000,1700]

{"sheet":"競技データ","index":5,"n_rows":29,"n_cols":13,"rows_kept":29}
["KC","N1","MX","R1","R2","R3","R4","R5","R6","R7","J1","J2","J3"]
["002   105","１００ｍ男子小学５年",0,"R0000000","R0000000","R0000000","R0000000","R0000000","R0000000","R0000000"]
["002   106","１００ｍ男子小学６年",0,"R0000000","R0000000","R0000000","R0000000","R0000000","R0000000","R0000000"]
["007   100","１０００ｍ男子小学５・６年",0,"R0000000","R0000000","R0000000","R0000000","R0000000","R0000000","R0000000"]
["042   100","５０ｍＨ男子小学５・６年",0,"R0000000","R0000000","R0000000","R0000000","R0000000","R0000000","R0000000"]
["002   107","１００ｍ男子小学友好レース",0,"R0000000","R0000000","R0000000","R0000000","R0000000","R0000000","R0000000"]
["601   100","４×１００ｍ男子小学５・６年",0,"R0000000","R0000000","R0000000","R0000000","R0000000","R0000000","R0000000"]
["071   100","走高跳男子小学５・６年",0,"R0000000","R0000000","R0000000","R0000000","R0000000","R0000000","R0000000"]
["073   100","走幅跳男子小学５・６年",0,"R0000000","R0000000","R0000000","R0000000","R0000000","R0000000","R0000000"]
["092   100","ボール投男子小学５・６年",0,"R0000000","R0000000","R0000000","R0000000","R0000000","R0000000","R0000000"]
["002   205","１００ｍ女子小学５年",0,"R0000000","R0000000","R0000000","R0000000","R0000000","R0000000","R0000000"]
["002   206","１００ｍ女子小学６年",0,"R0000000","R0000000","R0000000","R0000000","R0000000","R0000000","R0000000"]
["006   200","８００ｍ女子小学５・６年",0,"R0000000","R0000000","R0000000","R0000000","R0000000","R0000000","R0000000"]
["042   200","５０ｍＨ女子小学５・６年",0,"R0000000","R0000000","R0000000","R0000000","R0000000","R0000000","R0000000"]
["002   207","１００ｍ女子小学友好レース",0,"R0000000","R0000000","R0000000","R0000000","R0000000","R0000000","R0000000"]
["601   200","４×１００ｍ女子小学５・６年",0,"R0000000","R0000000","R0000000","R0000000","R0000000","R0000000","R0000000"]
["071   200","走高跳女子小学５・６年",0,"R0000000","R0000000","R0000000","R0000000","R0000000","R0000000","R0000000"]
["073   200","走幅跳女子小学５・６年",0,"R0000000","R0000000","R0000000","R0000000","R0000000","R0000000","R0000000"]
["092   200","ボール投女子小学５・６年",0,"R0000000","R0000000","R0000000","R0000000","R0000000","R0000000","R0000000"]
[]
[null,"100ｍ","R002"]
[null,"800ｍ","R006"]
[null,"1000ｍ","R007"]
[null,"50ｍH","R042"]
[null,"走高跳","R071"]
[null,"走幅跳","R073"]
[null,"ボール投げ","R092"]
[null,"リレーのみ"]
[null,"友好100ｍ","R002"]