{"text_format":"3","workbook":"xlsx","n_sheets":3,"sheets":["kojin","syoriyou","kekka"],"not_rendered":{"macros":1},"read":"whole","date_system":"1900"}

{"sheet":"kojin","index":0,"n_rows":29,"n_cols":13,"rows_kept":29}
["DB","N1","N2","SX","KC","MC","TL","WT","ZK","S1","S2","S3","S4"]
[215001,"木下　友翔(6)","ｷﾉｼﾀ ﾕｳﾄ",1,11,1113,null,null,215001,"R00206 0001470"]
[215002,"武藤　　司(6)","ﾑﾄｳ ﾂｶｻ",1,11,1113,null,null,215002,"R00206 0001679"]
[215003,"相川　百花(6)","ｱｲｶﾜ ﾓﾓｶ",2,11,1113,null,null,215003,"R00206 0001565"]
[215004,"永井　優彩(6)","ﾅｶﾞｲ ﾕｱ",2,11,1113,null,null,215004,"R00206 0001512"]
[215005,"大澤　一翔(5)","ｵｵｻﾜ ｶｽﾞﾄ",1,11,1113,null,null,215005,"R00205 0001531"]
[215006,"根岸　凱生(5)","ﾈｷﾞｼ ｶｲｾｲ",1,11,1113,null,null,215006,"R00205 0001505"]
[215007,"福島　怜華(5)","ﾌｸｼﾏ ﾚｲｶ",2,11,1113,null,null,215007,"R00205 0001775"]
[215008,"吉澤　うい(5)","ﾖｼｻﾞﾜ ｳｲ",2,11,1113,null,null,215008,"R00205 0001557"]
[215009,"萩原　快斗(6)","ﾊｷﾞﾜﾗ ｶｲﾄ",1,11,1113,null,null,215009,"R04200 0000934"]
[215010,"横尾芽依飛(5)","ﾖｺｵ ﾒｲﾄ",1,11,1113,null,null,215010,"R04200 0001046"]
[215011,"神戸　心春(6)","ｶﾝﾍﾞ ｺﾊﾙ",2,11,1113,null,null,215011,"R04200 0000888"]
[215012,"下山　星奈(5)","ｼﾓﾔﾏ ｾﾅ",2,11,1113,null,null,215012,"R04200 0001056"]
[215013,"上原　大空(6)","ｳｴﾊﾗ ｿﾗ",1,11,1113,null,null,215013,"R00700 0033874"]
[215014,"谷　　侑磨(6)","ﾀﾆ ﾕｳﾏ",1,11,1113,null,null,215014,"R00700 0042189"]
[215015,"岡野　栞奈(6)","ｵｶﾉ ｶﾝﾅ",2,11,1113,null,null,215015,"R00600 0025650"]
[215016,"神戸　結月(5)","ｶﾝﾍﾞ ﾕﾂﾞｷ",2,11,1113,null,null,215016,"R00600 0030800"]
[215017,"髙宮　空翔(6)","ﾀｶﾐﾔ ｸｳﾄ",1,11,1113,null,null,215017,"R07300 0000370"]
[215018,"新井　優成(5)","ｱﾗｲ ﾕｳｾｲ",1,11,1113,null,null,215018,"R07300 0000330"]
[215019,"太田　恵満(6)","ｵｵﾀ ｴﾏ",2,11,1113,null,null,215019,"R07300 0000320"]
[215020,"山口　和夏(5)","ﾔﾏｸﾞﾁ ﾜｶ",2,11,1113,null,null,215020,"R07300 0000315"]
[215021,"横田　貴哉(6)","ﾖｺﾀ ﾀｶﾔ",1,11,1113,null,null,215021,"R07100 0000100"]
[215022,"吉澤　琉翔(6)","ﾖｼｻﾞﾜ ﾘｭｳﾄ",1,11,1113,null,null,215022,"R07100 0000115"]
[215023,"清水　希空(6)","ｼﾐｽﾞ ﾉｱ",2,11,1113,null,null,215023,"R07100 0000105"]
[215024,"鈴木　優華(6)","ｽｽﾞｷ ﾕｳｶ",2,11,1113,null,null,215024,"R07100 0000105"]
[215025,"浅井　虎亜(6)","ｱｻｲ ｺｱ",1,11,1113,null,null,215025,"R09200 0004030"]
[215026,"大河原双葉(6)","ｵｵｶﾊﾗ ﾌﾀﾊﾞ",1,11,1113,null,null,215026,"R09200 0005300"]
[215027,"梅澤　綾香(6)","ｳﾒｻﾞﾜ ｱﾔｶ",2,11,1113,null,null,215027,"R09200 0002570"]
[215028,"永井　希和(6)","ﾅｶﾞｲ ｷﾜ",2,11,1113,null,null,215028,"R09200 0003710"]

{"sheet":"syoriyou","index":1,"n_rows":2001,"n_cols":14,"rows_kept":2001}
["DB","N1","N2","SX","KC","MC","TL","WT","ZK","S1","S2","S3","S4"]
[215001,"木下　友翔(6)","ｷﾉｼﾀ ﾕｳﾄ",1,11,1113,null,null,215001,"R00206 0001470",{"$nulls":3},{"$f":"IF(J2=\"\",\"\",IF(OR(LEFT(J2,4)=\"R073\",LEFT(J2,4)=\"R092\",LEFT(J2,4)=\"R071\"),CONCATENATE(LEFT(J2,7),RIGHT(J2,5)),J2))","v":"R00206 0001470"}]
[215002,"武藤　　司(6)","ﾑﾄｳ ﾂｶｻ",1,11,1113,null,null,215002,"R00206 0001679",{"$nulls":3},{"$f":"IF(J3=\"\",\"\",IF(OR(LEFT(J3,4)=\"R073\",LEFT(J3,4)=\"R092\",LEFT(J3,4)=\"R071\"),CONCATENATE(LEFT(J3,7),RIGHT(J3,5)),J3))","v":"R00206 0001679"}]
[215003,"相川　百花(6)","ｱｲｶﾜ ﾓﾓｶ",2,11,1113,null,null,215003,"R00206 0001565",{"$nulls":3},"R00206 0001565"]
[215004,"永井　優彩(6)","ﾅｶﾞｲ ﾕｱ",2,11,1113,null,null,215004,"R00206 0001512",{"$nulls":3},"R00206 0001512"]
[215005,"大澤　一翔(5)","ｵｵｻﾜ ｶｽﾞﾄ",1,11,1113,null,null,215005,"R00205 0001531",{"$nulls":3},"R00205 0001531"]
[215006,"根岸　凱生(5)","ﾈｷﾞｼ ｶｲｾｲ",1,11,1113,null,null,215006,"R00205 0001505",{"$nulls":3},"R00205 0001505"]
[215007,"福島　怜華(5)","ﾌｸｼﾏ ﾚｲｶ",2,11,1113,null,null,215007,"R00205 0001775",{"$nulls":3},"R00205 0001775"]
[215008,"吉澤　うい(5)","ﾖｼｻﾞﾜ ｳｲ",2,11,1113,null,null,215008,"R00205 0001557",{"$nulls":3},"R00205 0001557"]
[215009,"萩原　快斗(6)","ﾊｷﾞﾜﾗ ｶｲﾄ",1,11,1113,null,null,215009,"R04200 0000934",{"$nulls":3},"R04200 0000934"]
[215010,"横尾芽依飛(5)","ﾖｺｵ ﾒｲﾄ",1,11,1113,null,null,215010,"R04200 0001046",{"$nulls":3},"R04200 0001046"]
[215011,"神戸　心春(6)","ｶﾝﾍﾞ ｺﾊﾙ",2,11,1113,null,null,215011,"R04200 0000888",{"$nulls":3},"R04200 0000888"]
[215012,"下山　星奈(5)","ｼﾓﾔﾏ ｾﾅ",2,11,1113,null,null,215012,"R04200 0001056",{"$nulls":3},"R04200 0001056"]
[215013,"上原　大空(6)","ｳｴﾊﾗ ｿﾗ",1,11,1113,null,null,215013,"R00700 0033874",{"$nulls":3},"R00700 0033874"]
[215014,"谷　　侑磨(6)","ﾀﾆ ﾕｳﾏ",1,11,1113,null,null,215014,"R00700 0042189",{"$nulls":3},"R00700 0042189"]
[215015,"岡野　栞奈(6)","ｵｶﾉ ｶﾝﾅ",2,11,1113,null,null,215015,"R00600 0025650",{"$nulls":3},"R00600 0025650"]
[215016,"神戸　結月(5)","ｶﾝﾍﾞ ﾕﾂﾞｷ",2,11,1113,null,null,215016,"R00600 0030800",{"$nulls":3},"R00600 0030800"]
[215017,"髙宮　空翔(6)","ﾀｶﾐﾔ ｸｳﾄ",1,11,1113,null,null,215017,"R07300 0000370",{"$nulls":3},"R07300 00370"]
[215018,"新井　優成(5)","ｱﾗｲ ﾕｳｾｲ",1,11,1113,null,null,215018,"R07300 0000330",{"$nulls":3},"R07300 00330"]
[215019,"太田　恵満(6)","ｵｵﾀ ｴﾏ",2,11,1113,null,null,215019,"R07300 0000320",{"$nulls":3},"R07300 00320"]
[215020,"山口　和夏(5)","ﾔﾏｸﾞﾁ ﾜｶ",2,11,1113,null,null,215020,"R07300 0000315",{"$nulls":3},"R07300 00315"]
[215021,"横田　貴哉(6)","ﾖｺﾀ ﾀｶﾔ",1,11,1113,null,null,215021,"R07100 0000100",{"$nulls":3},"R07100 00100"]
[215022,"吉澤　琉翔(6)","ﾖｼｻﾞﾜ ﾘｭｳﾄ",1,11,1113,null,null,215022,"R07100 0000115",{"$nulls":3},"R07100 00115"]
[215023,"清水　希空(6)","ｼﾐｽﾞ ﾉｱ",2,11,1113,null,null,215023,"R07100 0000105",{"$nulls":3},"R07100 00105"]
[215024,"鈴木　優華(6)","ｽｽﾞｷ ﾕｳｶ",2,11,1113,null,null,215024,"R07100 0000105",{"$nulls":3},"R07100 00105"]
[215025,"浅井　虎亜(6)","ｱｻｲ ｺｱ",1,11,1113,null,null,215025,"R09200 0004030",{"$nulls":3},"R09200 04030"]
[215026,"大河原双葉(6)","ｵｵｶﾊﾗ ﾌﾀﾊﾞ",1,11,1113,null,null,215026,"R09200 0005300",{"$nulls":3},"R09200 05300"]
[215027,"梅澤　綾香(6)","ｳﾒｻﾞﾜ ｱﾔｶ",2,11,1113,null,null,215027,"R09200 0002570",{"$nulls":3},"R09200 02570"]
[215028,"永井　希和(6)","ﾅｶﾞｲ ｷﾜ",2,11,1113,null,null,215028,"R09200 0003710",{"$nulls":3},"R09200 03710"]
[{"$nulls":13},""]
[{"$nulls":13},""]
[{"$nulls":13},""]
[{"$nulls":13},""]
[{"$nulls":13},""]
[{"$nulls":13},""]
[{"$nulls":13},""]
[{"$nulls":13},""]
[{"$nulls":13},""]
[{"$nulls":13},""]
[{"$nulls":13},""]
[{"$nulls":13},""]
[{"$nulls":13},""]
[{"$nulls":13},""]
[{"$nulls":13},""]
[{"$nulls":13},""]
[{"$nulls":13},""]
[{"$nulls":13},""]
[{"$nulls":13},""]
[{"$nulls":13},""]
[{"$nulls":13},""]
[{"$nulls":13},""]
[{"$nulls":13},""]
[{"$nulls":13},""]
[{"$nulls":13},""]
[{"$nulls":13},""]
[{"$nulls":13},""]
[{"$nulls":13},""]
[{"$nulls":13},""]
[{"$nulls":13},""]
[{"$nulls":13},""]
[{"$nulls":13},""]
[{"$nulls":13},""]
[{"$nulls":13},""]
[{"$nulls":13},""]
[{"$nulls":13},""]
[{"$nulls":13},""]
[{"$nulls":13},{"$f":"IF(J67=\"\",\"\",IF(OR(LEFT(J67,4)=\"R073\",LEFT(J67,4)=\"R092\",LEFT(J67,4)=\"R071\"),CONCATENATE(LEFT(J67,7),RIGHT(J67,5)),J67))","v":""}]
[{"$nulls":13},""]
[{"$nulls":13},""]
[{"$nulls":13},""]
[{"$nulls":13},""]
[{"$nulls":13},""]
[{"$nulls":13},""]
[{"$nulls":13},""]
[{"$nulls":13},""]
[{"$nulls":13},""]
[{"$nulls":13},""]
[{"$nulls":13},""]
[{"$nulls":13},""]
[{"$nulls":13},""]
[{"$nulls":13},""]
[{"$nulls":13},""]
[{"$nulls":13},""]
[{"$nulls":13},""]
[{"$nulls":13},""]
[{"$nulls":13},""]
[{"$nulls":13},""]
[{"$nulls":13},""]
[{"$nulls":13},""]
[{"$nulls":13},""]
[{"$nulls":13},""]
[{"$nulls":13},""]
[{"$nulls":13},""]
[{"$nulls":13},""]
[{"$nulls":13},""]
[{"$nulls":13},""]
[{"$nulls":13},""]
[{"$nulls":13},""]
[{"$nulls":13},""]
[{"$nulls":13},""]
[{"$nulls":13},""]
[{"$nulls":13},""]
[{"$nulls":13},""]
[{"$nulls":13},""]
[{"$nulls":13},""]
[{"$nulls":13},""]
[{"$nulls":13},""]
[{"$nulls":13},""]
[{"$nulls":13},""]
[{"$nulls":13},""]
[{"$nulls":13},""]
[{"$nulls":13},""]
[{"$nulls":13},""]
[{"$nulls":13},""]
[{"$nulls":13},""]
[{"$nulls":13},""]
[{"$nulls":13},""]
[{"$nulls":13},""]
[{"$nulls":13},""]
[{"$nulls":13},""]
[{"$nulls":13},""]
[{"$nulls":13},""]
[{"$nulls":13},""]
[{"$nulls":13},""]
[{"$nulls":13},""]
[{"$nulls":13},""]
[{"$nulls":13},""]
[{"$nulls":13},""]
[{"$nulls":13},""]
[{"$nulls":13},""]
[{"$nulls":13},{"$f":"IF(J131=\"\",\"\",IF(OR(LEFT(J131,4)=\"R073\",LEFT(J131,4)=\"R092\",LEFT(J131,4)=\"R071\"),CONCATENATE(LEFT(J131,7),RIGHT(J131,5)),J131))","v":""}]
[{"$nulls":13},""]
[{"$nulls":13},""]
[{"$nulls":13},""]
[{"$nulls":13},""]
[{"$nulls":13},""]
[{"$nulls":13},""]
[{"$nulls":13},""]
[{"$nulls":13},""]
[{"$nulls":13},""]
[{"$nulls":13},""]
[{"$nulls":13},""]
[{"$nulls":13},""]
[{"$nulls":13},""]
[{"$nulls":13},""]
[{"$nulls":13},""]
[{"$nulls":13},""]
[{"$nulls":13},""]
[{"$nulls":13},""]
[{"$nulls":13},""]
[{"$nulls":13},""]
[{"$nulls":13},""]
[{"$nulls":13},""]
[{"$nulls":13},""]
[{"$nulls":13},""]
[{"$nulls":13},""]
[{"$nulls":13},""]
[{"$nulls":13},""]
[{"$nulls":13},""]
[{"$nulls":13},""]
[{"$nulls":13},""]
[{"$nulls":13},""]
[{"$nulls":13},""]
[{"$nulls":13},""]
[{"$nulls":13},""]
[{"$nulls":13},""]
[{"$nulls":13},""]
[{"$nulls":13},""]
[{"$nulls":13},""]
[{"$nulls":13},""]
[{"$nulls":13},""]
[{"$nulls":13},""]
[{"$nulls":13},""]
[{"$nulls":13},""]
[{"$nulls":13},""]
[{"$nulls":13},""]
[{"$nulls":13},""]
[{"$nulls":13},""]
[{"$nulls":13},""]
[{"$nulls":13},""]
[{"$nulls":13},""]
[{"$nulls":13},""]
[{"$nulls":13},""]
[{"$nulls":13},""]
[{"$nulls":13},""]
[{"$nulls":13},""]
[{"$nulls":13},""]
[{"$nulls":13},""]
[{"$nulls":13},""]
[{"$nulls":13},""]
[{"$nulls":13},""]
[{"$nulls":13},""]
[{"$nulls":13},""]
[{"$nulls":13},""]
[{"$nulls":13},{"$f":"IF(J195=\"\",\"\",IF(OR(LEFT(J195,4)=\"R073\",LEFT(J195,4)=\"R092\",LEFT(J195,4)=\"R071\"),CONCATENATE(LEFT(J195,7),RIGHT(J195,5)),J195))","v":""}]
[{"$nulls":13},""]
[{"$nulls":13},""]
[{"$nulls":13},""]
[{"$nulls":13},""]
[{"$nulls":13},""]
[{"$nulls":13},""]
[{"$nulls":13},""]
[{"$nulls":13},""]
[{"$nulls":13},""]
[{"$nulls":13},""]
[{"$nulls":13},""]
[{"$nulls":13},""]
[{"$nulls":13},""]
[{"$nulls":13},""]
[{"$nulls":13},""]
[{"$nulls":13},""]
[{"$nulls":13},""]
[{"$nulls":13},""]
[{"$nulls":13},""]
[{"$nulls":13},""]
[{"$nulls":13},""]
[{"$nulls":13},""]
[{"$nulls":13},""]
[{"$nulls":13},""]
[{"$nulls":13},""]
[{"$nulls":13},""]
[{"$nulls":13},""]
[{"$nulls":13},""]
[{"$nulls":13},""]
[{"$nulls":13},""]
[{"$nulls":13},""]
[{"$nulls":13},""]
[{"$nulls":13},""]
[{"$nulls":13},""]
[{"$nulls":13},""]
[{"$nulls":13},""]
[{"$nulls":13},""]
[{"$nulls":13},""]
[{"$nulls":13},""]
[{"$nulls":13},""]
[{"$nulls":13},""]
[{"$nulls":13},""]
[{"$nulls":13},""]
[{"$nulls":13},""]
[{"$nulls":13},""]
[{"$nulls":13},""]
[{"$nulls":13},""]
[{"$nulls":13},""]
[{"$nulls":13},""]
[{"$nulls":13},""]
[{"$nulls":13},""]
[{"$nulls":13},""]
[{"$nulls":13},""]
[{"$nulls":13},""]
[{"$nulls":13},""]
[{"$nulls":13},""]
[{"$nulls":13},""]
[{"$nulls":13},""]
[{"$nulls":13},""]
[{"$nulls":13},""]
[{"$nulls":13},""]
[{"$nulls":13},""]
[{"$nulls":13},""]
[{"$nulls":13},{"$f":"IF(J259=\"\",\"\",IF(OR(LEFT(J259,4)=\"R073\",LEFT(J259,4)=\"R092\",LEFT(J259,4)=\"R071\"),CONCATENATE(LEFT(J259,7),RIGHT(J259,5)),J259))","v":""}]
[{"$nulls":13},""]
[{"$nulls":13},""]
[{"$nulls":13},""]
[{"$nulls":13},""]
[{"$nulls":13},""]
[{"$nulls":13},""]
[{"$nulls":13},""]
[{"$nulls":13},""]
[{"$nulls":13},""]
[{"$nulls":13},""]
[{"$nulls":13},""]
[{"$nulls":13},""]
[{"$nulls":13},""]
[{"$nulls":13},""]
[{"$nulls":13},""]
[{"$nulls":13},""]
[{"$nulls":13},""]
[{"$nulls":13},""]
[{"$nulls":13},""]
[{"$nulls":13},""]
[{"$nulls":13},""]
[{"$nulls":13},""]
[{"$nulls":13},""]
[{"$nulls":13},""]
[{"$nulls":13},""]
[{"$nulls":13},""]
[{"$nulls":13},""]
[{"$nulls":13},""]
[{"$nulls":13},""]
[{"$nulls":13},""]
[{"$nulls":13},""]
[{"$nulls":13},""]
[{"$nulls":13},""]
[{"$nulls":13},""]
[{"$nulls":13},""]
[{"$nulls":13},""]
[{"$nulls":13},""]
[{"$nulls":13},""]
[{"$nulls":13},""]
[{"$nulls":13},""]
[{"$nulls":13},""]
[{"$nulls":13},""]
[{"$nulls":13},""]
[{"$nulls":13},""]
[{"$nulls":13},""]
[{"$nulls":13},""]
[{"$nulls":13},""]
[{"$nulls":13},""]
[{"$nulls":13},""]
[{"$nulls":13},""]
[{"$nulls":13},""]
[{"$nulls":13},""]
[{"$nulls":13},""]
[{"$nulls":13},""]
[{"$nulls":13},""]
[{"$nulls":13},""]
[{"$nulls":13},""]
[{"$nulls":13},""]
[{"$nulls":13},""]
[{"$nulls":13},""]
[{"$nulls":13},""]
[{"$nulls":13},""]
[{"$nulls":13},""]
[{"$nulls":13},{"$f":"IF(J323=\"\",\"\",IF(OR(LEFT(J323,4)=\"R073\",LEFT(J323,4)=\"R092\",LEFT(J323,4)=\"R071\"),CONCATENATE(LEFT(J323,7),RIGHT(J323,5)),J323))","v":""}]
[{"$nulls":13},""]
[{"$nulls":13},""]
[{"$nulls":13},""]
[{"$nulls":13},""]
[{"$nulls":13},""]
[{"$nulls":13},""]
[{"$nulls":13},""]
[{"$nulls":13},""]
[{"$nulls":13},""]
[{"$nulls":13},""]
[{"$nulls":13},""]
[{"$nulls":13},""]
[{"$nulls":13},""]
[{"$nulls":13},""]
[{"$nulls":13},""]
[{"$nulls":13},""]
[{"$nulls":13},""]
[{"$nulls":13},""]
[{"$nulls":13},""]
[{"$nulls":13},""]
[{"$nulls":13},""]
[{"$nulls":13},""]
[{"$nulls":13},""]
[{"$nulls":13},""]
[{"$nulls":13},""]
[{"$nulls":13},""]
[{"$nulls":13},""]
[{"$nulls":13},""]
[{"$nulls":13},""]
[{"$nulls":13},""]
[{"$nulls":13},""]
[{"$nulls":13},""]
[{"$nulls":13},""]
[{"$nulls":13},""]
[{"$nulls":13},""]
[{"$nulls":13},""]
[{"$nulls":13},""]
[{"$nulls":13},""]
[{"$nulls":13},""]
[{"$nulls":13},""]
[{"$nulls":13},""]
[{"$nulls":13},""]
[{"$nulls":13},""]
[{"$nulls":13},""]
[{"$nulls":13},""]
[{"$nulls":13},""]
[{"$nulls":13},""]
[{"$nulls":13},""]
[{"$nulls":13},""]
[{"$nulls":13},""]
[{"$nulls":13},""]
[{"$nulls":13},""]
[{"$nulls":13},""]
[{"$nulls":13},""]
[{"$nulls":13},""]
[{"$nulls":13},""]
[{"$nulls":13},""]
[{"$nulls":13},""]
[{"$nulls":13},""]
[{"$nulls":13},""]
[{"$nulls":13},""]
[{"$nulls":13},""]
[{"$nulls":13},""]
[{"$nulls":13},{"$f":"IF(J387=\"\",\"\",IF(OR(LEFT(J387,4)=\"R073\",LEFT(J387,4)=\"R092\",LEFT(J387,4)=\"R071\"),CONCATENATE(LEFT(J387,7),RIGHT(J387,5)),J387))","v":""}]
[{"$nulls":13},""]
[{"$nulls":13},""]
[{"$nulls":13},""]
[{"$nulls":13},""]
[{"$nulls":13},""]
[{"$nulls":13},""]
[{"$nulls":13},""]
[{"$nulls":13},""]
[{"$nulls":13},""]
[{"$nulls":13},""]
[{"$nulls":13},""]
[{"$nulls":13},""]
[{"$nulls":13},""]
[{"$nulls":13},""]
[{"$nulls":13},""]
[{"$nulls":13},""]
[{"$nulls":13},""]
[{"$nulls":13},""]
[{"$nulls":13},""]
[{"$nulls":13},""]
[{"$nulls":13},""]
[{"$nulls":13},""]
[{"$nulls":13},""]
[{"$nulls":13},""]
[{"$nulls":13},""]
[{"$nulls":13},""]
[{"$nulls":13},""]
[{"$nulls":13},""]
[{"$nulls":13},""]
[{"$nulls":13},""]
[{"$nulls":13},""]
[{"$nulls":13},""]
[{"$nulls":13},""]
[{"$nulls":13},""]
[{"$nulls":13},""]
[{"$nulls":13},""]
[{"$nulls":13},""]
[{"$nulls":13},""]
[{"$nulls":13},""]
[{"$nulls":13},""]
[{"$nulls":13},""]
[{"$nulls":13},""]
[{"$nulls":13},""]
[{"$nulls":13},""]
[{"$nulls":13},""]
[{"$nulls":13},""]
[{"$nulls":13},""]
[{"$nulls":13},""]
[{"$nulls":13},""]
[{"$nulls":13},""]
[{"$nulls":13},""]
[{"$nulls":13},""]
[{"$nulls":13},""]
[{"$nulls":13},""]
[{"$nulls":13},""]
[{"$nulls":13},""]
[{"$nulls":13},""]
[{"$nulls":13},""]
[{"$nulls":13},""]
[{"$nulls":13},""]
[{"$nulls":13},""]
[{"$nulls":13},""]
[{"$nulls":13},""]
[{"$nulls":13},{"$f":"IF(J451=\"\",\"\",IF(OR(LEFT(J451,4)=\"R073\",LEFT(J451,4)=\"R092\",LEFT(J451,4)=\"R071\"),CONCATENATE(LEFT(J451,7),RIGHT(J451,5)),J451))","v":""}]
[{"$nulls":13},""]
[{"$nulls":13},""]
[{"$nulls":13},""]
[{"$nulls":13},""]
[{"$nulls":13},""]
[{"$nulls":13},""]
[{"$nulls":13},""]
[{"$nulls":13},""]
[{"$nulls":13},""]
[{"$nulls":13},""]
[{"$nulls":13},""]
[{"$nulls":13},""]
[{"$nulls":13},""]
[{"$nulls":13},""]
[{"$nulls":13},""]
[{"$nulls":13},""]
[{"$nulls":13},""]
[{"$nulls":13},""]
[{"$nulls":13},""]
[{"$nulls":13},""]
[{"$nulls":13},""]
[{"$nulls":13},""]
[{"$nulls":13},""]
[{"$nulls":13},""]
[{"$nulls":13},""]
[{"$nulls":13},""]
[{"$nulls":13},""]
[{"$nulls":13},""]
[{"$nulls":13},""]
[{"$nulls":13},""]
[{"$nulls":13},""]
[{"$nulls":13},""]
[{"$nulls":13},""]
[{"$nulls":13},""]
[{"$nulls":13},""]
[{"$nulls":13},""]
[{"$nulls":13},""]
[{"$nulls":13},""]
[{"$nulls":13},""]
[{"$nulls":13},""]
[{"$nulls":13},""]
[{"$nulls":13},""]
[{"$nulls":13},""]
[{"$nulls":13},""]
[{"$nulls":13},""]
[{"$nulls":13},""]
[{"$nulls":13},""]
[{"$nulls":13},""]
[{"$nulls":13},""]
[{"$nulls":13},""]
[{"$nulls":13},""]
[{"$nulls":13},""]
[{"$nulls":13},""]
[{"$nulls":13},""]
[{"$nulls":13},""]
[{"$nulls":13},""]
[{"$nulls":13},""]
[{"$nulls":13},""]
[{"$nulls":13},""]
[{"$nulls":13},""]
[{"$nulls":13},""]
[{"$nulls":13},""]
[{"$nulls":13},""]
[{"$nulls":13},{"$f":"IF(J515=\"\",\"\",IF(OR(LEFT(J515,4)=\"R073\",LEFT(J515,4)=\"R092\",LEFT(J515,4)=\"R071\"),CONCATENATE(LEFT(J515,7),RIGHT(J515,5)),J515))","v":""}]
[{"$nulls":13},""]
[{"$nulls":13},""]
[{"$nulls":13},""]
[{"$nulls":13},""]
[{"$nulls":13},""]
[{"$nulls":13},""]
[{"$nulls":13},""]
[{"$nulls":13},""]
[{"$nulls":13},""]
[{"$nulls":13},""]
[{"$nulls":13},""]
[{"$nulls":13},""]
[{"$nulls":13},""]
[{"$nulls":13},""]
[{"$nulls":13},""]
[{"$nulls":13},""]
[{"$nulls":13},""]
[{"$nulls":13},""]
[{"$nulls":13},""]
[{"$nulls":13},""]
[{"$nulls":13},""]
[{"$nulls":13},""]
[{"$nulls":13},""]
[{"$nulls":13},""]
[{"$nulls":13},""]
[{"$nulls":13},""]
[{"$nulls":13},""]
[{"$nulls":13},""]
[{"$nulls":13},""]
[{"$nulls":13},""]
[{"$nulls":13},""]
[{"$nulls":13},""]
[{"$nulls":13},""]
[{"$nulls":13},""]
[{"$nulls":13},""]
[{"$nulls":13},""]
[{"$nulls":13},""]
[{"$nulls":13},""]
[{"$nulls":13},""]
[{"$nulls":13},""]
[{"$nulls":13},""]
[{"$nulls":13},""]
[{"$nulls":13},""]
[{"$nulls":13},""]
[{"$nulls":13},""]
[{"$nulls":13},""]
[{"$nulls":13},""]
[{"$nulls":13},""]
[{"$nulls":13},""]
[{"$nulls":13},""]
[{"$nulls":13},""]
[{"$nulls":13},""]
[{"$nulls":13},""]
[{"$nulls":13},""]
[{"$nulls":13},""]
[{"$nulls":13},""]
[{"$nulls":13},""]
[{"$nulls":13},""]
[{"$nulls":13},""]
[{"$nulls":13},""]
[{"$nulls":13},""]
[{"$nulls":13},""]
[{"$nulls":13},""]
[{"$nulls":13},{"$f":"IF(J579=\"\",\"\",IF(OR(LEFT(J579,4)=\"R073\",LEFT(J579,4)=\"R092\",LEFT(J579,4)=\"R071\"),CONCATENATE(LEFT(J579,7),RIGHT(J579,5)),J579))","v":""}]
[{"$nulls":13},""]
[{"$nulls":13},""]
[{"$nulls":13},""]
[{"$nulls":13},""]
[{"$nulls":13},""]
[{"$nulls":13},""]
[{"$nulls":13},""]
[{"$nulls":13},""]
[{"$nulls":13},""]
[{"$nulls":13},""]
[{"$nulls":13},""]
[{"$nulls":13},""]
[{"$nulls":13},""]
[{"$nulls":13},""]
[{"$nulls":13},""]
[{"$nulls":13},""]
[{"$nulls":13},""]
[{"$nulls":13},""]
[{"$nulls":13},""]
[{"$nulls":13},""]
[{"$nulls":13},""]
[{"$nulls":13},""]
[{"$nulls":13},""]
[{"$nulls":13},""]
[{"$nulls":13},""]
[{"$nulls":13},""]
[{"$nulls":13},""]
[{"$nulls":13},""]
[{"$nulls":13},""]
[{"$nulls":13},""]
[{"$nulls":13},""]
[{"$nulls":13},""]
[{"$nulls":13},""]
[{"$nulls":13},""]
[{"$nulls":13},""]
[{"$nulls":13},""]
[{"$nulls":13},""]
[{"$nulls":13},""]
[{"$nulls":13},""]
[{"$nulls":13},""]
[{"$nulls":13},""]
[{"$nulls":13},""]
[{"$nulls":13},""]
[{"$nulls":13},""]
[{"$nulls":13},""]
[{"$nulls":13},""]
[{"$nulls":13},""]
[{"$nulls":13},""]
[{"$nulls":13},""]
[{"$nulls":13},""]
[{"$nulls":13},""]
[{"$nulls":13},""]
[{"$nulls":13},""]
[{"$nulls":13},""]
[{"$nulls":13},""]
[{"$nulls":13},""]
[{"$nulls":13},""]
[{"$nulls":13},""]
[{"$nulls":13},""]
[{"$nulls":13},""]
[{"$nulls":13},""]
[{"$nulls":13},""]
[{"$nulls":13},""]
[{"$nulls":13},{"$f":"IF(J643=\"\",\"\",IF(OR(LEFT(J643,4)=\"R073\",LEFT(J643,4)=\"R092\",LEFT(J643,4)=\"R071\"),CONCATENATE(LEFT(J643,7),RIGHT(J643,5)),J643))","v":""}]
[{"$nulls":13},""]
[{"$nulls":13},""]
[{"$nulls":13},""]
[{"$nulls":13},""]
[{"$nulls":13},""]
[{"$nulls":13},""]
[{"$nulls":13},""]
[{"$nulls":13},""]
[{"$nulls":13},""]
[{"$nulls":13},""]
[{"$nulls":13},""]
[{"$nulls":13},""]
[{"$nulls":13},""]
[{"$nulls":13},""]
[{"$nulls":13},""]
[{"$nulls":13},""]
[{"$nulls":13},""]
[{"$nulls":13},""]
[{"$nulls":13},""]
[{"$nulls":13},""]
[{"$nulls":13},""]
[{"$nulls":13},""]
[{"$nulls":13},""]
[{"$nulls":13},""]
[{"$nulls":13},""]
[{"$nulls":13},""]
[{"$nulls":13},""]
[{"$nulls":13},""]
[{"$nulls":13},""]
[{"$nulls":13},""]
[{"$nulls":13},""]
[{"$nulls":13},""]
[{"$nulls":13},""]
[{"$nulls":13},""]
[{"$nulls":13},""]
[{"$nulls":13},""]
[{"$nulls":13},""]
[{"$nulls":13},""]
[{"$nulls":13},""]
[{"$nulls":13},""]
[{"$nulls":13},""]
[{"$nulls":13},""]
[{"$nulls":13},""]
[{"$nulls":13},""]
[{"$nulls":13},""]
[{"$nulls":13},""]
[{"$nulls":13},""]
[{"$nulls":13},""]
[{"$nulls":13},""]
[{"$nulls":13},""]
[{"$nulls":13},""]
[{"$nulls":13},""]
[{"$nulls":13},""]
[{"$nulls":13},""]
[{"$nulls":13},""]
[{"$nulls":13},""]
[{"$nulls":13},""]
[{"$nulls":13},""]
[{"$nulls":13},""]
[{"$nulls":13},""]
[{"$nulls":13},""]
[{"$nulls":13},""]
[{"$nulls":13},""]
[{"$nulls":13},{"$f":"IF(J707=\"\",\"\",IF(OR(LEFT(J707,4)=\"R073\",LEFT(J707,4)=\"R092\",LEFT(J707,4)=\"R071\"),CONCATENATE(LEFT(J707,7),RIGHT(J707,5)),J707))","v":""}]
[{"$nulls":13},""]
[{"$nulls":13},""]
[{"$nulls":13},""]
[{"$nulls":13},""]
[{"$nulls":13},""]
[{"$nulls":13},""]
[{"$nulls":13},""]
[{"$nulls":13},""]
[{"$nulls":13},""]
[{"$nulls":13},""]
[{"$nulls":13},""]
[{"$nulls":13},""]
[{"$nulls":13},""]
[{"$nulls":13},""]
[{"$nulls":13},""]
[{"$nulls":13},""]
[{"$nulls":13},""]
[{"$nulls":13},""]
[{"$nulls":13},""]
[{"$nulls":13},""]
[{"$nulls":13},""]
[{"$nulls":13},""]
[{"$nulls":13},""]
[{"$nulls":13},""]
[{"$nulls":13},""]
[{"$nulls":13},""]
[{"$nulls":13},""]
[{"$nulls":13},""]
[{"$nulls":13},""]
[{"$nulls":13},""]
[{"$nulls":13},""]
[{"$nulls":13},""]
[{"$nulls":13},""]
[{"$nulls":13},""]
[{"$nulls":13},""]
[{"$nulls":13},""]
[{"$nulls":13},""]
[{"$nulls":13},""]
[{"$nulls":13},""]
[{"$nulls":13},""]
[{"$nulls":13},""]
[{"$nulls":13},""]
[{"$nulls":13},""]
[{"$nulls":13},""]
[{"$nulls":13},""]
[{"$nulls":13},""]
[{"$nulls":13},""]
[{"$nulls":13},""]
[{"$nulls":13},""]
[{"$nulls":13},""]
[{"$nulls":13},""]
[{"$nulls":13},""]
[{"$nulls":13},""]
[{"$nulls":13},""]
[{"$nulls":13},""]
[{"$nulls":13},""]
[{"$nulls":13},""]
[{"$nulls":13},""]
[{"$nulls":13},""]
[{"$nulls":13},""]
[{"$nulls":13},""]
[{"$nulls":13},""]
[{"$nulls":13},""]
[{"$nulls":13},{"$f":"IF(J771=\"\",\"\",IF(OR(LEFT(J771,4)=\"R073\",LEFT(J771,4)=\"R092\",LEFT(J771,4)=\"R071\"),CONCATENATE(LEFT(J771,7),RIGHT(J771,5)),J771))","v":""}]
[{"$nulls":13},""]
[{"$nulls":13},""]
[{"$nulls":13},""]
[{"$nulls":13},""]
[{"$nulls":13},""]
[{"$nulls":13},""]
[{"$nulls":13},""]
[{"$nulls":13},""]
[{"$nulls":13},""]
[{"$nulls":13},""]
[{"$nulls":13},""]
[{"$nulls":13},""]
[{"$nulls":13},""]
[{"$nulls":13},""]
[{"$nulls":13},""]
[{"$nulls":13},""]
[{"$nulls":13},""]
[{"$nulls":13},""]
[{"$nulls":13},""]
[{"$nulls":13},""]
[{"$nulls":13},""]
[{"$nulls":13},""]
[{"$nulls":13},""]
[{"$nulls":13},""]
[{"$nulls":13},""]
[{"$nulls":13},""]
[{"$nulls":13},""]
[{"$nulls":13},""]
[{"$nulls":13},""]
[{"$nulls":13},""]
[{"$nulls":13},""]
[{"$nulls":13},""]
[{"$nulls":13},""]
[{"$nulls":13},""]
[{"$nulls":13},""]
[{"$nulls":13},""]
[{"$nulls":13},""]
[{"$nulls":13},""]
[{"$nulls":13},""]
[{"$nulls":13},""]
[{"$nulls":13},""]
[{"$nulls":13},""]
[{"$nulls":13},""]
[{"$nulls":13},""]
[{"$nulls":13},""]
[{"$nulls":13},""]
[{"$nulls":13},""]
[{"$nulls":13},""]
[{"$nulls":13},""]
[{"$nulls":13},""]
[{"$nulls":13},""]
[{"$nulls":13},""]
[{"$nulls":13},""]
[{"$nulls":13},""]
[{"$nulls":13},""]
[{"$nulls":13},""]
[{"$nulls":13},""]
[{"$nulls":13},""]
[{"$nulls":13},""]
[{"$nulls":13},""]
[{"$nulls":13},""]
[{"$nulls":13},""]
[{"$nulls":13},""]
[{"$nulls":13},{"$f":"IF(J835=\"\",\"\",IF(OR(LEFT(J835,4)=\"R073\",LEFT(J835,4)=\"R092\",LEFT(J835,4)=\"R071\"),CONCATENATE(LEFT(J835,7),RIGHT(J835,5)),J835))","v":""}]
[{"$nulls":13},""]
[{"$nulls":13},""]
[{"$nulls":13},""]
[{"$nulls":13},""]
[{"$nulls":13},""]
[{"$nulls":13},""]
[{"$nulls":13},""]
[{"$nulls":13},""]
[{"$nulls":13},""]
[{"$nulls":13},""]
[{"$nulls":13},""]
[{"$nulls":13},""]
[{"$nulls":13},""]
[{"$nulls":13},""]
[{"$nulls":13},""]
[{"$nulls":13},""]
[{"$nulls":13},""]
[{"$nulls":13},""]
[{"$nulls":13},""]
[{"$nulls":13},""]
[{"$nulls":13},""]
[{"$nulls":13},""]
[{"$nulls":13},""]
[{"$nulls":13},""]
[{"$nulls":13},""]
[{"$nulls":13},""]
[{"$nulls":13},""]
[{"$nulls":13},""]
[{"$nulls":13},""]
[{"$nulls":13},""]
[{"$nulls":13},""]
[{"$nulls":13},""]
[{"$nulls":13},""]
[{"$nulls":13},""]
[{"$nulls":13},""]
[{"$nulls":13},""]
[{"$nulls":13},""]
[{"$nulls":13},""]
[{"$nulls":13},""]
[{"$nulls":13},""]
[{"$nulls":13},""]
[{"$nulls":13},""]
[{"$nulls":13},""]
[{"$nulls":13},""]
[{"$nulls":13},""]
[{"$nulls":13},""]
[{"$nulls":13},""]
[{"$nulls":13},""]
[{"$nulls":13},""]
[{"$nulls":13},""]
[{"$nulls":13},""]
[{"$nulls":13},""]
[{"$nulls":13},""]
[{"$nulls":13},""]
[{"$nulls":13},""]
[{"$nulls":13},""]
[{"$nulls":13},""]
[{"$nulls":13},""]
[{"$nulls":13},""]
[{"$nulls":13},""]
[{"$nulls":13},""]
[{"$nulls":13},""]
[{"$nulls":13},""]
[{"$nulls":13},{"$f":"IF(J899=\"\",\"\",IF(OR(LEFT(J899,4)=\"R073\",LEFT(J899,4)=\"R092\",LEFT(J899,4)=\"R071\"),CONCATENATE(LEFT(J899,7),RIGHT(J899,5)),J899))","v":""}]
[{"$nulls":13},""]
[{"$nulls":13},""]
[{"$nulls":13},""]
[{"$nulls":13},""]
[{"$nulls":13},""]
[{"$nulls":13},""]
[{"$nulls":13},""]
[{"$nulls":13},""]
[{"$nulls":13},""]
[{"$nulls":13},""]
[{"$nulls":13},""]
[{"$nulls":13},""]
[{"$nulls":13},""]
[{"$nulls":13},""]
[{"$nulls":13},""]
[{"$nulls":13},""]
[{"$nulls":13},""]
[{"$nulls":13},""]
[{"$nulls":13},""]
[{"$nulls":13},""]
[{"$nulls":13},""]
[{"$nulls":13},""]
[{"$nulls":13},""]
[{"$nulls":13},""]
[{"$nulls":13},""]
[{"$nulls":13},""]
[{"$nulls":13},""]
[{"$nulls":13},""]
[{"$nulls":13},""]
[{"$nulls":13},""]
[{"$nulls":13},""]
[{"$nulls":13},""]
[{"$nulls":13},""]
[{"$nulls":13},""]
[{"$nulls":13},""]
[{"$nulls":13},""]
[{"$nulls":13},""]
[{"$nulls":13},""]
[{"$nulls":13},""]
[{"$nulls":13},""]
[{"$nulls":13},""]
[{"$nulls":13},""]
[{"$nulls":13},""]
[{"$nulls":13},""]
[{"$nulls":13},""]
[{"$nulls":13},""]
[{"$nulls":13},""]
[{"$nulls":13},""]
[{"$nulls":13},""]
[{"$nulls":13},""]
[{"$nulls":13},""]
[{"$nulls":13},""]
[{"$nulls":13},""]
[{"$nulls":13},""]
[{"$nulls":13},""]
[{"$nulls":13},""]
[{"$nulls":13},""]
[{"$nulls":13},""]
[{"$nulls":13},""]
[{"$nulls":13},""]
[{"$nulls":13},""]
[{"$nulls":13},""]
[{"$nulls":13},""]
[{"$nulls":13},{"$f":"IF(J963=\"\",\"\",IF(OR(LEFT(J963,4)=\"R073\",LEFT(J963,4)=\"R092\",LEFT(J963,4)=\"R071\"),CONCATENATE(LEFT(J963,7),RIGHT(J963,5)),J963))","v":""}]
[{"$nulls":13},""]
[{"$nulls":13},""]
[{"$nulls":13},""]
[{"$nulls":13},""]
[{"$nulls":13},""]
[{"$nulls":13},""]
[{"$nulls":13},""]
[{"$nulls":13},""]
[{"$nulls":13},""]
[{"$nulls":13},""]
[{"$nulls":13},""]
[{"$nulls":13},""]
[{"$nulls":13},""]
[{"$nulls":13},""]
[{"$nulls":13},""]
[{"$nulls":13},""]
[{"$nulls":13},""]
[{"$nulls":13},""]
[{"$nulls":13},""]
[{"$nulls":13},""]
[{"$nulls":13},""]
[{"$nulls":13},""]
[{"$nulls":13},""]
[{"$nulls":13},""]
[{"$nulls":13},""]
[{"$nulls":13},""]
[{"$nulls":13},""]
[{"$nulls":13},""]
[{"$nulls":13},""]
[{"$nulls":13},""]
[{"$nulls":13},""]
[{"$nulls":13},""]
[{"$nulls":13},""]
[{"$nulls":13},""]
[{"$nulls":13},""]
[{"$nulls":13},""]
[{"$nulls":13},""]
[{"$nulls":13},""]
[{"$nulls":13},""]
[{"$nulls":13},""]
[{"$nulls":13},""]
[{"$nulls":13},""]
[{"$nulls":13},""]
[{"$nulls":13},""]
[{"$nulls":13},""]
[{"$nulls":13},""]
[{"$nulls":13},""]
[{"$nulls":13},""]
[{"$nulls":13},""]
[{"$nulls":13},""]
[{"$nulls":13},""]
[{"$nulls":13},""]
[{"$nulls":13},""]
[{"$nulls":13},""]
[{"$nulls":13},""]
[{"$nulls":13},""]
[{"$nulls":13},""]
[{"$nulls":13},""]
[{"$nulls":13},""]
[{"$nulls":13},""]
[{"$nulls":13},""]
[{"$nulls":13},""]
[{"$nulls":13},""]
[{"$nulls":13},{"$f":"IF(J1027=\"\",\"\",IF(OR(LEFT(J1027,4)=\"R073\",LEFT(J1027,4)=\"R092\",LEFT(J1027,4)=\"R071\"),CONCATENATE(LEFT(J1027,7),RIGHT(J1027,5)),J1027))","v":""}]
[{"$nulls":13},""]
[{"$nulls":13},""]
[{"$nulls":13},""]
[{"$nulls":13},""]
[{"$nulls":13},""]
[{"$nulls":13},""]
[{"$nulls":13},""]
[{"$nulls":13},""]
[{"$nulls":13},""]
[{"$nulls":13},""]
[{"$nulls":13},""]
[{"$nulls":13},""]
[{"$nulls":13},""]
[{"$nulls":13},""]
[{"$nulls":13},""]
[{"$nulls":13},""]
[{"$nulls":13},""]
[{"$nulls":13},""]
[{"$nulls":13},""]
[{"$nulls":13},""]
[{"$nulls":13},""]
[{"$nulls":13},""]
[{"$nulls":13},""]
[{"$nulls":13},""]
[{"$nulls":13},""]
[{"$nulls":13},""]
[{"$nulls":13},""]
[{"$nulls":13},""]
[{"$nulls":13},""]
[{"$nulls":13},""]
[{"$nulls":13},""]
[{"$nulls":13},""]
[{"$nulls":13},""]
[{"$nulls":13},""]
[{"$nulls":13},""]
[{"$nulls":13},""]
[{"$nulls":13},""]
[{"$nulls":13},""]
[{"$nulls":13},""]
[{"$nulls":13},""]
[{"$nulls":13},""]
[{"$nulls":13},""]
[{"$nulls":13},""]
[{"$nulls":13},""]
[{"$nulls":13},""]
[{"$nulls":13},""]
[{"$nulls":13},""]
[{"$nulls":13},""]
[{"$nulls":13},""]
[{"$nulls":13},""]
[{"$nulls":13},""]
[{"$nulls":13},""]
[{"$nulls":13},""]
[{"$nulls":13},""]
[{"$nulls":13},""]
[{"$nulls":13},""]
[{"$nulls":13},""]
[{"$nulls":13},""]
[{"$nulls":13},""]
[{"$nulls":13},""]
[{"$nulls":13},""]
[{"$nulls":13},""]
[{"$nulls":13},""]
[{"$nulls":13},{"$f":"IF(J1091=\"\",\"\",IF(OR(LEFT(J1091,4)=\"R073\",LEFT(J1091,4)=\"R092\",LEFT(J1091,4)=\"R071\"),CONCATENATE(LEFT(J1091,7),RIGHT(J1091,5)),J1091))","v":""}]
[{"$nulls":13},""]
[{"$nulls":13},""]
[{"$nulls":13},""]
[{"$nulls":13},""]
[{"$nulls":13},""]
[{"$nulls":13},""]
[{"$nulls":13},""]
[{"$nulls":13},""]
[{"$nulls":13},""]
[{"$nulls":13},""]
[{"$nulls":13},""]
[{"$nulls":13},""]
[{"$nulls":13},""]
[{"$nulls":13},""]
[{"$nulls":13},""]
[{"$nulls":13},""]
[{"$nulls":13},""]
[{"$nulls":13},""]
[{"$nulls":13},""]
[{"$nulls":13},""]
[{"$nulls":13},""]
[{"$nulls":13},""]
[{"$nulls":13},""]
[{"$nulls":13},""]
[{"$nulls":13},""]
[{"$nulls":13},""]
[{"$nulls":13},""]
[{"$nulls":13},""]
[{"$nulls":13},""]
[{"$nulls":13},""]
[{"$nulls":13},""]
[{"$nulls":13},""]
[{"$nulls":13},""]
[{"$nulls":13},""]
[{"$nulls":13},""]
[{"$nulls":13},""]
[{"$nulls":13},""]
[{"$nulls":13},""]
[{"$nulls":13},""]
[{"$nulls":13},""]
[{"$nulls":13},""]
[{"$nulls":13},""]
[{"$nulls":13},""]
[{"$nulls":13},""]
[{"$nulls":13},""]
[{"$nulls":13},""]
[{"$nulls":13},""]
[{"$nulls":13},""]
[{"$nulls":13},""]
[{"$nulls":13},""]
[{"$nulls":13},""]
[{"$nulls":13},""]
[{"$nulls":13},""]
[{"$nulls":13},""]
[{"$nulls":13},""]
[{"$nulls":13},""]
[{"$nulls":13},""]
[{"$nulls":13},""]
[{"$nulls":13},""]
[{"$nulls":13},""]
[{"$nulls":13},""]
[{"$nulls":13},""]
[{"$nulls":13},""]
[{"$nulls":13},{"$f":"IF(J1155=\"\",\"\",IF(OR(LEFT(J1155,4)=\"R073\",LEFT(J1155,4)=\"R092\",LEFT(J1155,4)=\"R071\"),CONCATENATE(LEFT(J1155,7),RIGHT(J1155,5)),J1155))","v":""}]
[{"$nulls":13},""]
[{"$nulls":13},""]
[{"$nulls":13},""]
[{"$nulls":13},""]
[{"$nulls":13},""]
[{"$nulls":13},""]
[{"$nulls":13},""]
[{"$nulls":13},""]
[{"$nulls":13},""]
[{"$nulls":13},""]
[{"$nulls":13},""]
[{"$nulls":13},""]
[{"$nulls":13},""]
[{"$nulls":13},""]
[{"$nulls":13},""]
[{"$nulls":13},""]
[{"$nulls":13},""]
[{"$nulls":13},""]
[{"$nulls":13},""]
[{"$nulls":13},""]
[{"$nulls":13},""]
[{"$nulls":13},""]
[{"$nulls":13},""]
[{"$nulls":13},""]
[{"$nulls":13},""]
[{"$nulls":13},""]
[{"$nulls":13},""]
[{"$nulls":13},""]
[{"$nulls":13},""]
[{"$nulls":13},""]
[{"$nulls":13},""]
[{"$nulls":13},""]
[{"$nulls":13},""]
[{"$nulls":13},""]
[{"$nulls":13},""]
[{"$nulls":13},""]
[{"$nulls":13},""]
[{"$nulls":13},""]
[{"$nulls":13},""]
[{"$nulls":13},""]
[{"$nulls":13},""]
[{"$nulls":13},""]
[{"$nulls":13},""]
[{"$nulls":13},""]
[{"$nulls":13},""]
[{"$nulls":13},""]
[{"$nulls":13},""]
[{"$nulls":13},""]
[{"$nulls":13},""]
[{"$nulls":13},""]
[{"$nulls":13},""]
[{"$nulls":13},""]
[{"$nulls":13},""]
[{"$nulls":13},""]
[{"$nulls":13},""]
[{"$nulls":13},""]
[{"$nulls":13},""]
[{"$nulls":13},""]
[{"$nulls":13},""]
[{"$nulls":13},""]
[{"$nulls":13},""]
[{"$nulls":13},""]
[{"$nulls":13},""]
[{"$nulls":13},{"$f":"IF(J1219=\"\",\"\",IF(OR(LEFT(J1219,4)=\"R073\",LEFT(J1219,4)=\"R092\",LEFT(J1219,4)=\"R071\"),CONCATENATE(LEFT(J1219,7),RIGHT(J1219,5)),J1219))","v":""}]
[{"$nulls":13},""]
[{"$nulls":13},""]
[{"$nulls":13},""]
[{"$nulls":13},""]
[{"$nulls":13},""]
[{"$nulls":13},""]
[{"$nulls":13},""]
[{"$nulls":13},""]
[{"$nulls":13},""]
[{"$nulls":13},""]
[{"$nulls":13},""]
[{"$nulls":13},""]
[{"$nulls":13},""]
[{"$nulls":13},""]
[{"$nulls":13},""]
[{"$nulls":13},""]
[{"$nulls":13},""]
[{"$nulls":13},""]
[{"$nulls":13},""]
[{"$nulls":13},""]
[{"$nulls":13},""]
[{"$nulls":13},""]
[{"$nulls":13},""]
[{"$nulls":13},""]
[{"$nulls":13},""]
[{"$nulls":13},""]
[{"$nulls":13},""]
[{"$nulls":13},""]
[{"$nulls":13},""]
[{"$nulls":13},""]
[{"$nulls":13},""]
[{"$nulls":13},""]
[{"$nulls":13},""]
[{"$nulls":13},""]
[{"$nulls":13},""]
[{"$nulls":13},""]
[{"$nulls":13},""]
[{"$nulls":13},""]
[{"$nulls":13},""]
[{"$nulls":13},""]
[{"$nulls":13},""]
[{"$nulls":13},""]
[{"$nulls":13},""]
[{"$nulls":13},""]
[{"$nulls":13},""]
[{"$nulls":13},""]
[{"$nulls":13},""]
[{"$nulls":13},""]
[{"$nulls":13},""]
[{"$nulls":13},""]
[{"$nulls":13},""]
[{"$nulls":13},""]
[{"$nulls":13},""]
[{"$nulls":13},""]
[{"$nulls":13},""]
[{"$nulls":13},""]
[{"$nulls":13},""]
[{"$nulls":13},""]
[{"$nulls":13},""]
[{"$nulls":13},""]
[{"$nulls":13},""]
[{"$nulls":13},""]
[{"$nulls":13},""]
[{"$nulls":13},{"$f":"IF(J1283=\"\",\"\",IF(OR(LEFT(J1283,4)=\"R073\",LEFT(J1283,4)=\"R092\",LEFT(J1283,4)=\"R071\"),CONCATENATE(LEFT(J1283,7),RIGHT(J1283,5)),J1283))","v":""}]
[{"$nulls":13},""]
[{"$nulls":13},""]
[{"$nulls":13},""]
[{"$nulls":13},""]
[{"$nulls":13},""]
[{"$nulls":13},""]
[{"$nulls":13},""]
[{"$nulls":13},""]
[{"$nulls":13},""]
[{"$nulls":13},""]
[{"$nulls":13},""]
[{"$nulls":13},""]
[{"$nulls":13},""]
[{"$nulls":13},""]
[{"$nulls":13},""]
[{"$nulls":13},""]
[{"$nulls":13},""]
[{"$nulls":13},""]
[{"$nulls":13},""]
[{"$nulls":13},""]
[{"$nulls":13},""]
[{"$nulls":13},""]
[{"$nulls":13},""]
[{"$nulls":13},""]
[{"$nulls":13},""]
[{"$nulls":13},""]
[{"$nulls":13},""]
[{"$nulls":13},""]
[{"$nulls":13},""]
[{"$nulls":13},""]
[{"$nulls":13},""]
[{"$nulls":13},""]
[{"$nulls":13},""]
[{"$nulls":13},""]
[{"$nulls":13},""]
[{"$nulls":13},""]
[{"$nulls":13},""]
[{"$nulls":13},""]
[{"$nulls":13},""]
[{"$nulls":13},""]
[{"$nulls":13},""]
[{"$nulls":13},""]
[{"$nulls":13},""]
[{"$nulls":13},""]
[{"$nulls":13},""]
[{"$nulls":13},""]
[{"$nulls":13},""]
[{"$nulls":13},""]
[{"$nulls":13},""]
[{"$nulls":13},""]
[{"$nulls":13},""]
[{"$nulls":13},""]
[{"$nulls":13},""]
[{"$nulls":13},""]
[{"$nulls":13},""]
[{"$nulls":13},""]
[{"$nulls":13},""]
[{"$nulls":13},""]
[{"$nulls":13},""]
[{"$nulls":13},""]
[{"$nulls":13},""]
[{"$nulls":13},""]
[{"$nulls":13},""]
[{"$nulls":13},{"$f":"IF(J1347=\"\",\"\",IF(OR(LEFT(J1347,4)=\"R073\",LEFT(J1347,4)=\"R092\",LEFT(J1347,4)=\"R071\"),CONCATENATE(LEFT(J1347,7),RIGHT(J1347,5)),J1347))","v":""}]
[{"$nulls":13},""]
[{"$nulls":13},""]
[{"$nulls":13},""]
[{"$nulls":13},""]
[{"$nulls":13},""]
[{"$nulls":13},""]
[{"$nulls":13},""]
[{"$nulls":13},""]
[{"$nulls":13},""]
[{"$nulls":13},""]
[{"$nulls":13},""]
[{"$nulls":13},""]
[{"$nulls":13},""]
[{"$nulls":13},""]
[{"$nulls":13},""]
[{"$nulls":13},""]
[{"$nulls":13},""]
[{"$nulls":13},""]
[{"$nulls":13},""]
[{"$nulls":13},""]
[{"$nulls":13},""]
[{"$nulls":13},""]
[{"$nulls":13},""]
[{"$nulls":13},""]
[{"$nulls":13},""]
[{"$nulls":13},""]
[{"$nulls":13},""]
[{"$nulls":13},""]
[{"$nulls":13},""]
[{"$nulls":13},""]
[{"$nulls":13},""]
[{"$nulls":13},""]
[{"$nulls":13},""]
[{"$nulls":13},""]
[{"$nulls":13},""]
[{"$nulls":13},""]
[{"$nulls":13},""]
[{"$nulls":13},""]
[{"$nulls":13},""]
[{"$nulls":13},""]
[{"$nulls":13},""]
[{"$nulls":13},""]
[{"$nulls":13},""]
[{"$nulls":13},""]
[{"$nulls":13},""]
[{"$nulls":13},""]
[{"$nulls":13},""]
[{"$nulls":13},""]
[{"$nulls":13},""]
[{"$nulls":13},""]
[{"$nulls":13},""]
[{"$nulls":13},""]
[{"$nulls":13},""]
[{"$nulls":13},""]
[{"$nulls":13},""]
[{"$nulls":13},""]
[{"$nulls":13},""]
[{"$nulls":13},""]
[{"$nulls":13},""]
[{"$nulls":13},""]
[{"$nulls":13},""]
[{"$nulls":13},""]
[{"$nulls":13},""]
[{"$nulls":13},{"$f":"IF(J1411=\"\",\"\",IF(OR(LEFT(J1411,4)=\"R073\",LEFT(J1411,4)=\"R092\",LEFT(J1411,4)=\"R071\"),CONCATENATE(LEFT(J1411,7),RIGHT(J1411,5)),J1411))","v":""}]
[{"$nulls":13},""]
[{"$nulls":13},""]
[{"$nulls":13},""]
[{"$nulls":13},""]
[{"$nulls":13},""]
[{"$nulls":13},""]
[{"$nulls":13},""]
[{"$nulls":13},""]
[{"$nulls":13},""]
[{"$nulls":13},""]
[{"$nulls":13},""]
[{"$nulls":13},""]
[{"$nulls":13},""]
[{"$nulls":13},""]
[{"$nulls":13},""]
[{"$nulls":13},""]
[{"$nulls":13},""]
[{"$nulls":13},""]
[{"$nulls":13},""]
[{"$nulls":13},""]
[{"$nulls":13},""]
[{"$nulls":13},""]
[{"$nulls":13},""]
[{"$nulls":13},""]
[{"$nulls":13},""]
[{"$nulls":13},""]
[{"$nulls":13},""]
[{"$nulls":13},""]
[{"$nulls":13},""]
[{"$nulls":13},""]
[{"$nulls":13},""]
[{"$nulls":13},""]
[{"$nulls":13},""]
[{"$nulls":13},""]
[{"$nulls":13},""]
[{"$nulls":13},""]
[{"$nulls":13},""]
[{"$nulls":13},""]
[{"$nulls":13},""]
[{"$nulls":13},""]
[{"$nulls":13},""]
[{"$nulls":13},""]
[{"$nulls":13},""]
[{"$nulls":13},""]
[{"$nulls":13},""]
[{"$nulls":13},""]
[{"$nulls":13},""]
[{"$nulls":13},""]
[{"$nulls":13},""]
[{"$nulls":13},""]
[{"$nulls":13},""]
[{"$nulls":13},""]
[{"$nulls":13},""]
[{"$nulls":13},""]
[{"$nulls":13},""]
[{"$nulls":13},""]
[{"$nulls":13},""]
[{"$nulls":13},""]
[{"$nulls":13},""]
[{"$nulls":13},""]
[{"$nulls":13},""]
[{"$nulls":13},""]
[{"$nulls":13},""]
[{"$nulls":13},{"$f":"IF(J1475=\"\",\"\",IF(OR(LEFT(J1475,4)=\"R073\",LEFT(J1475,4)=\"R092\",LEFT(J1475,4)=\"R071\"),CONCATENATE(LEFT(J1475,7),RIGHT(J1475,5)),J1475))","v":""}]
[{"$nulls":13},""]
[{"$nulls":13},""]
[{"$nulls":13},""]
[{"$nulls":13},""]
[{"$nulls":13},""]
[{"$nulls":13},""]
[{"$nulls":13},""]
[{"$nulls":13},""]
[{"$nulls":13},""]
[{"$nulls":13},""]
[{"$nulls":13},""]
[{"$nulls":13},""]
[{"$nulls":13},""]
[{"$nulls":13},""]
[{"$nulls":13},""]
[{"$nulls":13},""]
[{"$nulls":13},""]
[{"$nulls":13},""]
[{"$nulls":13},""]
[{"$nulls":13},""]
[{"$nulls":13},""]
[{"$nulls":13},""]
[{"$nulls":13},""]
[{"$nulls":13},""]
[{"$nulls":13},""]
[{"$nulls":13},""]
[{"$nulls":13},""]
[{"$nulls":13},""]
[{"$nulls":13},""]
[{"$nulls":13},""]
[{"$nulls":13},""]
[{"$nulls":13},""]
[{"$nulls":13},""]
[{"$nulls":13},""]
[{"$nulls":13},""]
[{"$nulls":13},""]
[{"$nulls":13},""]
[{"$nulls":13},""]
[{"$nulls":13},""]
[{"$nulls":13},""]
[{"$nulls":13},""]
[{"$nulls":13},""]
[{"$nulls":13},""]
[{"$nulls":13},""]
[{"$nulls":13},""]
[{"$nulls":13},""]
[{"$nulls":13},""]
[{"$nulls":13},""]
[{"$nulls":13},""]
[{"$nulls":13},""]
[{"$nulls":13},""]
[{"$nulls":13},""]
[{"$nulls":13},""]
[{"$nulls":13},""]
[{"$nulls":13},""]
[{"$nulls":13},""]
[{"$nulls":13},""]
[{"$nulls":13},""]
[{"$nulls":13},""]
[{"$nulls":13},""]
[{"$nulls":13},""]
[{"$nulls":13},""]
[{"$nulls":13},""]
[{"$nulls":13},{"$f":"IF(J1539=\"\",\"\",IF(OR(LEFT(J1539,4)=\"R073\",LEFT(J1539,4)=\"R092\",LEFT(J1539,4)=\"R071\"),CONCATENATE(LEFT(J1539,7),RIGHT(J1539,5)),J1539))","v":""}]
[{"$nulls":13},""]
[{"$nulls":13},""]
[{"$nulls":13},""]
[{"$nulls":13},""]
[{"$nulls":13},""]
[{"$nulls":13},""]
[{"$nulls":13},""]
[{"$nulls":13},""]
[{"$nulls":13},""]
[{"$nulls":13},""]
[{"$nulls":13},""]
[{"$nulls":13},""]
[{"$nulls":13},""]
[{"$nulls":13},""]
[{"$nulls":13},""]
[{"$nulls":13},""]
[{"$nulls":13},""]
[{"$nulls":13},""]
[{"$nulls":13},""]
[{"$nulls":13},""]
[{"$nulls":13},""]
[{"$nulls":13},""]
[{"$nulls":13},""]
[{"$nulls":13},""]
[{"$nulls":13},""]
[{"$nulls":13},""]
[{"$nulls":13},""]
[{"$nulls":13},""]
[{"$nulls":13},""]
[{"$nulls":13},""]
[{"$nulls":13},""]
[{"$nulls":13},""]
[{"$nulls":13},""]
[{"$nulls":13},""]
[{"$nulls":13},""]
[{"$nulls":13},""]
[{"$nulls":13},""]
[{"$nulls":13},""]
[{"$nulls":13},""]
[{"$nulls":13},""]
[{"$nulls":13},""]
[{"$nulls":13},""]
[{"$nulls":13},""]
[{"$nulls":13},""]
[{"$nulls":13},""]
[{"$nulls":13},""]
[{"$nulls":13},""]
[{"$nulls":13},""]
[{"$nulls":13},""]
[{"$nulls":13},""]
[{"$nulls":13},""]
[{"$nulls":13},""]
[{"$nulls":13},""]
[{"$nulls":13},""]
[{"$nulls":13},""]
[{"$nulls":13},""]
[{"$nulls":13},""]
[{"$nulls":13},""]
[{"$nulls":13},""]
[{"$nulls":13},""]
[{"$nulls":13},""]
[{"$nulls":13},""]
[{"$nulls":13},""]
[{"$nulls":13},{"$f":"IF(J1603=\"\",\"\",IF(OR(LEFT(J1603,4)=\"R073\",LEFT(J1603,4)=\"R092\",LEFT(J1603,4)=\"R071\"),CONCATENATE(LEFT(J1603,7),RIGHT(J1603,5)),J1603))","v":""}]
[{"$nulls":13},""]
[{"$nulls":13},""]
[{"$nulls":13},""]
[{"$nulls":13},""]
[{"$nulls":13},""]
[{"$nulls":13},""]
[{"$nulls":13},""]
[{"$nulls":13},""]
[{"$nulls":13},""]
[{"$nulls":13},""]
[{"$nulls":13},""]
[{"$nulls":13},""]
[{"$nulls":13},""]
[{"$nulls":13},""]
[{"$nulls":13},""]
[{"$nulls":13},""]
[{"$nulls":13},""]
[{"$nulls":13},""]
[{"$nulls":13},""]
[{"$nulls":13},""]
[{"$nulls":13},""]
[{"$nulls":13},""]
[{"$nulls":13},""]
[{"$nulls":13},""]
[{"$nulls":13},""]
[{"$nulls":13},""]
[{"$nulls":13},""]
[{"$nulls":13},""]
[{"$nulls":13},""]
[{"$nulls":13},""]
[{"$nulls":13},""]
[{"$nulls":13},""]
[{"$nulls":13},""]
[{"$nulls":13},""]
[{"$nulls":13},""]
[{"$nulls":13},""]
[{"$nulls":13},""]
[{"$nulls":13},""]
[{"$nulls":13},""]
[{"$nulls":13},""]
[{"$nulls":13},""]
[{"$nulls":13},""]
[{"$nulls":13},""]
[{"$nulls":13},""]
[{"$nulls":13},""]
[{"$nulls":13},""]
[{"$nulls":13},""]
[{"$nulls":13},""]
[{"$nulls":13},""]
[{"$nulls":13},""]
[{"$nulls":13},""]
[{"$nulls":13},""]
[{"$nulls":13},""]
[{"$nulls":13},""]
[{"$nulls":13},""]
[{"$nulls":13},""]
[{"$nulls":13},""]
[{"$nulls":13},""]
[{"$nulls":13},""]
[{"$nulls":13},""]
[{"$nulls":13},""]
[{"$nulls":13},""]
[{"$nulls":13},""]
[{"$nulls":13},{"$f":"IF(J1667=\"\",\"\",IF(OR(LEFT(J1667,4)=\"R073\",LEFT(J1667,4)=\"R092\",LEFT(J1667,4)=\"R071\"),CONCATENATE(LEFT(J1667,7),RIGHT(J1667,5)),J1667))","v":""}]
[{"$nulls":13},""]
[{"$nulls":13},""]
[{"$nulls":13},""]
[{"$nulls":13},""]
[{"$nulls":13},""]
[{"$nulls":13},""]
[{"$nulls":13},""]
[{"$nulls":13},""]
[{"$nulls":13},""]
[{"$nulls":13},""]
[{"$nulls":13},""]
[{"$nulls":13},""]
[{"$nulls":13},""]
[{"$nulls":13},""]
[{"$nulls":13},""]
[{"$nulls":13},""]
[{"$nulls":13},""]
[{"$nulls":13},""]
[{"$nulls":13},""]
[{"$nulls":13},""]
[{"$nulls":13},""]
[{"$nulls":13},""]
[{"$nulls":13},""]
[{"$nulls":13},""]
[{"$nulls":13},""]
[{"$nulls":13},""]
[{"$nulls":13},""]
[{"$nulls":13},""]
[{"$nulls":13},""]
[{"$nulls":13},""]
[{"$nulls":13},""]
[{"$nulls":13},""]
[{"$nulls":13},""]
[{"$nulls":13},""]
[{"$nulls":13},""]
[{"$nulls":13},""]
[{"$nulls":13},""]
[{"$nulls":13},""]
[{"$nulls":13},""]
[{"$nulls":13},""]
[{"$nulls":13},""]
[{"$nulls":13},""]
[{"$nulls":13},""]
[{"$nulls":13},""]
[{"$nulls":13},""]
[{"$nulls":13},""]
[{"$nulls":13},""]
[{"$nulls":13},""]
[{"$nulls":13},""]
[{"$nulls":13},""]
[{"$nulls":13},""]
[{"$nulls":13},""]
[{"$nulls":13},""]
[{"$nulls":13},""]
[{"$nulls":13},""]
[{"$nulls":13},""]
[{"$nulls":13},""]
[{"$nulls":13},""]
[{"$nulls":13},""]
[{"$nulls":13},""]
[{"$nulls":13},""]
[{"$nulls":13},""]
[{"$nulls":13},""]
[{"$nulls":13},{"$f":"IF(J1731=\"\",\"\",IF(OR(LEFT(J1731,4)=\"R073\",LEFT(J1731,4)=\"R092\",LEFT(J1731,4)=\"R071\"),CONCATENATE(LEFT(J1731,7),RIGHT(J1731,5)),J1731))","v":""}]
[{"$nulls":13},""]
[{"$nulls":13},""]
[{"$nulls":13},""]
[{"$nulls":13},""]
[{"$nulls":13},""]
[{"$nulls":13},""]
[{"$nulls":13},""]
[{"$nulls":13},""]
[{"$nulls":13},""]
[{"$nulls":13},""]
[{"$nulls":13},""]
[{"$nulls":13},""]
[{"$nulls":13},""]
[{"$nulls":13},""]
[{"$nulls":13},""]
[{"$nulls":13},""]
[{"$nulls":13},""]
[{"$nulls":13},""]
[{"$nulls":13},""]
[{"$nulls":13},""]
[{"$nulls":13},""]
[{"$nulls":13},""]
[{"$nulls":13},""]
[{"$nulls":13},""]
[{"$nulls":13},""]
[{"$nulls":13},""]
[{"$nulls":13},""]
[{"$nulls":13},""]
[{"$nulls":13},""]
[{"$nulls":13},""]
[{"$nulls":13},""]
[{"$nulls":13},""]
[{"$nulls":13},""]
[{"$nulls":13},""]
[{"$nulls":13},""]
[{"$nulls":13},""]
[{"$nulls":13},""]
[{"$nulls":13},""]
[{"$nulls":13},""]
[{"$nulls":13},""]
[{"$nulls":13},""]
[{"$nulls":13},""]
[{"$nulls":13},""]
[{"$nulls":13},""]
[{"$nulls":13},""]
[{"$nulls":13},""]
[{"$nulls":13},""]
[{"$nulls":13},""]
[{"$nulls":13},""]
[{"$nulls":13},""]
[{"$nulls":13},""]
[{"$nulls":13},""]
[{"$nulls":13},""]
[{"$nulls":13},""]
[{"$nulls":13},""]
[{"$nulls":13},""]
[{"$nulls":13},""]
[{"$nulls":13},""]
[{"$nulls":13},""]
[{"$nulls":13},""]
[{"$nulls":13},""]
[{"$nulls":13},""]
[{"$nulls":13},""]
[{"$nulls":13},{"$f":"IF(J1795=\"\",\"\",IF(OR(LEFT(J1795,4)=\"R073\",LEFT(J1795,4)=\"R092\",LEFT(J1795,4)=\"R071\"),CONCATENATE(LEFT(J1795,7),RIGHT(J1795,5)),J1795))","v":""}]
[{"$nulls":13},""]
[{"$nulls":13},""]
[{"$nulls":13},""]
[{"$nulls":13},""]
[{"$nulls":13},""]
[{"$nulls":13},""]
[{"$nulls":13},""]
[{"$nulls":13},""]
[{"$nulls":13},""]
[{"$nulls":13},""]
[{"$nulls":13},""]
[{"$nulls":13},""]
[{"$nulls":13},""]
[{"$nulls":13},""]
[{"$nulls":13},""]
[{"$nulls":13},""]
[{"$nulls":13},""]
[{"$nulls":13},""]
[{"$nulls":13},""]
[{"$nulls":13},""]
[{"$nulls":13},""]
[{"$nulls":13},""]
[{"$nulls":13},""]
[{"$nulls":13},""]
[{"$nulls":13},""]
[{"$nulls":13},""]
[{"$nulls":13},""]
[{"$nulls":13},""]
[{"$nulls":13},""]
[{"$nulls":13},""]
[{"$nulls":13},""]
[{"$nulls":13},""]
[{"$nulls":13},""]
[{"$nulls":13},""]
[{"$nulls":13},""]
[{"$nulls":13},""]
[{"$nulls":13},""]
[{"$nulls":13},""]
[{"$nulls":13},""]
[{"$nulls":13},""]
[{"$nulls":13},""]
[{"$nulls":13},""]
[{"$nulls":13},""]
[{"$nulls":13},""]
[{"$nulls":13},""]
[{"$nulls":13},""]
[{"$nulls":13},""]
[{"$nulls":13},""]
[{"$nulls":13},""]
[{"$nulls":13},""]
[{"$nulls":13},""]
[{"$nulls":13},""]
[{"$nulls":13},""]
[{"$nulls":13},""]
[{"$nulls":13},""]
[{"$nulls":13},""]
[{"$nulls":13},""]
[{"$nulls":13},""]
[{"$nulls":13},""]
[{"$nulls":13},""]
[{"$nulls":13},""]
[{"$nulls":13},""]
[{"$nulls":13},""]
[{"$nulls":13},{"$f":"IF(J1859=\"\",\"\",IF(OR(LEFT(J1859,4)=\"R073\",LEFT(J1859,4)=\"R092\",LEFT(J1859,4)=\"R071\"),CONCATENATE(LEFT(J1859,7),RIGHT(J1859,5)),J1859))","v":""}]
[{"$nulls":13},""]
[{"$nulls":13},""]
[{"$nulls":13},""]
[{"$nulls":13},""]
[{"$nulls":13},""]
[{"$nulls":13},""]
[{"$nulls":13},""]
[{"$nulls":13},""]
[{"$nulls":13},""]
[{"$nulls":13},""]
[{"$nulls":13},""]
[{"$nulls":13},""]
[{"$nulls":13},""]
[{"$nulls":13},""]
[{"$nulls":13},""]
[{"$nulls":13},""]
[{"$nulls":13},""]
[{"$nulls":13},""]
[{"$nulls":13},""]
[{"$nulls":13},""]
[{"$nulls":13},""]
[{"$nulls":13},""]
[{"$nulls":13},""]
[{"$nulls":13},""]
[{"$nulls":13},""]
[{"$nulls":13},""]
[{"$nulls":13},""]
[{"$nulls":13},""]
[{"$nulls":13},""]
[{"$nulls":13},""]
[{"$nulls":13},""]
[{"$nulls":13},""]
[{"$nulls":13},""]
[{"$nulls":13},""]
[{"$nulls":13},""]
[{"$nulls":13},""]
[{"$nulls":13},""]
[{"$nulls":13},""]
[{"$nulls":13},""]
[{"$nulls":13},""]
[{"$nulls":13},""]
[{"$nulls":13},""]
[{"$nulls":13},""]
[{"$nulls":13},""]
[{"$nulls":13},""]
[{"$nulls":13},""]
[{"$nulls":13},""]
[{"$nulls":13},""]
[{"$nulls":13},""]
[{"$nulls":13},""]
[{"$nulls":13},""]
[{"$nulls":13},""]
[{"$nulls":13},""]
[{"$nulls":13},""]
[{"$nulls":13},""]
[{"$nulls":13},""]
[{"$nulls":13},""]
[{"$nulls":13},""]
[{"$nulls":13},""]
[{"$nulls":13},""]
[{"$nulls":13},""]
[{"$nulls":13},""]
[{"$nulls":13},""]
[{"$nulls":13},{"$f":"IF(J1923=\"\",\"\",IF(OR(LEFT(J1923,4)=\"R073\",LEFT(J1923,4)=\"R092\",LEFT(J1923,4)=\"R071\"),CONCATENATE(LEFT(J1923,7),RIGHT(J1923,5)),J1923))","v":""}]
[{"$nulls":13},""]
[{"$nulls":13},""]
[{"$nulls":13},""]
[{"$nulls":13},""]
[{"$nulls":13},""]
[{"$nulls":13},""]
[{"$nulls":13},""]
[{"$nulls":13},""]
[{"$nulls":13},""]
[{"$nulls":13},""]
[{"$nulls":13},""]
[{"$nulls":13},""]
[{"$nulls":13},""]
[{"$nulls":13},""]
[{"$nulls":13},""]
[{"$nulls":13},""]
[{"$nulls":13},""]
[{"$nulls":13},""]
[{"$nulls":13},""]
[{"$nulls":13},""]
[{"$nulls":13},""]
[{"$nulls":13},""]
[{"$nulls":13},""]
[{"$nulls":13},""]
[{"$nulls":13},""]
[{"$nulls":13},""]
[{"$nulls":13},""]
[{"$nulls":13},""]
[{"$nulls":13},""]
[{"$nulls":13},""]
[{"$nulls":13},""]
[{"$nulls":13},""]
[{"$nulls":13},""]
[{"$nulls":13},""]
[{"$nulls":13},""]
[{"$nulls":13},""]
[{"$nulls":13},""]
[{"$nulls":13},""]
[{"$nulls":13},""]
[{"$nulls":13},""]
[{"$nulls":13},""]
[{"$nulls":13},""]
[{"$nulls":13},""]
[{"$nulls":13},""]
[{"$nulls":13},""]
[{"$nulls":13},""]
[{"$nulls":13},""]
[{"$nulls":13},""]
[{"$nulls":13},""]
[{"$nulls":13},""]
[{"$nulls":13},""]
[{"$nulls":13},""]
[{"$nulls":13},""]
[{"$nulls":13},""]
[{"$nulls":13},""]
[{"$nulls":13},""]
[{"$nulls":13},""]
[{"$nulls":13},""]
[{"$nulls":13},""]
[{"$nulls":13},""]
[{"$nulls":13},""]
[{"$nulls":13},""]
[{"$nulls":13},""]
[{"$nulls":13},{"$f":"IF(J1987=\"\",\"\",IF(OR(LEFT(J1987,4)=\"R073\",LEFT(J1987,4)=\"R092\",LEFT(J1987,4)=\"R071\"),CONCATENATE(LEFT(J1987,7),RIGHT(J1987,5)),J1987))","v":""}]
[{"$nulls":13},""]
[{"$nulls":13},""]
[{"$nulls":13},""]
[{"$nulls":13},""]
[{"$nulls":13},""]
[{"$nulls":13},""]
[{"$nulls":13},""]
[{"$nulls":13},""]
[{"$nulls":13},""]
[{"$nulls":13},""]
[{"$nulls":13},""]
[{"$nulls":13},""]
[{"$nulls":13},""]
[{"$nulls":13},""]

{"sheet":"kekka","index":2,"n_rows":2001,"n_cols":13,"rows_kept":2001}
["DB","N1","N2","SX","KC","MC","TL","WT","ZK","S1","S2","S3","S4"]
[{"$f":"IF(syoriyou!A2=\"\",\"\",syoriyou!A2)","v":215001},{"$f":"IF(syoriyou!B2=\"\",\"\",syoriyou!B2)","v":"木下　友翔(6)"},{"$f":"IF(syoriyou!C2=\"\",\"\",syoriyou!C2)","v":"ｷﾉｼﾀ ﾕｳﾄ"},{"$f":"IF(syoriyou!D2=\"\",\"\",syoriyou!D2)","v":1},{"$f":"IF(syoriyou!E2=\"\",\"\",syoriyou!E2)","v":11},{"$f":"IF(syoriyou!F2=\"\",\"\",syoriyou!F2)","v":1113},{"$f":"IF(syoriyou!G2=\"\",\"\",syoriyou!G2)","v":""},{"$f":"IF(syoriyou!H2=\"\",\"\",syoriyou!H2)","v":""},{"$f":"IF(syoriyou!I2=\"\",\"\",syoriyou!I2)","v":215001},{"$f":"IF(syoriyou!J2=\"\",\"\",syoriyou!N2)","v":"R00206 0001470"}]
[{"$f":"IF(syoriyou!A3=\"\",\"\",syoriyou!A3)","v":215002},{"$f":"IF(syoriyou!B3=\"\",\"\",syoriyou!B3)","v":"武藤　　司(6)"},{"$f":"IF(syoriyou!C3=\"\",\"\",syoriyou!C3)","v":"ﾑﾄｳ ﾂｶｻ"},{"$f":"IF(syoriyou!D3=\"\",\"\",syoriyou!D3)","v":1},{"$f":"IF(syoriyou!E3=\"\",\"\",syoriyou!E3)","v":11},{"$f":"IF(syoriyou!F3=\"\",\"\",syoriyou!F3)","v":1113},{"$f":"IF(syoriyou!G3=\"\",\"\",syoriyou!G3)","v":""},{"$f":"IF(syoriyou!H3=\"\",\"\",syoriyou!H3)","v":""},{"$f":"IF(syoriyou!I3=\"\",\"\",syoriyou!I3)","v":215002},{"$f":"IF(syoriyou!J3=\"\",\"\",syoriyou!N3)","v":"R00206 0001679"}]
[{"$f":"IF(syoriyou!A4=\"\",\"\",syoriyou!A4)","v":215003},{"$f":"IF(syoriyou!B4=\"\",\"\",syoriyou!B4)","v":"相川　百花(6)"},{"$f":"IF(syoriyou!C4=\"\",\"\",syoriyou!C4)","v":"ｱｲｶﾜ ﾓﾓｶ"},{"$f":"IF(syoriyou!D4=\"\",\"\",syoriyou!D4)","v":2},{"$f":"IF(syoriyou!E4=\"\",\"\",syoriyou!E4)","v":11},{"$f":"IF(syoriyou!F4=\"\",\"\",syoriyou!F4)","v":1113},{"$f":"IF(syoriyou!G4=\"\",\"\",syoriyou!G4)","v":""},{"$f":"IF(syoriyou!H4=\"\",\"\",syoriyou!H4)","v":""},{"$f":"IF(syoriyou!I4=\"\",\"\",syoriyou!I4)","v":215003},{"$f":"IF(syoriyou!J4=\"\",\"\",syoriyou!N4)","v":"R00206 0001565"}]
[{"$f":"IF(syoriyou!A5=\"\",\"\",syoriyou!A5)","v":215004},{"$f":"IF(syoriyou!B5=\"\",\"\",syoriyou!B5)","v":"永井　優彩(6)"},{"$f":"IF(syoriyou!C5=\"\",\"\",syoriyou!C5)","v":"ﾅｶﾞｲ ﾕｱ"},{"$f":"IF(syoriyou!D5=\"\",\"\",syoriyou!D5)","v":2},{"$f":"IF(syoriyou!E5=\"\",\"\",syoriyou!E5)","v":11},{"$f":"IF(syoriyou!F5=\"\",\"\",syoriyou!F5)","v":1113},{"$f":"IF(syoriyou!G5=\"\",\"\",syoriyou!G5)","v":""},{"$f":"IF(syoriyou!H5=\"\",\"\",syoriyou!H5)","v":""},{"$f":"IF(syoriyou!I5=\"\",\"\",syoriyou!I5)","v":215004},{"$f":"IF(syoriyou!J5=\"\",\"\",syoriyou!N5)","v":"R00206 0001512"}]
[{"$f":"IF(syoriyou!A6=\"\",\"\",syoriyou!A6)","v":215005},{"$f":"IF(syoriyou!B6=\"\",\"\",syoriyou!B6)","v":"大澤　一翔(5)"},{"$f":"IF(syoriyou!C6=\"\",\"\",syoriyou!C6)","v":"ｵｵｻﾜ ｶｽﾞﾄ"},{"$f":"IF(syoriyou!D6=\"\",\"\",syoriyou!D6)","v":1},{"$f":"IF(syoriyou!E6=\"\",\"\",syoriyou!E6)","v":11},{"$f":"IF(syoriyou!F6=\"\",\"\",syoriyou!F6)","v":1113},{"$f":"IF(syoriyou!G6=\"\",\"\",syoriyou!G6)","v":""},{"$f":"IF(syoriyou!H6=\"\",\"\",syoriyou!H6)","v":""},{"$f":"IF(syoriyou!I6=\"\",\"\",syoriyou!I6)","v":215005},{"$f":"IF(syoriyou!J6=\"\",\"\",syoriyou!N6)","v":"R00205 0001531"}]
[{"$f":"IF(syoriyou!A7=\"\",\"\",syoriyou!A7)","v":215006},{"$f":"IF(syoriyou!B7=\"\",\"\",syoriyou!B7)","v":"根岸　凱生(5)"},{"$f":"IF(syoriyou!C7=\"\",\"\",syoriyou!C7)","v":"ﾈｷﾞｼ ｶｲｾｲ"},{"$f":"IF(syoriyou!D7=\"\",\"\",syoriyou!D7)","v":1},{"$f":"IF(syoriyou!E7=\"\",\"\",syoriyou!E7)","v":11},{"$f":"IF(syoriyou!F7=\"\",\"\",syoriyou!F7)","v":1113},{"$f":"IF(syoriyou!G7=\"\",\"\",syoriyou!G7)","v":""},{"$f":"IF(syoriyou!H7=\"\",\"\",syoriyou!H7)","v":""},{"$f":"IF(syoriyou!I7=\"\",\"\",syoriyou!I7)","v":215006},{"$f":"IF(syoriyou!J7=\"\",\"\",syoriyou!N7)","v":"R00205 0001505"}]
[{"$f":"IF(syoriyou!A8=\"\",\"\",syoriyou!A8)","v":215007},{"$f":"IF(syoriyou!B8=\"\",\"\",syoriyou!B8)","v":"福島　怜華(5)"},{"$f":"IF(syoriyou!C8=\"\",\"\",syoriyou!C8)","v":"ﾌｸｼﾏ ﾚｲｶ"},{"$f":"IF(syoriyou!D8=\"\",\"\",syoriyou!D8)","v":2},{"$f":"IF(syoriyou!E8=\"\",\"\",syoriyou!E8)","v":11},{"$f":"IF(syoriyou!F8=\"\",\"\",syoriyou!F8)","v":1113},{"$f":"IF(syoriyou!G8=\"\",\"\",syoriyou!G8)","v":""},{"$f":"IF(syoriyou!H8=\"\",\"\",syoriyou!H8)","v":""},{"$f":"IF(syoriyou!I8=\"\",\"\",syoriyou!I8)","v":215007},{"$f":"IF(syoriyou!J8=\"\",\"\",syoriyou!N8)","v":"R00205 0001775"}]
[{"$f":"IF(syoriyou!A9=\"\",\"\",syoriyou!A9)","v":215008},{"$f":"IF(syoriyou!B9=\"\",\"\",syoriyou!B9)","v":"吉澤　うい(5)"},{"$f":"IF(syoriyou!C9=\"\",\"\",syoriyou!C9)","v":"ﾖｼｻﾞﾜ ｳｲ"},{"$f":"IF(syoriyou!D9=\"\",\"\",syoriyou!D9)","v":2},{"$f":"IF(syoriyou!E9=\"\",\"\",syoriyou!E9)","v":11},{"$f":"IF(syoriyou!F9=\"\",\"\",syoriyou!F9)","v":1113},{"$f":"IF(syoriyou!G9=\"\",\"\",syoriyou!G9)","v":""},{"$f":"IF(syoriyou!H9=\"\",\"\",syoriyou!H9)","v":""},{"$f":"IF(syoriyou!I9=\"\",\"\",syoriyou!I9)","v":215008},{"$f":"IF(syoriyou!J9=\"\",\"\",syoriyou!N9)","v":"R00205 0001557"}]
[{"$f":"IF(syoriyou!A10=\"\",\"\",syoriyou!A10)","v":215009},{"$f":"IF(syoriyou!B10=\"\",\"\",syoriyou!B10)","v":"萩原　快斗(6)"},{"$f":"IF(syoriyou!C10=\"\",\"\",syoriyou!C10)","v":"ﾊｷﾞﾜﾗ ｶｲﾄ"},{"$f":"IF(syoriyou!D10=\"\",\"\",syoriyou!D10)","v":1},{"$f":"IF(syoriyou!E10=\"\",\"\",syoriyou!E10)","v":11},{"$f":"IF(syoriyou!F10=\"\",\"\",syoriyou!F10)","v":1113},{"$f":"IF(syoriyou!G10=\"\",\"\",syoriyou!G10)","v":""},{"$f":"IF(syoriyou!H10=\"\",\"\",syoriyou!H10)","v":""},{"$f":"IF(syoriyou!I10=\"\",\"\",syoriyou!I10)","v":215009},{"$f":"IF(syoriyou!J10=\"\",\"\",syoriyou!N10)","v":"R04200 0000934"}]
[{"$f":"IF(syoriyou!A11=\"\",\"\",syoriyou!A11)","v":215010},{"$f":"IF(syoriyou!B11=\"\",\"\",syoriyou!B11)","v":"横尾芽依飛(5)"},{"$f":"IF(syoriyou!C11=\"\",\"\",syoriyou!C11)","v":"ﾖｺｵ ﾒｲﾄ"},{"$f":"IF(syoriyou!D11=\"\",\"\",syoriyou!D11)","v":1},{"$f":"IF(syoriyou!E11=\"\",\"\",syoriyou!E11)","v":11},{"$f":"IF(syoriyou!F11=\"\",\"\",syoriyou!F11)","v":1113},{"$f":"IF(syoriyou!G11=\"\",\"\",syoriyou!G11)","v":""},{"$f":"IF(syoriyou!H11=\"\",\"\",syoriyou!H11)","v":""},{"$f":"IF(syoriyou!I11=\"\",\"\",syoriyou!I11)","v":215010},{"$f":"IF(syoriyou!J11=\"\",\"\",syoriyou!N11)","v":"R04200 0001046"}]
[{"$f":"IF(syoriyou!A12=\"\",\"\",syoriyou!A12)","v":215011},{"$f":"IF(syoriyou!B12=\"\",\"\",syoriyou!B12)","v":"神戸　心春(6)"},{"$f":"IF(syoriyou!C12=\"\",\"\",syoriyou!C12)","v":"ｶﾝﾍﾞ ｺﾊﾙ"},{"$f":"IF(syoriyou!D12=\"\",\"\",syoriyou!D12)","v":2},{"$f":"IF(syoriyou!E12=\"\",\"\",syoriyou!E12)","v":11},{"$f":"IF(syoriyou!F12=\"\",\"\",syoriyou!F12)","v":1113},{"$f":"IF(syoriyou!G12=\"\",\"\",syoriyou!G12)","v":""},{"$f":"IF(syoriyou!H12=\"\",\"\",syoriyou!H12)","v":""},{"$f":"IF(syoriyou!I12=\"\",\"\",syoriyou!I12)","v":215011},{"$f":"IF(syoriyou!J12=\"\",\"\",syoriyou!N12)","v":"R04200 0000888"}]
[{"$f":"IF(syoriyou!A13=\"\",\"\",syoriyou!A13)","v":215012},{"$f":"IF(syoriyou!B13=\"\",\"\",syoriyou!B13)","v":"下山　星奈(5)"},{"$f":"IF(syoriyou!C13=\"\",\"\",syoriyou!C13)","v":"ｼﾓﾔﾏ ｾﾅ"},{"$f":"IF(syoriyou!D13=\"\",\"\",syoriyou!D13)","v":2},{"$f":"IF(syoriyou!E13=\"\",\"\",syoriyou!E13)","v":11},{"$f":"IF(syoriyou!F13=\"\",\"\",syoriyou!F13)","v":1113},{"$f":"IF(syoriyou!G13=\"\",\"\",syoriyou!G13)","v":""},{"$f":"IF(syoriyou!H13=\"\",\"\",syoriyou!H13)","v":""},{"$f":"IF(syoriyou!I13=\"\",\"\",syoriyou!I13)","v":215012},{"$f":"IF(syoriyou!J13=\"\",\"\",syoriyou!N13)","v":"R04200 0001056"}]
[{"$f":"IF(syoriyou!A14=\"\",\"\",syoriyou!A14)","v":215013},{"$f":"IF(syoriyou!B14=\"\",\"\",syoriyou!B14)","v":"上原　大空(6)"},{"$f":"IF(syoriyou!C14=\"\",\"\",syoriyou!C14)","v":"ｳｴﾊﾗ ｿﾗ"},{"$f":"IF(syoriyou!D14=\"\",\"\",syoriyou!D14)","v":1},{"$f":"IF(syoriyou!E14=\"\",\"\",syoriyou!E14)","v":11},{"$f":"IF(syoriyou!F14=\"\",\"\",syoriyou!F14)","v":1113},{"$f":"IF(syoriyou!G14=\"\",\"\",syoriyou!G14)","v":""},{"$f":"IF(syoriyou!H14=\"\",\"\",syoriyou!H14)","v":""},{"$f":"IF(syoriyou!I14=\"\",\"\",syoriyou!I14)","v":215013},{"$f":"IF(syoriyou!J14=\"\",\"\",syoriyou!N14)","v":"R00700 0033874"}]
[{"$f":"IF(syoriyou!A15=\"\",\"\",syoriyou!A15)","v":215014},{"$f":"IF(syoriyou!B15=\"\",\"\",syoriyou!B15)","v":"谷　　侑磨(6)"},{"$f":"IF(syoriyou!C15=\"\",\"\",syoriyou!C15)","v":"ﾀﾆ ﾕｳﾏ"},{"$f":"IF(syoriyou!D15=\"\",\"\",syoriyou!D15)","v":1},{"$f":"IF(syoriyou!E15=\"\",\"\",syoriyou!E15)","v":11},{"$f":"IF(syoriyou!F15=\"\",\"\",syoriyou!F15)","v":1113},{"$f":"IF(syoriyou!G15=\"\",\"\",syoriyou!G15)","v":""},{"$f":"IF(syoriyou!H15=\"\",\"\",syoriyou!H15)","v":""},{"$f":"IF(syoriyou!I15=\"\",\"\",syoriyou!I15)","v":215014},{"$f":"IF(syoriyou!J15=\"\",\"\",syoriyou!N15)","v":"R00700 0042189"}]
[{"$f":"IF(syoriyou!A16=\"\",\"\",syoriyou!A16)","v":215015},{"$f":"IF(syoriyou!B16=\"\",\"\",syoriyou!B16)","v":"岡野　栞奈(6)"},{"$f":"IF(syoriyou!C16=\"\",\"\",syoriyou!C16)","v":"ｵｶﾉ ｶﾝﾅ"},{"$f":"IF(syoriyou!D16=\"\",\"\",syoriyou!D16)","v":2},{"$f":"IF(syoriyou!E16=\"\",\"\",syoriyou!E16)","v":11},{"$f":"IF(syoriyou!F16=\"\",\"\",syoriyou!F16)","v":1113},{"$f":"IF(syoriyou!G16=\"\",\"\",syoriyou!G16)","v":""},{"$f":"IF(syoriyou!H16=\"\",\"\",syoriyou!H16)","v":""},{"$f":"IF(syoriyou!I16=\"\",\"\",syoriyou!I16)","v":215015},{"$f":"IF(syoriyou!J16=\"\",\"\",syoriyou!N16)","v":"R00600 0025650"}]
[{"$f":"IF(syoriyou!A17=\"\",\"\",syoriyou!A17)","v":215016},{"$f":"IF(syoriyou!B17=\"\",\"\",syoriyou!B17)","v":"神戸　結月(5)"},{"$f":"IF(syoriyou!C17=\"\",\"\",syoriyou!C17)","v":"ｶﾝﾍﾞ ﾕﾂﾞｷ"},{"$f":"IF(syoriyou!D17=\"\",\"\",syoriyou!D17)","v":2},{"$f":"IF(syoriyou!E17=\"\",\"\",syoriyou!E17)","v":11},{"$f":"IF(syoriyou!F17=\"\",\"\",syoriyou!F17)","v":1113},{"$f":"IF(syoriyou!G17=\"\",\"\",syoriyou!G17)","v":""},{"$f":"IF(syoriyou!H17=\"\",\"\",syoriyou!H17)","v":""},{"$f":"IF(syoriyou!I17=\"\",\"\",syoriyou!I17)","v":215016},{"$f":"IF(syoriyou!J17=\"\",\"\",syoriyou!N17)","v":"R00600 0030800"}]
[{"$f":"IF(syoriyou!A18=\"\",\"\",syoriyou!A18)","v":215017},{"$f":"IF(syoriyou!B18=\"\",\"\",syoriyou!B18)","v":"髙宮　空翔(6)"},{"$f":"IF(syoriyou!C18=\"\",\"\",syoriyou!C18)","v":"ﾀｶﾐﾔ ｸｳﾄ"},{"$f":"IF(syoriyou!D18=\"\",\"\",syoriyou!D18)","v":1},{"$f":"IF(syoriyou!E18=\"\",\"\",syoriyou!E18)","v":11},{"$f":"IF(syoriyou!F18=\"\",\"\",syoriyou!F18)","v":1113},{"$f":"IF(syoriyou!G18=\"\",\"\",syoriyou!G18)","v":""},{"$f":"IF(syoriyou!H18=\"\",\"\",syoriyou!H18)","v":""},{"$f":"IF(syoriyou!I18=\"\",\"\",syoriyou!I18)","v":215017},{"$f":"IF(syoriyou!J18=\"\",\"\",syoriyou!N18)","v":"R07300 00370"}]
[{"$f":"IF(syoriyou!A19=\"\",\"\",syoriyou!A19)","v":215018},{"$f":"IF(syoriyou!B19=\"\",\"\",syoriyou!B19)","v":"新井　優成(5)"},{"$f":"IF(syoriyou!C19=\"\",\"\",syoriyou!C19)","v":"ｱﾗｲ ﾕｳｾｲ"},{"$f":"IF(syoriyou!D19=\"\",\"\",syoriyou!D19)","v":1},{"$f":"IF(syoriyou!E19=\"\",\"\",syoriyou!E19)","v":11},{"$f":"IF(syoriyou!F19=\"\",\"\",syoriyou!F19)","v":1113},{"$f":"IF(syoriyou!G19=\"\",\"\",syoriyou!G19)","v":""},{"$f":"IF(syoriyou!H19=\"\",\"\",syoriyou!H19)","v":""},{"$f":"IF(syoriyou!I19=\"\",\"\",syoriyou!I19)","v":215018},{"$f":"IF(syoriyou!J19=\"\",\"\",syoriyou!N19)","v":"R07300 00330"}]
[{"$f":"IF(syoriyou!A20=\"\",\"\",syoriyou!A20)","v":215019},{"$f":"IF(syoriyou!B20=\"\",\"\",syoriyou!B20)","v":"太田　恵満(6)"},{"$f":"IF(syoriyou!C20=\"\",\"\",syoriyou!C20)","v":"ｵｵﾀ ｴﾏ"},{"$f":"IF(syoriyou!D20=\"\",\"\",syoriyou!D20)","v":2},{"$f":"IF(syoriyou!E20=\"\",\"\",syoriyou!E20)","v":11},{"$f":"IF(syoriyou!F20=\"\",\"\",syoriyou!F20)","v":1113},{"$f":"IF(syoriyou!G20=\"\",\"\",syoriyou!G20)","v":""},{"$f":"IF(syoriyou!H20=\"\",\"\",syoriyou!H20)","v":""},{"$f":"IF(syoriyou!I20=\"\",\"\",syoriyou!I20)","v":215019},{"$f":"IF(syoriyou!J20=\"\",\"\",syoriyou!N20)","v":"R07300 00320"}]
[{"$f":"IF(syoriyou!A21=\"\",\"\",syoriyou!A21)","v":215020},{"$f":"IF(syoriyou!B21=\"\",\"\",syoriyou!B21)","v":"山口　和夏(5)"},{"$f":"IF(syoriyou!C21=\"\",\"\",syoriyou!C21)","v":"ﾔﾏｸﾞﾁ ﾜｶ"},{"$f":"IF(syoriyou!D21=\"\",\"\",syoriyou!D21)","v":2},{"$f":"IF(syoriyou!E21=\"\",\"\",syoriyou!E21)","v":11},{"$f":"IF(syoriyou!F21=\"\",\"\",syoriyou!F21)","v":1113},{"$f":"IF(syoriyou!G21=\"\",\"\",syoriyou!G21)","v":""},{"$f":"IF(syoriyou!H21=\"\",\"\",syoriyou!H21)","v":""},{"$f":"IF(syoriyou!I21=\"\",\"\",syoriyou!I21)","v":215020},{"$f":"IF(syoriyou!J21=\"\",\"\",syoriyou!N21)","v":"R07300 00315"}]
[{"$f":"IF(syoriyou!A22=\"\",\"\",syoriyou!A22)","v":215021},{"$f":"IF(syoriyou!B22=\"\",\"\",syoriyou!B22)","v":"横田　貴哉(6)"},{"$f":"IF(syoriyou!C22=\"\",\"\",syoriyou!C22)","v":"ﾖｺﾀ ﾀｶﾔ"},{"$f":"IF(syoriyou!D22=\"\",\"\",syoriyou!D22)","v":1},{"$f":"IF(syoriyou!E22=\"\",\"\",syoriyou!E22)","v":11},{"$f":"IF(syoriyou!F22=\"\",\"\",syoriyou!F22)","v":1113},{"$f":"IF(syoriyou!G22=\"\",\"\",syoriyou!G22)","v":""},{"$f":"IF(syoriyou!H22=\"\",\"\",syoriyou!H22)","v":""},{"$f":"IF(syoriyou!I22=\"\",\"\",syoriyou!I22)","v":215021},{"$f":"IF(syoriyou!J22=\"\",\"\",syoriyou!N22)","v":"R07100 00100"}]
[{"$f":"IF(syoriyou!A23=\"\",\"\",syoriyou!A23)","v":215022},{"$f":"IF(syoriyou!B23=\"\",\"\",syoriyou!B23)","v":"吉澤　琉翔(6)"},{"$f":"IF(syoriyou!C23=\"\",\"\",syoriyou!C23)","v":"ﾖｼｻﾞﾜ ﾘｭｳﾄ"},{"$f":"IF(syoriyou!D23=\"\",\"\",syoriyou!D23)","v":1},{"$f":"IF(syoriyou!E23=\"\",\"\",syoriyou!E23)","v":11},{"$f":"IF(syoriyou!F23=\"\",\"\",syoriyou!F23)","v":1113},{"$f":"IF(syoriyou!G23=\"\",\"\",syoriyou!G23)","v":""},{"$f":"IF(syoriyou!H23=\"\",\"\",syoriyou!H23)","v":""},{"$f":"IF(syoriyou!I23=\"\",\"\",syoriyou!I23)","v":215022},{"$f":"IF(syoriyou!J23=\"\",\"\",syoriyou!N23)","v":"R07100 00115"}]
[{"$f":"IF(syoriyou!A24=\"\",\"\",syoriyou!A24)","v":215023},{"$f":"IF(syoriyou!B24=\"\",\"\",syoriyou!B24)","v":"清水　希空(6)"},{"$f":"IF(syoriyou!C24=\"\",\"\",syoriyou!C24)","v":"ｼﾐｽﾞ ﾉｱ"},{"$f":"IF(syoriyou!D24=\"\",\"\",syoriyou!D24)","v":2},{"$f":"IF(syoriyou!E24=\"\",\"\",syoriyou!E24)","v":11},{"$f":"IF(syoriyou!F24=\"\",\"\",syoriyou!F24)","v":1113},{"$f":"IF(syoriyou!G24=\"\",\"\",syoriyou!G24)","v":""},{"$f":"IF(syoriyou!H24=\"\",\"\",syoriyou!H24)","v":""},{"$f":"IF(syoriyou!I24=\"\",\"\",syoriyou!I24)","v":215023},{"$f":"IF(syoriyou!J24=\"\",\"\",syoriyou!N24)","v":"R07100 00105"}]
[{"$f":"IF(syoriyou!A25=\"\",\"\",syoriyou!A25)","v":215024},{"$f":"IF(syoriyou!B25=\"\",\"\",syoriyou!B25)","v":"鈴木　優華(6)"},{"$f":"IF(syoriyou!C25=\"\",\"\",syoriyou!C25)","v":"ｽｽﾞｷ ﾕｳｶ"},{"$f":"IF(syoriyou!D25=\"\",\"\",syoriyou!D25)","v":2},{"$f":"IF(syoriyou!E25=\"\",\"\",syoriyou!E25)","v":11},{"$f":"IF(syoriyou!F25=\"\",\"\",syoriyou!F25)","v":1113},{"$f":"IF(syoriyou!G25=\"\",\"\",syoriyou!G25)","v":""},{"$f":"IF(syoriyou!H25=\"\",\"\",syoriyou!H25)","v":""},{"$f":"IF(syoriyou!I25=\"\",\"\",syoriyou!I25)","v":215024},{"$f":"IF(syoriyou!J25=\"\",\"\",syoriyou!N25)","v":"R07100 00105"}]
[{"$f":"IF(syoriyou!A26=\"\",\"\",syoriyou!A26)","v":215025},{"$f":"IF(syoriyou!B26=\"\",\"\",syoriyou!B26)","v":"浅井　虎亜(6)"},{"$f":"IF(syoriyou!C26=\"\",\"\",syoriyou!C26)","v":"ｱｻｲ ｺｱ"},{"$f":"IF(syoriyou!D26=\"\",\"\",syoriyou!D26)","v":1},{"$f":"IF(syoriyou!E26=\"\",\"\",syoriyou!E26)","v":11},{"$f":"IF(syoriyou!F26=\"\",\"\",syoriyou!F26)","v":1113},{"$f":"IF(syoriyou!G26=\"\",\"\",syoriyou!G26)","v":""},{"$f":"IF(syoriyou!H26=\"\",\"\",syoriyou!H26)","v":""},{"$f":"IF(syoriyou!I26=\"\",\"\",syoriyou!I26)","v":215025},{"$f":"IF(syoriyou!J26=\"\",\"\",syoriyou!N26)","v":"R09200 04030"}]
[{"$f":"IF(syoriyou!A27=\"\",\"\",syoriyou!A27)","v":215026},{"$f":"IF(syoriyou!B27=\"\",\"\",syoriyou!B27)","v":"大河原双葉(6)"},{"$f":"IF(syoriyou!C27=\"\",\"\",syoriyou!C27)","v":"ｵｵｶﾊﾗ ﾌﾀﾊﾞ"},{"$f":"IF(syoriyou!D27=\"\",\"\",syoriyou!D27)","v":1},{"$f":"IF(syoriyou!E27=\"\",\"\",syoriyou!E27)","v":11},{"$f":"IF(syoriyou!F27=\"\",\"\",syoriyou!F27)","v":1113},{"$f":"IF(syoriyou!G27=\"\",\"\",syoriyou!G27)","v":""},{"$f":"IF(syoriyou!H27=\"\",\"\",syoriyou!H27)","v":""},{"$f":"IF(syoriyou!I27=\"\",\"\",syoriyou!I27)","v":215026},{"$f":"IF(syoriyou!J27=\"\",\"\",syoriyou!N27)","v":"R09200 05300"}]
[{"$f":"IF(syoriyou!A28=\"\",\"\",syoriyou!A28)","v":215027},{"$f":"IF(syoriyou!B28=\"\",\"\",syoriyou!B28)","v":"梅澤　綾香(6)"},{"$f":"IF(syoriyou!C28=\"\",\"\",syoriyou!C28)","v":"ｳﾒｻﾞﾜ ｱﾔｶ"},{"$f":"IF(syoriyou!D28=\"\",\"\",syoriyou!D28)","v":2},{"$f":"IF(syoriyou!E28=\"\",\"\",syoriyou!E28)","v":11},{"$f":"IF(syoriyou!F28=\"\",\"\",syoriyou!F28)","v":1113},{"$f":"IF(syoriyou!G28=\"\",\"\",syoriyou!G28)","v":""},{"$f":"IF(syoriyou!H28=\"\",\"\",syoriyou!H28)","v":""},{"$f":"IF(syoriyou!I28=\"\",\"\",syoriyou!I28)","v":215027},{"$f":"IF(syoriyou!J28=\"\",\"\",syoriyou!N28)","v":"R09200 02570"}]
[{"$f":"IF(syoriyou!A29=\"\",\"\",syoriyou!A29)","v":215028},{"$f":"IF(syoriyou!B29=\"\",\"\",syoriyou!B29)","v":"永井　希和(6)"},{"$f":"IF(syoriyou!C29=\"\",\"\",syoriyou!C29)","v":"ﾅｶﾞｲ ｷﾜ"},{"$f":"IF(syoriyou!D29=\"\",\"\",syoriyou!D29)","v":2},{"$f":"IF(syoriyou!E29=\"\",\"\",syoriyou!E29)","v":11},{"$f":"IF(syoriyou!F29=\"\",\"\",syoriyou!F29)","v":1113},{"$f":"IF(syoriyou!G29=\"\",\"\",syoriyou!G29)","v":""},{"$f":"IF(syoriyou!H29=\"\",\"\",syoriyou!H29)","v":""},{"$f":"IF(syoriyou!I29=\"\",\"\",syoriyou!I29)","v":215028},{"$f":"IF(syoriyou!J29=\"\",\"\",syoriyou!N29)","v":"R09200 03710"}]
[{"$f":"IF(syoriyou!A30=\"\",\"\",syoriyou!A30)","v":""},{"$f":"IF(syoriyou!B30=\"\",\"\",syoriyou!B30)","v":""},{"$f":"IF(syoriyou!C30=\"\",\"\",syoriyou!C30)","v":""},{"$f":"IF(syoriyou!D30=\"\",\"\",syoriyou!D30)","v":""},{"$f":"IF(syoriyou!E30=\"\",\"\",syoriyou!E30)","v":""},{"$f":"IF(syoriyou!F30=\"\",\"\",syoriyou!F30)","v":""},{"$f":"IF(syoriyou!G30=\"\",\"\",syoriyou!G30)","v":""},{"$f":"IF(syoriyou!H30=\"\",\"\",syoriyou!H30)","v":""},{"$f":"IF(syoriyou!I30=\"\",\"\",syoriyou!I30)","v":""},{"$f":"IF(syoriyou!J30=\"\",\"\",syoriyou!N30)","v":""}]
[{"$f":"IF(syoriyou!A31=\"\",\"\",syoriyou!A31)","v":""},{"$f":"IF(syoriyou!B31=\"\",\"\",syoriyou!B31)","v":""},{"$f":"IF(syoriyou!C31=\"\",\"\",syoriyou!C31)","v":""},{"$f":"IF(syoriyou!D31=\"\",\"\",syoriyou!D31)","v":""},{"$f":"IF(syoriyou!E31=\"\",\"\",syoriyou!E31)","v":""},{"$f":"IF(syoriyou!F31=\"\",\"\",syoriyou!F31)","v":""},{"$f":"IF(syoriyou!G31=\"\",\"\",syoriyou!G31)","v":""},{"$f":"IF(syoriyou!H31=\"\",\"\",syoriyou!H31)","v":""},{"$f":"IF(syoriyou!I31=\"\",\"\",syoriyou!I31)","v":""},{"$f":"IF(syoriyou!J31=\"\",\"\",syoriyou!N31)","v":""}]
[{"$f":"IF(syoriyou!A32=\"\",\"\",syoriyou!A32)","v":""},{"$f":"IF(syoriyou!B32=\"\",\"\",syoriyou!B32)","v":""},{"$f":"IF(syoriyou!C32=\"\",\"\",syoriyou!C32)","v":""},{"$f":"IF(syoriyou!D32=\"\",\"\",syoriyou!D32)","v":""},{"$f":"IF(syoriyou!E32=\"\",\"\",syoriyou!E32)","v":""},{"$f":"IF(syoriyou!F32=\"\",\"\",syoriyou!F32)","v":""},{"$f":"IF(syoriyou!G32=\"\",\"\",syoriyou!G32)","v":""},{"$f":"IF(syoriyou!H32=\"\",\"\",syoriyou!H32)","v":""},{"$f":"IF(syoriyou!I32=\"\",\"\",syoriyou!I32)","v":""},{"$f":"IF(syoriyou!J32=\"\",\"\",syoriyou!N32)","v":""}]
[{"$f":"IF(syoriyou!A33=\"\",\"\",syoriyou!A33)","v":""},{"$f":"IF(syoriyou!B33=\"\",\"\",syoriyou!B33)","v":""},{"$f":"IF(syoriyou!C33=\"\",\"\",syoriyou!C33)","v":""},{"$f":"IF(syoriyou!D33=\"\",\"\",syoriyou!D33)","v":""},{"$f":"IF(syoriyou!E33=\"\",\"\",syoriyou!E33)","v":""},{"$f":"IF(syoriyou!F33=\"\",\"\",syoriyou!F33)","v":""},{"$f":"IF(syoriyou!G33=\"\",\"\",syoriyou!G33)","v":""},{"$f":"IF(syoriyou!H33=\"\",\"\",syoriyou!H33)","v":""},{"$f":"IF(syoriyou!I33=\"\",\"\",syoriyou!I33)","v":""},{"$f":"IF(syoriyou!J33=\"\",\"\",syoriyou!N33)","v":""}]
[{"$f":"IF(syoriyou!A34=\"\",\"\",syoriyou!A34)","v":""},{"$f":"IF(syoriyou!B34=\"\",\"\",syoriyou!B34)","v":""},{"$f":"IF(syoriyou!C34=\"\",\"\",syoriyou!C34)","v":""},{"$f":"IF(syoriyou!D34=\"\",\"\",syoriyou!D34)","v":""},{"$f":"IF(syoriyou!E34=\"\",\"\",syoriyou!E34)","v":""},{"$f":"IF(syoriyou!F34=\"\",\"\",syoriyou!F34)","v":""},{"$f":"IF(syoriyou!G34=\"\",\"\",syoriyou!G34)","v":""},{"$f":"IF(syoriyou!H34=\"\",\"\",syoriyou!H34)","v":""},{"$f":"IF(syoriyou!I34=\"\",\"\",syoriyou!I34)","v":""},{"$f":"IF(syoriyou!J34=\"\",\"\",syoriyou!N34)","v":""}]
[{"$f":"IF(syoriyou!A35=\"\",\"\",syoriyou!A35)","v":""},{"$f":"IF(syoriyou!B35=\"\",\"\",syoriyou!B35)","v":""},{"$f":"IF(syoriyou!C35=\"\",\"\",syoriyou!C35)","v":""},{"$f":"IF(syoriyou!D35=\"\",\"\",syoriyou!D35)","v":""},{"$f":"IF(syoriyou!E35=\"\",\"\",syoriyou!E35)","v":""},{"$f":"IF(syoriyou!F35=\"\",\"\",syoriyou!F35)","v":""},{"$f":"IF(syoriyou!G35=\"\",\"\",syoriyou!G35)","v":""},{"$f":"IF(syoriyou!H35=\"\",\"\",syoriyou!H35)","v":""},{"$f":"IF(syoriyou!I35=\"\",\"\",syoriyou!I35)","v":""},{"$f":"IF(syoriyou!J35=\"\",\"\",syoriyou!N35)","v":""}]
[{"$f":"IF(syoriyou!A36=\"\",\"\",syoriyou!A36)","v":""},{"$f":"IF(syoriyou!B36=\"\",\"\",syoriyou!B36)","v":""},{"$f":"IF(syoriyou!C36=\"\",\"\",syoriyou!C36)","v":""},{"$f":"IF(syoriyou!D36=\"\",\"\",syoriyou!D36)","v":""},{"$f":"IF(syoriyou!E36=\"\",\"\",syoriyou!E36)","v":""},{"$f":"IF(syoriyou!F36=\"\",\"\",syoriyou!F36)","v":""},{"$f":"IF(syoriyou!G36=\"\",\"\",syoriyou!G36)","v":""},{"$f":"IF(syoriyou!H36=\"\",\"\",syoriyou!H36)","v":""},{"$f":"IF(syoriyou!I36=\"\",\"\",syoriyou!I36)","v":""},{"$f":"IF(syoriyou!J36=\"\",\"\",syoriyou!N36)","v":""}]
[{"$f":"IF(syoriyou!A37=\"\",\"\",syoriyou!A37)","v":""},{"$f":"IF(syoriyou!B37=\"\",\"\",syoriyou!B37)","v":""},{"$f":"IF(syoriyou!C37=\"\",\"\",syoriyou!C37)","v":""},{"$f":"IF(syoriyou!D37=\"\",\"\",syoriyou!D37)","v":""},{"$f":"IF(syoriyou!E37=\"\",\"\",syoriyou!E37)","v":""},{"$f":"IF(syoriyou!F37=\"\",\"\",syoriyou!F37)","v":""},{"$f":"IF(syoriyou!G37=\"\",\"\",syoriyou!G37)","v":""},{"$f":"IF(syoriyou!H37=\"\",\"\",syoriyou!H37)","v":""},{"$f":"IF(syoriyou!I37=\"\",\"\",syoriyou!I37)","v":""},{"$f":"IF(syoriyou!J37=\"\",\"\",syoriyou!N37)","v":""}]
[{"$f":"IF(syoriyou!A38=\"\",\"\",syoriyou!A38)","v":""},{"$f":"IF(syoriyou!B38=\"\",\"\",syoriyou!B38)","v":""},{"$f":"IF(syoriyou!C38=\"\",\"\",syoriyou!C38)","v":""},{"$f":"IF(syoriyou!D38=\"\",\"\",syoriyou!D38)","v":""},{"$f":"IF(syoriyou!E38=\"\",\"\",syoriyou!E38)","v":""},{"$f":"IF(syoriyou!F38=\"\",\"\",syoriyou!F38)","v":""},{"$f":"IF(syoriyou!G38=\"\",\"\",syoriyou!G38)","v":""},{"$f":"IF(syoriyou!H38=\"\",\"\",syoriyou!H38)","v":""},{"$f":"IF(syoriyou!I38=\"\",\"\",syoriyou!I38)","v":""},{"$f":"IF(syoriyou!J38=\"\",\"\",syoriyou!N38)","v":""}]
[{"$f":"IF(syoriyou!A39=\"\",\"\",syoriyou!A39)","v":""},{"$f":"IF(syoriyou!B39=\"\",\"\",syoriyou!B39)","v":""},{"$f":"IF(syoriyou!C39=\"\",\"\",syoriyou!C39)","v":""},{"$f":"IF(syoriyou!D39=\"\",\"\",syoriyou!D39)","v":""},{"$f":"IF(syoriyou!E39=\"\",\"\",syoriyou!E39)","v":""},{"$f":"IF(syoriyou!F39=\"\",\"\",syoriyou!F39)","v":""},{"$f":"IF(syoriyou!G39=\"\",\"\",syoriyou!G39)","v":""},{"$f":"IF(syoriyou!H39=\"\",\"\",syoriyou!H39)","v":""},{"$f":"IF(syoriyou!I39=\"\",\"\",syoriyou!I39)","v":""},{"$f":"IF(syoriyou!J39=\"\",\"\",syoriyou!N39)","v":""}]
[{"$f":"IF(syoriyou!A40=\"\",\"\",syoriyou!A40)","v":""},{"$f":"IF(syoriyou!B40=\"\",\"\",syoriyou!B40)","v":""},{"$f":"IF(syoriyou!C40=\"\",\"\",syoriyou!C40)","v":""},{"$f":"IF(syoriyou!D40=\"\",\"\",syoriyou!D40)","v":""},{"$f":"IF(syoriyou!E40=\"\",\"\",syoriyou!E40)","v":""},{"$f":"IF(syoriyou!F40=\"\",\"\",syoriyou!F40)","v":""},{"$f":"IF(syoriyou!G40=\"\",\"\",syoriyou!G40)","v":""},{"$f":"IF(syoriyou!H40=\"\",\"\",syoriyou!H40)","v":""},{"$f":"IF(syoriyou!I40=\"\",\"\",syoriyou!I40)","v":""},{"$f":"IF(syoriyou!J40=\"\",\"\",syoriyou!N40)","v":""}]
[{"$f":"IF(syoriyou!A41=\"\",\"\",syoriyou!A41)","v":""},{"$f":"IF(syoriyou!B41=\"\",\"\",syoriyou!B41)","v":""},{"$f":"IF(syoriyou!C41=\"\",\"\",syoriyou!C41)","v":""},{"$f":"IF(syoriyou!D41=\"\",\"\",syoriyou!D41)","v":""},{"$f":"IF(syoriyou!E41=\"\",\"\",syoriyou!E41)","v":""},{"$f":"IF(syoriyou!F41=\"\",\"\",syoriyou!F41)","v":""},{"$f":"IF(syoriyou!G41=\"\",\"\",syoriyou!G41)","v":""},{"$f":"IF(syoriyou!H41=\"\",\"\",syoriyou!H41)","v":""},{"$f":"IF(syoriyou!I41=\"\",\"\",syoriyou!I41)","v":""},{"$f":"IF(syoriyou!J41=\"\",\"\",syoriyou!N41)","v":""}]
[{"$f":"IF(syoriyou!A42=\"\",\"\",syoriyou!A42)","v":""},{"$f":"IF(syoriyou!B42=\"\",\"\",syoriyou!B42)","v":""},{"$f":"IF(syoriyou!C42=\"\",\"\",syoriyou!C42)","v":""},{"$f":"IF(syoriyou!D42=\"\",\"\",syoriyou!D42)","v":""},{"$f":"IF(syoriyou!E42=\"\",\"\",syoriyou!E42)","v":""},{"$f":"IF(syoriyou!F42=\"\",\"\",syoriyou!F42)","v":""},{"$f":"IF(syoriyou!G42=\"\",\"\",syoriyou!G42)","v":""},{"$f":"IF(syoriyou!H42=\"\",\"\",syoriyou!H42)","v":""},{"$f":"IF(syoriyou!I42=\"\",\"\",syoriyou!I42)","v":""},{"$f":"IF(syoriyou!J42=\"\",\"\",syoriyou!N42)","v":""}]
[{"$f":"IF(syoriyou!A43=\"\",\"\",syoriyou!A43)","v":""},{"$f":"IF(syoriyou!B43=\"\",\"\",syoriyou!B43)","v":""},{"$f":"IF(syoriyou!C43=\"\",\"\",syoriyou!C43)","v":""},{"$f":"IF(syoriyou!D43=\"\",\"\",syoriyou!D43)","v":""},{"$f":"IF(syoriyou!E43=\"\",\"\",syoriyou!E43)","v":""},{"$f":"IF(syoriyou!F43=\"\",\"\",syoriyou!F43)","v":""},{"$f":"IF(syoriyou!G43=\"\",\"\",syoriyou!G43)","v":""},{"$f":"IF(syoriyou!H43=\"\",\"\",syoriyou!H43)","v":""},{"$f":"IF(syoriyou!I43=\"\",\"\",syoriyou!I43)","v":""},{"$f":"IF(syoriyou!J43=\"\",\"\",syoriyou!N43)","v":""}]
[{"$f":"IF(syoriyou!A44=\"\",\"\",syoriyou!A44)","v":""},{"$f":"IF(syoriyou!B44=\"\",\"\",syoriyou!B44)","v":""},{"$f":"IF(syoriyou!C44=\"\",\"\",syoriyou!C44)","v":""},{"$f":"IF(syoriyou!D44=\"\",\"\",syoriyou!D44)","v":""},{"$f":"IF(syoriyou!E44=\"\",\"\",syoriyou!E44)","v":""},{"$f":"IF(syoriyou!F44=\"\",\"\",syoriyou!F44)","v":""},{"$f":"IF(syoriyou!G44=\"\",\"\",syoriyou!G44)","v":""},{"$f":"IF(syoriyou!H44=\"\",\"\",syoriyou!H44)","v":""},{"$f":"IF(syoriyou!I44=\"\",\"\",syoriyou!I44)","v":""},{"$f":"IF(syoriyou!J44=\"\",\"\",syoriyou!N44)","v":""}]
[{"$f":"IF(syoriyou!A45=\"\",\"\",syoriyou!A45)","v":""},{"$f":"IF(syoriyou!B45=\"\",\"\",syoriyou!B45)","v":""},{"$f":"IF(syoriyou!C45=\"\",\"\",syoriyou!C45)","v":""},{"$f":"IF(syoriyou!D45=\"\",\"\",syoriyou!D45)","v":""},{"$f":"IF(syoriyou!E45=\"\",\"\",syoriyou!E45)","v":""},{"$f":"IF(syoriyou!F45=\"\",\"\",syoriyou!F45)","v":""},{"$f":"IF(syoriyou!G45=\"\",\"\",syoriyou!G45)","v":""},{"$f":"IF(syoriyou!H45=\"\",\"\",syoriyou!H45)","v":""},{"$f":"IF(syoriyou!I45=\"\",\"\",syoriyou!I45)","v":""},{"$f":"IF(syoriyou!J45=\"\",\"\",syoriyou!N45)","v":""}]
[{"$f":"IF(syoriyou!A46=\"\",\"\",syoriyou!A46)","v":""},{"$f":"IF(syoriyou!B46=\"\",\"\",syoriyou!B46)","v":""},{"$f":"IF(syoriyou!C46=\"\",\"\",syoriyou!C46)","v":""},{"$f":"IF(syoriyou!D46=\"\",\"\",syoriyou!D46)","v":""},{"$f":"IF(syoriyou!E46=\"\",\"\",syoriyou!E46)","v":""},{"$f":"IF(syoriyou!F46=\"\",\"\",syoriyou!F46)","v":""},{"$f":"IF(syoriyou!G46=\"\",\"\",syoriyou!G46)","v":""},{"$f":"IF(syoriyou!H46=\"\",\"\",syoriyou!H46)","v":""},{"$f":"IF(syoriyou!I46=\"\",\"\",syoriyou!I46)","v":""},{"$f":"IF(syoriyou!J46=\"\",\"\",syoriyou!N46)","v":""}]
[{"$f":"IF(syoriyou!A47=\"\",\"\",syoriyou!A47)","v":""},{"$f":"IF(syoriyou!B47=\"\",\"\",syoriyou!B47)","v":""},{"$f":"IF(syoriyou!C47=\"\",\"\",syoriyou!C47)","v":""},{"$f":"IF(syoriyou!D47=\"\",\"\",syoriyou!D47)","v":""},{"$f":"IF(syoriyou!E47=\"\",\"\",syoriyou!E47)","v":""},{"$f":"IF(syoriyou!F47=\"\",\"\",syoriyou!F47)","v":""},{"$f":"IF(syoriyou!G47=\"\",\"\",syoriyou!G47)","v":""},{"$f":"IF(syoriyou!H47=\"\",\"\",syoriyou!H47)","v":""},{"$f":"IF(syoriyou!I47=\"\",\"\",syoriyou!I47)","v":""},{"$f":"IF(syoriyou!J47=\"\",\"\",syoriyou!N47)","v":""}]
[{"$f":"IF(syoriyou!A48=\"\",\"\",syoriyou!A48)","v":""},{"$f":"IF(syoriyou!B48=\"\",\"\",syoriyou!B48)","v":""},{"$f":"IF(syoriyou!C48=\"\",\"\",syoriyou!C48)","v":""},{"$f":"IF(syoriyou!D48=\"\",\"\",syoriyou!D48)","v":""},{"$f":"IF(syoriyou!E48=\"\",\"\",syoriyou!E48)","v":""},{"$f":"IF(syoriyou!F48=\"\",\"\",syoriyou!F48)","v":""},{"$f":"IF(syoriyou!G48=\"\",\"\",syoriyou!G48)","v":""},{"$f":"IF(syoriyou!H48=\"\",\"\",syoriyou!H48)","v":""},{"$f":"IF(syoriyou!I48=\"\",\"\",syoriyou!I48)","v":""},{"$f":"IF(syoriyou!J48=\"\",\"\",syoriyou!N48)","v":""}]
[{"$f":"IF(syoriyou!A49=\"\",\"\",syoriyou!A49)","v":""},{"$f":"IF(syoriyou!B49=\"\",\"\",syoriyou!B49)","v":""},{"$f":"IF(syoriyou!C49=\"\",\"\",syoriyou!C49)","v":""},{"$f":"IF(syoriyou!D49=\"\",\"\",syoriyou!D49)","v":""},{"$f":"IF(syoriyou!E49=\"\",\"\",syoriyou!E49)","v":""},{"$f":"IF(syoriyou!F49=\"\",\"\",syoriyou!F49)","v":""},{"$f":"IF(syoriyou!G49=\"\",\"\",syoriyou!G49)","v":""},{"$f":"IF(syoriyou!H49=\"\",\"\",syoriyou!H49)","v":""},{"$f":"IF(syoriyou!I49=\"\",\"\",syoriyou!I49)","v":""},{"$f":"IF(syoriyou!J49=\"\",\"\",syoriyou!N49)","v":""}]
[{"$f":"IF(syoriyou!A50=\"\",\"\",syoriyou!A50)","v":""},{"$f":"IF(syoriyou!B50=\"\",\"\",syoriyou!B50)","v":""},{"$f":"IF(syoriyou!C50=\"\",\"\",syoriyou!C50)","v":""},{"$f":"IF(syoriyou!D50=\"\",\"\",syoriyou!D50)","v":""},{"$f":"IF(syoriyou!E50=\"\",\"\",syoriyou!E50)","v":""},{"$f":"IF(syoriyou!F50=\"\",\"\",syoriyou!F50)","v":""},{"$f":"IF(syoriyou!G50=\"\",\"\",syoriyou!G50)","v":""},{"$f":"IF(syoriyou!H50=\"\",\"\",syoriyou!H50)","v":""},{"$f":"IF(syoriyou!I50=\"\",\"\",syoriyou!I50)","v":""},{"$f":"IF(syoriyou!J50=\"\",\"\",syoriyou!N50)","v":""}]
[{"$f":"IF(syoriyou!A51=\"\",\"\",syoriyou!A51)","v":""},{"$f":"IF(syoriyou!B51=\"\",\"\",syoriyou!B51)","v":""},{"$f":"IF(syoriyou!C51=\"\",\"\",syoriyou!C51)","v":""},{"$f":"IF(syoriyou!D51=\"\",\"\",syoriyou!D51)","v":""},{"$f":"IF(syoriyou!E51=\"\",\"\",syoriyou!E51)","v":""},{"$f":"IF(syoriyou!F51=\"\",\"\",syoriyou!F51)","v":""},{"$f":"IF(syoriyou!G51=\"\",\"\",syoriyou!G51)","v":""},{"$f":"IF(syoriyou!H51=\"\",\"\",syoriyou!H51)","v":""},{"$f":"IF(syoriyou!I51=\"\",\"\",syoriyou!I51)","v":""},{"$f":"IF(syoriyou!J51=\"\",\"\",syoriyou!N51)","v":""}]
[{"$f":"IF(syoriyou!A52=\"\",\"\",syoriyou!A52)","v":""},{"$f":"IF(syoriyou!B52=\"\",\"\",syoriyou!B52)","v":""},{"$f":"IF(syoriyou!C52=\"\",\"\",syoriyou!C52)","v":""},{"$f":"IF(syoriyou!D52=\"\",\"\",syoriyou!D52)","v":""},{"$f":"IF(syoriyou!E52=\"\",\"\",syoriyou!E52)","v":""},{"$f":"IF(syoriyou!F52=\"\",\"\",syoriyou!F52)","v":""},{"$f":"IF(syoriyou!G52=\"\",\"\",syoriyou!G52)","v":""},{"$f":"IF(syoriyou!H52=\"\",\"\",syoriyou!H52)","v":""},{"$f":"IF(syoriyou!I52=\"\",\"\",syoriyou!I52)","v":""},{"$f":"IF(syoriyou!J52=\"\",\"\",syoriyou!N52)","v":""}]
[{"$f":"IF(syoriyou!A53=\"\",\"\",syoriyou!A53)","v":""},{"$f":"IF(syoriyou!B53=\"\",\"\",syoriyou!B53)","v":""},{"$f":"IF(syoriyou!C53=\"\",\"\",syoriyou!C53)","v":""},{"$f":"IF(syoriyou!D53=\"\",\"\",syoriyou!D53)","v":""},{"$f":"IF(syoriyou!E53=\"\",\"\",syoriyou!E53)","v":""},{"$f":"IF(syoriyou!F53=\"\",\"\",syoriyou!F53)","v":""},{"$f":"IF(syoriyou!G53=\"\",\"\",syoriyou!G53)","v":""},{"$f":"IF(syoriyou!H53=\"\",\"\",syoriyou!H53)","v":""},{"$f":"IF(syoriyou!I53=\"\",\"\",syoriyou!I53)","v":""},{"$f":"IF(syoriyou!J53=\"\",\"\",syoriyou!N53)","v":""}]
[{"$f":"IF(syoriyou!A54=\"\",\"\",syoriyou!A54)","v":""},{"$f":"IF(syoriyou!B54=\"\",\"\",syoriyou!B54)","v":""},{"$f":"IF(syoriyou!C54=\"\",\"\",syoriyou!C54)","v":""},{"$f":"IF(syoriyou!D54=\"\",\"\",syoriyou!D54)","v":""},{"$f":"IF(syoriyou!E54=\"\",\"\",syoriyou!E54)","v":""},{"$f":"IF(syoriyou!F54=\"\",\"\",syoriyou!F54)","v":""},{"$f":"IF(syoriyou!G54=\"\",\"\",syoriyou!G54)","v":""},{"$f":"IF(syoriyou!H54=\"\",\"\",syoriyou!H54)","v":""},{"$f":"IF(syoriyou!I54=\"\",\"\",syoriyou!I54)","v":""},{"$f":"IF(syoriyou!J54=\"\",\"\",syoriyou!N54)","v":""}]
[{"$f":"IF(syoriyou!A55=\"\",\"\",syoriyou!A55)","v":""},{"$f":"IF(syoriyou!B55=\"\",\"\",syoriyou!B55)","v":""},{"$f":"IF(syoriyou!C55=\"\",\"\",syoriyou!C55)","v":""},{"$f":"IF(syoriyou!D55=\"\",\"\",syoriyou!D55)","v":""},{"$f":"IF(syoriyou!E55=\"\",\"\",syoriyou!E55)","v":""},{"$f":"IF(syoriyou!F55=\"\",\"\",syoriyou!F55)","v":""},{"$f":"IF(syoriyou!G55=\"\",\"\",syoriyou!G55)","v":""},{"$f":"IF(syoriyou!H55=\"\",\"\",syoriyou!H55)","v":""},{"$f":"IF(syoriyou!I55=\"\",\"\",syoriyou!I55)","v":""},{"$f":"IF(syoriyou!J55=\"\",\"\",syoriyou!N55)","v":""}]
[{"$f":"IF(syoriyou!A56=\"\",\"\",syoriyou!A56)","v":""},{"$f":"IF(syoriyou!B56=\"\",\"\",syoriyou!B56)","v":""},{"$f":"IF(syoriyou!C56=\"\",\"\",syoriyou!C56)","v":""},{"$f":"IF(syoriyou!D56=\"\",\"\",syoriyou!D56)","v":""},{"$f":"IF(syoriyou!E56=\"\",\"\",syoriyou!E56)","v":""},{"$f":"IF(syoriyou!F56=\"\",\"\",syoriyou!F56)","v":""},{"$f":"IF(syoriyou!G56=\"\",\"\",syoriyou!G56)","v":""},{"$f":"IF(syoriyou!H56=\"\",\"\",syoriyou!H56)","v":""},{"$f":"IF(syoriyou!I56=\"\",\"\",syoriyou!I56)","v":""},{"$f":"IF(syoriyou!J56=\"\",\"\",syoriyou!N56)","v":""}]
[{"$f":"IF(syoriyou!A57=\"\",\"\",syoriyou!A57)","v":""},{"$f":"IF(syoriyou!B57=\"\",\"\",syoriyou!B57)","v":""},{"$f":"IF(syoriyou!C57=\"\",\"\",syoriyou!C57)","v":""},{"$f":"IF(syoriyou!D57=\"\",\"\",syoriyou!D57)","v":""},{"$f":"IF(syoriyou!E57=\"\",\"\",syoriyou!E57)","v":""},{"$f":"IF(syoriyou!F57=\"\",\"\",syoriyou!F57)","v":""},{"$f":"IF(syoriyou!G57=\"\",\"\",syoriyou!G57)","v":""},{"$f":"IF(syoriyou!H57=\"\",\"\",syoriyou!H57)","v":""},{"$f":"IF(syoriyou!I57=\"\",\"\",syoriyou!I57)","v":""},{"$f":"IF(syoriyou!J57=\"\",\"\",syoriyou!N57)","v":""}]
[{"$f":"IF(syoriyou!A58=\"\",\"\",syoriyou!A58)","v":""},{"$f":"IF(syoriyou!B58=\"\",\"\",syoriyou!B58)","v":""},{"$f":"IF(syoriyou!C58=\"\",\"\",syoriyou!C58)","v":""},{"$f":"IF(syoriyou!D58=\"\",\"\",syoriyou!D58)","v":""},{"$f":"IF(syoriyou!E58=\"\",\"\",syoriyou!E58)","v":""},{"$f":"IF(syoriyou!F58=\"\",\"\",syoriyou!F58)","v":""},{"$f":"IF(syoriyou!G58=\"\",\"\",syoriyou!G58)","v":""},{"$f":"IF(syoriyou!H58=\"\",\"\",syoriyou!H58)","v":""},{"$f":"IF(syoriyou!I58=\"\",\"\",syoriyou!I58)","v":""},{"$f":"IF(syoriyou!J58=\"\",\"\",syoriyou!N58)","v":""}]
[{"$f":"IF(syoriyou!A59=\"\",\"\",syoriyou!A59)","v":""},{"$f":"IF(syoriyou!B59=\"\",\"\",syoriyou!B59)","v":""},{"$f":"IF(syoriyou!C59=\"\",\"\",syoriyou!C59)","v":""},{"$f":"IF(syoriyou!D59=\"\",\"\",syoriyou!D59)","v":""},{"$f":"IF(syoriyou!E59=\"\",\"\",syoriyou!E59)","v":""},{"$f":"IF(syoriyou!F59=\"\",\"\",syoriyou!F59)","v":""},{"$f":"IF(syoriyou!G59=\"\",\"\",syoriyou!G59)","v":""},{"$f":"IF(syoriyou!H59=\"\",\"\",syoriyou!H59)","v":""},{"$f":"IF(syoriyou!I59=\"\",\"\",syoriyou!I59)","v":""},{"$f":"IF(syoriyou!J59=\"\",\"\",syoriyou!N59)","v":""}]
[{"$f":"IF(syoriyou!A60=\"\",\"\",syoriyou!A60)","v":""},{"$f":"IF(syoriyou!B60=\"\",\"\",syoriyou!B60)","v":""},{"$f":"IF(syoriyou!C60=\"\",\"\",syoriyou!C60)","v":""},{"$f":"IF(syoriyou!D60=\"\",\"\",syoriyou!D60)","v":""},{"$f":"IF(syoriyou!E60=\"\",\"\",syoriyou!E60)","v":""},{"$f":"IF(syoriyou!F60=\"\",\"\",syoriyou!F60)","v":""},{"$f":"IF(syoriyou!G60=\"\",\"\",syoriyou!G60)","v":""},{"$f":"IF(syoriyou!H60=\"\",\"\",syoriyou!H60)","v":""},{"$f":"IF(syoriyou!I60=\"\",\"\",syoriyou!I60)","v":""},{"$f":"IF(syoriyou!J60=\"\",\"\",syoriyou!N60)","v":""}]
[{"$f":"IF(syoriyou!A61=\"\",\"\",syoriyou!A61)","v":""},{"$f":"IF(syoriyou!B61=\"\",\"\",syoriyou!B61)","v":""},{"$f":"IF(syoriyou!C61=\"\",\"\",syoriyou!C61)","v":""},{"$f":"IF(syoriyou!D61=\"\",\"\",syoriyou!D61)","v":""},{"$f":"IF(syoriyou!E61=\"\",\"\",syoriyou!E61)","v":""},{"$f":"IF(syoriyou!F61=\"\",\"\",syoriyou!F61)","v":""},{"$f":"IF(syoriyou!G61=\"\",\"\",syoriyou!G61)","v":""},{"$f":"IF(syoriyou!H61=\"\",\"\",syoriyou!H61)","v":""},{"$f":"IF(syoriyou!I61=\"\",\"\",syoriyou!I61)","v":""},{"$f":"IF(syoriyou!J61=\"\",\"\",syoriyou!N61)","v":""}]
[{"$f":"IF(syoriyou!A62=\"\",\"\",syoriyou!A62)","v":""},{"$f":"IF(syoriyou!B62=\"\",\"\",syoriyou!B62)","v":""},{"$f":"IF(syoriyou!C62=\"\",\"\",syoriyou!C62)","v":""},{"$f":"IF(syoriyou!D62=\"\",\"\",syoriyou!D62)","v":""},{"$f":"IF(syoriyou!E62=\"\",\"\",syoriyou!E62)","v":""},{"$f":"IF(syoriyou!F62=\"\",\"\",syoriyou!F62)","v":""},{"$f":"IF(syoriyou!G62=\"\",\"\",syoriyou!G62)","v":""},{"$f":"IF(syoriyou!H62=\"\",\"\",syoriyou!H62)","v":""},{"$f":"IF(syoriyou!I62=\"\",\"\",syoriyou!I62)","v":""},{"$f":"IF(syoriyou!J62=\"\",\"\",syoriyou!N62)","v":""}]
[{"$f":"IF(syoriyou!A63=\"\",\"\",syoriyou!A63)","v":""},{"$f":"IF(syoriyou!B63=\"\",\"\",syoriyou!B63)","v":""},{"$f":"IF(syoriyou!C63=\"\",\"\",syoriyou!C63)","v":""},{"$f":"IF(syoriyou!D63=\"\",\"\",syoriyou!D63)","v":""},{"$f":"IF(syoriyou!E63=\"\",\"\",syoriyou!E63)","v":""},{"$f":"IF(syoriyou!F63=\"\",\"\",syoriyou!F63)","v":""},{"$f":"IF(syoriyou!G63=\"\",\"\",syoriyou!G63)","v":""},{"$f":"IF(syoriyou!H63=\"\",\"\",syoriyou!H63)","v":""},{"$f":"IF(syoriyou!I63=\"\",\"\",syoriyou!I63)","v":""},{"$f":"IF(syoriyou!J63=\"\",\"\",syoriyou!N63)","v":""}]
[{"$f":"IF(syoriyou!A64=\"\",\"\",syoriyou!A64)","v":""},{"$f":"IF(syoriyou!B64=\"\",\"\",syoriyou!B64)","v":""},{"$f":"IF(syoriyou!C64=\"\",\"\",syoriyou!C64)","v":""},{"$f":"IF(syoriyou!D64=\"\",\"\",syoriyou!D64)","v":""},{"$f":"IF(syoriyou!E64=\"\",\"\",syoriyou!E64)","v":""},{"$f":"IF(syoriyou!F64=\"\",\"\",syoriyou!F64)","v":""},{"$f":"IF(syoriyou!G64=\"\",\"\",syoriyou!G64)","v":""},{"$f":"IF(syoriyou!H64=\"\",\"\",syoriyou!H64)","v":""},{"$f":"IF(syoriyou!I64=\"\",\"\",syoriyou!I64)","v":""},{"$f":"IF(syoriyou!J64=\"\",\"\",syoriyou!N64)","v":""}]
[{"$f":"IF(syoriyou!A65=\"\",\"\",syoriyou!A65)","v":""},{"$f":"IF(syoriyou!B65=\"\",\"\",syoriyou!B65)","v":""},{"$f":"IF(syoriyou!C65=\"\",\"\",syoriyou!C65)","v":""},{"$f":"IF(syoriyou!D65=\"\",\"\",syoriyou!D65)","v":""},{"$f":"IF(syoriyou!E65=\"\",\"\",syoriyou!E65)","v":""},{"$f":"IF(syoriyou!F65=\"\",\"\",syoriyou!F65)","v":""},{"$f":"IF(syoriyou!G65=\"\",\"\",syoriyou!G65)","v":""},{"$f":"IF(syoriyou!H65=\"\",\"\",syoriyou!H65)","v":""},{"$f":"IF(syoriyou!I65=\"\",\"\",syoriyou!I65)","v":""},{"$f":"IF(syoriyou!J65=\"\",\"\",syoriyou!N65)","v":""}]
[{"$f":"IF(syoriyou!A66=\"\",\"\",syoriyou!A66)","v":""},{"$f":"IF(syoriyou!B66=\"\",\"\",syoriyou!B66)","v":""},{"$f":"IF(syoriyou!C66=\"\",\"\",syoriyou!C66)","v":""},{"$f":"IF(syoriyou!D66=\"\",\"\",syoriyou!D66)","v":""},{"$f":"IF(syoriyou!E66=\"\",\"\",syoriyou!E66)","v":""},{"$f":"IF(syoriyou!F66=\"\",\"\",syoriyou!F66)","v":""},{"$f":"IF(syoriyou!G66=\"\",\"\",syoriyou!G66)","v":""},{"$f":"IF(syoriyou!H66=\"\",\"\",syoriyou!H66)","v":""},{"$f":"IF(syoriyou!I66=\"\",\"\",syoriyou!I66)","v":""},{"$f":"IF(syoriyou!J66=\"\",\"\",syoriyou!N66)","v":""}]
[{"$f":"IF(syoriyou!A67=\"\",\"\",syoriyou!A67)","v":""},{"$f":"IF(syoriyou!B67=\"\",\"\",syoriyou!B67)","v":""},{"$f":"IF(syoriyou!C67=\"\",\"\",syoriyou!C67)","v":""},{"$f":"IF(syoriyou!D67=\"\",\"\",syoriyou!D67)","v":""},{"$f":"IF(syoriyou!E67=\"\",\"\",syoriyou!E67)","v":""},{"$f":"IF(syoriyou!F67=\"\",\"\",syoriyou!F67)","v":""},{"$f":"IF(syoriyou!G67=\"\",\"\",syoriyou!G67)","v":""},{"$f":"IF(syoriyou!H67=\"\",\"\",syoriyou!H67)","v":""},{"$f":"IF(syoriyou!I67=\"\",\"\",syoriyou!I67)","v":""},{"$f":"IF(syoriyou!J67=\"\",\"\",syoriyou!N67)","v":""}]
[{"$f":"IF(syoriyou!A68=\"\",\"\",syoriyou!A68)","v":""},{"$f":"IF(syoriyou!B68=\"\",\"\",syoriyou!B68)","v":""},{"$f":"IF(syoriyou!C68=\"\",\"\",syoriyou!C68)","v":""},{"$f":"IF(syoriyou!D68=\"\",\"\",syoriyou!D68)","v":""},{"$f":"IF(syoriyou!E68=\"\",\"\",syoriyou!E68)","v":""},{"$f":"IF(syoriyou!F68=\"\",\"\",syoriyou!F68)","v":""},{"$f":"IF(syoriyou!G68=\"\",\"\",syoriyou!G68)","v":""},{"$f":"IF(syoriyou!H68=\"\",\"\",syoriyou!H68)","v":""},{"$f":"IF(syoriyou!I68=\"\",\"\",syoriyou!I68)","v":""},{"$f":"IF(syoriyou!J68=\"\",\"\",syoriyou!N68)","v":""}]
[{"$f":"IF(syoriyou!A69=\"\",\"\",syoriyou!A69)","v":""},{"$f":"IF(syoriyou!B69=\"\",\"\",syoriyou!B69)","v":""},{"$f":"IF(syoriyou!C69=\"\",\"\",syoriyou!C69)","v":""},{"$f":"IF(syoriyou!D69=\"\",\"\",syoriyou!D69)","v":""},{"$f":"IF(syoriyou!E69=\"\",\"\",syoriyou!E69)","v":""},{"$f":"IF(syoriyou!F69=\"\",\"\",syoriyou!F69)","v":""},{"$f":"IF(syoriyou!G69=\"\",\"\",syoriyou!G69)","v":""},{"$f":"IF(syoriyou!H69=\"\",\"\",syoriyou!H69)","v":""},{"$f":"IF(syoriyou!I69=\"\",\"\",syoriyou!I69)","v":""},{"$f":"IF(syoriyou!J69=\"\",\"\",syoriyou!N69)","v":""}]
[{"$f":"IF(syoriyou!A70=\"\",\"\",syoriyou!A70)","v":""},{"$f":"IF(syoriyou!B70=\"\",\"\",syoriyou!B70)","v":""},{"$f":"IF(syoriyou!C70=\"\",\"\",syoriyou!C70)","v":""},{"$f":"IF(syoriyou!D70=\"\",\"\",syoriyou!D70)","v":""},{"$f":"IF(syoriyou!E70=\"\",\"\",syoriyou!E70)","v":""},{"$f":"IF(syoriyou!F70=\"\",\"\",syoriyou!F70)","v":""},{"$f":"IF(syoriyou!G70=\"\",\"\",syoriyou!G70)","v":""},{"$f":"IF(syoriyou!H70=\"\",\"\",syoriyou!H70)","v":""},{"$f":"IF(syoriyou!I70=\"\",\"\",syoriyou!I70)","v":""},{"$f":"IF(syoriyou!J70=\"\",\"\",syoriyou!N70)","v":""}]
[{"$f":"IF(syoriyou!A71=\"\",\"\",syoriyou!A71)","v":""},{"$f":"IF(syoriyou!B71=\"\",\"\",syoriyou!B71)","v":""},{"$f":"IF(syoriyou!C71=\"\",\"\",syoriyou!C71)","v":""},{"$f":"IF(syoriyou!D71=\"\",\"\",syoriyou!D71)","v":""},{"$f":"IF(syoriyou!E71=\"\",\"\",syoriyou!E71)","v":""},{"$f":"IF(syoriyou!F71=\"\",\"\",syoriyou!F71)","v":""},{"$f":"IF(syoriyou!G71=\"\",\"\",syoriyou!G71)","v":""},{"$f":"IF(syoriyou!H71=\"\",\"\",syoriyou!H71)","v":""},{"$f":"IF(syoriyou!I71=\"\",\"\",syoriyou!I71)","v":""},{"$f":"IF(syoriyou!J71=\"\",\"\",syoriyou!N71)","v":""}]
[{"$f":"IF(syoriyou!A72=\"\",\"\",syoriyou!A72)","v":""},{"$f":"IF(syoriyou!B72=\"\",\"\",syoriyou!B72)","v":""},{"$f":"IF(syoriyou!C72=\"\",\"\",syoriyou!C72)","v":""},{"$f":"IF(syoriyou!D72=\"\",\"\",syoriyou!D72)","v":""},{"$f":"IF(syoriyou!E72=\"\",\"\",syoriyou!E72)","v":""},{"$f":"IF(syoriyou!F72=\"\",\"\",syoriyou!F72)","v":""},{"$f":"IF(syoriyou!G72=\"\",\"\",syoriyou!G72)","v":""},{"$f":"IF(syoriyou!H72=\"\",\"\",syoriyou!H72)","v":""},{"$f":"IF(syoriyou!I72=\"\",\"\",syoriyou!I72)","v":""},{"$f":"IF(syoriyou!J72=\"\",\"\",syoriyou!N72)","v":""}]
[{"$f":"IF(syoriyou!A73=\"\",\"\",syoriyou!A73)","v":""},{"$f":"IF(syoriyou!B73=\"\",\"\",syoriyou!B73)","v":""},{"$f":"IF(syoriyou!C73=\"\",\"\",syoriyou!C73)","v":""},{"$f":"IF(syoriyou!D73=\"\",\"\",syoriyou!D73)","v":""},{"$f":"IF(syoriyou!E73=\"\",\"\",syoriyou!E73)","v":""},{"$f":"IF(syoriyou!F73=\"\",\"\",syoriyou!F73)","v":""},{"$f":"IF(syoriyou!G73=\"\",\"\",syoriyou!G73)","v":""},{"$f":"IF(syoriyou!H73=\"\",\"\",syoriyou!H73)","v":""},{"$f":"IF(syoriyou!I73=\"\",\"\",syoriyou!I73)","v":""},{"$f":"IF(syoriyou!J73=\"\",\"\",syoriyou!N73)","v":""}]
[{"$f":"IF(syoriyou!A74=\"\",\"\",syoriyou!A74)","v":""},{"$f":"IF(syoriyou!B74=\"\",\"\",syoriyou!B74)","v":""},{"$f":"IF(syoriyou!C74=\"\",\"\",syoriyou!C74)","v":""},{"$f":"IF(syoriyou!D74=\"\",\"\",syoriyou!D74)","v":""},{"$f":"IF(syoriyou!E74=\"\",\"\",syoriyou!E74)","v":""},{"$f":"IF(syoriyou!F74=\"\",\"\",syoriyou!F74)","v":""},{"$f":"IF(syoriyou!G74=\"\",\"\",syoriyou!G74)","v":""},{"$f":"IF(syoriyou!H74=\"\",\"\",syoriyou!H74)","v":""},{"$f":"IF(syoriyou!I74=\"\",\"\",syoriyou!I74)","v":""},{"$f":"IF(syoriyou!J74=\"\",\"\",syoriyou!N74)","v":""}]
[{"$f":"IF(syoriyou!A75=\"\",\"\",syoriyou!A75)","v":""},{"$f":"IF(syoriyou!B75=\"\",\"\",syoriyou!B75)","v":""},{"$f":"IF(syoriyou!C75=\"\",\"\",syoriyou!C75)","v":""},{"$f":"IF(syoriyou!D75=\"\",\"\",syoriyou!D75)","v":""},{"$f":"IF(syoriyou!E75=\"\",\"\",syoriyou!E75)","v":""},{"$f":"IF(syoriyou!F75=\"\",\"\",syoriyou!F75)","v":""},{"$f":"IF(syoriyou!G75=\"\",\"\",syoriyou!G75)","v":""},{"$f":"IF(syoriyou!H75=\"\",\"\",syoriyou!H75)","v":""},{"$f":"IF(syoriyou!I75=\"\",\"\",syoriyou!I75)","v":""},{"$f":"IF(syoriyou!J75=\"\",\"\",syoriyou!N75)","v":""}]
[{"$f":"IF(syoriyou!A76=\"\",\"\",syoriyou!A76)","v":""},{"$f":"IF(syoriyou!B76=\"\",\"\",syoriyou!B76)","v":""},{"$f":"IF(syoriyou!C76=\"\",\"\",syoriyou!C76)","v":""},{"$f":"IF(syoriyou!D76=\"\",\"\",syoriyou!D76)","v":""},{"$f":"IF(syoriyou!E76=\"\",\"\",syoriyou!E76)","v":""},{"$f":"IF(syoriyou!F76=\"\",\"\",syoriyou!F76)","v":""},{"$f":"IF(syoriyou!G76=\"\",\"\",syoriyou!G76)","v":""},{"$f":"IF(syoriyou!H76=\"\",\"\",syoriyou!H76)","v":""},{"$f":"IF(syoriyou!I76=\"\",\"\",syoriyou!I76)","v":""},{"$f":"IF(syoriyou!J76=\"\",\"\",syoriyou!N76)","v":""}]
[{"$f":"IF(syoriyou!A77=\"\",\"\",syoriyou!A77)","v":""},{"$f":"IF(syoriyou!B77=\"\",\"\",syoriyou!B77)","v":""},{"$f":"IF(syoriyou!C77=\"\",\"\",syoriyou!C77)","v":""},{"$f":"IF(syoriyou!D77=\"\",\"\",syoriyou!D77)","v":""},{"$f":"IF(syoriyou!E77=\"\",\"\",syoriyou!E77)","v":""},{"$f":"IF(syoriyou!F77=\"\",\"\",syoriyou!F77)","v":""},{"$f":"IF(syoriyou!G77=\"\",\"\",syoriyou!G77)","v":""},{"$f":"IF(syoriyou!H77=\"\",\"\",syoriyou!H77)","v":""},{"$f":"IF(syoriyou!I77=\"\",\"\",syoriyou!I77)","v":""},{"$f":"IF(syoriyou!J77=\"\",\"\",syoriyou!N77)","v":""}]
[{"$f":"IF(syoriyou!A78=\"\",\"\",syoriyou!A78)","v":""},{"$f":"IF(syoriyou!B78=\"\",\"\",syoriyou!B78)","v":""},{"$f":"IF(syoriyou!C78=\"\",\"\",syoriyou!C78)","v":""},{"$f":"IF(syoriyou!D78=\"\",\"\",syoriyou!D78)","v":""},{"$f":"IF(syoriyou!E78=\"\",\"\",syoriyou!E78)","v":""},{"$f":"IF(syoriyou!F78=\"\",\"\",syoriyou!F78)","v":""},{"$f":"IF(syoriyou!G78=\"\",\"\",syoriyou!G78)","v":""},{"$f":"IF(syoriyou!H78=\"\",\"\",syoriyou!H78)","v":""},{"$f":"IF(syoriyou!I78=\"\",\"\",syoriyou!I78)","v":""},{"$f":"IF(syoriyou!J78=\"\",\"\",syoriyou!N78)","v":""}]
[{"$f":"IF(syoriyou!A79=\"\",\"\",syoriyou!A79)","v":""},{"$f":"IF(syoriyou!B79=\"\",\"\",syoriyou!B79)","v":""},{"$f":"IF(syoriyou!C79=\"\",\"\",syoriyou!C79)","v":""},{"$f":"IF(syoriyou!D79=\"\",\"\",syoriyou!D79)","v":""},{"$f":"IF(syoriyou!E79=\"\",\"\",syoriyou!E79)","v":""},{"$f":"IF(syoriyou!F79=\"\",\"\",syoriyou!F79)","v":""},{"$f":"IF(syoriyou!G79=\"\",\"\",syoriyou!G79)","v":""},{"$f":"IF(syoriyou!H79=\"\",\"\",syoriyou!H79)","v":""},{"$f":"IF(syoriyou!I79=\"\",\"\",syoriyou!I79)","v":""},{"$f":"IF(syoriyou!J79=\"\",\"\",syoriyou!N79)","v":""}]
[{"$f":"IF(syoriyou!A80=\"\",\"\",syoriyou!A80)","v":""},{"$f":"IF(syoriyou!B80=\"\",\"\",syoriyou!B80)","v":""},{"$f":"IF(syoriyou!C80=\"\",\"\",syoriyou!C80)","v":""},{"$f":"IF(syoriyou!D80=\"\",\"\",syoriyou!D80)","v":""},{"$f":"IF(syoriyou!E80=\"\",\"\",syoriyou!E80)","v":""},{"$f":"IF(syoriyou!F80=\"\",\"\",syoriyou!F80)","v":""},{"$f":"IF(syoriyou!G80=\"\",\"\",syoriyou!G80)","v":""},{"$f":"IF(syoriyou!H80=\"\",\"\",syoriyou!H80)","v":""},{"$f":"IF(syoriyou!I80=\"\",\"\",syoriyou!I80)","v":""},{"$f":"IF(syoriyou!J80=\"\",\"\",syoriyou!N80)","v":""}]
[{"$f":"IF(syoriyou!A81=\"\",\"\",syoriyou!A81)","v":""},{"$f":"IF(syoriyou!B81=\"\",\"\",syoriyou!B81)","v":""},{"$f":"IF(syoriyou!C81=\"\",\"\",syoriyou!C81)","v":""},{"$f":"IF(syoriyou!D81=\"\",\"\",syoriyou!D81)","v":""},{"$f":"IF(syoriyou!E81=\"\",\"\",syoriyou!E81)","v":""},{"$f":"IF(syoriyou!F81=\"\",\"\",syoriyou!F81)","v":""},{"$f":"IF(syoriyou!G81=\"\",\"\",syoriyou!G81)","v":""},{"$f":"IF(syoriyou!H81=\"\",\"\",syoriyou!H81)","v":""},{"$f":"IF(syoriyou!I81=\"\",\"\",syoriyou!I81)","v":""},{"$f":"IF(syoriyou!J81=\"\",\"\",syoriyou!N81)","v":""}]
[{"$f":"IF(syoriyou!A82=\"\",\"\",syoriyou!A82)","v":""},{"$f":"IF(syoriyou!B82=\"\",\"\",syoriyou!B82)","v":""},{"$f":"IF(syoriyou!C82=\"\",\"\",syoriyou!C82)","v":""},{"$f":"IF(syoriyou!D82=\"\",\"\",syoriyou!D82)","v":""},{"$f":"IF(syoriyou!E82=\"\",\"\",syoriyou!E82)","v":""},{"$f":"IF(syoriyou!F82=\"\",\"\",syoriyou!F82)","v":""},{"$f":"IF(syoriyou!G82=\"\",\"\",syoriyou!G82)","v":""},{"$f":"IF(syoriyou!H82=\"\",\"\",syoriyou!H82)","v":""},{"$f":"IF(syoriyou!I82=\"\",\"\",syoriyou!I82)","v":""},{"$f":"IF(syoriyou!J82=\"\",\"\",syoriyou!N82)","v":""}]
[{"$f":"IF(syoriyou!A83=\"\",\"\",syoriyou!A83)","v":""},{"$f":"IF(syoriyou!B83=\"\",\"\",syoriyou!B83)","v":""},{"$f":"IF(syoriyou!C83=\"\",\"\",syoriyou!C83)","v":""},{"$f":"IF(syoriyou!D83=\"\",\"\",syoriyou!D83)","v":""},{"$f":"IF(syoriyou!E83=\"\",\"\",syoriyou!E83)","v":""},{"$f":"IF(syoriyou!F83=\"\",\"\",syoriyou!F83)","v":""},{"$f":"IF(syoriyou!G83=\"\",\"\",syoriyou!G83)","v":""},{"$f":"IF(syoriyou!H83=\"\",\"\",syoriyou!H83)","v":""},{"$f":"IF(syoriyou!I83=\"\",\"\",syoriyou!I83)","v":""},{"$f":"IF(syoriyou!J83=\"\",\"\",syoriyou!N83)","v":""}]
[{"$f":"IF(syoriyou!A84=\"\",\"\",syoriyou!A84)","v":""},{"$f":"IF(syoriyou!B84=\"\",\"\",syoriyou!B84)","v":""},{"$f":"IF(syoriyou!C84=\"\",\"\",syoriyou!C84)","v":""},{"$f":"IF(syoriyou!D84=\"\",\"\",syoriyou!D84)","v":""},{"$f":"IF(syoriyou!E84=\"\",\"\",syoriyou!E84)","v":""},{"$f":"IF(syoriyou!F84=\"\",\"\",syoriyou!F84)","v":""},{"$f":"IF(syoriyou!G84=\"\",\"\",syoriyou!G84)","v":""},{"$f":"IF(syoriyou!H84=\"\",\"\",syoriyou!H84)","v":""},{"$f":"IF(syoriyou!I84=\"\",\"\",syoriyou!I84)","v":""},{"$f":"IF(syoriyou!J84=\"\",\"\",syoriyou!N84)","v":""}]
[{"$f":"IF(syoriyou!A85=\"\",\"\",syoriyou!A85)","v":""},{"$f":"IF(syoriyou!B85=\"\",\"\",syoriyou!B85)","v":""},{"$f":"IF(syoriyou!C85=\"\",\"\",syoriyou!C85)","v":""},{"$f":"IF(syoriyou!D85=\"\",\"\",syoriyou!D85)","v":""},{"$f":"IF(syoriyou!E85=\"\",\"\",syoriyou!E85)","v":""},{"$f":"IF(syoriyou!F85=\"\",\"\",syoriyou!F85)","v":""},{"$f":"IF(syoriyou!G85=\"\",\"\",syoriyou!G85)","v":""},{"$f":"IF(syoriyou!H85=\"\",\"\",syoriyou!H85)","v":""},{"$f":"IF(syoriyou!I85=\"\",\"\",syoriyou!I85)","v":""},{"$f":"IF(syoriyou!J85=\"\",\"\",syoriyou!N85)","v":""}]
[{"$f":"IF(syoriyou!A86=\"\",\"\",syoriyou!A86)","v":""},{"$f":"IF(syoriyou!B86=\"\",\"\",syoriyou!B86)","v":""},{"$f":"IF(syoriyou!C86=\"\",\"\",syoriyou!C86)","v":""},{"$f":"IF(syoriyou!D86=\"\",\"\",syoriyou!D86)","v":""},{"$f":"IF(syoriyou!E86=\"\",\"\",syoriyou!E86)","v":""},{"$f":"IF(syoriyou!F86=\"\",\"\",syoriyou!F86)","v":""},{"$f":"IF(syoriyou!G86=\"\",\"\",syoriyou!G86)","v":""},{"$f":"IF(syoriyou!H86=\"\",\"\",syoriyou!H86)","v":""},{"$f":"IF(syoriyou!I86=\"\",\"\",syoriyou!I86)","v":""},{"$f":"IF(syoriyou!J86=\"\",\"\",syoriyou!N86)","v":""}]
[{"$f":"IF(syoriyou!A87=\"\",\"\",syoriyou!A87)","v":""},{"$f":"IF(syoriyou!B87=\"\",\"\",syoriyou!B87)","v":""},{"$f":"IF(syoriyou!C87=\"\",\"\",syoriyou!C87)","v":""},{"$f":"IF(syoriyou!D87=\"\",\"\",syoriyou!D87)","v":""},{"$f":"IF(syoriyou!E87=\"\",\"\",syoriyou!E87)","v":""},{"$f":"IF(syoriyou!F87=\"\",\"\",syoriyou!F87)","v":""},{"$f":"IF(syoriyou!G87=\"\",\"\",syoriyou!G87)","v":""},{"$f":"IF(syoriyou!H87=\"\",\"\",syoriyou!H87)","v":""},{"$f":"IF(syoriyou!I87=\"\",\"\",syoriyou!I87)","v":""},{"$f":"IF(syoriyou!J87=\"\",\"\",syoriyou!N87)","v":""}]
[{"$f":"IF(syoriyou!A88=\"\",\"\",syoriyou!A88)","v":""},{"$f":"IF(syoriyou!B88=\"\",\"\",syoriyou!B88)","v":""},{"$f":"IF(syoriyou!C88=\"\",\"\",syoriyou!C88)","v":""},{"$f":"IF(syoriyou!D88=\"\",\"\",syoriyou!D88)","v":""},{"$f":"IF(syoriyou!E88=\"\",\"\",syoriyou!E88)","v":""},{"$f":"IF(syoriyou!F88=\"\",\"\",syoriyou!F88)","v":""},{"$f":"IF(syoriyou!G88=\"\",\"\",syoriyou!G88)","v":""},{"$f":"IF(syoriyou!H88=\"\",\"\",syoriyou!H88)","v":""},{"$f":"IF(syoriyou!I88=\"\",\"\",syoriyou!I88)","v":""},{"$f":"IF(syoriyou!J88=\"\",\"\",syoriyou!N88)","v":""}]
[{"$f":"IF(syoriyou!A89=\"\",\"\",syoriyou!A89)","v":""},{"$f":"IF(syoriyou!B89=\"\",\"\",syoriyou!B89)","v":""},{"$f":"IF(syoriyou!C89=\"\",\"\",syoriyou!C89)","v":""},{"$f":"IF(syoriyou!D89=\"\",\"\",syoriyou!D89)","v":""},{"$f":"IF(syoriyou!E89=\"\",\"\",syoriyou!E89)","v":""},{"$f":"IF(syoriyou!F89=\"\",\"\",syoriyou!F89)","v":""},{"$f":"IF(syoriyou!G89=\"\",\"\",syoriyou!G89)","v":""},{"$f":"IF(syoriyou!H89=\"\",\"\",syoriyou!H89)","v":""},{"$f":"IF(syoriyou!I89=\"\",\"\",syoriyou!I89)","v":""},{"$f":"IF(syoriyou!J89=\"\",\"\",syoriyou!N89)","v":""}]
[{"$f":"IF(syoriyou!A90=\"\",\"\",syoriyou!A90)","v":""},{"$f":"IF(syoriyou!B90=\"\",\"\",syoriyou!B90)","v":""},{"$f":"IF(syoriyou!C90=\"\",\"\",syoriyou!C90)","v":""},{"$f":"IF(syoriyou!D90=\"\",\"\",syoriyou!D90)","v":""},{"$f":"IF(syoriyou!E90=\"\",\"\",syoriyou!E90)","v":""},{"$f":"IF(syoriyou!F90=\"\",\"\",syoriyou!F90)","v":""},{"$f":"IF(syoriyou!G90=\"\",\"\",syoriyou!G90)","v":""},{"$f":"IF(syoriyou!H90=\"\",\"\",syoriyou!H90)","v":""},{"$f":"IF(syoriyou!I90=\"\",\"\",syoriyou!I90)","v":""},{"$f":"IF(syoriyou!J90=\"\",\"\",syoriyou!N90)","v":""}]
[{"$f":"IF(syoriyou!A91=\"\",\"\",syoriyou!A91)","v":""},{"$f":"IF(syoriyou!B91=\"\",\"\",syoriyou!B91)","v":""},{"$f":"IF(syoriyou!C91=\"\",\"\",syoriyou!C91)","v":""},{"$f":"IF(syoriyou!D91=\"\",\"\",syoriyou!D91)","v":""},{"$f":"IF(syoriyou!E91=\"\",\"\",syoriyou!E91)","v":""},{"$f":"IF(syoriyou!F91=\"\",\"\",syoriyou!F91)","v":""},{"$f":"IF(syoriyou!G91=\"\",\"\",syoriyou!G91)","v":""},{"$f":"IF(syoriyou!H91=\"\",\"\",syoriyou!H91)","v":""},{"$f":"IF(syoriyou!I91=\"\",\"\",syoriyou!I91)","v":""},{"$f":"IF(syoriyou!J91=\"\",\"\",syoriyou!N91)","v":""}]
[{"$f":"IF(syoriyou!A92=\"\",\"\",syoriyou!A92)","v":""},{"$f":"IF(syoriyou!B92=\"\",\"\",syoriyou!B92)","v":""},{"$f":"IF(syoriyou!C92=\"\",\"\",syoriyou!C92)","v":""},{"$f":"IF(syoriyou!D92=\"\",\"\",syoriyou!D92)","v":""},{"$f":"IF(syoriyou!E92=\"\",\"\",syoriyou!E92)","v":""},{"$f":"IF(syoriyou!F92=\"\",\"\",syoriyou!F92)","v":""},{"$f":"IF(syoriyou!G92=\"\",\"\",syoriyou!G92)","v":""},{"$f":"IF(syoriyou!H92=\"\",\"\",syoriyou!H92)","v":""},{"$f":"IF(syoriyou!I92=\"\",\"\",syoriyou!I92)","v":""},{"$f":"IF(syoriyou!J92=\"\",\"\",syoriyou!N92)","v":""}]
[{"$f":"IF(syoriyou!A93=\"\",\"\",syoriyou!A93)","v":""},{"$f":"IF(syoriyou!B93=\"\",\"\",syoriyou!B93)","v":""},{"$f":"IF(syoriyou!C93=\"\",\"\",syoriyou!C93)","v":""},{"$f":"IF(syoriyou!D93=\"\",\"\",syoriyou!D93)","v":""},{"$f":"IF(syoriyou!E93=\"\",\"\",syoriyou!E93)","v":""},{"$f":"IF(syoriyou!F93=\"\",\"\",syoriyou!F93)","v":""},{"$f":"IF(syoriyou!G93=\"\",\"\",syoriyou!G93)","v":""},{"$f":"IF(syoriyou!H93=\"\",\"\",syoriyou!H93)","v":""},{"$f":"IF(syoriyou!I93=\"\",\"\",syoriyou!I93)","v":""},{"$f":"IF(syoriyou!J93=\"\",\"\",syoriyou!N93)","v":""}]
[{"$f":"IF(syoriyou!A94=\"\",\"\",syoriyou!A94)","v":""},{"$f":"IF(syoriyou!B94=\"\",\"\",syoriyou!B94)","v":""},{"$f":"IF(syoriyou!C94=\"\",\"\",syoriyou!C94)","v":""},{"$f":"IF(syoriyou!D94=\"\",\"\",syoriyou!D94)","v":""},{"$f":"IF(syoriyou!E94=\"\",\"\",syoriyou!E94)","v":""},{"$f":"IF(syoriyou!F94=\"\",\"\",syoriyou!F94)","v":""},{"$f":"IF(syoriyou!G94=\"\",\"\",syoriyou!G94)","v":""},{"$f":"IF(syoriyou!H94=\"\",\"\",syoriyou!H94)","v":""},{"$f":"IF(syoriyou!I94=\"\",\"\",syoriyou!I94)","v":""},{"$f":"IF(syoriyou!J94=\"\",\"\",syoriyou!N94)","v":""}]
[{"$f":"IF(syoriyou!A95=\"\",\"\",syoriyou!A95)","v":""},{"$f":"IF(syoriyou!B95=\"\",\"\",syoriyou!B95)","v":""},{"$f":"IF(syoriyou!C95=\"\",\"\",syoriyou!C95)","v":""},{"$f":"IF(syoriyou!D95=\"\",\"\",syoriyou!D95)","v":""},{"$f":"IF(syoriyou!E95=\"\",\"\",syoriyou!E95)","v":""},{"$f":"IF(syoriyou!F95=\"\",\"\",syoriyou!F95)","v":""},{"$f":"IF(syoriyou!G95=\"\",\"\",syoriyou!G95)","v":""},{"$f":"IF(syoriyou!H95=\"\",\"\",syoriyou!H95)","v":""},{"$f":"IF(syoriyou!I95=\"\",\"\",syoriyou!I95)","v":""},{"$f":"IF(syoriyou!J95=\"\",\"\",syoriyou!N95)","v":""}]
[{"$f":"IF(syoriyou!A96=\"\",\"\",syoriyou!A96)","v":""},{"$f":"IF(syoriyou!B96=\"\",\"\",syoriyou!B96)","v":""},{"$f":"IF(syoriyou!C96=\"\",\"\",syoriyou!C96)","v":""},{"$f":"IF(syoriyou!D96=\"\",\"\",syoriyou!D96)","v":""},{"$f":"IF(syoriyou!E96=\"\",\"\",syoriyou!E96)","v":""},{"$f":"IF(syoriyou!F96=\"\",\"\",syoriyou!F96)","v":""},{"$f":"IF(syoriyou!G96=\"\",\"\",syoriyou!G96)","v":""},{"$f":"IF(syoriyou!H96=\"\",\"\",syoriyou!H96)","v":""},{"$f":"IF(syoriyou!I96=\"\",\"\",syoriyou!I96)","v":""},{"$f":"IF(syoriyou!J96=\"\",\"\",syoriyou!N96)","v":""}]
[{"$f":"IF(syoriyou!A97=\"\",\"\",syoriyou!A97)","v":""},{"$f":"IF(syoriyou!B97=\"\",\"\",syoriyou!B97)","v":""},{"$f":"IF(syoriyou!C97=\"\",\"\",syoriyou!C97)","v":""},{"$f":"IF(syoriyou!D97=\"\",\"\",syoriyou!D97)","v":""},{"$f":"IF(syoriyou!E97=\"\",\"\",syoriyou!E97)","v":""},{"$f":"IF(syoriyou!F97=\"\",\"\",syoriyou!F97)","v":""},{"$f":"IF(syoriyou!G97=\"\",\"\",syoriyou!G97)","v":""},{"$f":"IF(syoriyou!H97=\"\",\"\",syoriyou!H97)","v":""},{"$f":"IF(syoriyou!I97=\"\",\"\",syoriyou!I97)","v":""},{"$f":"IF(syoriyou!J97=\"\",\"\",syoriyou!N97)","v":""}]
[{"$f":"IF(syoriyou!A98=\"\",\"\",syoriyou!A98)","v":""},{"$f":"IF(syoriyou!B98=\"\",\"\",syoriyou!B98)","v":""},{"$f":"IF(syoriyou!C98=\"\",\"\",syoriyou!C98)","v":""},{"$f":"IF(syoriyou!D98=\"\",\"\",syoriyou!D98)","v":""},{"$f":"IF(syoriyou!E98=\"\",\"\",syoriyou!E98)","v":""},{"$f":"IF(syoriyou!F98=\"\",\"\",syoriyou!F98)","v":""},{"$f":"IF(syoriyou!G98=\"\",\"\",syoriyou!G98)","v":""},{"$f":"IF(syoriyou!H98=\"\",\"\",syoriyou!H98)","v":""},{"$f":"IF(syoriyou!I98=\"\",\"\",syoriyou!I98)","v":""},{"$f":"IF(syoriyou!J98=\"\",\"\",syoriyou!N98)","v":""}]
[{"$f":"IF(syoriyou!A99=\"\",\"\",syoriyou!A99)","v":""},{"$f":"IF(syoriyou!B99=\"\",\"\",syoriyou!B99)","v":""},{"$f":"IF(syoriyou!C99=\"\",\"\",syoriyou!C99)","v":""},{"$f":"IF(syoriyou!D99=\"\",\"\",syoriyou!D99)","v":""},{"$f":"IF(syoriyou!E99=\"\",\"\",syoriyou!E99)","v":""},{"$f":"IF(syoriyou!F99=\"\",\"\",syoriyou!F99)","v":""},{"$f":"IF(syoriyou!G99=\"\",\"\",syoriyou!G99)","v":""},{"$f":"IF(syoriyou!H99=\"\",\"\",syoriyou!H99)","v":""},{"$f":"IF(syoriyou!I99=\"\",\"\",syoriyou!I99)","v":""},{"$f":"IF(syoriyou!J99=\"\",\"\",syoriyou!N99)","v":""}]
[{"$f":"IF(syoriyou!A100=\"\",\"\",syoriyou!A100)","v":""},{"$f":"IF(syoriyou!B100=\"\",\"\",syoriyou!B100)","v":""},{"$f":"IF(syoriyou!C100=\"\",\"\",syoriyou!C100)","v":""},{"$f":"IF(syoriyou!D100=\"\",\"\",syoriyou!D100)","v":""},{"$f":"IF(syoriyou!E100=\"\",\"\",syoriyou!E100)","v":""},{"$f":"IF(syoriyou!F100=\"\",\"\",syoriyou!F100)","v":""},{"$f":"IF(syoriyou!G100=\"\",\"\",syoriyou!G100)","v":""},{"$f":"IF(syoriyou!H100=\"\",\"\",syoriyou!H100)","v":""},{"$f":"IF(syoriyou!I100=\"\",\"\",syoriyou!I100)","v":""},{"$f":"IF(syoriyou!J100=\"\",\"\",syoriyou!N100)","v":""}]
[{"$f":"IF(syoriyou!A101=\"\",\"\",syoriyou!A101)","v":""},{"$f":"IF(syoriyou!B101=\"\",\"\",syoriyou!B101)","v":""},{"$f":"IF(syoriyou!C101=\"\",\"\",syoriyou!C101)","v":""},{"$f":"IF(syoriyou!D101=\"\",\"\",syoriyou!D101)","v":""},{"$f":"IF(syoriyou!E101=\"\",\"\",syoriyou!E101)","v":""},{"$f":"IF(syoriyou!F101=\"\",\"\",syoriyou!F101)","v":""},{"$f":"IF(syoriyou!G101=\"\",\"\",syoriyou!G101)","v":""},{"$f":"IF(syoriyou!H101=\"\",\"\",syoriyou!H101)","v":""},{"$f":"IF(syoriyou!I101=\"\",\"\",syoriyou!I101)","v":""},{"$f":"IF(syoriyou!J101=\"\",\"\",syoriyou!N101)","v":""}]
[{"$f":"IF(syoriyou!A102=\"\",\"\",syoriyou!A102)","v":""},{"$f":"IF(syoriyou!B102=\"\",\"\",syoriyou!B102)","v":""},{"$f":"IF(syoriyou!C102=\"\",\"\",syoriyou!C102)","v":""},{"$f":"IF(syoriyou!D102=\"\",\"\",syoriyou!D102)","v":""},{"$f":"IF(syoriyou!E102=\"\",\"\",syoriyou!E102)","v":""},{"$f":"IF(syoriyou!F102=\"\",\"\",syoriyou!F102)","v":""},{"$f":"IF(syoriyou!G102=\"\",\"\",syoriyou!G102)","v":""},{"$f":"IF(syoriyou!H102=\"\",\"\",syoriyou!H102)","v":""},{"$f":"IF(syoriyou!I102=\"\",\"\",syoriyou!I102)","v":""},{"$f":"IF(syoriyou!J102=\"\",\"\",syoriyou!N102)","v":""}]
[{"$f":"IF(syoriyou!A103=\"\",\"\",syoriyou!A103)","v":""},{"$f":"IF(syoriyou!B103=\"\",\"\",syoriyou!B103)","v":""},{"$f":"IF(syoriyou!C103=\"\",\"\",syoriyou!C103)","v":""},{"$f":"IF(syoriyou!D103=\"\",\"\",syoriyou!D103)","v":""},{"$f":"IF(syoriyou!E103=\"\",\"\",syoriyou!E103)","v":""},{"$f":"IF(syoriyou!F103=\"\",\"\",syoriyou!F103)","v":""},{"$f":"IF(syoriyou!G103=\"\",\"\",syoriyou!G103)","v":""},{"$f":"IF(syoriyou!H103=\"\",\"\",syoriyou!H103)","v":""},{"$f":"IF(syoriyou!I103=\"\",\"\",syoriyou!I103)","v":""},{"$f":"IF(syoriyou!J103=\"\",\"\",syoriyou!N103)","v":""}]
[{"$f":"IF(syoriyou!A104=\"\",\"\",syoriyou!A104)","v":""},{"$f":"IF(syoriyou!B104=\"\",\"\",syoriyou!B104)","v":""},{"$f":"IF(syoriyou!C104=\"\",\"\",syoriyou!C104)","v":""},{"$f":"IF(syoriyou!D104=\"\",\"\",syoriyou!D104)","v":""},{"$f":"IF(syoriyou!E104=\"\",\"\",syoriyou!E104)","v":""},{"$f":"IF(syoriyou!F104=\"\",\"\",syoriyou!F104)","v":""},{"$f":"IF(syoriyou!G104=\"\",\"\",syoriyou!G104)","v":""},{"$f":"IF(syoriyou!H104=\"\",\"\",syoriyou!H104)","v":""},{"$f":"IF(syoriyou!I104=\"\",\"\",syoriyou!I104)","v":""},{"$f":"IF(syoriyou!J104=\"\",\"\",syoriyou!N104)","v":""}]
[{"$f":"IF(syoriyou!A105=\"\",\"\",syoriyou!A105)","v":""},{"$f":"IF(syoriyou!B105=\"\",\"\",syoriyou!B105)","v":""},{"$f":"IF(syoriyou!C105=\"\",\"\",syoriyou!C105)","v":""},{"$f":"IF(syoriyou!D105=\"\",\"\",syoriyou!D105)","v":""},{"$f":"IF(syoriyou!E105=\"\",\"\",syoriyou!E105)","v":""},{"$f":"IF(syoriyou!F105=\"\",\"\",syoriyou!F105)","v":""},{"$f":"IF(syoriyou!G105=\"\",\"\",syoriyou!G105)","v":""},{"$f":"IF(syoriyou!H105=\"\",\"\",syoriyou!H105)","v":""},{"$f":"IF(syoriyou!I105=\"\",\"\",syoriyou!I105)","v":""},{"$f":"IF(syoriyou!J105=\"\",\"\",syoriyou!N105)","v":""}]
[{"$f":"IF(syoriyou!A106=\"\",\"\",syoriyou!A106)","v":""},{"$f":"IF(syoriyou!B106=\"\",\"\",syoriyou!B106)","v":""},{"$f":"IF(syoriyou!C106=\"\",\"\",syoriyou!C106)","v":""},{"$f":"IF(syoriyou!D106=\"\",\"\",syoriyou!D106)","v":""},{"$f":"IF(syoriyou!E106=\"\",\"\",syoriyou!E106)","v":""},{"$f":"IF(syoriyou!F106=\"\",\"\",syoriyou!F106)","v":""},{"$f":"IF(syoriyou!G106=\"\",\"\",syoriyou!G106)","v":""},{"$f":"IF(syoriyou!H106=\"\",\"\",syoriyou!H106)","v":""},{"$f":"IF(syoriyou!I106=\"\",\"\",syoriyou!I106)","v":""},{"$f":"IF(syoriyou!J106=\"\",\"\",syoriyou!N106)","v":""}]
[{"$f":"IF(syoriyou!A107=\"\",\"\",syoriyou!A107)","v":""},{"$f":"IF(syoriyou!B107=\"\",\"\",syoriyou!B107)","v":""},{"$f":"IF(syoriyou!C107=\"\",\"\",syoriyou!C107)","v":""},{"$f":"IF(syoriyou!D107=\"\",\"\",syoriyou!D107)","v":""},{"$f":"IF(syoriyou!E107=\"\",\"\",syoriyou!E107)","v":""},{"$f":"IF(syoriyou!F107=\"\",\"\",syoriyou!F107)","v":""},{"$f":"IF(syoriyou!G107=\"\",\"\",syoriyou!G107)","v":""},{"$f":"IF(syoriyou!H107=\"\",\"\",syoriyou!H107)","v":""},{"$f":"IF(syoriyou!I107=\"\",\"\",syoriyou!I107)","v":""},{"$f":"IF(syoriyou!J107=\"\",\"\",syoriyou!N107)","v":""}]
[{"$f":"IF(syoriyou!A108=\"\",\"\",syoriyou!A108)","v":""},{"$f":"IF(syoriyou!B108=\"\",\"\",syoriyou!B108)","v":""},{"$f":"IF(syoriyou!C108=\"\",\"\",syoriyou!C108)","v":""},{"$f":"IF(syoriyou!D108=\"\",\"\",syoriyou!D108)","v":""},{"$f":"IF(syoriyou!E108=\"\",\"\",syoriyou!E108)","v":""},{"$f":"IF(syoriyou!F108=\"\",\"\",syoriyou!F108)","v":""},{"$f":"IF(syoriyou!G108=\"\",\"\",syoriyou!G108)","v":""},{"$f":"IF(syoriyou!H108=\"\",\"\",syoriyou!H108)","v":""},{"$f":"IF(syoriyou!I108=\"\",\"\",syoriyou!I108)","v":""},{"$f":"IF(syoriyou!J108=\"\",\"\",syoriyou!N108)","v":""}]
[{"$f":"IF(syoriyou!A109=\"\",\"\",syoriyou!A109)","v":""},{"$f":"IF(syoriyou!B109=\"\",\"\",syoriyou!B109)","v":""},{"$f":"IF(syoriyou!C109=\"\",\"\",syoriyou!C109)","v":""},{"$f":"IF(syoriyou!D109=\"\",\"\",syoriyou!D109)","v":""},{"$f":"IF(syoriyou!E109=\"\",\"\",syoriyou!E109)","v":""},{"$f":"IF(syoriyou!F109=\"\",\"\",syoriyou!F109)","v":""},{"$f":"IF(syoriyou!G109=\"\",\"\",syoriyou!G109)","v":""},{"$f":"IF(syoriyou!H109=\"\",\"\",syoriyou!H109)","v":""},{"$f":"IF(syoriyou!I109=\"\",\"\",syoriyou!I109)","v":""},{"$f":"IF(syoriyou!J109=\"\",\"\",syoriyou!N109)","v":""}]
[{"$f":"IF(syoriyou!A110=\"\",\"\",syoriyou!A110)","v":""},{"$f":"IF(syoriyou!B110=\"\",\"\",syoriyou!B110)","v":""},{"$f":"IF(syoriyou!C110=\"\",\"\",syoriyou!C110)","v":""},{"$f":"IF(syoriyou!D110=\"\",\"\",syoriyou!D110)","v":""},{"$f":"IF(syoriyou!E110=\"\",\"\",syoriyou!E110)","v":""},{"$f":"IF(syoriyou!F110=\"\",\"\",syoriyou!F110)","v":""},{"$f":"IF(syoriyou!G110=\"\",\"\",syoriyou!G110)","v":""},{"$f":"IF(syoriyou!H110=\"\",\"\",syoriyou!H110)","v":""},{"$f":"IF(syoriyou!I110=\"\",\"\",syoriyou!I110)","v":""},{"$f":"IF(syoriyou!J110=\"\",\"\",syoriyou!N110)","v":""}]
[{"$f":"IF(syoriyou!A111=\"\",\"\",syoriyou!A111)","v":""},{"$f":"IF(syoriyou!B111=\"\",\"\",syoriyou!B111)","v":""},{"$f":"IF(syoriyou!C111=\"\",\"\",syoriyou!C111)","v":""},{"$f":"IF(syoriyou!D111=\"\",\"\",syoriyou!D111)","v":""},{"$f":"IF(syoriyou!E111=\"\",\"\",syoriyou!E111)","v":""},{"$f":"IF(syoriyou!F111=\"\",\"\",syoriyou!F111)","v":""},{"$f":"IF(syoriyou!G111=\"\",\"\",syoriyou!G111)","v":""},{"$f":"IF(syoriyou!H111=\"\",\"\",syoriyou!H111)","v":""},{"$f":"IF(syoriyou!I111=\"\",\"\",syoriyou!I111)","v":""},{"$f":"IF(syoriyou!J111=\"\",\"\",syoriyou!N111)","v":""}]
[{"$f":"IF(syoriyou!A112=\"\",\"\",syoriyou!A112)","v":""},{"$f":"IF(syoriyou!B112=\"\",\"\",syoriyou!B112)","v":""},{"$f":"IF(syoriyou!C112=\"\",\"\",syoriyou!C112)","v":""},{"$f":"IF(syoriyou!D112=\"\",\"\",syoriyou!D112)","v":""},{"$f":"IF(syoriyou!E112=\"\",\"\",syoriyou!E112)","v":""},{"$f":"IF(syoriyou!F112=\"\",\"\",syoriyou!F112)","v":""},{"$f":"IF(syoriyou!G112=\"\",\"\",syoriyou!G112)","v":""},{"$f":"IF(syoriyou!H112=\"\",\"\",syoriyou!H112)","v":""},{"$f":"IF(syoriyou!I112=\"\",\"\",syoriyou!I112)","v":""},{"$f":"IF(syoriyou!J112=\"\",\"\",syoriyou!N112)","v":""}]
[{"$f":"IF(syoriyou!A113=\"\",\"\",syoriyou!A113)","v":""},{"$f":"IF(syoriyou!B113=\"\",\"\",syoriyou!B113)","v":""},{"$f":"IF(syoriyou!C113=\"\",\"\",syoriyou!C113)","v":""},{"$f":"IF(syoriyou!D113=\"\",\"\",syoriyou!D113)","v":""},{"$f":"IF(syoriyou!E113=\"\",\"\",syoriyou!E113)","v":""},{"$f":"IF(syoriyou!F113=\"\",\"\",syoriyou!F113)","v":""},{"$f":"IF(syoriyou!G113=\"\",\"\",syoriyou!G113)","v":""},{"$f":"IF(syoriyou!H113=\"\",\"\",syoriyou!H113)","v":""},{"$f":"IF(syoriyou!I113=\"\",\"\",syoriyou!I113)","v":""},{"$f":"IF(syoriyou!J113=\"\",\"\",syoriyou!N113)","v":""}]
[{"$f":"IF(syoriyou!A114=\"\",\"\",syoriyou!A114)","v":""},{"$f":"IF(syoriyou!B114=\"\",\"\",syoriyou!B114)","v":""},{"$f":"IF(syoriyou!C114=\"\",\"\",syoriyou!C114)","v":""},{"$f":"IF(syoriyou!D114=\"\",\"\",syoriyou!D114)","v":""},{"$f":"IF(syoriyou!E114=\"\",\"\",syoriyou!E114)","v":""},{"$f":"IF(syoriyou!F114=\"\",\"\",syoriyou!F114)","v":""},{"$f":"IF(syoriyou!G114=\"\",\"\",syoriyou!G114)","v":""},{"$f":"IF(syoriyou!H114=\"\",\"\",syoriyou!H114)","v":""},{"$f":"IF(syoriyou!I114=\"\",\"\",syoriyou!I114)","v":""},{"$f":"IF(syoriyou!J114=\"\",\"\",syoriyou!N114)","v":""}]
[{"$f":"IF(syoriyou!A115=\"\",\"\",syoriyou!A115)","v":""},{"$f":"IF(syoriyou!B115=\"\",\"\",syoriyou!B115)","v":""},{"$f":"IF(syoriyou!C115=\"\",\"\",syoriyou!C115)","v":""},{"$f":"IF(syoriyou!D115=\"\",\"\",syoriyou!D115)","v":""},{"$f":"IF(syoriyou!E115=\"\",\"\",syoriyou!E115)","v":""},{"$f":"IF(syoriyou!F115=\"\",\"\",syoriyou!F115)","v":""},{"$f":"IF(syoriyou!G115=\"\",\"\",syoriyou!G115)","v":""},{"$f":"IF(syoriyou!H115=\"\",\"\",syoriyou!H115)","v":""},{"$f":"IF(syoriyou!I115=\"\",\"\",syoriyou!I115)","v":""},{"$f":"IF(syoriyou!J115=\"\",\"\",syoriyou!N115)","v":""}]
[{"$f":"IF(syoriyou!A116=\"\",\"\",syoriyou!A116)","v":""},{"$f":"IF(syoriyou!B116=\"\",\"\",syoriyou!B116)","v":""},{"$f":"IF(syoriyou!C116=\"\",\"\",syoriyou!C116)","v":""},{"$f":"IF(syoriyou!D116=\"\",\"\",syoriyou!D116)","v":""},{"$f":"IF(syoriyou!E116=\"\",\"\",syoriyou!E116)","v":""},{"$f":"IF(syoriyou!F116=\"\",\"\",syoriyou!F116)","v":""},{"$f":"IF(syoriyou!G116=\"\",\"\",syoriyou!G116)","v":""},{"$f":"IF(syoriyou!H116=\"\",\"\",syoriyou!H116)","v":""},{"$f":"IF(syoriyou!I116=\"\",\"\",syoriyou!I116)","v":""},{"$f":"IF(syoriyou!J116=\"\",\"\",syoriyou!N116)","v":""}]
[{"$f":"IF(syoriyou!A117=\"\",\"\",syoriyou!A117)","v":""},{"$f":"IF(syoriyou!B117=\"\",\"\",syoriyou!B117)","v":""},{"$f":"IF(syoriyou!C117=\"\",\"\",syoriyou!C117)","v":""},{"$f":"IF(syoriyou!D117=\"\",\"\",syoriyou!D117)","v":""},{"$f":"IF(syoriyou!E117=\"\",\"\",syoriyou!E117)","v":""},{"$f":"IF(syoriyou!F117=\"\",\"\",syoriyou!F117)","v":""},{"$f":"IF(syoriyou!G117=\"\",\"\",syoriyou!G117)","v":""},{"$f":"IF(syoriyou!H117=\"\",\"\",syoriyou!H117)","v":""},{"$f":"IF(syoriyou!I117=\"\",\"\",syoriyou!I117)","v":""},{"$f":"IF(syoriyou!J117=\"\",\"\",syoriyou!N117)","v":""}]
[{"$f":"IF(syoriyou!A118=\"\",\"\",syoriyou!A118)","v":""},{"$f":"IF(syoriyou!B118=\"\",\"\",syoriyou!B118)","v":""},{"$f":"IF(syoriyou!C118=\"\",\"\",syoriyou!C118)","v":""},{"$f":"IF(syoriyou!D118=\"\",\"\",syoriyou!D118)","v":""},{"$f":"IF(syoriyou!E118=\"\",\"\",syoriyou!E118)","v":""},{"$f":"IF(syoriyou!F118=\"\",\"\",syoriyou!F118)","v":""},{"$f":"IF(syoriyou!G118=\"\",\"\",syoriyou!G118)","v":""},{"$f":"IF(syoriyou!H118=\"\",\"\",syoriyou!H118)","v":""},{"$f":"IF(syoriyou!I118=\"\",\"\",syoriyou!I118)","v":""},{"$f":"IF(syoriyou!J118=\"\",\"\",syoriyou!N118)","v":""}]
[{"$f":"IF(syoriyou!A119=\"\",\"\",syoriyou!A119)","v":""},{"$f":"IF(syoriyou!B119=\"\",\"\",syoriyou!B119)","v":""},{"$f":"IF(syoriyou!C119=\"\",\"\",syoriyou!C119)","v":""},{"$f":"IF(syoriyou!D119=\"\",\"\",syoriyou!D119)","v":""},{"$f":"IF(syoriyou!E119=\"\",\"\",syoriyou!E119)","v":""},{"$f":"IF(syoriyou!F119=\"\",\"\",syoriyou!F119)","v":""},{"$f":"IF(syoriyou!G119=\"\",\"\",syoriyou!G119)","v":""},{"$f":"IF(syoriyou!H119=\"\",\"\",syoriyou!H119)","v":""},{"$f":"IF(syoriyou!I119=\"\",\"\",syoriyou!I119)","v":""},{"$f":"IF(syoriyou!J119=\"\",\"\",syoriyou!N119)","v":""}]
[{"$f":"IF(syoriyou!A120=\"\",\"\",syoriyou!A120)","v":""},{"$f":"IF(syoriyou!B120=\"\",\"\",syoriyou!B120)","v":""},{"$f":"IF(syoriyou!C120=\"\",\"\",syoriyou!C120)","v":""},{"$f":"IF(syoriyou!D120=\"\",\"\",syoriyou!D120)","v":""},{"$f":"IF(syoriyou!E120=\"\",\"\",syoriyou!E120)","v":""},{"$f":"IF(syoriyou!F120=\"\",\"\",syoriyou!F120)","v":""},{"$f":"IF(syoriyou!G120=\"\",\"\",syoriyou!G120)","v":""},{"$f":"IF(syoriyou!H120=\"\",\"\",syoriyou!H120)","v":""},{"$f":"IF(syoriyou!I120=\"\",\"\",syoriyou!I120)","v":""},{"$f":"IF(syoriyou!J120=\"\",\"\",syoriyou!N120)","v":""}]
[{"$f":"IF(syoriyou!A121=\"\",\"\",syoriyou!A121)","v":""},{"$f":"IF(syoriyou!B121=\"\",\"\",syoriyou!B121)","v":""},{"$f":"IF(syoriyou!C121=\"\",\"\",syoriyou!C121)","v":""},{"$f":"IF(syoriyou!D121=\"\",\"\",syoriyou!D121)","v":""},{"$f":"IF(syoriyou!E121=\"\",\"\",syoriyou!E121)","v":""},{"$f":"IF(syoriyou!F121=\"\",\"\",syoriyou!F121)","v":""},{"$f":"IF(syoriyou!G121=\"\",\"\",syoriyou!G121)","v":""},{"$f":"IF(syoriyou!H121=\"\",\"\",syoriyou!H121)","v":""},{"$f":"IF(syoriyou!I121=\"\",\"\",syoriyou!I121)","v":""},{"$f":"IF(syoriyou!J121=\"\",\"\",syoriyou!N121)","v":""}]
[{"$f":"IF(syoriyou!A122=\"\",\"\",syoriyou!A122)","v":""},{"$f":"IF(syoriyou!B122=\"\",\"\",syoriyou!B122)","v":""},{"$f":"IF(syoriyou!C122=\"\",\"\",syoriyou!C122)","v":""},{"$f":"IF(syoriyou!D122=\"\",\"\",syoriyou!D122)","v":""},{"$f":"IF(syoriyou!E122=\"\",\"\",syoriyou!E122)","v":""},{"$f":"IF(syoriyou!F122=\"\",\"\",syoriyou!F122)","v":""},{"$f":"IF(syoriyou!G122=\"\",\"\",syoriyou!G122)","v":""},{"$f":"IF(syoriyou!H122=\"\",\"\",syoriyou!H122)","v":""},{"$f":"IF(syoriyou!I122=\"\",\"\",syoriyou!I122)","v":""},{"$f":"IF(syoriyou!J122=\"\",\"\",syoriyou!N122)","v":""}]
[{"$f":"IF(syoriyou!A123=\"\",\"\",syoriyou!A123)","v":""},{"$f":"IF(syoriyou!B123=\"\",\"\",syoriyou!B123)","v":""},{"$f":"IF(syoriyou!C123=\"\",\"\",syoriyou!C123)","v":""},{"$f":"IF(syoriyou!D123=\"\",\"\",syoriyou!D123)","v":""},{"$f":"IF(syoriyou!E123=\"\",\"\",syoriyou!E123)","v":""},{"$f":"IF(syoriyou!F123=\"\",\"\",syoriyou!F123)","v":""},{"$f":"IF(syoriyou!G123=\"\",\"\",syoriyou!G123)","v":""},{"$f":"IF(syoriyou!H123=\"\",\"\",syoriyou!H123)","v":""},{"$f":"IF(syoriyou!I123=\"\",\"\",syoriyou!I123)","v":""},{"$f":"IF(syoriyou!J123=\"\",\"\",syoriyou!N123)","v":""}]
[{"$f":"IF(syoriyou!A124=\"\",\"\",syoriyou!A124)","v":""},{"$f":"IF(syoriyou!B124=\"\",\"\",syoriyou!B124)","v":""},{"$f":"IF(syoriyou!C124=\"\",\"\",syoriyou!C124)","v":""},{"$f":"IF(syoriyou!D124=\"\",\"\",syoriyou!D124)","v":""},{"$f":"IF(syoriyou!E124=\"\",\"\",syoriyou!E124)","v":""},{"$f":"IF(syoriyou!F124=\"\",\"\",syoriyou!F124)","v":""},{"$f":"IF(syoriyou!G124=\"\",\"\",syoriyou!G124)","v":""},{"$f":"IF(syoriyou!H124=\"\",\"\",syoriyou!H124)","v":""},{"$f":"IF(syoriyou!I124=\"\",\"\",syoriyou!I124)","v":""},{"$f":"IF(syoriyou!J124=\"\",\"\",syoriyou!N124)","v":""}]
[{"$f":"IF(syoriyou!A125=\"\",\"\",syoriyou!A125)","v":""},{"$f":"IF(syoriyou!B125=\"\",\"\",syoriyou!B125)","v":""},{"$f":"IF(syoriyou!C125=\"\",\"\",syoriyou!C125)","v":""},{"$f":"IF(syoriyou!D125=\"\",\"\",syoriyou!D125)","v":""},{"$f":"IF(syoriyou!E125=\"\",\"\",syoriyou!E125)","v":""},{"$f":"IF(syoriyou!F125=\"\",\"\",syoriyou!F125)","v":""},{"$f":"IF(syoriyou!G125=\"\",\"\",syoriyou!G125)","v":""},{"$f":"IF(syoriyou!H125=\"\",\"\",syoriyou!H125)","v":""},{"$f":"IF(syoriyou!I125=\"\",\"\",syoriyou!I125)","v":""},{"$f":"IF(syoriyou!J125=\"\",\"\",syoriyou!N125)","v":""}]
[{"$f":"IF(syoriyou!A126=\"\",\"\",syoriyou!A126)","v":""},{"$f":"IF(syoriyou!B126=\"\",\"\",syoriyou!B126)","v":""},{"$f":"IF(syoriyou!C126=\"\",\"\",syoriyou!C126)","v":""},{"$f":"IF(syoriyou!D126=\"\",\"\",syoriyou!D126)","v":""},{"$f":"IF(syoriyou!E126=\"\",\"\",syoriyou!E126)","v":""},{"$f":"IF(syoriyou!F126=\"\",\"\",syoriyou!F126)","v":""},{"$f":"IF(syoriyou!G126=\"\",\"\",syoriyou!G126)","v":""},{"$f":"IF(syoriyou!H126=\"\",\"\",syoriyou!H126)","v":""},{"$f":"IF(syoriyou!I126=\"\",\"\",syoriyou!I126)","v":""},{"$f":"IF(syoriyou!J126=\"\",\"\",syoriyou!N126)","v":""}]
[{"$f":"IF(syoriyou!A127=\"\",\"\",syoriyou!A127)","v":""},{"$f":"IF(syoriyou!B127=\"\",\"\",syoriyou!B127)","v":""},{"$f":"IF(syoriyou!C127=\"\",\"\",syoriyou!C127)","v":""},{"$f":"IF(syoriyou!D127=\"\",\"\",syoriyou!D127)","v":""},{"$f":"IF(syoriyou!E127=\"\",\"\",syoriyou!E127)","v":""},{"$f":"IF(syoriyou!F127=\"\",\"\",syoriyou!F127)","v":""},{"$f":"IF(syoriyou!G127=\"\",\"\",syoriyou!G127)","v":""},{"$f":"IF(syoriyou!H127=\"\",\"\",syoriyou!H127)","v":""},{"$f":"IF(syoriyou!I127=\"\",\"\",syoriyou!I127)","v":""},{"$f":"IF(syoriyou!J127=\"\",\"\",syoriyou!N127)","v":""}]
[{"$f":"IF(syoriyou!A128=\"\",\"\",syoriyou!A128)","v":""},{"$f":"IF(syoriyou!B128=\"\",\"\",syoriyou!B128)","v":""},{"$f":"IF(syoriyou!C128=\"\",\"\",syoriyou!C128)","v":""},{"$f":"IF(syoriyou!D128=\"\",\"\",syoriyou!D128)","v":""},{"$f":"IF(syoriyou!E128=\"\",\"\",syoriyou!E128)","v":""},{"$f":"IF(syoriyou!F128=\"\",\"\",syoriyou!F128)","v":""},{"$f":"IF(syoriyou!G128=\"\",\"\",syoriyou!G128)","v":""},{"$f":"IF(syoriyou!H128=\"\",\"\",syoriyou!H128)","v":""},{"$f":"IF(syoriyou!I128=\"\",\"\",syoriyou!I128)","v":""},{"$f":"IF(syoriyou!J128=\"\",\"\",syoriyou!N128)","v":""}]
[{"$f":"IF(syoriyou!A129=\"\",\"\",syoriyou!A129)","v":""},{"$f":"IF(syoriyou!B129=\"\",\"\",syoriyou!B129)","v":""},{"$f":"IF(syoriyou!C129=\"\",\"\",syoriyou!C129)","v":""},{"$f":"IF(syoriyou!D129=\"\",\"\",syoriyou!D129)","v":""},{"$f":"IF(syoriyou!E129=\"\",\"\",syoriyou!E129)","v":""},{"$f":"IF(syoriyou!F129=\"\",\"\",syoriyou!F129)","v":""},{"$f":"IF(syoriyou!G129=\"\",\"\",syoriyou!G129)","v":""},{"$f":"IF(syoriyou!H129=\"\",\"\",syoriyou!H129)","v":""},{"$f":"IF(syoriyou!I129=\"\",\"\",syoriyou!I129)","v":""},{"$f":"IF(syoriyou!J129=\"\",\"\",syoriyou!N129)","v":""}]
[{"$f":"IF(syoriyou!A130=\"\",\"\",syoriyou!A130)","v":""},{"$f":"IF(syoriyou!B130=\"\",\"\",syoriyou!B130)","v":""},{"$f":"IF(syoriyou!C130=\"\",\"\",syoriyou!C130)","v":""},{"$f":"IF(syoriyou!D130=\"\",\"\",syoriyou!D130)","v":""},{"$f":"IF(syoriyou!E130=\"\",\"\",syoriyou!E130)","v":""},{"$f":"IF(syoriyou!F130=\"\",\"\",syoriyou!F130)","v":""},{"$f":"IF(syoriyou!G130=\"\",\"\",syoriyou!G130)","v":""},{"$f":"IF(syoriyou!H130=\"\",\"\",syoriyou!H130)","v":""},{"$f":"IF(syoriyou!I130=\"\",\"\",syoriyou!I130)","v":""},{"$f":"IF(syoriyou!J130=\"\",\"\",syoriyou!N130)","v":""}]
[{"$f":"IF(syoriyou!A131=\"\",\"\",syoriyou!A131)","v":""},{"$f":"IF(syoriyou!B131=\"\",\"\",syoriyou!B131)","v":""},{"$f":"IF(syoriyou!C131=\"\",\"\",syoriyou!C131)","v":""},{"$f":"IF(syoriyou!D131=\"\",\"\",syoriyou!D131)","v":""},{"$f":"IF(syoriyou!E131=\"\",\"\",syoriyou!E131)","v":""},{"$f":"IF(syoriyou!F131=\"\",\"\",syoriyou!F131)","v":""},{"$f":"IF(syoriyou!G131=\"\",\"\",syoriyou!G131)","v":""},{"$f":"IF(syoriyou!H131=\"\",\"\",syoriyou!H131)","v":""},{"$f":"IF(syoriyou!I131=\"\",\"\",syoriyou!I131)","v":""},{"$f":"IF(syoriyou!J131=\"\",\"\",syoriyou!N131)","v":""}]
[{"$f":"IF(syoriyou!A132=\"\",\"\",syoriyou!A132)","v":""},{"$f":"IF(syoriyou!B132=\"\",\"\",syoriyou!B132)","v":""},{"$f":"IF(syoriyou!C132=\"\",\"\",syoriyou!C132)","v":""},{"$f":"IF(syoriyou!D132=\"\",\"\",syoriyou!D132)","v":""},{"$f":"IF(syoriyou!E132=\"\",\"\",syoriyou!E132)","v":""},{"$f":"IF(syoriyou!F132=\"\",\"\",syoriyou!F132)","v":""},{"$f":"IF(syoriyou!G132=\"\",\"\",syoriyou!G132)","v":""},{"$f":"IF(syoriyou!H132=\"\",\"\",syoriyou!H132)","v":""},{"$f":"IF(syoriyou!I132=\"\",\"\",syoriyou!I132)","v":""},{"$f":"IF(syoriyou!J132=\"\",\"\",syoriyou!N132)","v":""}]
[{"$f":"IF(syoriyou!A133=\"\",\"\",syoriyou!A133)","v":""},{"$f":"IF(syoriyou!B133=\"\",\"\",syoriyou!B133)","v":""},{"$f":"IF(syoriyou!C133=\"\",\"\",syoriyou!C133)","v":""},{"$f":"IF(syoriyou!D133=\"\",\"\",syoriyou!D133)","v":""},{"$f":"IF(syoriyou!E133=\"\",\"\",syoriyou!E133)","v":""},{"$f":"IF(syoriyou!F133=\"\",\"\",syoriyou!F133)","v":""},{"$f":"IF(syoriyou!G133=\"\",\"\",syoriyou!G133)","v":""},{"$f":"IF(syoriyou!H133=\"\",\"\",syoriyou!H133)","v":""},{"$f":"IF(syoriyou!I133=\"\",\"\",syoriyou!I133)","v":""},{"$f":"IF(syoriyou!J133=\"\",\"\",syoriyou!N133)","v":""}]
[{"$f":"IF(syoriyou!A134=\"\",\"\",syoriyou!A134)","v":""},{"$f":"IF(syoriyou!B134=\"\",\"\",syoriyou!B134)","v":""},{"$f":"IF(syoriyou!C134=\"\",\"\",syoriyou!C134)","v":""},{"$f":"IF(syoriyou!D134=\"\",\"\",syoriyou!D134)","v":""},{"$f":"IF(syoriyou!E134=\"\",\"\",syoriyou!E134)","v":""},{"$f":"IF(syoriyou!F134=\"\",\"\",syoriyou!F134)","v":""},{"$f":"IF(syoriyou!G134=\"\",\"\",syoriyou!G134)","v":""},{"$f":"IF(syoriyou!H134=\"\",\"\",syoriyou!H134)","v":""},{"$f":"IF(syoriyou!I134=\"\",\"\",syoriyou!I134)","v":""},{"$f":"IF(syoriyou!J134=\"\",\"\",syoriyou!N134)","v":""}]
[{"$f":"IF(syoriyou!A135=\"\",\"\",syoriyou!A135)","v":""},{"$f":"IF(syoriyou!B135=\"\",\"\",syoriyou!B135)","v":""},{"$f":"IF(syoriyou!C135=\"\",\"\",syoriyou!C135)","v":""},{"$f":"IF(syoriyou!D135=\"\",\"\",syoriyou!D135)","v":""},{"$f":"IF(syoriyou!E135=\"\",\"\",syoriyou!E135)","v":""},{"$f":"IF(syoriyou!F135=\"\",\"\",syoriyou!F135)","v":""},{"$f":"IF(syoriyou!G135=\"\",\"\",syoriyou!G135)","v":""},{"$f":"IF(syoriyou!H135=\"\",\"\",syoriyou!H135)","v":""},{"$f":"IF(syoriyou!I135=\"\",\"\",syoriyou!I135)","v":""},{"$f":"IF(syoriyou!J135=\"\",\"\",syoriyou!N135)","v":""}]
[{"$f":"IF(syoriyou!A136=\"\",\"\",syoriyou!A136)","v":""},{"$f":"IF(syoriyou!B136=\"\",\"\",syoriyou!B136)","v":""},{"$f":"IF(syoriyou!C136=\"\",\"\",syoriyou!C136)","v":""},{"$f":"IF(syoriyou!D136=\"\",\"\",syoriyou!D136)","v":""},{"$f":"IF(syoriyou!E136=\"\",\"\",syoriyou!E136)","v":""},{"$f":"IF(syoriyou!F136=\"\",\"\",syoriyou!F136)","v":""},{"$f":"IF(syoriyou!G136=\"\",\"\",syoriyou!G136)","v":""},{"$f":"IF(syoriyou!H136=\"\",\"\",syoriyou!H136)","v":""},{"$f":"IF(syoriyou!I136=\"\",\"\",syoriyou!I136)","v":""},{"$f":"IF(syoriyou!J136=\"\",\"\",syoriyou!N136)","v":""}]
[{"$f":"IF(syoriyou!A137=\"\",\"\",syoriyou!A137)","v":""},{"$f":"IF(syoriyou!B137=\"\",\"\",syoriyou!B137)","v":""},{"$f":"IF(syoriyou!C137=\"\",\"\",syoriyou!C137)","v":""},{"$f":"IF(syoriyou!D137=\"\",\"\",syoriyou!D137)","v":""},{"$f":"IF(syoriyou!E137=\"\",\"\",syoriyou!E137)","v":""},{"$f":"IF(syoriyou!F137=\"\",\"\",syoriyou!F137)","v":""},{"$f":"IF(syoriyou!G137=\"\",\"\",syoriyou!G137)","v":""},{"$f":"IF(syoriyou!H137=\"\",\"\",syoriyou!H137)","v":""},{"$f":"IF(syoriyou!I137=\"\",\"\",syoriyou!I137)","v":""},{"$f":"IF(syoriyou!J137=\"\",\"\",syoriyou!N137)","v":""}]
[{"$f":"IF(syoriyou!A138=\"\",\"\",syoriyou!A138)","v":""},{"$f":"IF(syoriyou!B138=\"\",\"\",syoriyou!B138)","v":""},{"$f":"IF(syoriyou!C138=\"\",\"\",syoriyou!C138)","v":""},{"$f":"IF(syoriyou!D138=\"\",\"\",syoriyou!D138)","v":""},{"$f":"IF(syoriyou!E138=\"\",\"\",syoriyou!E138)","v":""},{"$f":"IF(syoriyou!F138=\"\",\"\",syoriyou!F138)","v":""},{"$f":"IF(syoriyou!G138=\"\",\"\",syoriyou!G138)","v":""},{"$f":"IF(syoriyou!H138=\"\",\"\",syoriyou!H138)","v":""},{"$f":"IF(syoriyou!I138=\"\",\"\",syoriyou!I138)","v":""},{"$f":"IF(syoriyou!J138=\"\",\"\",syoriyou!N138)","v":""}]
[{"$f":"IF(syoriyou!A139=\"\",\"\",syoriyou!A139)","v":""},{"$f":"IF(syoriyou!B139=\"\",\"\",syoriyou!B139)","v":""},{"$f":"IF(syoriyou!C139=\"\",\"\",syoriyou!C139)","v":""},{"$f":"IF(syoriyou!D139=\"\",\"\",syoriyou!D139)","v":""},{"$f":"IF(syoriyou!E139=\"\",\"\",syoriyou!E139)","v":""},{"$f":"IF(syoriyou!F139=\"\",\"\",syoriyou!F139)","v":""},{"$f":"IF(syoriyou!G139=\"\",\"\",syoriyou!G139)","v":""},{"$f":"IF(syoriyou!H139=\"\",\"\",syoriyou!H139)","v":""},{"$f":"IF(syoriyou!I139=\"\",\"\",syoriyou!I139)","v":""},{"$f":"IF(syoriyou!J139=\"\",\"\",syoriyou!N139)","v":""}]
[{"$f":"IF(syoriyou!A140=\"\",\"\",syoriyou!A140)","v":""},{"$f":"IF(syoriyou!B140=\"\",\"\",syoriyou!B140)","v":""},{"$f":"IF(syoriyou!C140=\"\",\"\",syoriyou!C140)","v":""},{"$f":"IF(syoriyou!D140=\"\",\"\",syoriyou!D140)","v":""},{"$f":"IF(syoriyou!E140=\"\",\"\",syoriyou!E140)","v":""},{"$f":"IF(syoriyou!F140=\"\",\"\",syoriyou!F140)","v":""},{"$f":"IF(syoriyou!G140=\"\",\"\",syoriyou!G140)","v":""},{"$f":"IF(syoriyou!H140=\"\",\"\",syoriyou!H140)","v":""},{"$f":"IF(syoriyou!I140=\"\",\"\",syoriyou!I140)","v":""},{"$f":"IF(syoriyou!J140=\"\",\"\",syoriyou!N140)","v":""}]
[{"$f":"IF(syoriyou!A141=\"\",\"\",syoriyou!A141)","v":""},{"$f":"IF(syoriyou!B141=\"\",\"\",syoriyou!B141)","v":""},{"$f":"IF(syoriyou!C141=\"\",\"\",syoriyou!C141)","v":""},{"$f":"IF(syoriyou!D141=\"\",\"\",syoriyou!D141)","v":""},{"$f":"IF(syoriyou!E141=\"\",\"\",syoriyou!E141)","v":""},{"$f":"IF(syoriyou!F141=\"\",\"\",syoriyou!F141)","v":""},{"$f":"IF(syoriyou!G141=\"\",\"\",syoriyou!G141)","v":""},{"$f":"IF(syoriyou!H141=\"\",\"\",syoriyou!H141)","v":""},{"$f":"IF(syoriyou!I141=\"\",\"\",syoriyou!I141)","v":""},{"$f":"IF(syoriyou!J141=\"\",\"\",syoriyou!N141)","v":""}]
[{"$f":"IF(syoriyou!A142=\"\",\"\",syoriyou!A142)","v":""},{"$f":"IF(syoriyou!B142=\"\",\"\",syoriyou!B142)","v":""},{"$f":"IF(syoriyou!C142=\"\",\"\",syoriyou!C142)","v":""},{"$f":"IF(syoriyou!D142=\"\",\"\",syoriyou!D142)","v":""},{"$f":"IF(syoriyou!E142=\"\",\"\",syoriyou!E142)","v":""},{"$f":"IF(syoriyou!F142=\"\",\"\",syoriyou!F142)","v":""},{"$f":"IF(syoriyou!G142=\"\",\"\",syoriyou!G142)","v":""},{"$f":"IF(syoriyou!H142=\"\",\"\",syoriyou!H142)","v":""},{"$f":"IF(syoriyou!I142=\"\",\"\",syoriyou!I142)","v":""},{"$f":"IF(syoriyou!J142=\"\",\"\",syoriyou!N142)","v":""}]
[{"$f":"IF(syoriyou!A143=\"\",\"\",syoriyou!A143)","v":""},{"$f":"IF(syoriyou!B143=\"\",\"\",syoriyou!B143)","v":""},{"$f":"IF(syoriyou!C143=\"\",\"\",syoriyou!C143)","v":""},{"$f":"IF(syoriyou!D143=\"\",\"\",syoriyou!D143)","v":""},{"$f":"IF(syoriyou!E143=\"\",\"\",syoriyou!E143)","v":""},{"$f":"IF(syoriyou!F143=\"\",\"\",syoriyou!F143)","v":""},{"$f":"IF(syoriyou!G143=\"\",\"\",syoriyou!G143)","v":""},{"$f":"IF(syoriyou!H143=\"\",\"\",syoriyou!H143)","v":""},{"$f":"IF(syoriyou!I143=\"\",\"\",syoriyou!I143)","v":""},{"$f":"IF(syoriyou!J143=\"\",\"\",syoriyou!N143)","v":""}]
[{"$f":"IF(syoriyou!A144=\"\",\"\",syoriyou!A144)","v":""},{"$f":"IF(syoriyou!B144=\"\",\"\",syoriyou!B144)","v":""},{"$f":"IF(syoriyou!C144=\"\",\"\",syoriyou!C144)","v":""},{"$f":"IF(syoriyou!D144=\"\",\"\",syoriyou!D144)","v":""},{"$f":"IF(syoriyou!E144=\"\",\"\",syoriyou!E144)","v":""},{"$f":"IF(syoriyou!F144=\"\",\"\",syoriyou!F144)","v":""},{"$f":"IF(syoriyou!G144=\"\",\"\",syoriyou!G144)","v":""},{"$f":"IF(syoriyou!H144=\"\",\"\",syoriyou!H144)","v":""},{"$f":"IF(syoriyou!I144=\"\",\"\",syoriyou!I144)","v":""},{"$f":"IF(syoriyou!J144=\"\",\"\",syoriyou!N144)","v":""}]
[{"$f":"IF(syoriyou!A145=\"\",\"\",syoriyou!A145)","v":""},{"$f":"IF(syoriyou!B145=\"\",\"\",syoriyou!B145)","v":""},{"$f":"IF(syoriyou!C145=\"\",\"\",syoriyou!C145)","v":""},{"$f":"IF(syoriyou!D145=\"\",\"\",syoriyou!D145)","v":""},{"$f":"IF(syoriyou!E145=\"\",\"\",syoriyou!E145)","v":""},{"$f":"IF(syoriyou!F145=\"\",\"\",syoriyou!F145)","v":""},{"$f":"IF(syoriyou!G145=\"\",\"\",syoriyou!G145)","v":""},{"$f":"IF(syoriyou!H145=\"\",\"\",syoriyou!H145)","v":""},{"$f":"IF(syoriyou!I145=\"\",\"\",syoriyou!I145)","v":""},{"$f":"IF(syoriyou!J145=\"\",\"\",syoriyou!N145)","v":""}]
[{"$f":"IF(syoriyou!A146=\"\",\"\",syoriyou!A146)","v":""},{"$f":"IF(syoriyou!B146=\"\",\"\",syoriyou!B146)","v":""},{"$f":"IF(syoriyou!C146=\"\",\"\",syoriyou!C146)","v":""},{"$f":"IF(syoriyou!D146=\"\",\"\",syoriyou!D146)","v":""},{"$f":"IF(syoriyou!E146=\"\",\"\",syoriyou!E146)","v":""},{"$f":"IF(syoriyou!F146=\"\",\"\",syoriyou!F146)","v":""},{"$f":"IF(syoriyou!G146=\"\",\"\",syoriyou!G146)","v":""},{"$f":"IF(syoriyou!H146=\"\",\"\",syoriyou!H146)","v":""},{"$f":"IF(syoriyou!I146=\"\",\"\",syoriyou!I146)","v":""},{"$f":"IF(syoriyou!J146=\"\",\"\",syoriyou!N146)","v":""}]
[{"$f":"IF(syoriyou!A147=\"\",\"\",syoriyou!A147)","v":""},{"$f":"IF(syoriyou!B147=\"\",\"\",syoriyou!B147)","v":""},{"$f":"IF(syoriyou!C147=\"\",\"\",syoriyou!C147)","v":""},{"$f":"IF(syoriyou!D147=\"\",\"\",syoriyou!D147)","v":""},{"$f":"IF(syoriyou!E147=\"\",\"\",syoriyou!E147)","v":""},{"$f":"IF(syoriyou!F147=\"\",\"\",syoriyou!F147)","v":""},{"$f":"IF(syoriyou!G147=\"\",\"\",syoriyou!G147)","v":""},{"$f":"IF(syoriyou!H147=\"\",\"\",syoriyou!H147)","v":""},{"$f":"IF(syoriyou!I147=\"\",\"\",syoriyou!I147)","v":""},{"$f":"IF(syoriyou!J147=\"\",\"\",syoriyou!N147)","v":""}]
[{"$f":"IF(syoriyou!A148=\"\",\"\",syoriyou!A148)","v":""},{"$f":"IF(syoriyou!B148=\"\",\"\",syoriyou!B148)","v":""},{"$f":"IF(syoriyou!C148=\"\",\"\",syoriyou!C148)","v":""},{"$f":"IF(syoriyou!D148=\"\",\"\",syoriyou!D148)","v":""},{"$f":"IF(syoriyou!E148=\"\",\"\",syoriyou!E148)","v":""},{"$f":"IF(syoriyou!F148=\"\",\"\",syoriyou!F148)","v":""},{"$f":"IF(syoriyou!G148=\"\",\"\",syoriyou!G148)","v":""},{"$f":"IF(syoriyou!H148=\"\",\"\",syoriyou!H148)","v":""},{"$f":"IF(syoriyou!I148=\"\",\"\",syoriyou!I148)","v":""},{"$f":"IF(syoriyou!J148=\"\",\"\",syoriyou!N148)","v":""}]
[{"$f":"IF(syoriyou!A149=\"\",\"\",syoriyou!A149)","v":""},{"$f":"IF(syoriyou!B149=\"\",\"\",syoriyou!B149)","v":""},{"$f":"IF(syoriyou!C149=\"\",\"\",syoriyou!C149)","v":""},{"$f":"IF(syoriyou!D149=\"\",\"\",syoriyou!D149)","v":""},{"$f":"IF(syoriyou!E149=\"\",\"\",syoriyou!E149)","v":""},{"$f":"IF(syoriyou!F149=\"\",\"\",syoriyou!F149)","v":""},{"$f":"IF(syoriyou!G149=\"\",\"\",syoriyou!G149)","v":""},{"$f":"IF(syoriyou!H149=\"\",\"\",syoriyou!H149)","v":""},{"$f":"IF(syoriyou!I149=\"\",\"\",syoriyou!I149)","v":""},{"$f":"IF(syoriyou!J149=\"\",\"\",syoriyou!N149)","v":""}]
[{"$f":"IF(syoriyou!A150=\"\",\"\",syoriyou!A150)","v":""},{"$f":"IF(syoriyou!B150=\"\",\"\",syoriyou!B150)","v":""},{"$f":"IF(syoriyou!C150=\"\",\"\",syoriyou!C150)","v":""},{"$f":"IF(syoriyou!D150=\"\",\"\",syoriyou!D150)","v":""},{"$f":"IF(syoriyou!E150=\"\",\"\",syoriyou!E150)","v":""},{"$f":"IF(syoriyou!F150=\"\",\"\",syoriyou!F150)","v":""},{"$f":"IF(syoriyou!G150=\"\",\"\",syoriyou!G150)","v":""},{"$f":"IF(syoriyou!H150=\"\",\"\",syoriyou!H150)","v":""},{"$f":"IF(syoriyou!I150=\"\",\"\",syoriyou!I150)","v":""},{"$f":"IF(syoriyou!J150=\"\",\"\",syoriyou!N150)","v":""}]
[{"$f":"IF(syoriyou!A151=\"\",\"\",syoriyou!A151)","v":""},{"$f":"IF(syoriyou!B151=\"\",\"\",syoriyou!B151)","v":""},{"$f":"IF(syoriyou!C151=\"\",\"\",syoriyou!C151)","v":""},{"$f":"IF(syoriyou!D151=\"\",\"\",syoriyou!D151)","v":""},{"$f":"IF(syoriyou!E151=\"\",\"\",syoriyou!E151)","v":""},{"$f":"IF(syoriyou!F151=\"\",\"\",syoriyou!F151)","v":""},{"$f":"IF(syoriyou!G151=\"\",\"\",syoriyou!G151)","v":""},{"$f":"IF(syoriyou!H151=\"\",\"\",syoriyou!H151)","v":""},{"$f":"IF(syoriyou!I151=\"\",\"\",syoriyou!I151)","v":""},{"$f":"IF(syoriyou!J151=\"\",\"\",syoriyou!N151)","v":""}]
[{"$f":"IF(syoriyou!A152=\"\",\"\",syoriyou!A152)","v":""},{"$f":"IF(syoriyou!B152=\"\",\"\",syoriyou!B152)","v":""},{"$f":"IF(syoriyou!C152=\"\",\"\",syoriyou!C152)","v":""},{"$f":"IF(syoriyou!D152=\"\",\"\",syoriyou!D152)","v":""},{"$f":"IF(syoriyou!E152=\"\",\"\",syoriyou!E152)","v":""},{"$f":"IF(syoriyou!F152=\"\",\"\",syoriyou!F152)","v":""},{"$f":"IF(syoriyou!G152=\"\",\"\",syoriyou!G152)","v":""},{"$f":"IF(syoriyou!H152=\"\",\"\",syoriyou!H152)","v":""},{"$f":"IF(syoriyou!I152=\"\",\"\",syoriyou!I152)","v":""},{"$f":"IF(syoriyou!J152=\"\",\"\",syoriyou!N152)","v":""}]
[{"$f":"IF(syoriyou!A153=\"\",\"\",syoriyou!A153)","v":""},{"$f":"IF(syoriyou!B153=\"\",\"\",syoriyou!B153)","v":""},{"$f":"IF(syoriyou!C153=\"\",\"\",syoriyou!C153)","v":""},{"$f":"IF(syoriyou!D153=\"\",\"\",syoriyou!D153)","v":""},{"$f":"IF(syoriyou!E153=\"\",\"\",syoriyou!E153)","v":""},{"$f":"IF(syoriyou!F153=\"\",\"\",syoriyou!F153)","v":""},{"$f":"IF(syoriyou!G153=\"\",\"\",syoriyou!G153)","v":""},{"$f":"IF(syoriyou!H153=\"\",\"\",syoriyou!H153)","v":""},{"$f":"IF(syoriyou!I153=\"\",\"\",syoriyou!I153)","v":""},{"$f":"IF(syoriyou!J153=\"\",\"\",syoriyou!N153)","v":""}]
[{"$f":"IF(syoriyou!A154=\"\",\"\",syoriyou!A154)","v":""},{"$f":"IF(syoriyou!B154=\"\",\"\",syoriyou!B154)","v":""},{"$f":"IF(syoriyou!C154=\"\",\"\",syoriyou!C154)","v":""},{"$f":"IF(syoriyou!D154=\"\",\"\",syoriyou!D154)","v":""},{"$f":"IF(syoriyou!E154=\"\",\"\",syoriyou!E154)","v":""},{"$f":"IF(syoriyou!F154=\"\",\"\",syoriyou!F154)","v":""},{"$f":"IF(syoriyou!G154=\"\",\"\",syoriyou!G154)","v":""},{"$f":"IF(syoriyou!H154=\"\",\"\",syoriyou!H154)","v":""},{"$f":"IF(syoriyou!I154=\"\",\"\",syoriyou!I154)","v":""},{"$f":"IF(syoriyou!J154=\"\",\"\",syoriyou!N154)","v":""}]
[{"$f":"IF(syoriyou!A155=\"\",\"\",syoriyou!A155)","v":""},{"$f":"IF(syoriyou!B155=\"\",\"\",syoriyou!B155)","v":""},{"$f":"IF(syoriyou!C155=\"\",\"\",syoriyou!C155)","v":""},{"$f":"IF(syoriyou!D155=\"\",\"\",syoriyou!D155)","v":""},{"$f":"IF(syoriyou!E155=\"\",\"\",syoriyou!E155)","v":""},{"$f":"IF(syoriyou!F155=\"\",\"\",syoriyou!F155)","v":""},{"$f":"IF(syoriyou!G155=\"\",\"\",syoriyou!G155)","v":""},{"$f":"IF(syoriyou!H155=\"\",\"\",syoriyou!H155)","v":""},{"$f":"IF(syoriyou!I155=\"\",\"\",syoriyou!I155)","v":""},{"$f":"IF(syoriyou!J155=\"\",\"\",syoriyou!N155)","v":""}]
[{"$f":"IF(syoriyou!A156=\"\",\"\",syoriyou!A156)","v":""},{"$f":"IF(syoriyou!B156=\"\",\"\",syoriyou!B156)","v":""},{"$f":"IF(syoriyou!C156=\"\",\"\",syoriyou!C156)","v":""},{"$f":"IF(syoriyou!D156=\"\",\"\",syoriyou!D156)","v":""},{"$f":"IF(syoriyou!E156=\"\",\"\",syoriyou!E156)","v":""},{"$f":"IF(syoriyou!F156=\"\",\"\",syoriyou!F156)","v":""},{"$f":"IF(syoriyou!G156=\"\",\"\",syoriyou!G156)","v":""},{"$f":"IF(syoriyou!H156=\"\",\"\",syoriyou!H156)","v":""},{"$f":"IF(syoriyou!I156=\"\",\"\",syoriyou!I156)","v":""},{"$f":"IF(syoriyou!J156=\"\",\"\",syoriyou!N156)","v":""}]
[{"$f":"IF(syoriyou!A157=\"\",\"\",syoriyou!A157)","v":""},{"$f":"IF(syoriyou!B157=\"\",\"\",syoriyou!B157)","v":""},{"$f":"IF(syoriyou!C157=\"\",\"\",syoriyou!C157)","v":""},{"$f":"IF(syoriyou!D157=\"\",\"\",syoriyou!D157)","v":""},{"$f":"IF(syoriyou!E157=\"\",\"\",syoriyou!E157)","v":""},{"$f":"IF(syoriyou!F157=\"\",\"\",syoriyou!F157)","v":""},{"$f":"IF(syoriyou!G157=\"\",\"\",syoriyou!G157)","v":""},{"$f":"IF(syoriyou!H157=\"\",\"\",syoriyou!H157)","v":""},{"$f":"IF(syoriyou!I157=\"\",\"\",syoriyou!I157)","v":""},{"$f":"IF(syoriyou!J157=\"\",\"\",syoriyou!N157)","v":""}]
[{"$f":"IF(syoriyou!A158=\"\",\"\",syoriyou!A158)","v":""},{"$f":"IF(syoriyou!B158=\"\",\"\",syoriyou!B158)","v":""},{"$f":"IF(syoriyou!C158=\"\",\"\",syoriyou!C158)","v":""},{"$f":"IF(syoriyou!D158=\"\",\"\",syoriyou!D158)","v":""},{"$f":"IF(syoriyou!E158=\"\",\"\",syoriyou!E158)","v":""},{"$f":"IF(syoriyou!F158=\"\",\"\",syoriyou!F158)","v":""},{"$f":"IF(syoriyou!G158=\"\",\"\",syoriyou!G158)","v":""},{"$f":"IF(syoriyou!H158=\"\",\"\",syoriyou!H158)","v":""},{"$f":"IF(syoriyou!I158=\"\",\"\",syoriyou!I158)","v":""},{"$f":"IF(syoriyou!J158=\"\",\"\",syoriyou!N158)","v":""}]
[{"$f":"IF(syoriyou!A159=\"\",\"\",syoriyou!A159)","v":""},{"$f":"IF(syoriyou!B159=\"\",\"\",syoriyou!B159)","v":""},{"$f":"IF(syoriyou!C159=\"\",\"\",syoriyou!C159)","v":""},{"$f":"IF(syoriyou!D159=\"\",\"\",syoriyou!D159)","v":""},{"$f":"IF(syoriyou!E159=\"\",\"\",syoriyou!E159)","v":""},{"$f":"IF(syoriyou!F159=\"\",\"\",syoriyou!F159)","v":""},{"$f":"IF(syoriyou!G159=\"\",\"\",syoriyou!G159)","v":""},{"$f":"IF(syoriyou!H159=\"\",\"\",syoriyou!H159)","v":""},{"$f":"IF(syoriyou!I159=\"\",\"\",syoriyou!I159)","v":""},{"$f":"IF(syoriyou!J159=\"\",\"\",syoriyou!N159)","v":""}]
[{"$f":"IF(syoriyou!A160=\"\",\"\",syoriyou!A160)","v":""},{"$f":"IF(syoriyou!B160=\"\",\"\",syoriyou!B160)","v":""},{"$f":"IF(syoriyou!C160=\"\",\"\",syoriyou!C160)","v":""},{"$f":"IF(syoriyou!D160=\"\",\"\",syoriyou!D160)","v":""},{"$f":"IF(syoriyou!E160=\"\",\"\",syoriyou!E160)","v":""},{"$f":"IF(syoriyou!F160=\"\",\"\",syoriyou!F160)","v":""},{"$f":"IF(syoriyou!G160=\"\",\"\",syoriyou!G160)","v":""},{"$f":"IF(syoriyou!H160=\"\",\"\",syoriyou!H160)","v":""},{"$f":"IF(syoriyou!I160=\"\",\"\",syoriyou!I160)","v":""},{"$f":"IF(syoriyou!J160=\"\",\"\",syoriyou!N160)","v":""}]
[{"$f":"IF(syoriyou!A161=\"\",\"\",syoriyou!A161)","v":""},{"$f":"IF(syoriyou!B161=\"\",\"\",syoriyou!B161)","v":""},{"$f":"IF(syoriyou!C161=\"\",\"\",syoriyou!C161)","v":""},{"$f":"IF(syoriyou!D161=\"\",\"\",syoriyou!D161)","v":""},{"$f":"IF(syoriyou!E161=\"\",\"\",syoriyou!E161)","v":""},{"$f":"IF(syoriyou!F161=\"\",\"\",syoriyou!F161)","v":""},{"$f":"IF(syoriyou!G161=\"\",\"\",syoriyou!G161)","v":""},{"$f":"IF(syoriyou!H161=\"\",\"\",syoriyou!H161)","v":""},{"$f":"IF(syoriyou!I161=\"\",\"\",syoriyou!I161)","v":""},{"$f":"IF(syoriyou!J161=\"\",\"\",syoriyou!N161)","v":""}]
[{"$f":"IF(syoriyou!A162=\"\",\"\",syoriyou!A162)","v":""},{"$f":"IF(syoriyou!B162=\"\",\"\",syoriyou!B162)","v":""},{"$f":"IF(syoriyou!C162=\"\",\"\",syoriyou!C162)","v":""},{"$f":"IF(syoriyou!D162=\"\",\"\",syoriyou!D162)","v":""},{"$f":"IF(syoriyou!E162=\"\",\"\",syoriyou!E162)","v":""},{"$f":"IF(syoriyou!F162=\"\",\"\",syoriyou!F162)","v":""},{"$f":"IF(syoriyou!G162=\"\",\"\",syoriyou!G162)","v":""},{"$f":"IF(syoriyou!H162=\"\",\"\",syoriyou!H162)","v":""},{"$f":"IF(syoriyou!I162=\"\",\"\",syoriyou!I162)","v":""},{"$f":"IF(syoriyou!J162=\"\",\"\",syoriyou!N162)","v":""}]
[{"$f":"IF(syoriyou!A163=\"\",\"\",syoriyou!A163)","v":""},{"$f":"IF(syoriyou!B163=\"\",\"\",syoriyou!B163)","v":""},{"$f":"IF(syoriyou!C163=\"\",\"\",syoriyou!C163)","v":""},{"$f":"IF(syoriyou!D163=\"\",\"\",syoriyou!D163)","v":""},{"$f":"IF(syoriyou!E163=\"\",\"\",syoriyou!E163)","v":""},{"$f":"IF(syoriyou!F163=\"\",\"\",syoriyou!F163)","v":""},{"$f":"IF(syoriyou!G163=\"\",\"\",syoriyou!G163)","v":""},{"$f":"IF(syoriyou!H163=\"\",\"\",syoriyou!H163)","v":""},{"$f":"IF(syoriyou!I163=\"\",\"\",syoriyou!I163)","v":""},{"$f":"IF(syoriyou!J163=\"\",\"\",syoriyou!N163)","v":""}]
[{"$f":"IF(syoriyou!A164=\"\",\"\",syoriyou!A164)","v":""},{"$f":"IF(syoriyou!B164=\"\",\"\",syoriyou!B164)","v":""},{"$f":"IF(syoriyou!C164=\"\",\"\",syoriyou!C164)","v":""},{"$f":"IF(syoriyou!D164=\"\",\"\",syoriyou!D164)","v":""},{"$f":"IF(syoriyou!E164=\"\",\"\",syoriyou!E164)","v":""},{"$f":"IF(syoriyou!F164=\"\",\"\",syoriyou!F164)","v":""},{"$f":"IF(syoriyou!G164=\"\",\"\",syoriyou!G164)","v":""},{"$f":"IF(syoriyou!H164=\"\",\"\",syoriyou!H164)","v":""},{"$f":"IF(syoriyou!I164=\"\",\"\",syoriyou!I164)","v":""},{"$f":"IF(syoriyou!J164=\"\",\"\",syoriyou!N164)","v":""}]
[{"$f":"IF(syoriyou!A165=\"\",\"\",syoriyou!A165)","v":""},{"$f":"IF(syoriyou!B165=\"\",\"\",syoriyou!B165)","v":""},{"$f":"IF(syoriyou!C165=\"\",\"\",syoriyou!C165)","v":""},{"$f":"IF(syoriyou!D165=\"\",\"\",syoriyou!D165)","v":""},{"$f":"IF(syoriyou!E165=\"\",\"\",syoriyou!E165)","v":""},{"$f":"IF(syoriyou!F165=\"\",\"\",syoriyou!F165)","v":""},{"$f":"IF(syoriyou!G165=\"\",\"\",syoriyou!G165)","v":""},{"$f":"IF(syoriyou!H165=\"\",\"\",syoriyou!H165)","v":""},{"$f":"IF(syoriyou!I165=\"\",\"\",syoriyou!I165)","v":""},{"$f":"IF(syoriyou!J165=\"\",\"\",syoriyou!N165)","v":""}]
[{"$f":"IF(syoriyou!A166=\"\",\"\",syoriyou!A166)","v":""},{"$f":"IF(syoriyou!B166=\"\",\"\",syoriyou!B166)","v":""},{"$f":"IF(syoriyou!C166=\"\",\"\",syoriyou!C166)","v":""},{"$f":"IF(syoriyou!D166=\"\",\"\",syoriyou!D166)","v":""},{"$f":"IF(syoriyou!E166=\"\",\"\",syoriyou!E166)","v":""},{"$f":"IF(syoriyou!F166=\"\",\"\",syoriyou!F166)","v":""},{"$f":"IF(syoriyou!G166=\"\",\"\",syoriyou!G166)","v":""},{"$f":"IF(syoriyou!H166=\"\",\"\",syoriyou!H166)","v":""},{"$f":"IF(syoriyou!I166=\"\",\"\",syoriyou!I166)","v":""},{"$f":"IF(syoriyou!J166=\"\",\"\",syoriyou!N166)","v":""}]
[{"$f":"IF(syoriyou!A167=\"\",\"\",syoriyou!A167)","v":""},{"$f":"IF(syoriyou!B167=\"\",\"\",syoriyou!B167)","v":""},{"$f":"IF(syoriyou!C167=\"\",\"\",syoriyou!C167)","v":""},{"$f":"IF(syoriyou!D167=\"\",\"\",syoriyou!D167)","v":""},{"$f":"IF(syoriyou!E167=\"\",\"\",syoriyou!E167)","v":""},{"$f":"IF(syoriyou!F167=\"\",\"\",syoriyou!F167)","v":""},{"$f":"IF(syoriyou!G167=\"\",\"\",syoriyou!G167)","v":""},{"$f":"IF(syoriyou!H167=\"\",\"\",syoriyou!H167)","v":""},{"$f":"IF(syoriyou!I167=\"\",\"\",syoriyou!I167)","v":""},{"$f":"IF(syoriyou!J167=\"\",\"\",syoriyou!N167)","v":""}]
[{"$f":"IF(syoriyou!A168=\"\",\"\",syoriyou!A168)","v":""},{"$f":"IF(syoriyou!B168=\"\",\"\",syoriyou!B168)","v":""},{"$f":"IF(syoriyou!C168=\"\",\"\",syoriyou!C168)","v":""},{"$f":"IF(syoriyou!D168=\"\",\"\",syoriyou!D168)","v":""},{"$f":"IF(syoriyou!E168=\"\",\"\",syoriyou!E168)","v":""},{"$f":"IF(syoriyou!F168=\"\",\"\",syoriyou!F168)","v":""},{"$f":"IF(syoriyou!G168=\"\",\"\",syoriyou!G168)","v":""},{"$f":"IF(syoriyou!H168=\"\",\"\",syoriyou!H168)","v":""},{"$f":"IF(syoriyou!I168=\"\",\"\",syoriyou!I168)","v":""},{"$f":"IF(syoriyou!J168=\"\",\"\",syoriyou!N168)","v":""}]
[{"$f":"IF(syoriyou!A169=\"\",\"\",syoriyou!A169)","v":""},{"$f":"IF(syoriyou!B169=\"\",\"\",syoriyou!B169)","v":""},{"$f":"IF(syoriyou!C169=\"\",\"\",syoriyou!C169)","v":""},{"$f":"IF(syoriyou!D169=\"\",\"\",syoriyou!D169)","v":""},{"$f":"IF(syoriyou!E169=\"\",\"\",syoriyou!E169)","v":""},{"$f":"IF(syoriyou!F169=\"\",\"\",syoriyou!F169)","v":""},{"$f":"IF(syoriyou!G169=\"\",\"\",syoriyou!G169)","v":""},{"$f":"IF(syoriyou!H169=\"\",\"\",syoriyou!H169)","v":""},{"$f":"IF(syoriyou!I169=\"\",\"\",syoriyou!I169)","v":""},{"$f":"IF(syoriyou!J169=\"\",\"\",syoriyou!N169)","v":""}]
[{"$f":"IF(syoriyou!A170=\"\",\"\",syoriyou!A170)","v":""},{"$f":"IF(syoriyou!B170=\"\",\"\",syoriyou!B170)","v":""},{"$f":"IF(syoriyou!C170=\"\",\"\",syoriyou!C170)","v":""},{"$f":"IF(syoriyou!D170=\"\",\"\",syoriyou!D170)","v":""},{"$f":"IF(syoriyou!E170=\"\",\"\",syoriyou!E170)","v":""},{"$f":"IF(syoriyou!F170=\"\",\"\",syoriyou!F170)","v":""},{"$f":"IF(syoriyou!G170=\"\",\"\",syoriyou!G170)","v":""},{"$f":"IF(syoriyou!H170=\"\",\"\",syoriyou!H170)","v":""},{"$f":"IF(syoriyou!I170=\"\",\"\",syoriyou!I170)","v":""},{"$f":"IF(syoriyou!J170=\"\",\"\",syoriyou!N170)","v":""}]
[{"$f":"IF(syoriyou!A171=\"\",\"\",syoriyou!A171)","v":""},{"$f":"IF(syoriyou!B171=\"\",\"\",syoriyou!B171)","v":""},{"$f":"IF(syoriyou!C171=\"\",\"\",syoriyou!C171)","v":""},{"$f":"IF(syoriyou!D171=\"\",\"\",syoriyou!D171)","v":""},{"$f":"IF(syoriyou!E171=\"\",\"\",syoriyou!E171)","v":""},{"$f":"IF(syoriyou!F171=\"\",\"\",syoriyou!F171)","v":""},{"$f":"IF(syoriyou!G171=\"\",\"\",syoriyou!G171)","v":""},{"$f":"IF(syoriyou!H171=\"\",\"\",syoriyou!H171)","v":""},{"$f":"IF(syoriyou!I171=\"\",\"\",syoriyou!I171)","v":""},{"$f":"IF(syoriyou!J171=\"\",\"\",syoriyou!N171)","v":""}]
[{"$f":"IF(syoriyou!A172=\"\",\"\",syoriyou!A172)","v":""},{"$f":"IF(syoriyou!B172=\"\",\"\",syoriyou!B172)","v":""},{"$f":"IF(syoriyou!C172=\"\",\"\",syoriyou!C172)","v":""},{"$f":"IF(syoriyou!D172=\"\",\"\",syoriyou!D172)","v":""},{"$f":"IF(syoriyou!E172=\"\",\"\",syoriyou!E172)","v":""},{"$f":"IF(syoriyou!F172=\"\",\"\",syoriyou!F172)","v":""},{"$f":"IF(syoriyou!G172=\"\",\"\",syoriyou!G172)","v":""},{"$f":"IF(syoriyou!H172=\"\",\"\",syoriyou!H172)","v":""},{"$f":"IF(syoriyou!I172=\"\",\"\",syoriyou!I172)","v":""},{"$f":"IF(syoriyou!J172=\"\",\"\",syoriyou!N172)","v":""}]
[{"$f":"IF(syoriyou!A173=\"\",\"\",syoriyou!A173)","v":""},{"$f":"IF(syoriyou!B173=\"\",\"\",syoriyou!B173)","v":""},{"$f":"IF(syoriyou!C173=\"\",\"\",syoriyou!C173)","v":""},{"$f":"IF(syoriyou!D173=\"\",\"\",syoriyou!D173)","v":""},{"$f":"IF(syoriyou!E173=\"\",\"\",syoriyou!E173)","v":""},{"$f":"IF(syoriyou!F173=\"\",\"\",syoriyou!F173)","v":""},{"$f":"IF(syoriyou!G173=\"\",\"\",syoriyou!G173)","v":""},{"$f":"IF(syoriyou!H173=\"\",\"\",syoriyou!H173)","v":""},{"$f":"IF(syoriyou!I173=\"\",\"\",syoriyou!I173)","v":""},{"$f":"IF(syoriyou!J173=\"\",\"\",syoriyou!N173)","v":""}]
[{"$f":"IF(syoriyou!A174=\"\",\"\",syoriyou!A174)","v":""},{"$f":"IF(syoriyou!B174=\"\",\"\",syoriyou!B174)","v":""},{"$f":"IF(syoriyou!C174=\"\",\"\",syoriyou!C174)","v":""},{"$f":"IF(syoriyou!D174=\"\",\"\",syoriyou!D174)","v":""},{"$f":"IF(syoriyou!E174=\"\",\"\",syoriyou!E174)","v":""},{"$f":"IF(syoriyou!F174=\"\",\"\",syoriyou!F174)","v":""},{"$f":"IF(syoriyou!G174=\"\",\"\",syoriyou!G174)","v":""},{"$f":"IF(syoriyou!H174=\"\",\"\",syoriyou!H174)","v":""},{"$f":"IF(syoriyou!I174=\"\",\"\",syoriyou!I174)","v":""},{"$f":"IF(syoriyou!J174=\"\",\"\",syoriyou!N174)","v":""}]
[{"$f":"IF(syoriyou!A175=\"\",\"\",syoriyou!A175)","v":""},{"$f":"IF(syoriyou!B175=\"\",\"\",syoriyou!B175)","v":""},{"$f":"IF(syoriyou!C175=\"\",\"\",syoriyou!C175)","v":""},{"$f":"IF(syoriyou!D175=\"\",\"\",syoriyou!D175)","v":""},{"$f":"IF(syoriyou!E175=\"\",\"\",syoriyou!E175)","v":""},{"$f":"IF(syoriyou!F175=\"\",\"\",syoriyou!F175)","v":""},{"$f":"IF(syoriyou!G175=\"\",\"\",syoriyou!G175)","v":""},{"$f":"IF(syoriyou!H175=\"\",\"\",syoriyou!H175)","v":""},{"$f":"IF(syoriyou!I175=\"\",\"\",syoriyou!I175)","v":""},{"$f":"IF(syoriyou!J175=\"\",\"\",syoriyou!N175)","v":""}]
[{"$f":"IF(syoriyou!A176=\"\",\"\",syoriyou!A176)","v":""},{"$f":"IF(syoriyou!B176=\"\",\"\",syoriyou!B176)","v":""},{"$f":"IF(syoriyou!C176=\"\",\"\",syoriyou!C176)","v":""},{"$f":"IF(syoriyou!D176=\"\",\"\",syoriyou!D176)","v":""},{"$f":"IF(syoriyou!E176=\"\",\"\",syoriyou!E176)","v":""},{"$f":"IF(syoriyou!F176=\"\",\"\",syoriyou!F176)","v":""},{"$f":"IF(syoriyou!G176=\"\",\"\",syoriyou!G176)","v":""},{"$f":"IF(syoriyou!H176=\"\",\"\",syoriyou!H176)","v":""},{"$f":"IF(syoriyou!I176=\"\",\"\",syoriyou!I176)","v":""},{"$f":"IF(syoriyou!J176=\"\",\"\",syoriyou!N176)","v":""}]
[{"$f":"IF(syoriyou!A177=\"\",\"\",syoriyou!A177)","v":""},{"$f":"IF(syoriyou!B177=\"\",\"\",syoriyou!B177)","v":""},{"$f":"IF(syoriyou!C177=\"\",\"\",syoriyou!C177)","v":""},{"$f":"IF(syoriyou!D177=\"\",\"\",syoriyou!D177)","v":""},{"$f":"IF(syoriyou!E177=\"\",\"\",syoriyou!E177)","v":""},{"$f":"IF(syoriyou!F177=\"\",\"\",syoriyou!F177)","v":""},{"$f":"IF(syoriyou!G177=\"\",\"\",syoriyou!G177)","v":""},{"$f":"IF(syoriyou!H177=\"\",\"\",syoriyou!H177)","v":""},{"$f":"IF(syoriyou!I177=\"\",\"\",syoriyou!I177)","v":""},{"$f":"IF(syoriyou!J177=\"\",\"\",syoriyou!N177)","v":""}]
[{"$f":"IF(syoriyou!A178=\"\",\"\",syoriyou!A178)","v":""},{"$f":"IF(syoriyou!B178=\"\",\"\",syoriyou!B178)","v":""},{"$f":"IF(syoriyou!C178=\"\",\"\",syoriyou!C178)","v":""},{"$f":"IF(syoriyou!D178=\"\",\"\",syoriyou!D178)","v":""},{"$f":"IF(syoriyou!E178=\"\",\"\",syoriyou!E178)","v":""},{"$f":"IF(syoriyou!F178=\"\",\"\",syoriyou!F178)","v":""},{"$f":"IF(syoriyou!G178=\"\",\"\",syoriyou!G178)","v":""},{"$f":"IF(syoriyou!H178=\"\",\"\",syoriyou!H178)","v":""},{"$f":"IF(syoriyou!I178=\"\",\"\",syoriyou!I178)","v":""},{"$f":"IF(syoriyou!J178=\"\",\"\",syoriyou!N178)","v":""}]
[{"$f":"IF(syoriyou!A179=\"\",\"\",syoriyou!A179)","v":""},{"$f":"IF(syoriyou!B179=\"\",\"\",syoriyou!B179)","v":""},{"$f":"IF(syoriyou!C179=\"\",\"\",syoriyou!C179)","v":""},{"$f":"IF(syoriyou!D179=\"\",\"\",syoriyou!D179)","v":""},{"$f":"IF(syoriyou!E179=\"\",\"\",syoriyou!E179)","v":""},{"$f":"IF(syoriyou!F179=\"\",\"\",syoriyou!F179)","v":""},{"$f":"IF(syoriyou!G179=\"\",\"\",syoriyou!G179)","v":""},{"$f":"IF(syoriyou!H179=\"\",\"\",syoriyou!H179)","v":""},{"$f":"IF(syoriyou!I179=\"\",\"\",syoriyou!I179)","v":""},{"$f":"IF(syoriyou!J179=\"\",\"\",syoriyou!N179)","v":""}]
[{"$f":"IF(syoriyou!A180=\"\",\"\",syoriyou!A180)","v":""},{"$f":"IF(syoriyou!B180=\"\",\"\",syoriyou!B180)","v":""},{"$f":"IF(syoriyou!C180=\"\",\"\",syoriyou!C180)","v":""},{"$f":"IF(syoriyou!D180=\"\",\"\",syoriyou!D180)","v":""},{"$f":"IF(syoriyou!E180=\"\",\"\",syoriyou!E180)","v":""},{"$f":"IF(syoriyou!F180=\"\",\"\",syoriyou!F180)","v":""},{"$f":"IF(syoriyou!G180=\"\",\"\",syoriyou!G180)","v":""},{"$f":"IF(syoriyou!H180=\"\",\"\",syoriyou!H180)","v":""},{"$f":"IF(syoriyou!I180=\"\",\"\",syoriyou!I180)","v":""},{"$f":"IF(syoriyou!J180=\"\",\"\",syoriyou!N180)","v":""}]
[{"$f":"IF(syoriyou!A181=\"\",\"\",syoriyou!A181)","v":""},{"$f":"IF(syoriyou!B181=\"\",\"\",syoriyou!B181)","v":""},{"$f":"IF(syoriyou!C181=\"\",\"\",syoriyou!C181)","v":""},{"$f":"IF(syoriyou!D181=\"\",\"\",syoriyou!D181)","v":""},{"$f":"IF(syoriyou!E181=\"\",\"\",syoriyou!E181)","v":""},{"$f":"IF(syoriyou!F181=\"\",\"\",syoriyou!F181)","v":""},{"$f":"IF(syoriyou!G181=\"\",\"\",syoriyou!G181)","v":""},{"$f":"IF(syoriyou!H181=\"\",\"\",syoriyou!H181)","v":""},{"$f":"IF(syoriyou!I181=\"\",\"\",syoriyou!I181)","v":""},{"$f":"IF(syoriyou!J181=\"\",\"\",syoriyou!N181)","v":""}]
[{"$f":"IF(syoriyou!A182=\"\",\"\",syoriyou!A182)","v":""},{"$f":"IF(syoriyou!B182=\"\",\"\",syoriyou!B182)","v":""},{"$f":"IF(syoriyou!C182=\"\",\"\",syoriyou!C182)","v":""},{"$f":"IF(syoriyou!D182=\"\",\"\",syoriyou!D182)","v":""},{"$f":"IF(syoriyou!E182=\"\",\"\",syoriyou!E182)","v":""},{"$f":"IF(syoriyou!F182=\"\",\"\",syoriyou!F182)","v":""},{"$f":"IF(syoriyou!G182=\"\",\"\",syoriyou!G182)","v":""},{"$f":"IF(syoriyou!H182=\"\",\"\",syoriyou!H182)","v":""},{"$f":"IF(syoriyou!I182=\"\",\"\",syoriyou!I182)","v":""},{"$f":"IF(syoriyou!J182=\"\",\"\",syoriyou!N182)","v":""}]
[{"$f":"IF(syoriyou!A183=\"\",\"\",syoriyou!A183)","v":""},{"$f":"IF(syoriyou!B183=\"\",\"\",syoriyou!B183)","v":""},{"$f":"IF(syoriyou!C183=\"\",\"\",syoriyou!C183)","v":""},{"$f":"IF(syoriyou!D183=\"\",\"\",syoriyou!D183)","v":""},{"$f":"IF(syoriyou!E183=\"\",\"\",syoriyou!E183)","v":""},{"$f":"IF(syoriyou!F183=\"\",\"\",syoriyou!F183)","v":""},{"$f":"IF(syoriyou!G183=\"\",\"\",syoriyou!G183)","v":""},{"$f":"IF(syoriyou!H183=\"\",\"\",syoriyou!H183)","v":""},{"$f":"IF(syoriyou!I183=\"\",\"\",syoriyou!I183)","v":""},{"$f":"IF(syoriyou!J183=\"\",\"\",syoriyou!N183)","v":""}]
[{"$f":"IF(syoriyou!A184=\"\",\"\",syoriyou!A184)","v":""},{"$f":"IF(syoriyou!B184=\"\",\"\",syoriyou!B184)","v":""},{"$f":"IF(syoriyou!C184=\"\",\"\",syoriyou!C184)","v":""},{"$f":"IF(syoriyou!D184=\"\",\"\",syoriyou!D184)","v":""},{"$f":"IF(syoriyou!E184=\"\",\"\",syoriyou!E184)","v":""},{"$f":"IF(syoriyou!F184=\"\",\"\",syoriyou!F184)","v":""},{"$f":"IF(syoriyou!G184=\"\",\"\",syoriyou!G184)","v":""},{"$f":"IF(syoriyou!H184=\"\",\"\",syoriyou!H184)","v":""},{"$f":"IF(syoriyou!I184=\"\",\"\",syoriyou!I184)","v":""},{"$f":"IF(syoriyou!J184=\"\",\"\",syoriyou!N184)","v":""}]
[{"$f":"IF(syoriyou!A185=\"\",\"\",syoriyou!A185)","v":""},{"$f":"IF(syoriyou!B185=\"\",\"\",syoriyou!B185)","v":""},{"$f":"IF(syoriyou!C185=\"\",\"\",syoriyou!C185)","v":""},{"$f":"IF(syoriyou!D185=\"\",\"\",syoriyou!D185)","v":""},{"$f":"IF(syoriyou!E185=\"\",\"\",syoriyou!E185)","v":""},{"$f":"IF(syoriyou!F185=\"\",\"\",syoriyou!F185)","v":""},{"$f":"IF(syoriyou!G185=\"\",\"\",syoriyou!G185)","v":""},{"$f":"IF(syoriyou!H185=\"\",\"\",syoriyou!H185)","v":""},{"$f":"IF(syoriyou!I185=\"\",\"\",syoriyou!I185)","v":""},{"$f":"IF(syoriyou!J185=\"\",\"\",syoriyou!N185)","v":""}]
[{"$f":"IF(syoriyou!A186=\"\",\"\",syoriyou!A186)","v":""},{"$f":"IF(syoriyou!B186=\"\",\"\",syoriyou!B186)","v":""},{"$f":"IF(syoriyou!C186=\"\",\"\",syoriyou!C186)","v":""},{"$f":"IF(syoriyou!D186=\"\",\"\",syoriyou!D186)","v":""},{"$f":"IF(syoriyou!E186=\"\",\"\",syoriyou!E186)","v":""},{"$f":"IF(syoriyou!F186=\"\",\"\",syoriyou!F186)","v":""},{"$f":"IF(syoriyou!G186=\"\",\"\",syoriyou!G186)","v":""},{"$f":"IF(syoriyou!H186=\"\",\"\",syoriyou!H186)","v":""},{"$f":"IF(syoriyou!I186=\"\",\"\",syoriyou!I186)","v":""},{"$f":"IF(syoriyou!J186=\"\",\"\",syoriyou!N186)","v":""}]
[{"$f":"IF(syoriyou!A187=\"\",\"\",syoriyou!A187)","v":""},{"$f":"IF(syoriyou!B187=\"\",\"\",syoriyou!B187)","v":""},{"$f":"IF(syoriyou!C187=\"\",\"\",syoriyou!C187)","v":""},{"$f":"IF(syoriyou!D187=\"\",\"\",syoriyou!D187)","v":""},{"$f":"IF(syoriyou!E187=\"\",\"\",syoriyou!E187)","v":""},{"$f":"IF(syoriyou!F187=\"\",\"\",syoriyou!F187)","v":""},{"$f":"IF(syoriyou!G187=\"\",\"\",syoriyou!G187)","v":""},{"$f":"IF(syoriyou!H187=\"\",\"\",syoriyou!H187)","v":""},{"$f":"IF(syoriyou!I187=\"\",\"\",syoriyou!I187)","v":""},{"$f":"IF(syoriyou!J187=\"\",\"\",syoriyou!N187)","v":""}]
[{"$f":"IF(syoriyou!A188=\"\",\"\",syoriyou!A188)","v":""},{"$f":"IF(syoriyou!B188=\"\",\"\",syoriyou!B188)","v":""},{"$f":"IF(syoriyou!C188=\"\",\"\",syoriyou!C188)","v":""},{"$f":"IF(syoriyou!D188=\"\",\"\",syoriyou!D188)","v":""},{"$f":"IF(syoriyou!E188=\"\",\"\",syoriyou!E188)","v":""},{"$f":"IF(syoriyou!F188=\"\",\"\",syoriyou!F188)","v":""},{"$f":"IF(syoriyou!G188=\"\",\"\",syoriyou!G188)","v":""},{"$f":"IF(syoriyou!H188=\"\",\"\",syoriyou!H188)","v":""},{"$f":"IF(syoriyou!I188=\"\",\"\",syoriyou!I188)","v":""},{"$f":"IF(syoriyou!J188=\"\",\"\",syoriyou!N188)","v":""}]
[{"$f":"IF(syoriyou!A189=\"\",\"\",syoriyou!A189)","v":""},{"$f":"IF(syoriyou!B189=\"\",\"\",syoriyou!B189)","v":""},{"$f":"IF(syoriyou!C189=\"\",\"\",syoriyou!C189)","v":""},{"$f":"IF(syoriyou!D189=\"\",\"\",syoriyou!D189)","v":""},{"$f":"IF(syoriyou!E189=\"\",\"\",syoriyou!E189)","v":""},{"$f":"IF(syoriyou!F189=\"\",\"\",syoriyou!F189)","v":""},{"$f":"IF(syoriyou!G189=\"\",\"\",syoriyou!G189)","v":""},{"$f":"IF(syoriyou!H189=\"\",\"\",syoriyou!H189)","v":""},{"$f":"IF(syoriyou!I189=\"\",\"\",syoriyou!I189)","v":""},{"$f":"IF(syoriyou!J189=\"\",\"\",syoriyou!N189)","v":""}]
[{"$f":"IF(syoriyou!A190=\"\",\"\",syoriyou!A190)","v":""},{"$f":"IF(syoriyou!B190=\"\",\"\",syoriyou!B190)","v":""},{"$f":"IF(syoriyou!C190=\"\",\"\",syoriyou!C190)","v":""},{"$f":"IF(syoriyou!D190=\"\",\"\",syoriyou!D190)","v":""},{"$f":"IF(syoriyou!E190=\"\",\"\",syoriyou!E190)","v":""},{"$f":"IF(syoriyou!F190=\"\",\"\",syoriyou!F190)","v":""},{"$f":"IF(syoriyou!G190=\"\",\"\",syoriyou!G190)","v":""},{"$f":"IF(syoriyou!H190=\"\",\"\",syoriyou!H190)","v":""},{"$f":"IF(syoriyou!I190=\"\",\"\",syoriyou!I190)","v":""},{"$f":"IF(syoriyou!J190=\"\",\"\",syoriyou!N190)","v":""}]
[{"$f":"IF(syoriyou!A191=\"\",\"\",syoriyou!A191)","v":""},{"$f":"IF(syoriyou!B191=\"\",\"\",syoriyou!B191)","v":""},{"$f":"IF(syoriyou!C191=\"\",\"\",syoriyou!C191)","v":""},{"$f":"IF(syoriyou!D191=\"\",\"\",syoriyou!D191)","v":""},{"$f":"IF(syoriyou!E191=\"\",\"\",syoriyou!E191)","v":""},{"$f":"IF(syoriyou!F191=\"\",\"\",syoriyou!F191)","v":""},{"$f":"IF(syoriyou!G191=\"\",\"\",syoriyou!G191)","v":""},{"$f":"IF(syoriyou!H191=\"\",\"\",syoriyou!H191)","v":""},{"$f":"IF(syoriyou!I191=\"\",\"\",syoriyou!I191)","v":""},{"$f":"IF(syoriyou!J191=\"\",\"\",syoriyou!N191)","v":""}]
[{"$f":"IF(syoriyou!A192=\"\",\"\",syoriyou!A192)","v":""},{"$f":"IF(syoriyou!B192=\"\",\"\",syoriyou!B192)","v":""},{"$f":"IF(syoriyou!C192=\"\",\"\",syoriyou!C192)","v":""},{"$f":"IF(syoriyou!D192=\"\",\"\",syoriyou!D192)","v":""},{"$f":"IF(syoriyou!E192=\"\",\"\",syoriyou!E192)","v":""},{"$f":"IF(syoriyou!F192=\"\",\"\",syoriyou!F192)","v":""},{"$f":"IF(syoriyou!G192=\"\",\"\",syoriyou!G192)","v":""},{"$f":"IF(syoriyou!H192=\"\",\"\",syoriyou!H192)","v":""},{"$f":"IF(syoriyou!I192=\"\",\"\",syoriyou!I192)","v":""},{"$f":"IF(syoriyou!J192=\"\",\"\",syoriyou!N192)","v":""}]
[{"$f":"IF(syoriyou!A193=\"\",\"\",syoriyou!A193)","v":""},{"$f":"IF(syoriyou!B193=\"\",\"\",syoriyou!B193)","v":""},{"$f":"IF(syoriyou!C193=\"\",\"\",syoriyou!C193)","v":""},{"$f":"IF(syoriyou!D193=\"\",\"\",syoriyou!D193)","v":""},{"$f":"IF(syoriyou!E193=\"\",\"\",syoriyou!E193)","v":""},{"$f":"IF(syoriyou!F193=\"\",\"\",syoriyou!F193)","v":""},{"$f":"IF(syoriyou!G193=\"\",\"\",syoriyou!G193)","v":""},{"$f":"IF(syoriyou!H193=\"\",\"\",syoriyou!H193)","v":""},{"$f":"IF(syoriyou!I193=\"\",\"\",syoriyou!I193)","v":""},{"$f":"IF(syoriyou!J193=\"\",\"\",syoriyou!N193)","v":""}]
[{"$f":"IF(syoriyou!A194=\"\",\"\",syoriyou!A194)","v":""},{"$f":"IF(syoriyou!B194=\"\",\"\",syoriyou!B194)","v":""},{"$f":"IF(syoriyou!C194=\"\",\"\",syoriyou!C194)","v":""},{"$f":"IF(syoriyou!D194=\"\",\"\",syoriyou!D194)","v":""},{"$f":"IF(syoriyou!E194=\"\",\"\",syoriyou!E194)","v":""},{"$f":"IF(syoriyou!F194=\"\",\"\",syoriyou!F194)","v":""},{"$f":"IF(syoriyou!G194=\"\",\"\",syoriyou!G194)","v":""},{"$f":"IF(syoriyou!H194=\"\",\"\",syoriyou!H194)","v":""},{"$f":"IF(syoriyou!I194=\"\",\"\",syoriyou!I194)","v":""},{"$f":"IF(syoriyou!J194=\"\",\"\",syoriyou!N194)","v":""}]
[{"$f":"IF(syoriyou!A195=\"\",\"\",syoriyou!A195)","v":""},{"$f":"IF(syoriyou!B195=\"\",\"\",syoriyou!B195)","v":""},{"$f":"IF(syoriyou!C195=\"\",\"\",syoriyou!C195)","v":""},{"$f":"IF(syoriyou!D195=\"\",\"\",syoriyou!D195)","v":""},{"$f":"IF(syoriyou!E195=\"\",\"\",syoriyou!E195)","v":""},{"$f":"IF(syoriyou!F195=\"\",\"\",syoriyou!F195)","v":""},{"$f":"IF(syoriyou!G195=\"\",\"\",syoriyou!G195)","v":""},{"$f":"IF(syoriyou!H195=\"\",\"\",syoriyou!H195)","v":""},{"$f":"IF(syoriyou!I195=\"\",\"\",syoriyou!I195)","v":""},{"$f":"IF(syoriyou!J195=\"\",\"\",syoriyou!N195)","v":""}]
[{"$f":"IF(syoriyou!A196=\"\",\"\",syoriyou!A196)","v":""},{"$f":"IF(syoriyou!B196=\"\",\"\",syoriyou!B196)","v":""},{"$f":"IF(syoriyou!C196=\"\",\"\",syoriyou!C196)","v":""},{"$f":"IF(syoriyou!D196=\"\",\"\",syoriyou!D196)","v":""},{"$f":"IF(syoriyou!E196=\"\",\"\",syoriyou!E196)","v":""},{"$f":"IF(syoriyou!F196=\"\",\"\",syoriyou!F196)","v":""},{"$f":"IF(syoriyou!G196=\"\",\"\",syoriyou!G196)","v":""},{"$f":"IF(syoriyou!H196=\"\",\"\",syoriyou!H196)","v":""},{"$f":"IF(syoriyou!I196=\"\",\"\",syoriyou!I196)","v":""},{"$f":"IF(syoriyou!J196=\"\",\"\",syoriyou!N196)","v":""}]
[{"$f":"IF(syoriyou!A197=\"\",\"\",syoriyou!A197)","v":""},{"$f":"IF(syoriyou!B197=\"\",\"\",syoriyou!B197)","v":""},{"$f":"IF(syoriyou!C197=\"\",\"\",syoriyou!C197)","v":""},{"$f":"IF(syoriyou!D197=\"\",\"\",syoriyou!D197)","v":""},{"$f":"IF(syoriyou!E197=\"\",\"\",syoriyou!E197)","v":""},{"$f":"IF(syoriyou!F197=\"\",\"\",syoriyou!F197)","v":""},{"$f":"IF(syoriyou!G197=\"\",\"\",syoriyou!G197)","v":""},{"$f":"IF(syoriyou!H197=\"\",\"\",syoriyou!H197)","v":""},{"$f":"IF(syoriyou!I197=\"\",\"\",syoriyou!I197)","v":""},{"$f":"IF(syoriyou!J197=\"\",\"\",syoriyou!N197)","v":""}]
[{"$f":"IF(syoriyou!A198=\"\",\"\",syoriyou!A198)","v":""},{"$f":"IF(syoriyou!B198=\"\",\"\",syoriyou!B198)","v":""},{"$f":"IF(syoriyou!C198=\"\",\"\",syoriyou!C198)","v":""},{"$f":"IF(syoriyou!D198=\"\",\"\",syoriyou!D198)","v":""},{"$f":"IF(syoriyou!E198=\"\",\"\",syoriyou!E198)","v":""},{"$f":"IF(syoriyou!F198=\"\",\"\",syoriyou!F198)","v":""},{"$f":"IF(syoriyou!G198=\"\",\"\",syoriyou!G198)","v":""},{"$f":"IF(syoriyou!H198=\"\",\"\",syoriyou!H198)","v":""},{"$f":"IF(syoriyou!I198=\"\",\"\",syoriyou!I198)","v":""},{"$f":"IF(syoriyou!J198=\"\",\"\",syoriyou!N198)","v":""}]
[{"$f":"IF(syoriyou!A199=\"\",\"\",syoriyou!A199)","v":""},{"$f":"IF(syoriyou!B199=\"\",\"\",syoriyou!B199)","v":""},{"$f":"IF(syoriyou!C199=\"\",\"\",syoriyou!C199)","v":""},{"$f":"IF(syoriyou!D199=\"\",\"\",syoriyou!D199)","v":""},{"$f":"IF(syoriyou!E199=\"\",\"\",syoriyou!E199)","v":""},{"$f":"IF(syoriyou!F199=\"\",\"\",syoriyou!F199)","v":""},{"$f":"IF(syoriyou!G199=\"\",\"\",syoriyou!G199)","v":""},{"$f":"IF(syoriyou!H199=\"\",\"\",syoriyou!H199)","v":""},{"$f":"IF(syoriyou!I199=\"\",\"\",syoriyou!I199)","v":""},{"$f":"IF(syoriyou!J199=\"\",\"\",syoriyou!N199)","v":""}]
[{"$f":"IF(syoriyou!A200=\"\",\"\",syoriyou!A200)","v":""},{"$f":"IF(syoriyou!B200=\"\",\"\",syoriyou!B200)","v":""},{"$f":"IF(syoriyou!C200=\"\",\"\",syoriyou!C200)","v":""},{"$f":"IF(syoriyou!D200=\"\",\"\",syoriyou!D200)","v":""},{"$f":"IF(syoriyou!E200=\"\",\"\",syoriyou!E200)","v":""},{"$f":"IF(syoriyou!F200=\"\",\"\",syoriyou!F200)","v":""},{"$f":"IF(syoriyou!G200=\"\",\"\",syoriyou!G200)","v":""},{"$f":"IF(syoriyou!H200=\"\",\"\",syoriyou!H200)","v":""},{"$f":"IF(syoriyou!I200=\"\",\"\",syoriyou!I200)","v":""},{"$f":"IF(syoriyou!J200=\"\",\"\",syoriyou!N200)","v":""}]
[{"$f":"IF(syoriyou!A201=\"\",\"\",syoriyou!A201)","v":""},{"$f":"IF(syoriyou!B201=\"\",\"\",syoriyou!B201)","v":""},{"$f":"IF(syoriyou!C201=\"\",\"\",syoriyou!C201)","v":""},{"$f":"IF(syoriyou!D201=\"\",\"\",syoriyou!D201)","v":""},{"$f":"IF(syoriyou!E201=\"\",\"\",syoriyou!E201)","v":""},{"$f":"IF(syoriyou!F201=\"\",\"\",syoriyou!F201)","v":""},{"$f":"IF(syoriyou!G201=\"\",\"\",syoriyou!G201)","v":""},{"$f":"IF(syoriyou!H201=\"\",\"\",syoriyou!H201)","v":""},{"$f":"IF(syoriyou!I201=\"\",\"\",syoriyou!I201)","v":""},{"$f":"IF(syoriyou!J201=\"\",\"\",syoriyou!N201)","v":""}]
[{"$f":"IF(syoriyou!A202=\"\",\"\",syoriyou!A202)","v":""},{"$f":"IF(syoriyou!B202=\"\",\"\",syoriyou!B202)","v":""},{"$f":"IF(syoriyou!C202=\"\",\"\",syoriyou!C202)","v":""},{"$f":"IF(syoriyou!D202=\"\",\"\",syoriyou!D202)","v":""},{"$f":"IF(syoriyou!E202=\"\",\"\",syoriyou!E202)","v":""},{"$f":"IF(syoriyou!F202=\"\",\"\",syoriyou!F202)","v":""},{"$f":"IF(syoriyou!G202=\"\",\"\",syoriyou!G202)","v":""},{"$f":"IF(syoriyou!H202=\"\",\"\",syoriyou!H202)","v":""},{"$f":"IF(syoriyou!I202=\"\",\"\",syoriyou!I202)","v":""},{"$f":"IF(syoriyou!J202=\"\",\"\",syoriyou!N202)","v":""}]
[{"$f":"IF(syoriyou!A203=\"\",\"\",syoriyou!A203)","v":""},{"$f":"IF(syoriyou!B203=\"\",\"\",syoriyou!B203)","v":""},{"$f":"IF(syoriyou!C203=\"\",\"\",syoriyou!C203)","v":""},{"$f":"IF(syoriyou!D203=\"\",\"\",syoriyou!D203)","v":""},{"$f":"IF(syoriyou!E203=\"\",\"\",syoriyou!E203)","v":""},{"$f":"IF(syoriyou!F203=\"\",\"\",syoriyou!F203)","v":""},{"$f":"IF(syoriyou!G203=\"\",\"\",syoriyou!G203)","v":""},{"$f":"IF(syoriyou!H203=\"\",\"\",syoriyou!H203)","v":""},{"$f":"IF(syoriyou!I203=\"\",\"\",syoriyou!I203)","v":""},{"$f":"IF(syoriyou!J203=\"\",\"\",syoriyou!N203)","v":""}]
[{"$f":"IF(syoriyou!A204=\"\",\"\",syoriyou!A204)","v":""},{"$f":"IF(syoriyou!B204=\"\",\"\",syoriyou!B204)","v":""},{"$f":"IF(syoriyou!C204=\"\",\"\",syoriyou!C204)","v":""},{"$f":"IF(syoriyou!D204=\"\",\"\",syoriyou!D204)","v":""},{"$f":"IF(syoriyou!E204=\"\",\"\",syoriyou!E204)","v":""},{"$f":"IF(syoriyou!F204=\"\",\"\",syoriyou!F204)","v":""},{"$f":"IF(syoriyou!G204=\"\",\"\",syoriyou!G204)","v":""},{"$f":"IF(syoriyou!H204=\"\",\"\",syoriyou!H204)","v":""},{"$f":"IF(syoriyou!I204=\"\",\"\",syoriyou!I204)","v":""},{"$f":"IF(syoriyou!J204=\"\",\"\",syoriyou!N204)","v":""}]
[{"$f":"IF(syoriyou!A205=\"\",\"\",syoriyou!A205)","v":""},{"$f":"IF(syoriyou!B205=\"\",\"\",syoriyou!B205)","v":""},{"$f":"IF(syoriyou!C205=\"\",\"\",syoriyou!C205)","v":""},{"$f":"IF(syoriyou!D205=\"\",\"\",syoriyou!D205)","v":""},{"$f":"IF(syoriyou!E205=\"\",\"\",syoriyou!E205)","v":""},{"$f":"IF(syoriyou!F205=\"\",\"\",syoriyou!F205)","v":""},{"$f":"IF(syoriyou!G205=\"\",\"\",syoriyou!G205)","v":""},{"$f":"IF(syoriyou!H205=\"\",\"\",syoriyou!H205)","v":""},{"$f":"IF(syoriyou!I205=\"\",\"\",syoriyou!I205)","v":""},{"$f":"IF(syoriyou!J205=\"\",\"\",syoriyou!N205)","v":""}]
[{"$f":"IF(syoriyou!A206=\"\",\"\",syoriyou!A206)","v":""},{"$f":"IF(syoriyou!B206=\"\",\"\",syoriyou!B206)","v":""},{"$f":"IF(syoriyou!C206=\"\",\"\",syoriyou!C206)","v":""},{"$f":"IF(syoriyou!D206=\"\",\"\",syoriyou!D206)","v":""},{"$f":"IF(syoriyou!E206=\"\",\"\",syoriyou!E206)","v":""},{"$f":"IF(syoriyou!F206=\"\",\"\",syoriyou!F206)","v":""},{"$f":"IF(syoriyou!G206=\"\",\"\",syoriyou!G206)","v":""},{"$f":"IF(syoriyou!H206=\"\",\"\",syoriyou!H206)","v":""},{"$f":"IF(syoriyou!I206=\"\",\"\",syoriyou!I206)","v":""},{"$f":"IF(syoriyou!J206=\"\",\"\",syoriyou!N206)","v":""}]
[{"$f":"IF(syoriyou!A207=\"\",\"\",syoriyou!A207)","v":""},{"$f":"IF(syoriyou!B207=\"\",\"\",syoriyou!B207)","v":""},{"$f":"IF(syoriyou!C207=\"\",\"\",syoriyou!C207)","v":""},{"$f":"IF(syoriyou!D207=\"\",\"\",syoriyou!D207)","v":""},{"$f":"IF(syoriyou!E207=\"\",\"\",syoriyou!E207)","v":""},{"$f":"IF(syoriyou!F207=\"\",\"\",syoriyou!F207)","v":""},{"$f":"IF(syoriyou!G207=\"\",\"\",syoriyou!G207)","v":""},{"$f":"IF(syoriyou!H207=\"\",\"\",syoriyou!H207)","v":""},{"$f":"IF(syoriyou!I207=\"\",\"\",syoriyou!I207)","v":""},{"$f":"IF(syoriyou!J207=\"\",\"\",syoriyou!N207)","v":""}]
[{"$f":"IF(syoriyou!A208=\"\",\"\",syoriyou!A208)","v":""},{"$f":"IF(syoriyou!B208=\"\",\"\",syoriyou!B208)","v":""},{"$f":"IF(syoriyou!C208=\"\",\"\",syoriyou!C208)","v":""},{"$f":"IF(syoriyou!D208=\"\",\"\",syoriyou!D208)","v":""},{"$f":"IF(syoriyou!E208=\"\",\"\",syoriyou!E208)","v":""},{"$f":"IF(syoriyou!F208=\"\",\"\",syoriyou!F208)","v":""},{"$f":"IF(syoriyou!G208=\"\",\"\",syoriyou!G208)","v":""},{"$f":"IF(syoriyou!H208=\"\",\"\",syoriyou!H208)","v":""},{"$f":"IF(syoriyou!I208=\"\",\"\",syoriyou!I208)","v":""},{"$f":"IF(syoriyou!J208=\"\",\"\",syoriyou!N208)","v":""}]
[{"$f":"IF(syoriyou!A209=\"\",\"\",syoriyou!A209)","v":""},{"$f":"IF(syoriyou!B209=\"\",\"\",syoriyou!B209)","v":""},{"$f":"IF(syoriyou!C209=\"\",\"\",syoriyou!C209)","v":""},{"$f":"IF(syoriyou!D209=\"\",\"\",syoriyou!D209)","v":""},{"$f":"IF(syoriyou!E209=\"\",\"\",syoriyou!E209)","v":""},{"$f":"IF(syoriyou!F209=\"\",\"\",syoriyou!F209)","v":""},{"$f":"IF(syoriyou!G209=\"\",\"\",syoriyou!G209)","v":""},{"$f":"IF(syoriyou!H209=\"\",\"\",syoriyou!H209)","v":""},{"$f":"IF(syoriyou!I209=\"\",\"\",syoriyou!I209)","v":""},{"$f":"IF(syoriyou!J209=\"\",\"\",syoriyou!N209)","v":""}]
[{"$f":"IF(syoriyou!A210=\"\",\"\",syoriyou!A210)","v":""},{"$f":"IF(syoriyou!B210=\"\",\"\",syoriyou!B210)","v":""},{"$f":"IF(syoriyou!C210=\"\",\"\",syoriyou!C210)","v":""},{"$f":"IF(syoriyou!D210=\"\",\"\",syoriyou!D210)","v":""},{"$f":"IF(syoriyou!E210=\"\",\"\",syoriyou!E210)","v":""},{"$f":"IF(syoriyou!F210=\"\",\"\",syoriyou!F210)","v":""},{"$f":"IF(syoriyou!G210=\"\",\"\",syoriyou!G210)","v":""},{"$f":"IF(syoriyou!H210=\"\",\"\",syoriyou!H210)","v":""},{"$f":"IF(syoriyou!I210=\"\",\"\",syoriyou!I210)","v":""},{"$f":"IF(syoriyou!J210=\"\",\"\",syoriyou!N210)","v":""}]
[{"$f":"IF(syoriyou!A211=\"\",\"\",syoriyou!A211)","v":""},{"$f":"IF(syoriyou!B211=\"\",\"\",syoriyou!B211)","v":""},{"$f":"IF(syoriyou!C211=\"\",\"\",syoriyou!C211)","v":""},{"$f":"IF(syoriyou!D211=\"\",\"\",syoriyou!D211)","v":""},{"$f":"IF(syoriyou!E211=\"\",\"\",syoriyou!E211)","v":""},{"$f":"IF(syoriyou!F211=\"\",\"\",syoriyou!F211)","v":""},{"$f":"IF(syoriyou!G211=\"\",\"\",syoriyou!G211)","v":""},{"$f":"IF(syoriyou!H211=\"\",\"\",syoriyou!H211)","v":""},{"$f":"IF(syoriyou!I211=\"\",\"\",syoriyou!I211)","v":""},{"$f":"IF(syoriyou!J211=\"\",\"\",syoriyou!N211)","v":""}]
[{"$f":"IF(syoriyou!A212=\"\",\"\",syoriyou!A212)","v":""},{"$f":"IF(syoriyou!B212=\"\",\"\",syoriyou!B212)","v":""},{"$f":"IF(syoriyou!C212=\"\",\"\",syoriyou!C212)","v":""},{"$f":"IF(syoriyou!D212=\"\",\"\",syoriyou!D212)","v":""},{"$f":"IF(syoriyou!E212=\"\",\"\",syoriyou!E212)","v":""},{"$f":"IF(syoriyou!F212=\"\",\"\",syoriyou!F212)","v":""},{"$f":"IF(syoriyou!G212=\"\",\"\",syoriyou!G212)","v":""},{"$f":"IF(syoriyou!H212=\"\",\"\",syoriyou!H212)","v":""},{"$f":"IF(syoriyou!I212=\"\",\"\",syoriyou!I212)","v":""},{"$f":"IF(syoriyou!J212=\"\",\"\",syoriyou!N212)","v":""}]
[{"$f":"IF(syoriyou!A213=\"\",\"\",syoriyou!A213)","v":""},{"$f":"IF(syoriyou!B213=\"\",\"\",syoriyou!B213)","v":""},{"$f":"IF(syoriyou!C213=\"\",\"\",syoriyou!C213)","v":""},{"$f":"IF(syoriyou!D213=\"\",\"\",syoriyou!D213)","v":""},{"$f":"IF(syoriyou!E213=\"\",\"\",syoriyou!E213)","v":""},{"$f":"IF(syoriyou!F213=\"\",\"\",syoriyou!F213)","v":""},{"$f":"IF(syoriyou!G213=\"\",\"\",syoriyou!G213)","v":""},{"$f":"IF(syoriyou!H213=\"\",\"\",syoriyou!H213)","v":""},{"$f":"IF(syoriyou!I213=\"\",\"\",syoriyou!I213)","v":""},{"$f":"IF(syoriyou!J213=\"\",\"\",syoriyou!N213)","v":""}]
[{"$f":"IF(syoriyou!A214=\"\",\"\",syoriyou!A214)","v":""},{"$f":"IF(syoriyou!B214=\"\",\"\",syoriyou!B214)","v":""},{"$f":"IF(syoriyou!C214=\"\",\"\",syoriyou!C214)","v":""},{"$f":"IF(syoriyou!D214=\"\",\"\",syoriyou!D214)","v":""},{"$f":"IF(syoriyou!E214=\"\",\"\",syoriyou!E214)","v":""},{"$f":"IF(syoriyou!F214=\"\",\"\",syoriyou!F214)","v":""},{"$f":"IF(syoriyou!G214=\"\",\"\",syoriyou!G214)","v":""},{"$f":"IF(syoriyou!H214=\"\",\"\",syoriyou!H214)","v":""},{"$f":"IF(syoriyou!I214=\"\",\"\",syoriyou!I214)","v":""},{"$f":"IF(syoriyou!J214=\"\",\"\",syoriyou!N214)","v":""}]
[{"$f":"IF(syoriyou!A215=\"\",\"\",syoriyou!A215)","v":""},{"$f":"IF(syoriyou!B215=\"\",\"\",syoriyou!B215)","v":""},{"$f":"IF(syoriyou!C215=\"\",\"\",syoriyou!C215)","v":""},{"$f":"IF(syoriyou!D215=\"\",\"\",syoriyou!D215)","v":""},{"$f":"IF(syoriyou!E215=\"\",\"\",syoriyou!E215)","v":""},{"$f":"IF(syoriyou!F215=\"\",\"\",syoriyou!F215)","v":""},{"$f":"IF(syoriyou!G215=\"\",\"\",syoriyou!G215)","v":""},{"$f":"IF(syoriyou!H215=\"\",\"\",syoriyou!H215)","v":""},{"$f":"IF(syoriyou!I215=\"\",\"\",syoriyou!I215)","v":""},{"$f":"IF(syoriyou!J215=\"\",\"\",syoriyou!N215)","v":""}]
[{"$f":"IF(syoriyou!A216=\"\",\"\",syoriyou!A216)","v":""},{"$f":"IF(syoriyou!B216=\"\",\"\",syoriyou!B216)","v":""},{"$f":"IF(syoriyou!C216=\"\",\"\",syoriyou!C216)","v":""},{"$f":"IF(syoriyou!D216=\"\",\"\",syoriyou!D216)","v":""},{"$f":"IF(syoriyou!E216=\"\",\"\",syoriyou!E216)","v":""},{"$f":"IF(syoriyou!F216=\"\",\"\",syoriyou!F216)","v":""},{"$f":"IF(syoriyou!G216=\"\",\"\",syoriyou!G216)","v":""},{"$f":"IF(syoriyou!H216=\"\",\"\",syoriyou!H216)","v":""},{"$f":"IF(syoriyou!I216=\"\",\"\",syoriyou!I216)","v":""},{"$f":"IF(syoriyou!J216=\"\",\"\",syoriyou!N216)","v":""}]
[{"$f":"IF(syoriyou!A217=\"\",\"\",syoriyou!A217)","v":""},{"$f":"IF(syoriyou!B217=\"\",\"\",syoriyou!B217)","v":""},{"$f":"IF(syoriyou!C217=\"\",\"\",syoriyou!C217)","v":""},{"$f":"IF(syoriyou!D217=\"\",\"\",syoriyou!D217)","v":""},{"$f":"IF(syoriyou!E217=\"\",\"\",syoriyou!E217)","v":""},{"$f":"IF(syoriyou!F217=\"\",\"\",syoriyou!F217)","v":""},{"$f":"IF(syoriyou!G217=\"\",\"\",syoriyou!G217)","v":""},{"$f":"IF(syoriyou!H217=\"\",\"\",syoriyou!H217)","v":""},{"$f":"IF(syoriyou!I217=\"\",\"\",syoriyou!I217)","v":""},{"$f":"IF(syoriyou!J217=\"\",\"\",syoriyou!N217)","v":""}]
[{"$f":"IF(syoriyou!A218=\"\",\"\",syoriyou!A218)","v":""},{"$f":"IF(syoriyou!B218=\"\",\"\",syoriyou!B218)","v":""},{"$f":"IF(syoriyou!C218=\"\",\"\",syoriyou!C218)","v":""},{"$f":"IF(syoriyou!D218=\"\",\"\",syoriyou!D218)","v":""},{"$f":"IF(syoriyou!E218=\"\",\"\",syoriyou!E218)","v":""},{"$f":"IF(syoriyou!F218=\"\",\"\",syoriyou!F218)","v":""},{"$f":"IF(syoriyou!G218=\"\",\"\",syoriyou!G218)","v":""},{"$f":"IF(syoriyou!H218=\"\",\"\",syoriyou!H218)","v":""},{"$f":"IF(syoriyou!I218=\"\",\"\",syoriyou!I218)","v":""},{"$f":"IF(syoriyou!J218=\"\",\"\",syoriyou!N218)","v":""}]
[{"$f":"IF(syoriyou!A219=\"\",\"\",syoriyou!A219)","v":""},{"$f":"IF(syoriyou!B219=\"\",\"\",syoriyou!B219)","v":""},{"$f":"IF(syoriyou!C219=\"\",\"\",syoriyou!C219)","v":""},{"$f":"IF(syoriyou!D219=\"\",\"\",syoriyou!D219)","v":""},{"$f":"IF(syoriyou!E219=\"\",\"\",syoriyou!E219)","v":""},{"$f":"IF(syoriyou!F219=\"\",\"\",syoriyou!F219)","v":""},{"$f":"IF(syoriyou!G219=\"\",\"\",syoriyou!G219)","v":""},{"$f":"IF(syoriyou!H219=\"\",\"\",syoriyou!H219)","v":""},{"$f":"IF(syoriyou!I219=\"\",\"\",syoriyou!I219)","v":""},{"$f":"IF(syoriyou!J219=\"\",\"\",syoriyou!N219)","v":""}]
[{"$f":"IF(syoriyou!A220=\"\",\"\",syoriyou!A220)","v":""},{"$f":"IF(syoriyou!B220=\"\",\"\",syoriyou!B220)","v":""},{"$f":"IF(syoriyou!C220=\"\",\"\",syoriyou!C220)","v":""},{"$f":"IF(syoriyou!D220=\"\",\"\",syoriyou!D220)","v":""},{"$f":"IF(syoriyou!E220=\"\",\"\",syoriyou!E220)","v":""},{"$f":"IF(syoriyou!F220=\"\",\"\",syoriyou!F220)","v":""},{"$f":"IF(syoriyou!G220=\"\",\"\",syoriyou!G220)","v":""},{"$f":"IF(syoriyou!H220=\"\",\"\",syoriyou!H220)","v":""},{"$f":"IF(syoriyou!I220=\"\",\"\",syoriyou!I220)","v":""},{"$f":"IF(syoriyou!J220=\"\",\"\",syoriyou!N220)","v":""}]
[{"$f":"IF(syoriyou!A221=\"\",\"\",syoriyou!A221)","v":""},{"$f":"IF(syoriyou!B221=\"\",\"\",syoriyou!B221)","v":""},{"$f":"IF(syoriyou!C221=\"\",\"\",syoriyou!C221)","v":""},{"$f":"IF(syoriyou!D221=\"\",\"\",syoriyou!D221)","v":""},{"$f":"IF(syoriyou!E221=\"\",\"\",syoriyou!E221)","v":""},{"$f":"IF(syoriyou!F221=\"\",\"\",syoriyou!F221)","v":""},{"$f":"IF(syoriyou!G221=\"\",\"\",syoriyou!G221)","v":""},{"$f":"IF(syoriyou!H221=\"\",\"\",syoriyou!H221)","v":""},{"$f":"IF(syoriyou!I221=\"\",\"\",syoriyou!I221)","v":""},{"$f":"IF(syoriyou!J221=\"\",\"\",syoriyou!N221)","v":""}]
[{"$f":"IF(syoriyou!A222=\"\",\"\",syoriyou!A222)","v":""},{"$f":"IF(syoriyou!B222=\"\",\"\",syoriyou!B222)","v":""},{"$f":"IF(syoriyou!C222=\"\",\"\",syoriyou!C222)","v":""},{"$f":"IF(syoriyou!D222=\"\",\"\",syoriyou!D222)","v":""},{"$f":"IF(syoriyou!E222=\"\",\"\",syoriyou!E222)","v":""},{"$f":"IF(syoriyou!F222=\"\",\"\",syoriyou!F222)","v":""},{"$f":"IF(syoriyou!G222=\"\",\"\",syoriyou!G222)","v":""},{"$f":"IF(syoriyou!H222=\"\",\"\",syoriyou!H222)","v":""},{"$f":"IF(syoriyou!I222=\"\",\"\",syoriyou!I222)","v":""},{"$f":"IF(syoriyou!J222=\"\",\"\",syoriyou!N222)","v":""}]
[{"$f":"IF(syoriyou!A223=\"\",\"\",syoriyou!A223)","v":""},{"$f":"IF(syoriyou!B223=\"\",\"\",syoriyou!B223)","v":""},{"$f":"IF(syoriyou!C223=\"\",\"\",syoriyou!C223)","v":""},{"$f":"IF(syoriyou!D223=\"\",\"\",syoriyou!D223)","v":""},{"$f":"IF(syoriyou!E223=\"\",\"\",syoriyou!E223)","v":""},{"$f":"IF(syoriyou!F223=\"\",\"\",syoriyou!F223)","v":""},{"$f":"IF(syoriyou!G223=\"\",\"\",syoriyou!G223)","v":""},{"$f":"IF(syoriyou!H223=\"\",\"\",syoriyou!H223)","v":""},{"$f":"IF(syoriyou!I223=\"\",\"\",syoriyou!I223)","v":""},{"$f":"IF(syoriyou!J223=\"\",\"\",syoriyou!N223)","v":""}]
[{"$f":"IF(syoriyou!A224=\"\",\"\",syoriyou!A224)","v":""},{"$f":"IF(syoriyou!B224=\"\",\"\",syoriyou!B224)","v":""},{"$f":"IF(syoriyou!C224=\"\",\"\",syoriyou!C224)","v":""},{"$f":"IF(syoriyou!D224=\"\",\"\",syoriyou!D224)","v":""},{"$f":"IF(syoriyou!E224=\"\",\"\",syoriyou!E224)","v":""},{"$f":"IF(syoriyou!F224=\"\",\"\",syoriyou!F224)","v":""},{"$f":"IF(syoriyou!G224=\"\",\"\",syoriyou!G224)","v":""},{"$f":"IF(syoriyou!H224=\"\",\"\",syoriyou!H224)","v":""},{"$f":"IF(syoriyou!I224=\"\",\"\",syoriyou!I224)","v":""},{"$f":"IF(syoriyou!J224=\"\",\"\",syoriyou!N224)","v":""}]
[{"$f":"IF(syoriyou!A225=\"\",\"\",syoriyou!A225)","v":""},{"$f":"IF(syoriyou!B225=\"\",\"\",syoriyou!B225)","v":""},{"$f":"IF(syoriyou!C225=\"\",\"\",syoriyou!C225)","v":""},{"$f":"IF(syoriyou!D225=\"\",\"\",syoriyou!D225)","v":""},{"$f":"IF(syoriyou!E225=\"\",\"\",syoriyou!E225)","v":""},{"$f":"IF(syoriyou!F225=\"\",\"\",syoriyou!F225)","v":""},{"$f":"IF(syoriyou!G225=\"\",\"\",syoriyou!G225)","v":""},{"$f":"IF(syoriyou!H225=\"\",\"\",syoriyou!H225)","v":""},{"$f":"IF(syoriyou!I225=\"\",\"\",syoriyou!I225)","v":""},{"$f":"IF(syoriyou!J225=\"\",\"\",syoriyou!N225)","v":""}]
[{"$f":"IF(syoriyou!A226=\"\",\"\",syoriyou!A226)","v":""},{"$f":"IF(syoriyou!B226=\"\",\"\",syoriyou!B226)","v":""},{"$f":"IF(syoriyou!C226=\"\",\"\",syoriyou!C226)","v":""},{"$f":"IF(syoriyou!D226=\"\",\"\",syoriyou!D226)","v":""},{"$f":"IF(syoriyou!E226=\"\",\"\",syoriyou!E226)","v":""},{"$f":"IF(syoriyou!F226=\"\",\"\",syoriyou!F226)","v":""},{"$f":"IF(syoriyou!G226=\"\",\"\",syoriyou!G226)","v":""},{"$f":"IF(syoriyou!H226=\"\",\"\",syoriyou!H226)","v":""},{"$f":"IF(syoriyou!I226=\"\",\"\",syoriyou!I226)","v":""},{"$f":"IF(syoriyou!J226=\"\",\"\",syoriyou!N226)","v":""}]
[{"$f":"IF(syoriyou!A227=\"\",\"\",syoriyou!A227)","v":""},{"$f":"IF(syoriyou!B227=\"\",\"\",syoriyou!B227)","v":""},{"$f":"IF(syoriyou!C227=\"\",\"\",syoriyou!C227)","v":""},{"$f":"IF(syoriyou!D227=\"\",\"\",syoriyou!D227)","v":""},{"$f":"IF(syoriyou!E227=\"\",\"\",syoriyou!E227)","v":""},{"$f":"IF(syoriyou!F227=\"\",\"\",syoriyou!F227)","v":""},{"$f":"IF(syoriyou!G227=\"\",\"\",syoriyou!G227)","v":""},{"$f":"IF(syoriyou!H227=\"\",\"\",syoriyou!H227)","v":""},{"$f":"IF(syoriyou!I227=\"\",\"\",syoriyou!I227)","v":""},{"$f":"IF(syoriyou!J227=\"\",\"\",syoriyou!N227)","v":""}]
[{"$f":"IF(syoriyou!A228=\"\",\"\",syoriyou!A228)","v":""},{"$f":"IF(syoriyou!B228=\"\",\"\",syoriyou!B228)","v":""},{"$f":"IF(syoriyou!C228=\"\",\"\",syoriyou!C228)","v":""},{"$f":"IF(syoriyou!D228=\"\",\"\",syoriyou!D228)","v":""},{"$f":"IF(syoriyou!E228=\"\",\"\",syoriyou!E228)","v":""},{"$f":"IF(syoriyou!F228=\"\",\"\",syoriyou!F228)","v":""},{"$f":"IF(syoriyou!G228=\"\",\"\",syoriyou!G228)","v":""},{"$f":"IF(syoriyou!H228=\"\",\"\",syoriyou!H228)","v":""},{"$f":"IF(syoriyou!I228=\"\",\"\",syoriyou!I228)","v":""},{"$f":"IF(syoriyou!J228=\"\",\"\",syoriyou!N228)","v":""}]
[{"$f":"IF(syoriyou!A229=\"\",\"\",syoriyou!A229)","v":""},{"$f":"IF(syoriyou!B229=\"\",\"\",syoriyou!B229)","v":""},{"$f":"IF(syoriyou!C229=\"\",\"\",syoriyou!C229)","v":""},{"$f":"IF(syoriyou!D229=\"\",\"\",syoriyou!D229)","v":""},{"$f":"IF(syoriyou!E229=\"\",\"\",syoriyou!E229)","v":""},{"$f":"IF(syoriyou!F229=\"\",\"\",syoriyou!F229)","v":""},{"$f":"IF(syoriyou!G229=\"\",\"\",syoriyou!G229)","v":""},{"$f":"IF(syoriyou!H229=\"\",\"\",syoriyou!H229)","v":""},{"$f":"IF(syoriyou!I229=\"\",\"\",syoriyou!I229)","v":""},{"$f":"IF(syoriyou!J229=\"\",\"\",syoriyou!N229)","v":""}]
[{"$f":"IF(syoriyou!A230=\"\",\"\",syoriyou!A230)","v":""},{"$f":"IF(syoriyou!B230=\"\",\"\",syoriyou!B230)","v":""},{"$f":"IF(syoriyou!C230=\"\",\"\",syoriyou!C230)","v":""},{"$f":"IF(syoriyou!D230=\"\",\"\",syoriyou!D230)","v":""},{"$f":"IF(syoriyou!E230=\"\",\"\",syoriyou!E230)","v":""},{"$f":"IF(syoriyou!F230=\"\",\"\",syoriyou!F230)","v":""},{"$f":"IF(syoriyou!G230=\"\",\"\",syoriyou!G230)","v":""},{"$f":"IF(syoriyou!H230=\"\",\"\",syoriyou!H230)","v":""},{"$f":"IF(syoriyou!I230=\"\",\"\",syoriyou!I230)","v":""},{"$f":"IF(syoriyou!J230=\"\",\"\",syoriyou!N230)","v":""}]
[{"$f":"IF(syoriyou!A231=\"\",\"\",syoriyou!A231)","v":""},{"$f":"IF(syoriyou!B231=\"\",\"\",syoriyou!B231)","v":""},{"$f":"IF(syoriyou!C231=\"\",\"\",syoriyou!C231)","v":""},{"$f":"IF(syoriyou!D231=\"\",\"\",syoriyou!D231)","v":""},{"$f":"IF(syoriyou!E231=\"\",\"\",syoriyou!E231)","v":""},{"$f":"IF(syoriyou!F231=\"\",\"\",syoriyou!F231)","v":""},{"$f":"IF(syoriyou!G231=\"\",\"\",syoriyou!G231)","v":""},{"$f":"IF(syoriyou!H231=\"\",\"\",syoriyou!H231)","v":""},{"$f":"IF(syoriyou!I231=\"\",\"\",syoriyou!I231)","v":""},{"$f":"IF(syoriyou!J231=\"\",\"\",syoriyou!N231)","v":""}]
[{"$f":"IF(syoriyou!A232=\"\",\"\",syoriyou!A232)","v":""},{"$f":"IF(syoriyou!B232=\"\",\"\",syoriyou!B232)","v":""},{"$f":"IF(syoriyou!C232=\"\",\"\",syoriyou!C232)","v":""},{"$f":"IF(syoriyou!D232=\"\",\"\",syoriyou!D232)","v":""},{"$f":"IF(syoriyou!E232=\"\",\"\",syoriyou!E232)","v":""},{"$f":"IF(syoriyou!F232=\"\",\"\",syoriyou!F232)","v":""},{"$f":"IF(syoriyou!G232=\"\",\"\",syoriyou!G232)","v":""},{"$f":"IF(syoriyou!H232=\"\",\"\",syoriyou!H232)","v":""},{"$f":"IF(syoriyou!I232=\"\",\"\",syoriyou!I232)","v":""},{"$f":"IF(syoriyou!J232=\"\",\"\",syoriyou!N232)","v":""}]
[{"$f":"IF(syoriyou!A233=\"\",\"\",syoriyou!A233)","v":""},{"$f":"IF(syoriyou!B233=\"\",\"\",syoriyou!B233)","v":""},{"$f":"IF(syoriyou!C233=\"\",\"\",syoriyou!C233)","v":""},{"$f":"IF(syoriyou!D233=\"\",\"\",syoriyou!D233)","v":""},{"$f":"IF(syoriyou!E233=\"\",\"\",syoriyou!E233)","v":""},{"$f":"IF(syoriyou!F233=\"\",\"\",syoriyou!F233)","v":""},{"$f":"IF(syoriyou!G233=\"\",\"\",syoriyou!G233)","v":""},{"$f":"IF(syoriyou!H233=\"\",\"\",syoriyou!H233)","v":""},{"$f":"IF(syoriyou!I233=\"\",\"\",syoriyou!I233)","v":""},{"$f":"IF(syoriyou!J233=\"\",\"\",syoriyou!N233)","v":""}]
[{"$f":"IF(syoriyou!A234=\"\",\"\",syoriyou!A234)","v":""},{"$f":"IF(syoriyou!B234=\"\",\"\",syoriyou!B234)","v":""},{"$f":"IF(syoriyou!C234=\"\",\"\",syoriyou!C234)","v":""},{"$f":"IF(syoriyou!D234=\"\",\"\",syoriyou!D234)","v":""},{"$f":"IF(syoriyou!E234=\"\",\"\",syoriyou!E234)","v":""},{"$f":"IF(syoriyou!F234=\"\",\"\",syoriyou!F234)","v":""},{"$f":"IF(syoriyou!G234=\"\",\"\",syoriyou!G234)","v":""},{"$f":"IF(syoriyou!H234=\"\",\"\",syoriyou!H234)","v":""},{"$f":"IF(syoriyou!I234=\"\",\"\",syoriyou!I234)","v":""},{"$f":"IF(syoriyou!J234=\"\",\"\",syoriyou!N234)","v":""}]
[{"$f":"IF(syoriyou!A235=\"\",\"\",syoriyou!A235)","v":""},{"$f":"IF(syoriyou!B235=\"\",\"\",syoriyou!B235)","v":""},{"$f":"IF(syoriyou!C235=\"\",\"\",syoriyou!C235)","v":""},{"$f":"IF(syoriyou!D235=\"\",\"\",syoriyou!D235)","v":""},{"$f":"IF(syoriyou!E235=\"\",\"\",syoriyou!E235)","v":""},{"$f":"IF(syoriyou!F235=\"\",\"\",syoriyou!F235)","v":""},{"$f":"IF(syoriyou!G235=\"\",\"\",syoriyou!G235)","v":""},{"$f":"IF(syoriyou!H235=\"\",\"\",syoriyou!H235)","v":""},{"$f":"IF(syoriyou!I235=\"\",\"\",syoriyou!I235)","v":""},{"$f":"IF(syoriyou!J235=\"\",\"\",syoriyou!N235)","v":""}]
[{"$f":"IF(syoriyou!A236=\"\",\"\",syoriyou!A236)","v":""},{"$f":"IF(syoriyou!B236=\"\",\"\",syoriyou!B236)","v":""},{"$f":"IF(syoriyou!C236=\"\",\"\",syoriyou!C236)","v":""},{"$f":"IF(syoriyou!D236=\"\",\"\",syoriyou!D236)","v":""},{"$f":"IF(syoriyou!E236=\"\",\"\",syoriyou!E236)","v":""},{"$f":"IF(syoriyou!F236=\"\",\"\",syoriyou!F236)","v":""},{"$f":"IF(syoriyou!G236=\"\",\"\",syoriyou!G236)","v":""},{"$f":"IF(syoriyou!H236=\"\",\"\",syoriyou!H236)","v":""},{"$f":"IF(syoriyou!I236=\"\",\"\",syoriyou!I236)","v":""},{"$f":"IF(syoriyou!J236=\"\",\"\",syoriyou!N236)","v":""}]
[{"$f":"IF(syoriyou!A237=\"\",\"\",syoriyou!A237)","v":""},{"$f":"IF(syoriyou!B237=\"\",\"\",syoriyou!B237)","v":""},{"$f":"IF(syoriyou!C237=\"\",\"\",syoriyou!C237)","v":""},{"$f":"IF(syoriyou!D237=\"\",\"\",syoriyou!D237)","v":""},{"$f":"IF(syoriyou!E237=\"\",\"\",syoriyou!E237)","v":""},{"$f":"IF(syoriyou!F237=\"\",\"\",syoriyou!F237)","v":""},{"$f":"IF(syoriyou!G237=\"\",\"\",syoriyou!G237)","v":""},{"$f":"IF(syoriyou!H237=\"\",\"\",syoriyou!H237)","v":""},{"$f":"IF(syoriyou!I237=\"\",\"\",syoriyou!I237)","v":""},{"$f":"IF(syoriyou!J237=\"\",\"\",syoriyou!N237)","v":""}]
[{"$f":"IF(syoriyou!A238=\"\",\"\",syoriyou!A238)","v":""},{"$f":"IF(syoriyou!B238=\"\",\"\",syoriyou!B238)","v":""},{"$f":"IF(syoriyou!C238=\"\",\"\",syoriyou!C238)","v":""},{"$f":"IF(syoriyou!D238=\"\",\"\",syoriyou!D238)","v":""},{"$f":"IF(syoriyou!E238=\"\",\"\",syoriyou!E238)","v":""},{"$f":"IF(syoriyou!F238=\"\",\"\",syoriyou!F238)","v":""},{"$f":"IF(syoriyou!G238=\"\",\"\",syoriyou!G238)","v":""},{"$f":"IF(syoriyou!H238=\"\",\"\",syoriyou!H238)","v":""},{"$f":"IF(syoriyou!I238=\"\",\"\",syoriyou!I238)","v":""},{"$f":"IF(syoriyou!J238=\"\",\"\",syoriyou!N238)","v":""}]
[{"$f":"IF(syoriyou!A239=\"\",\"\",syoriyou!A239)","v":""},{"$f":"IF(syoriyou!B239=\"\",\"\",syoriyou!B239)","v":""},{"$f":"IF(syoriyou!C239=\"\",\"\",syoriyou!C239)","v":""},{"$f":"IF(syoriyou!D239=\"\",\"\",syoriyou!D239)","v":""},{"$f":"IF(syoriyou!E239=\"\",\"\",syoriyou!E239)","v":""},{"$f":"IF(syoriyou!F239=\"\",\"\",syoriyou!F239)","v":""},{"$f":"IF(syoriyou!G239=\"\",\"\",syoriyou!G239)","v":""},{"$f":"IF(syoriyou!H239=\"\",\"\",syoriyou!H239)","v":""},{"$f":"IF(syoriyou!I239=\"\",\"\",syoriyou!I239)","v":""},{"$f":"IF(syoriyou!J239=\"\",\"\",syoriyou!N239)","v":""}]
[{"$f":"IF(syoriyou!A240=\"\",\"\",syoriyou!A240)","v":""},{"$f":"IF(syoriyou!B240=\"\",\"\",syoriyou!B240)","v":""},{"$f":"IF(syoriyou!C240=\"\",\"\",syoriyou!C240)","v":""},{"$f":"IF(syoriyou!D240=\"\",\"\",syoriyou!D240)","v":""},{"$f":"IF(syoriyou!E240=\"\",\"\",syoriyou!E240)","v":""},{"$f":"IF(syoriyou!F240=\"\",\"\",syoriyou!F240)","v":""},{"$f":"IF(syoriyou!G240=\"\",\"\",syoriyou!G240)","v":""},{"$f":"IF(syoriyou!H240=\"\",\"\",syoriyou!H240)","v":""},{"$f":"IF(syoriyou!I240=\"\",\"\",syoriyou!I240)","v":""},{"$f":"IF(syoriyou!J240=\"\",\"\",syoriyou!N240)","v":""}]
[{"$f":"IF(syoriyou!A241=\"\",\"\",syoriyou!A241)","v":""},{"$f":"IF(syoriyou!B241=\"\",\"\",syoriyou!B241)","v":""},{"$f":"IF(syoriyou!C241=\"\",\"\",syoriyou!C241)","v":""},{"$f":"IF(syoriyou!D241=\"\",\"\",syoriyou!D241)","v":""},{"$f":"IF(syoriyou!E241=\"\",\"\",syoriyou!E241)","v":""},{"$f":"IF(syoriyou!F241=\"\",\"\",syoriyou!F241)","v":""},{"$f":"IF(syoriyou!G241=\"\",\"\",syoriyou!G241)","v":""},{"$f":"IF(syoriyou!H241=\"\",\"\",syoriyou!H241)","v":""},{"$f":"IF(syoriyou!I241=\"\",\"\",syoriyou!I241)","v":""},{"$f":"IF(syoriyou!J241=\"\",\"\",syoriyou!N241)","v":""}]
[{"$f":"IF(syoriyou!A242=\"\",\"\",syoriyou!A242)","v":""},{"$f":"IF(syoriyou!B242=\"\",\"\",syoriyou!B242)","v":""},{"$f":"IF(syoriyou!C242=\"\",\"\",syoriyou!C242)","v":""},{"$f":"IF(syoriyou!D242=\"\",\"\",syoriyou!D242)","v":""},{"$f":"IF(syoriyou!E242=\"\",\"\",syoriyou!E242)","v":""},{"$f":"IF(syoriyou!F242=\"\",\"\",syoriyou!F242)","v":""},{"$f":"IF(syoriyou!G242=\"\",\"\",syoriyou!G242)","v":""},{"$f":"IF(syoriyou!H242=\"\",\"\",syoriyou!H242)","v":""},{"$f":"IF(syoriyou!I242=\"\",\"\",syoriyou!I242)","v":""},{"$f":"IF(syoriyou!J242=\"\",\"\",syoriyou!N242)","v":""}]
[{"$f":"IF(syoriyou!A243=\"\",\"\",syoriyou!A243)","v":""},{"$f":"IF(syoriyou!B243=\"\",\"\",syoriyou!B243)","v":""},{"$f":"IF(syoriyou!C243=\"\",\"\",syoriyou!C243)","v":""},{"$f":"IF(syoriyou!D243=\"\",\"\",syoriyou!D243)","v":""},{"$f":"IF(syoriyou!E243=\"\",\"\",syoriyou!E243)","v":""},{"$f":"IF(syoriyou!F243=\"\",\"\",syoriyou!F243)","v":""},{"$f":"IF(syoriyou!G243=\"\",\"\",syoriyou!G243)","v":""},{"$f":"IF(syoriyou!H243=\"\",\"\",syoriyou!H243)","v":""},{"$f":"IF(syoriyou!I243=\"\",\"\",syoriyou!I243)","v":""},{"$f":"IF(syoriyou!J243=\"\",\"\",syoriyou!N243)","v":""}]
[{"$f":"IF(syoriyou!A244=\"\",\"\",syoriyou!A244)","v":""},{"$f":"IF(syoriyou!B244=\"\",\"\",syoriyou!B244)","v":""},{"$f":"IF(syoriyou!C244=\"\",\"\",syoriyou!C244)","v":""},{"$f":"IF(syoriyou!D244=\"\",\"\",syoriyou!D244)","v":""},{"$f":"IF(syoriyou!E244=\"\",\"\",syoriyou!E244)","v":""},{"$f":"IF(syoriyou!F244=\"\",\"\",syoriyou!F244)","v":""},{"$f":"IF(syoriyou!G244=\"\",\"\",syoriyou!G244)","v":""},{"$f":"IF(syoriyou!H244=\"\",\"\",syoriyou!H244)","v":""},{"$f":"IF(syoriyou!I244=\"\",\"\",syoriyou!I244)","v":""},{"$f":"IF(syoriyou!J244=\"\",\"\",syoriyou!N244)","v":""}]
[{"$f":"IF(syoriyou!A245=\"\",\"\",syoriyou!A245)","v":""},{"$f":"IF(syoriyou!B245=\"\",\"\",syoriyou!B245)","v":""},{"$f":"IF(syoriyou!C245=\"\",\"\",syoriyou!C245)","v":""},{"$f":"IF(syoriyou!D245=\"\",\"\",syoriyou!D245)","v":""},{"$f":"IF(syoriyou!E245=\"\",\"\",syoriyou!E245)","v":""},{"$f":"IF(syoriyou!F245=\"\",\"\",syoriyou!F245)","v":""},{"$f":"IF(syoriyou!G245=\"\",\"\",syoriyou!G245)","v":""},{"$f":"IF(syoriyou!H245=\"\",\"\",syoriyou!H245)","v":""},{"$f":"IF(syoriyou!I245=\"\",\"\",syoriyou!I245)","v":""},{"$f":"IF(syoriyou!J245=\"\",\"\",syoriyou!N245)","v":""}]
[{"$f":"IF(syoriyou!A246=\"\",\"\",syoriyou!A246)","v":""},{"$f":"IF(syoriyou!B246=\"\",\"\",syoriyou!B246)","v":""},{"$f":"IF(syoriyou!C246=\"\",\"\",syoriyou!C246)","v":""},{"$f":"IF(syoriyou!D246=\"\",\"\",syoriyou!D246)","v":""},{"$f":"IF(syoriyou!E246=\"\",\"\",syoriyou!E246)","v":""},{"$f":"IF(syoriyou!F246=\"\",\"\",syoriyou!F246)","v":""},{"$f":"IF(syoriyou!G246=\"\",\"\",syoriyou!G246)","v":""},{"$f":"IF(syoriyou!H246=\"\",\"\",syoriyou!H246)","v":""},{"$f":"IF(syoriyou!I246=\"\",\"\",syoriyou!I246)","v":""},{"$f":"IF(syoriyou!J246=\"\",\"\",syoriyou!N246)","v":""}]
[{"$f":"IF(syoriyou!A247=\"\",\"\",syoriyou!A247)","v":""},{"$f":"IF(syoriyou!B247=\"\",\"\",syoriyou!B247)","v":""},{"$f":"IF(syoriyou!C247=\"\",\"\",syoriyou!C247)","v":""},{"$f":"IF(syoriyou!D247=\"\",\"\",syoriyou!D247)","v":""},{"$f":"IF(syoriyou!E247=\"\",\"\",syoriyou!E247)","v":""},{"$f":"IF(syoriyou!F247=\"\",\"\",syoriyou!F247)","v":""},{"$f":"IF(syoriyou!G247=\"\",\"\",syoriyou!G247)","v":""},{"$f":"IF(syoriyou!H247=\"\",\"\",syoriyou!H247)","v":""},{"$f":"IF(syoriyou!I247=\"\",\"\",syoriyou!I247)","v":""},{"$f":"IF(syoriyou!J247=\"\",\"\",syoriyou!N247)","v":""}]
[{"$f":"IF(syoriyou!A248=\"\",\"\",syoriyou!A248)","v":""},{"$f":"IF(syoriyou!B248=\"\",\"\",syoriyou!B248)","v":""},{"$f":"IF(syoriyou!C248=\"\",\"\",syoriyou!C248)","v":""},{"$f":"IF(syoriyou!D248=\"\",\"\",syoriyou!D248)","v":""},{"$f":"IF(syoriyou!E248=\"\",\"\",syoriyou!E248)","v":""},{"$f":"IF(syoriyou!F248=\"\",\"\",syoriyou!F248)","v":""},{"$f":"IF(syoriyou!G248=\"\",\"\",syoriyou!G248)","v":""},{"$f":"IF(syoriyou!H248=\"\",\"\",syoriyou!H248)","v":""},{"$f":"IF(syoriyou!I248=\"\",\"\",syoriyou!I248)","v":""},{"$f":"IF(syoriyou!J248=\"\",\"\",syoriyou!N248)","v":""}]
[{"$f":"IF(syoriyou!A249=\"\",\"\",syoriyou!A249)","v":""},{"$f":"IF(syoriyou!B249=\"\",\"\",syoriyou!B249)","v":""},{"$f":"IF(syoriyou!C249=\"\",\"\",syoriyou!C249)","v":""},{"$f":"IF(syoriyou!D249=\"\",\"\",syoriyou!D249)","v":""},{"$f":"IF(syoriyou!E249=\"\",\"\",syoriyou!E249)","v":""},{"$f":"IF(syoriyou!F249=\"\",\"\",syoriyou!F249)","v":""},{"$f":"IF(syoriyou!G249=\"\",\"\",syoriyou!G249)","v":""},{"$f":"IF(syoriyou!H249=\"\",\"\",syoriyou!H249)","v":""},{"$f":"IF(syoriyou!I249=\"\",\"\",syoriyou!I249)","v":""},{"$f":"IF(syoriyou!J249=\"\",\"\",syoriyou!N249)","v":""}]
[{"$f":"IF(syoriyou!A250=\"\",\"\",syoriyou!A250)","v":""},{"$f":"IF(syoriyou!B250=\"\",\"\",syoriyou!B250)","v":""},{"$f":"IF(syoriyou!C250=\"\",\"\",syoriyou!C250)","v":""},{"$f":"IF(syoriyou!D250=\"\",\"\",syoriyou!D250)","v":""},{"$f":"IF(syoriyou!E250=\"\",\"\",syoriyou!E250)","v":""},{"$f":"IF(syoriyou!F250=\"\",\"\",syoriyou!F250)","v":""},{"$f":"IF(syoriyou!G250=\"\",\"\",syoriyou!G250)","v":""},{"$f":"IF(syoriyou!H250=\"\",\"\",syoriyou!H250)","v":""},{"$f":"IF(syoriyou!I250=\"\",\"\",syoriyou!I250)","v":""},{"$f":"IF(syoriyou!J250=\"\",\"\",syoriyou!N250)","v":""}]
[{"$f":"IF(syoriyou!A251=\"\",\"\",syoriyou!A251)","v":""},{"$f":"IF(syoriyou!B251=\"\",\"\",syoriyou!B251)","v":""},{"$f":"IF(syoriyou!C251=\"\",\"\",syoriyou!C251)","v":""},{"$f":"IF(syoriyou!D251=\"\",\"\",syoriyou!D251)","v":""},{"$f":"IF(syoriyou!E251=\"\",\"\",syoriyou!E251)","v":""},{"$f":"IF(syoriyou!F251=\"\",\"\",syoriyou!F251)","v":""},{"$f":"IF(syoriyou!G251=\"\",\"\",syoriyou!G251)","v":""},{"$f":"IF(syoriyou!H251=\"\",\"\",syoriyou!H251)","v":""},{"$f":"IF(syoriyou!I251=\"\",\"\",syoriyou!I251)","v":""},{"$f":"IF(syoriyou!J251=\"\",\"\",syoriyou!N251)","v":""}]
[{"$f":"IF(syoriyou!A252=\"\",\"\",syoriyou!A252)","v":""},{"$f":"IF(syoriyou!B252=\"\",\"\",syoriyou!B252)","v":""},{"$f":"IF(syoriyou!C252=\"\",\"\",syoriyou!C252)","v":""},{"$f":"IF(syoriyou!D252=\"\",\"\",syoriyou!D252)","v":""},{"$f":"IF(syoriyou!E252=\"\",\"\",syoriyou!E252)","v":""},{"$f":"IF(syoriyou!F252=\"\",\"\",syoriyou!F252)","v":""},{"$f":"IF(syoriyou!G252=\"\",\"\",syoriyou!G252)","v":""},{"$f":"IF(syoriyou!H252=\"\",\"\",syoriyou!H252)","v":""},{"$f":"IF(syoriyou!I252=\"\",\"\",syoriyou!I252)","v":""},{"$f":"IF(syoriyou!J252=\"\",\"\",syoriyou!N252)","v":""}]
[{"$f":"IF(syoriyou!A253=\"\",\"\",syoriyou!A253)","v":""},{"$f":"IF(syoriyou!B253=\"\",\"\",syoriyou!B253)","v":""},{"$f":"IF(syoriyou!C253=\"\",\"\",syoriyou!C253)","v":""},{"$f":"IF(syoriyou!D253=\"\",\"\",syoriyou!D253)","v":""},{"$f":"IF(syoriyou!E253=\"\",\"\",syoriyou!E253)","v":""},{"$f":"IF(syoriyou!F253=\"\",\"\",syoriyou!F253)","v":""},{"$f":"IF(syoriyou!G253=\"\",\"\",syoriyou!G253)","v":""},{"$f":"IF(syoriyou!H253=\"\",\"\",syoriyou!H253)","v":""},{"$f":"IF(syoriyou!I253=\"\",\"\",syoriyou!I253)","v":""},{"$f":"IF(syoriyou!J253=\"\",\"\",syoriyou!N253)","v":""}]
[{"$f":"IF(syoriyou!A254=\"\",\"\",syoriyou!A254)","v":""},{"$f":"IF(syoriyou!B254=\"\",\"\",syoriyou!B254)","v":""},{"$f":"IF(syoriyou!C254=\"\",\"\",syoriyou!C254)","v":""},{"$f":"IF(syoriyou!D254=\"\",\"\",syoriyou!D254)","v":""},{"$f":"IF(syoriyou!E254=\"\",\"\",syoriyou!E254)","v":""},{"$f":"IF(syoriyou!F254=\"\",\"\",syoriyou!F254)","v":""},{"$f":"IF(syoriyou!G254=\"\",\"\",syoriyou!G254)","v":""},{"$f":"IF(syoriyou!H254=\"\",\"\",syoriyou!H254)","v":""},{"$f":"IF(syoriyou!I254=\"\",\"\",syoriyou!I254)","v":""},{"$f":"IF(syoriyou!J254=\"\",\"\",syoriyou!N254)","v":""}]
[{"$f":"IF(syoriyou!A255=\"\",\"\",syoriyou!A255)","v":""},{"$f":"IF(syoriyou!B255=\"\",\"\",syoriyou!B255)","v":""},{"$f":"IF(syoriyou!C255=\"\",\"\",syoriyou!C255)","v":""},{"$f":"IF(syoriyou!D255=\"\",\"\",syoriyou!D255)","v":""},{"$f":"IF(syoriyou!E255=\"\",\"\",syoriyou!E255)","v":""},{"$f":"IF(syoriyou!F255=\"\",\"\",syoriyou!F255)","v":""},{"$f":"IF(syoriyou!G255=\"\",\"\",syoriyou!G255)","v":""},{"$f":"IF(syoriyou!H255=\"\",\"\",syoriyou!H255)","v":""},{"$f":"IF(syoriyou!I255=\"\",\"\",syoriyou!I255)","v":""},{"$f":"IF(syoriyou!J255=\"\",\"\",syoriyou!N255)","v":""}]
[{"$f":"IF(syoriyou!A256=\"\",\"\",syoriyou!A256)","v":""},{"$f":"IF(syoriyou!B256=\"\",\"\",syoriyou!B256)","v":""},{"$f":"IF(syoriyou!C256=\"\",\"\",syoriyou!C256)","v":""},{"$f":"IF(syoriyou!D256=\"\",\"\",syoriyou!D256)","v":""},{"$f":"IF(syoriyou!E256=\"\",\"\",syoriyou!E256)","v":""},{"$f":"IF(syoriyou!F256=\"\",\"\",syoriyou!F256)","v":""},{"$f":"IF(syoriyou!G256=\"\",\"\",syoriyou!G256)","v":""},{"$f":"IF(syoriyou!H256=\"\",\"\",syoriyou!H256)","v":""},{"$f":"IF(syoriyou!I256=\"\",\"\",syoriyou!I256)","v":""},{"$f":"IF(syoriyou!J256=\"\",\"\",syoriyou!N256)","v":""}]
[{"$f":"IF(syoriyou!A257=\"\",\"\",syoriyou!A257)","v":""},{"$f":"IF(syoriyou!B257=\"\",\"\",syoriyou!B257)","v":""},{"$f":"IF(syoriyou!C257=\"\",\"\",syoriyou!C257)","v":""},{"$f":"IF(syoriyou!D257=\"\",\"\",syoriyou!D257)","v":""},{"$f":"IF(syoriyou!E257=\"\",\"\",syoriyou!E257)","v":""},{"$f":"IF(syoriyou!F257=\"\",\"\",syoriyou!F257)","v":""},{"$f":"IF(syoriyou!G257=\"\",\"\",syoriyou!G257)","v":""},{"$f":"IF(syoriyou!H257=\"\",\"\",syoriyou!H257)","v":""},{"$f":"IF(syoriyou!I257=\"\",\"\",syoriyou!I257)","v":""},{"$f":"IF(syoriyou!J257=\"\",\"\",syoriyou!N257)","v":""}]
[{"$f":"IF(syoriyou!A258=\"\",\"\",syoriyou!A258)","v":""},{"$f":"IF(syoriyou!B258=\"\",\"\",syoriyou!B258)","v":""},{"$f":"IF(syoriyou!C258=\"\",\"\",syoriyou!C258)","v":""},{"$f":"IF(syoriyou!D258=\"\",\"\",syoriyou!D258)","v":""},{"$f":"IF(syoriyou!E258=\"\",\"\",syoriyou!E258)","v":""},{"$f":"IF(syoriyou!F258=\"\",\"\",syoriyou!F258)","v":""},{"$f":"IF(syoriyou!G258=\"\",\"\",syoriyou!G258)","v":""},{"$f":"IF(syoriyou!H258=\"\",\"\",syoriyou!H258)","v":""},{"$f":"IF(syoriyou!I258=\"\",\"\",syoriyou!I258)","v":""},{"$f":"IF(syoriyou!J258=\"\",\"\",syoriyou!N258)","v":""}]
[{"$f":"IF(syoriyou!A259=\"\",\"\",syoriyou!A259)","v":""},{"$f":"IF(syoriyou!B259=\"\",\"\",syoriyou!B259)","v":""},{"$f":"IF(syoriyou!C259=\"\",\"\",syoriyou!C259)","v":""},{"$f":"IF(syoriyou!D259=\"\",\"\",syoriyou!D259)","v":""},{"$f":"IF(syoriyou!E259=\"\",\"\",syoriyou!E259)","v":""},{"$f":"IF(syoriyou!F259=\"\",\"\",syoriyou!F259)","v":""},{"$f":"IF(syoriyou!G259=\"\",\"\",syoriyou!G259)","v":""},{"$f":"IF(syoriyou!H259=\"\",\"\",syoriyou!H259)","v":""},{"$f":"IF(syoriyou!I259=\"\",\"\",syoriyou!I259)","v":""},{"$f":"IF(syoriyou!J259=\"\",\"\",syoriyou!N259)","v":""}]
[{"$f":"IF(syoriyou!A260=\"\",\"\",syoriyou!A260)","v":""},{"$f":"IF(syoriyou!B260=\"\",\"\",syoriyou!B260)","v":""},{"$f":"IF(syoriyou!C260=\"\",\"\",syoriyou!C260)","v":""},{"$f":"IF(syoriyou!D260=\"\",\"\",syoriyou!D260)","v":""},{"$f":"IF(syoriyou!E260=\"\",\"\",syoriyou!E260)","v":""},{"$f":"IF(syoriyou!F260=\"\",\"\",syoriyou!F260)","v":""},{"$f":"IF(syoriyou!G260=\"\",\"\",syoriyou!G260)","v":""},{"$f":"IF(syoriyou!H260=\"\",\"\",syoriyou!H260)","v":""},{"$f":"IF(syoriyou!I260=\"\",\"\",syoriyou!I260)","v":""},{"$f":"IF(syoriyou!J260=\"\",\"\",syoriyou!N260)","v":""}]
[{"$f":"IF(syoriyou!A261=\"\",\"\",syoriyou!A261)","v":""},{"$f":"IF(syoriyou!B261=\"\",\"\",syoriyou!B261)","v":""},{"$f":"IF(syoriyou!C261=\"\",\"\",syoriyou!C261)","v":""},{"$f":"IF(syoriyou!D261=\"\",\"\",syoriyou!D261)","v":""},{"$f":"IF(syoriyou!E261=\"\",\"\",syoriyou!E261)","v":""},{"$f":"IF(syoriyou!F261=\"\",\"\",syoriyou!F261)","v":""},{"$f":"IF(syoriyou!G261=\"\",\"\",syoriyou!G261)","v":""},{"$f":"IF(syoriyou!H261=\"\",\"\",syoriyou!H261)","v":""},{"$f":"IF(syoriyou!I261=\"\",\"\",syoriyou!I261)","v":""},{"$f":"IF(syoriyou!J261=\"\",\"\",syoriyou!N261)","v":""}]
[{"$f":"IF(syoriyou!A262=\"\",\"\",syoriyou!A262)","v":""},{"$f":"IF(syoriyou!B262=\"\",\"\",syoriyou!B262)","v":""},{"$f":"IF(syoriyou!C262=\"\",\"\",syoriyou!C262)","v":""},{"$f":"IF(syoriyou!D262=\"\",\"\",syoriyou!D262)","v":""},{"$f":"IF(syoriyou!E262=\"\",\"\",syoriyou!E262)","v":""},{"$f":"IF(syoriyou!F262=\"\",\"\",syoriyou!F262)","v":""},{"$f":"IF(syoriyou!G262=\"\",\"\",syoriyou!G262)","v":""},{"$f":"IF(syoriyou!H262=\"\",\"\",syoriyou!H262)","v":""},{"$f":"IF(syoriyou!I262=\"\",\"\",syoriyou!I262)","v":""},{"$f":"IF(syoriyou!J262=\"\",\"\",syoriyou!N262)","v":""}]
[{"$f":"IF(syoriyou!A263=\"\",\"\",syoriyou!A263)","v":""},{"$f":"IF(syoriyou!B263=\"\",\"\",syoriyou!B263)","v":""},{"$f":"IF(syoriyou!C263=\"\",\"\",syoriyou!C263)","v":""},{"$f":"IF(syoriyou!D263=\"\",\"\",syoriyou!D263)","v":""},{"$f":"IF(syoriyou!E263=\"\",\"\",syoriyou!E263)","v":""},{"$f":"IF(syoriyou!F263=\"\",\"\",syoriyou!F263)","v":""},{"$f":"IF(syoriyou!G263=\"\",\"\",syoriyou!G263)","v":""},{"$f":"IF(syoriyou!H263=\"\",\"\",syoriyou!H263)","v":""},{"$f":"IF(syoriyou!I263=\"\",\"\",syoriyou!I263)","v":""},{"$f":"IF(syoriyou!J263=\"\",\"\",syoriyou!N263)","v":""}]
[{"$f":"IF(syoriyou!A264=\"\",\"\",syoriyou!A264)","v":""},{"$f":"IF(syoriyou!B264=\"\",\"\",syoriyou!B264)","v":""},{"$f":"IF(syoriyou!C264=\"\",\"\",syoriyou!C264)","v":""},{"$f":"IF(syoriyou!D264=\"\",\"\",syoriyou!D264)","v":""},{"$f":"IF(syoriyou!E264=\"\",\"\",syoriyou!E264)","v":""},{"$f":"IF(syoriyou!F264=\"\",\"\",syoriyou!F264)","v":""},{"$f":"IF(syoriyou!G264=\"\",\"\",syoriyou!G264)","v":""},{"$f":"IF(syoriyou!H264=\"\",\"\",syoriyou!H264)","v":""},{"$f":"IF(syoriyou!I264=\"\",\"\",syoriyou!I264)","v":""},{"$f":"IF(syoriyou!J264=\"\",\"\",syoriyou!N264)","v":""}]
[{"$f":"IF(syoriyou!A265=\"\",\"\",syoriyou!A265)","v":""},{"$f":"IF(syoriyou!B265=\"\",\"\",syoriyou!B265)","v":""},{"$f":"IF(syoriyou!C265=\"\",\"\",syoriyou!C265)","v":""},{"$f":"IF(syoriyou!D265=\"\",\"\",syoriyou!D265)","v":""},{"$f":"IF(syoriyou!E265=\"\",\"\",syoriyou!E265)","v":""},{"$f":"IF(syoriyou!F265=\"\",\"\",syoriyou!F265)","v":""},{"$f":"IF(syoriyou!G265=\"\",\"\",syoriyou!G265)","v":""},{"$f":"IF(syoriyou!H265=\"\",\"\",syoriyou!H265)","v":""},{"$f":"IF(syoriyou!I265=\"\",\"\",syoriyou!I265)","v":""},{"$f":"IF(syoriyou!J265=\"\",\"\",syoriyou!N265)","v":""}]
[{"$f":"IF(syoriyou!A266=\"\",\"\",syoriyou!A266)","v":""},{"$f":"IF(syoriyou!B266=\"\",\"\",syoriyou!B266)","v":""},{"$f":"IF(syoriyou!C266=\"\",\"\",syoriyou!C266)","v":""},{"$f":"IF(syoriyou!D266=\"\",\"\",syoriyou!D266)","v":""},{"$f":"IF(syoriyou!E266=\"\",\"\",syoriyou!E266)","v":""},{"$f":"IF(syoriyou!F266=\"\",\"\",syoriyou!F266)","v":""},{"$f":"IF(syoriyou!G266=\"\",\"\",syoriyou!G266)","v":""},{"$f":"IF(syoriyou!H266=\"\",\"\",syoriyou!H266)","v":""},{"$f":"IF(syoriyou!I266=\"\",\"\",syoriyou!I266)","v":""},{"$f":"IF(syoriyou!J266=\"\",\"\",syoriyou!N266)","v":""}]
[{"$f":"IF(syoriyou!A267=\"\",\"\",syoriyou!A267)","v":""},{"$f":"IF(syoriyou!B267=\"\",\"\",syoriyou!B267)","v":""},{"$f":"IF(syoriyou!C267=\"\",\"\",syoriyou!C267)","v":""},{"$f":"IF(syoriyou!D267=\"\",\"\",syoriyou!D267)","v":""},{"$f":"IF(syoriyou!E267=\"\",\"\",syoriyou!E267)","v":""},{"$f":"IF(syoriyou!F267=\"\",\"\",syoriyou!F267)","v":""},{"$f":"IF(syoriyou!G267=\"\",\"\",syoriyou!G267)","v":""},{"$f":"IF(syoriyou!H267=\"\",\"\",syoriyou!H267)","v":""},{"$f":"IF(syoriyou!I267=\"\",\"\",syoriyou!I267)","v":""},{"$f":"IF(syoriyou!J267=\"\",\"\",syoriyou!N267)","v":""}]
[{"$f":"IF(syoriyou!A268=\"\",\"\",syoriyou!A268)","v":""},{"$f":"IF(syoriyou!B268=\"\",\"\",syoriyou!B268)","v":""},{"$f":"IF(syoriyou!C268=\"\",\"\",syoriyou!C268)","v":""},{"$f":"IF(syoriyou!D268=\"\",\"\",syoriyou!D268)","v":""},{"$f":"IF(syoriyou!E268=\"\",\"\",syoriyou!E268)","v":""},{"$f":"IF(syoriyou!F268=\"\",\"\",syoriyou!F268)","v":""},{"$f":"IF(syoriyou!G268=\"\",\"\",syoriyou!G268)","v":""},{"$f":"IF(syoriyou!H268=\"\",\"\",syoriyou!H268)","v":""},{"$f":"IF(syoriyou!I268=\"\",\"\",syoriyou!I268)","v":""},{"$f":"IF(syoriyou!J268=\"\",\"\",syoriyou!N268)","v":""}]
[{"$f":"IF(syoriyou!A269=\"\",\"\",syoriyou!A269)","v":""},{"$f":"IF(syoriyou!B269=\"\",\"\",syoriyou!B269)","v":""},{"$f":"IF(syoriyou!C269=\"\",\"\",syoriyou!C269)","v":""},{"$f":"IF(syoriyou!D269=\"\",\"\",syoriyou!D269)","v":""},{"$f":"IF(syoriyou!E269=\"\",\"\",syoriyou!E269)","v":""},{"$f":"IF(syoriyou!F269=\"\",\"\",syoriyou!F269)","v":""},{"$f":"IF(syoriyou!G269=\"\",\"\",syoriyou!G269)","v":""},{"$f":"IF(syoriyou!H269=\"\",\"\",syoriyou!H269)","v":""},{"$f":"IF(syoriyou!I269=\"\",\"\",syoriyou!I269)","v":""},{"$f":"IF(syoriyou!J269=\"\",\"\",syoriyou!N269)","v":""}]
[{"$f":"IF(syoriyou!A270=\"\",\"\",syoriyou!A270)","v":""},{"$f":"IF(syoriyou!B270=\"\",\"\",syoriyou!B270)","v":""},{"$f":"IF(syoriyou!C270=\"\",\"\",syoriyou!C270)","v":""},{"$f":"IF(syoriyou!D270=\"\",\"\",syoriyou!D270)","v":""},{"$f":"IF(syoriyou!E270=\"\",\"\",syoriyou!E270)","v":""},{"$f":"IF(syoriyou!F270=\"\",\"\",syoriyou!F270)","v":""},{"$f":"IF(syoriyou!G270=\"\",\"\",syoriyou!G270)","v":""},{"$f":"IF(syoriyou!H270=\"\",\"\",syoriyou!H270)","v":""},{"$f":"IF(syoriyou!I270=\"\",\"\",syoriyou!I270)","v":""},{"$f":"IF(syoriyou!J270=\"\",\"\",syoriyou!N270)","v":""}]
[{"$f":"IF(syoriyou!A271=\"\",\"\",syoriyou!A271)","v":""},{"$f":"IF(syoriyou!B271=\"\",\"\",syoriyou!B271)","v":""},{"$f":"IF(syoriyou!C271=\"\",\"\",syoriyou!C271)","v":""},{"$f":"IF(syoriyou!D271=\"\",\"\",syoriyou!D271)","v":""},{"$f":"IF(syoriyou!E271=\"\",\"\",syoriyou!E271)","v":""},{"$f":"IF(syoriyou!F271=\"\",\"\",syoriyou!F271)","v":""},{"$f":"IF(syoriyou!G271=\"\",\"\",syoriyou!G271)","v":""},{"$f":"IF(syoriyou!H271=\"\",\"\",syoriyou!H271)","v":""},{"$f":"IF(syoriyou!I271=\"\",\"\",syoriyou!I271)","v":""},{"$f":"IF(syoriyou!J271=\"\",\"\",syoriyou!N271)","v":""}]
[{"$f":"IF(syoriyou!A272=\"\",\"\",syoriyou!A272)","v":""},{"$f":"IF(syoriyou!B272=\"\",\"\",syoriyou!B272)","v":""},{"$f":"IF(syoriyou!C272=\"\",\"\",syoriyou!C272)","v":""},{"$f":"IF(syoriyou!D272=\"\",\"\",syoriyou!D272)","v":""},{"$f":"IF(syoriyou!E272=\"\",\"\",syoriyou!E272)","v":""},{"$f":"IF(syoriyou!F272=\"\",\"\",syoriyou!F272)","v":""},{"$f":"IF(syoriyou!G272=\"\",\"\",syoriyou!G272)","v":""},{"$f":"IF(syoriyou!H272=\"\",\"\",syoriyou!H272)","v":""},{"$f":"IF(syoriyou!I272=\"\",\"\",syoriyou!I272)","v":""},{"$f":"IF(syoriyou!J272=\"\",\"\",syoriyou!N272)","v":""}]
[{"$f":"IF(syoriyou!A273=\"\",\"\",syoriyou!A273)","v":""},{"$f":"IF(syoriyou!B273=\"\",\"\",syoriyou!B273)","v":""},{"$f":"IF(syoriyou!C273=\"\",\"\",syoriyou!C273)","v":""},{"$f":"IF(syoriyou!D273=\"\",\"\",syoriyou!D273)","v":""},{"$f":"IF(syoriyou!E273=\"\",\"\",syoriyou!E273)","v":""},{"$f":"IF(syoriyou!F273=\"\",\"\",syoriyou!F273)","v":""},{"$f":"IF(syoriyou!G273=\"\",\"\",syoriyou!G273)","v":""},{"$f":"IF(syoriyou!H273=\"\",\"\",syoriyou!H273)","v":""},{"$f":"IF(syoriyou!I273=\"\",\"\",syoriyou!I273)","v":""},{"$f":"IF(syoriyou!J273=\"\",\"\",syoriyou!N273)","v":""}]
[{"$f":"IF(syoriyou!A274=\"\",\"\",syoriyou!A274)","v":""},{"$f":"IF(syoriyou!B274=\"\",\"\",syoriyou!B274)","v":""},{"$f":"IF(syoriyou!C274=\"\",\"\",syoriyou!C274)","v":""},{"$f":"IF(syoriyou!D274=\"\",\"\",syoriyou!D274)","v":""},{"$f":"IF(syoriyou!E274=\"\",\"\",syoriyou!E274)","v":""},{"$f":"IF(syoriyou!F274=\"\",\"\",syoriyou!F274)","v":""},{"$f":"IF(syoriyou!G274=\"\",\"\",syoriyou!G274)","v":""},{"$f":"IF(syoriyou!H274=\"\",\"\",syoriyou!H274)","v":""},{"$f":"IF(syoriyou!I274=\"\",\"\",syoriyou!I274)","v":""},{"$f":"IF(syoriyou!J274=\"\",\"\",syoriyou!N274)","v":""}]
[{"$f":"IF(syoriyou!A275=\"\",\"\",syoriyou!A275)","v":""},{"$f":"IF(syoriyou!B275=\"\",\"\",syoriyou!B275)","v":""},{"$f":"IF(syoriyou!C275=\"\",\"\",syoriyou!C275)","v":""},{"$f":"IF(syoriyou!D275=\"\",\"\",syoriyou!D275)","v":""},{"$f":"IF(syoriyou!E275=\"\",\"\",syoriyou!E275)","v":""},{"$f":"IF(syoriyou!F275=\"\",\"\",syoriyou!F275)","v":""},{"$f":"IF(syoriyou!G275=\"\",\"\",syoriyou!G275)","v":""},{"$f":"IF(syoriyou!H275=\"\",\"\",syoriyou!H275)","v":""},{"$f":"IF(syoriyou!I275=\"\",\"\",syoriyou!I275)","v":""},{"$f":"IF(syoriyou!J275=\"\",\"\",syoriyou!N275)","v":""}]
[{"$f":"IF(syoriyou!A276=\"\",\"\",syoriyou!A276)","v":""},{"$f":"IF(syoriyou!B276=\"\",\"\",syoriyou!B276)","v":""},{"$f":"IF(syoriyou!C276=\"\",\"\",syoriyou!C276)","v":""},{"$f":"IF(syoriyou!D276=\"\",\"\",syoriyou!D276)","v":""},{"$f":"IF(syoriyou!E276=\"\",\"\",syoriyou!E276)","v":""},{"$f":"IF(syoriyou!F276=\"\",\"\",syoriyou!F276)","v":""},{"$f":"IF(syoriyou!G276=\"\",\"\",syoriyou!G276)","v":""},{"$f":"IF(syoriyou!H276=\"\",\"\",syoriyou!H276)","v":""},{"$f":"IF(syoriyou!I276=\"\",\"\",syoriyou!I276)","v":""},{"$f":"IF(syoriyou!J276=\"\",\"\",syoriyou!N276)","v":""}]
[{"$f":"IF(syoriyou!A277=\"\",\"\",syoriyou!A277)","v":""},{"$f":"IF(syoriyou!B277=\"\",\"\",syoriyou!B277)","v":""},{"$f":"IF(syoriyou!C277=\"\",\"\",syoriyou!C277)","v":""},{"$f":"IF(syoriyou!D277=\"\",\"\",syoriyou!D277)","v":""},{"$f":"IF(syoriyou!E277=\"\",\"\",syoriyou!E277)","v":""},{"$f":"IF(syoriyou!F277=\"\",\"\",syoriyou!F277)","v":""},{"$f":"IF(syoriyou!G277=\"\",\"\",syoriyou!G277)","v":""},{"$f":"IF(syoriyou!H277=\"\",\"\",syoriyou!H277)","v":""},{"$f":"IF(syoriyou!I277=\"\",\"\",syoriyou!I277)","v":""},{"$f":"IF(syoriyou!J277=\"\",\"\",syoriyou!N277)","v":""}]
[{"$f":"IF(syoriyou!A278=\"\",\"\",syoriyou!A278)","v":""},{"$f":"IF(syoriyou!B278=\"\",\"\",syoriyou!B278)","v":""},{"$f":"IF(syoriyou!C278=\"\",\"\",syoriyou!C278)","v":""},{"$f":"IF(syoriyou!D278=\"\",\"\",syoriyou!D278)","v":""},{"$f":"IF(syoriyou!E278=\"\",\"\",syoriyou!E278)","v":""},{"$f":"IF(syoriyou!F278=\"\",\"\",syoriyou!F278)","v":""},{"$f":"IF(syoriyou!G278=\"\",\"\",syoriyou!G278)","v":""},{"$f":"IF(syoriyou!H278=\"\",\"\",syoriyou!H278)","v":""},{"$f":"IF(syoriyou!I278=\"\",\"\",syoriyou!I278)","v":""},{"$f":"IF(syoriyou!J278=\"\",\"\",syoriyou!N278)","v":""}]
[{"$f":"IF(syoriyou!A279=\"\",\"\",syoriyou!A279)","v":""},{"$f":"IF(syoriyou!B279=\"\",\"\",syoriyou!B279)","v":""},{"$f":"IF(syoriyou!C279=\"\",\"\",syoriyou!C279)","v":""},{"$f":"IF(syoriyou!D279=\"\",\"\",syoriyou!D279)","v":""},{"$f":"IF(syoriyou!E279=\"\",\"\",syoriyou!E279)","v":""},{"$f":"IF(syoriyou!F279=\"\",\"\",syoriyou!F279)","v":""},{"$f":"IF(syoriyou!G279=\"\",\"\",syoriyou!G279)","v":""},{"$f":"IF(syoriyou!H279=\"\",\"\",syoriyou!H279)","v":""},{"$f":"IF(syoriyou!I279=\"\",\"\",syoriyou!I279)","v":""},{"$f":"IF(syoriyou!J279=\"\",\"\",syoriyou!N279)","v":""}]
[{"$f":"IF(syoriyou!A280=\"\",\"\",syoriyou!A280)","v":""},{"$f":"IF(syoriyou!B280=\"\",\"\",syoriyou!B280)","v":""},{"$f":"IF(syoriyou!C280=\"\",\"\",syoriyou!C280)","v":""},{"$f":"IF(syoriyou!D280=\"\",\"\",syoriyou!D280)","v":""},{"$f":"IF(syoriyou!E280=\"\",\"\",syoriyou!E280)","v":""},{"$f":"IF(syoriyou!F280=\"\",\"\",syoriyou!F280)","v":""},{"$f":"IF(syoriyou!G280=\"\",\"\",syoriyou!G280)","v":""},{"$f":"IF(syoriyou!H280=\"\",\"\",syoriyou!H280)","v":""},{"$f":"IF(syoriyou!I280=\"\",\"\",syoriyou!I280)","v":""},{"$f":"IF(syoriyou!J280=\"\",\"\",syoriyou!N280)","v":""}]
[{"$f":"IF(syoriyou!A281=\"\",\"\",syoriyou!A281)","v":""},{"$f":"IF(syoriyou!B281=\"\",\"\",syoriyou!B281)","v":""},{"$f":"IF(syoriyou!C281=\"\",\"\",syoriyou!C281)","v":""},{"$f":"IF(syoriyou!D281=\"\",\"\",syoriyou!D281)","v":""},{"$f":"IF(syoriyou!E281=\"\",\"\",syoriyou!E281)","v":""},{"$f":"IF(syoriyou!F281=\"\",\"\",syoriyou!F281)","v":""},{"$f":"IF(syoriyou!G281=\"\",\"\",syoriyou!G281)","v":""},{"$f":"IF(syoriyou!H281=\"\",\"\",syoriyou!H281)","v":""},{"$f":"IF(syoriyou!I281=\"\",\"\",syoriyou!I281)","v":""},{"$f":"IF(syoriyou!J281=\"\",\"\",syoriyou!N281)","v":""}]
[{"$f":"IF(syoriyou!A282=\"\",\"\",syoriyou!A282)","v":""},{"$f":"IF(syoriyou!B282=\"\",\"\",syoriyou!B282)","v":""},{"$f":"IF(syoriyou!C282=\"\",\"\",syoriyou!C282)","v":""},{"$f":"IF(syoriyou!D282=\"\",\"\",syoriyou!D282)","v":""},{"$f":"IF(syoriyou!E282=\"\",\"\",syoriyou!E282)","v":""},{"$f":"IF(syoriyou!F282=\"\",\"\",syoriyou!F282)","v":""},{"$f":"IF(syoriyou!G282=\"\",\"\",syoriyou!G282)","v":""},{"$f":"IF(syoriyou!H282=\"\",\"\",syoriyou!H282)","v":""},{"$f":"IF(syoriyou!I282=\"\",\"\",syoriyou!I282)","v":""},{"$f":"IF(syoriyou!J282=\"\",\"\",syoriyou!N282)","v":""}]
[{"$f":"IF(syoriyou!A283=\"\",\"\",syoriyou!A283)","v":""},{"$f":"IF(syoriyou!B283=\"\",\"\",syoriyou!B283)","v":""},{"$f":"IF(syoriyou!C283=\"\",\"\",syoriyou!C283)","v":""},{"$f":"IF(syoriyou!D283=\"\",\"\",syoriyou!D283)","v":""},{"$f":"IF(syoriyou!E283=\"\",\"\",syoriyou!E283)","v":""},{"$f":"IF(syoriyou!F283=\"\",\"\",syoriyou!F283)","v":""},{"$f":"IF(syoriyou!G283=\"\",\"\",syoriyou!G283)","v":""},{"$f":"IF(syoriyou!H283=\"\",\"\",syoriyou!H283)","v":""},{"$f":"IF(syoriyou!I283=\"\",\"\",syoriyou!I283)","v":""},{"$f":"IF(syoriyou!J283=\"\",\"\",syoriyou!N283)","v":""}]
[{"$f":"IF(syoriyou!A284=\"\",\"\",syoriyou!A284)","v":""},{"$f":"IF(syoriyou!B284=\"\",\"\",syoriyou!B284)","v":""},{"$f":"IF(syoriyou!C284=\"\",\"\",syoriyou!C284)","v":""},{"$f":"IF(syoriyou!D284=\"\",\"\",syoriyou!D284)","v":""},{"$f":"IF(syoriyou!E284=\"\",\"\",syoriyou!E284)","v":""},{"$f":"IF(syoriyou!F284=\"\",\"\",syoriyou!F284)","v":""},{"$f":"IF(syoriyou!G284=\"\",\"\",syoriyou!G284)","v":""},{"$f":"IF(syoriyou!H284=\"\",\"\",syoriyou!H284)","v":""},{"$f":"IF(syoriyou!I284=\"\",\"\",syoriyou!I284)","v":""},{"$f":"IF(syoriyou!J284=\"\",\"\",syoriyou!N284)","v":""}]
[{"$f":"IF(syoriyou!A285=\"\",\"\",syoriyou!A285)","v":""},{"$f":"IF(syoriyou!B285=\"\",\"\",syoriyou!B285)","v":""},{"$f":"IF(syoriyou!C285=\"\",\"\",syoriyou!C285)","v":""},{"$f":"IF(syoriyou!D285=\"\",\"\",syoriyou!D285)","v":""},{"$f":"IF(syoriyou!E285=\"\",\"\",syoriyou!E285)","v":""},{"$f":"IF(syoriyou!F285=\"\",\"\",syoriyou!F285)","v":""},{"$f":"IF(syoriyou!G285=\"\",\"\",syoriyou!G285)","v":""},{"$f":"IF(syoriyou!H285=\"\",\"\",syoriyou!H285)","v":""},{"$f":"IF(syoriyou!I285=\"\",\"\",syoriyou!I285)","v":""},{"$f":"IF(syoriyou!J285=\"\",\"\",syoriyou!N285)","v":""}]
[{"$f":"IF(syoriyou!A286=\"\",\"\",syoriyou!A286)","v":""},{"$f":"IF(syoriyou!B286=\"\",\"\",syoriyou!B286)","v":""},{"$f":"IF(syoriyou!C286=\"\",\"\",syoriyou!C286)","v":""},{"$f":"IF(syoriyou!D286=\"\",\"\",syoriyou!D286)","v":""},{"$f":"IF(syoriyou!E286=\"\",\"\",syoriyou!E286)","v":""},{"$f":"IF(syoriyou!F286=\"\",\"\",syoriyou!F286)","v":""},{"$f":"IF(syoriyou!G286=\"\",\"\",syoriyou!G286)","v":""},{"$f":"IF(syoriyou!H286=\"\",\"\",syoriyou!H286)","v":""},{"$f":"IF(syoriyou!I286=\"\",\"\",syoriyou!I286)","v":""},{"$f":"IF(syoriyou!J286=\"\",\"\",syoriyou!N286)","v":""}]
[{"$f":"IF(syoriyou!A287=\"\",\"\",syoriyou!A287)","v":""},{"$f":"IF(syoriyou!B287=\"\",\"\",syoriyou!B287)","v":""},{"$f":"IF(syoriyou!C287=\"\",\"\",syoriyou!C287)","v":""},{"$f":"IF(syoriyou!D287=\"\",\"\",syoriyou!D287)","v":""},{"$f":"IF(syoriyou!E287=\"\",\"\",syoriyou!E287)","v":""},{"$f":"IF(syoriyou!F287=\"\",\"\",syoriyou!F287)","v":""},{"$f":"IF(syoriyou!G287=\"\",\"\",syoriyou!G287)","v":""},{"$f":"IF(syoriyou!H287=\"\",\"\",syoriyou!H287)","v":""},{"$f":"IF(syoriyou!I287=\"\",\"\",syoriyou!I287)","v":""},{"$f":"IF(syoriyou!J287=\"\",\"\",syoriyou!N287)","v":""}]
[{"$f":"IF(syoriyou!A288=\"\",\"\",syoriyou!A288)","v":""},{"$f":"IF(syoriyou!B288=\"\",\"\",syoriyou!B288)","v":""},{"$f":"IF(syoriyou!C288=\"\",\"\",syoriyou!C288)","v":""},{"$f":"IF(syoriyou!D288=\"\",\"\",syoriyou!D288)","v":""},{"$f":"IF(syoriyou!E288=\"\",\"\",syoriyou!E288)","v":""},{"$f":"IF(syoriyou!F288=\"\",\"\",syoriyou!F288)","v":""},{"$f":"IF(syoriyou!G288=\"\",\"\",syoriyou!G288)","v":""},{"$f":"IF(syoriyou!H288=\"\",\"\",syoriyou!H288)","v":""},{"$f":"IF(syoriyou!I288=\"\",\"\",syoriyou!I288)","v":""},{"$f":"IF(syoriyou!J288=\"\",\"\",syoriyou!N288)","v":""}]
[{"$f":"IF(syoriyou!A289=\"\",\"\",syoriyou!A289)","v":""},{"$f":"IF(syoriyou!B289=\"\",\"\",syoriyou!B289)","v":""},{"$f":"IF(syoriyou!C289=\"\",\"\",syoriyou!C289)","v":""},{"$f":"IF(syoriyou!D289=\"\",\"\",syoriyou!D289)","v":""},{"$f":"IF(syoriyou!E289=\"\",\"\",syoriyou!E289)","v":""},{"$f":"IF(syoriyou!F289=\"\",\"\",syoriyou!F289)","v":""},{"$f":"IF(syoriyou!G289=\"\",\"\",syoriyou!G289)","v":""},{"$f":"IF(syoriyou!H289=\"\",\"\",syoriyou!H289)","v":""},{"$f":"IF(syoriyou!I289=\"\",\"\",syoriyou!I289)","v":""},{"$f":"IF(syoriyou!J289=\"\",\"\",syoriyou!N289)","v":""}]
[{"$f":"IF(syoriyou!A290=\"\",\"\",syoriyou!A290)","v":""},{"$f":"IF(syoriyou!B290=\"\",\"\",syoriyou!B290)","v":""},{"$f":"IF(syoriyou!C290=\"\",\"\",syoriyou!C290)","v":""},{"$f":"IF(syoriyou!D290=\"\",\"\",syoriyou!D290)","v":""},{"$f":"IF(syoriyou!E290=\"\",\"\",syoriyou!E290)","v":""},{"$f":"IF(syoriyou!F290=\"\",\"\",syoriyou!F290)","v":""},{"$f":"IF(syoriyou!G290=\"\",\"\",syoriyou!G290)","v":""},{"$f":"IF(syoriyou!H290=\"\",\"\",syoriyou!H290)","v":""},{"$f":"IF(syoriyou!I290=\"\",\"\",syoriyou!I290)","v":""},{"$f":"IF(syoriyou!J290=\"\",\"\",syoriyou!N290)","v":""}]
[{"$f":"IF(syoriyou!A291=\"\",\"\",syoriyou!A291)","v":""},{"$f":"IF(syoriyou!B291=\"\",\"\",syoriyou!B291)","v":""},{"$f":"IF(syoriyou!C291=\"\",\"\",syoriyou!C291)","v":""},{"$f":"IF(syoriyou!D291=\"\",\"\",syoriyou!D291)","v":""},{"$f":"IF(syoriyou!E291=\"\",\"\",syoriyou!E291)","v":""},{"$f":"IF(syoriyou!F291=\"\",\"\",syoriyou!F291)","v":""},{"$f":"IF(syoriyou!G291=\"\",\"\",syoriyou!G291)","v":""},{"$f":"IF(syoriyou!H291=\"\",\"\",syoriyou!H291)","v":""},{"$f":"IF(syoriyou!I291=\"\",\"\",syoriyou!I291)","v":""},{"$f":"IF(syoriyou!J291=\"\",\"\",syoriyou!N291)","v":""}]
[{"$f":"IF(syoriyou!A292=\"\",\"\",syoriyou!A292)","v":""},{"$f":"IF(syoriyou!B292=\"\",\"\",syoriyou!B292)","v":""},{"$f":"IF(syoriyou!C292=\"\",\"\",syoriyou!C292)","v":""},{"$f":"IF(syoriyou!D292=\"\",\"\",syoriyou!D292)","v":""},{"$f":"IF(syoriyou!E292=\"\",\"\",syoriyou!E292)","v":""},{"$f":"IF(syoriyou!F292=\"\",\"\",syoriyou!F292)","v":""},{"$f":"IF(syoriyou!G292=\"\",\"\",syoriyou!G292)","v":""},{"$f":"IF(syoriyou!H292=\"\",\"\",syoriyou!H292)","v":""},{"$f":"IF(syoriyou!I292=\"\",\"\",syoriyou!I292)","v":""},{"$f":"IF(syoriyou!J292=\"\",\"\",syoriyou!N292)","v":""}]
[{"$f":"IF(syoriyou!A293=\"\",\"\",syoriyou!A293)","v":""},{"$f":"IF(syoriyou!B293=\"\",\"\",syoriyou!B293)","v":""},{"$f":"IF(syoriyou!C293=\"\",\"\",syoriyou!C293)","v":""},{"$f":"IF(syoriyou!D293=\"\",\"\",syoriyou!D293)","v":""},{"$f":"IF(syoriyou!E293=\"\",\"\",syoriyou!E293)","v":""},{"$f":"IF(syoriyou!F293=\"\",\"\",syoriyou!F293)","v":""},{"$f":"IF(syoriyou!G293=\"\",\"\",syoriyou!G293)","v":""},{"$f":"IF(syoriyou!H293=\"\",\"\",syoriyou!H293)","v":""},{"$f":"IF(syoriyou!I293=\"\",\"\",syoriyou!I293)","v":""},{"$f":"IF(syoriyou!J293=\"\",\"\",syoriyou!N293)","v":""}]
[{"$f":"IF(syoriyou!A294=\"\",\"\",syoriyou!A294)","v":""},{"$f":"IF(syoriyou!B294=\"\",\"\",syoriyou!B294)","v":""},{"$f":"IF(syoriyou!C294=\"\",\"\",syoriyou!C294)","v":""},{"$f":"IF(syoriyou!D294=\"\",\"\",syoriyou!D294)","v":""},{"$f":"IF(syoriyou!E294=\"\",\"\",syoriyou!E294)","v":""},{"$f":"IF(syoriyou!F294=\"\",\"\",syoriyou!F294)","v":""},{"$f":"IF(syoriyou!G294=\"\",\"\",syoriyou!G294)","v":""},{"$f":"IF(syoriyou!H294=\"\",\"\",syoriyou!H294)","v":""},{"$f":"IF(syoriyou!I294=\"\",\"\",syoriyou!I294)","v":""},{"$f":"IF(syoriyou!J294=\"\",\"\",syoriyou!N294)","v":""}]
[{"$f":"IF(syoriyou!A295=\"\",\"\",syoriyou!A295)","v":""},{"$f":"IF(syoriyou!B295=\"\",\"\",syoriyou!B295)","v":""},{"$f":"IF(syoriyou!C295=\"\",\"\",syoriyou!C295)","v":""},{"$f":"IF(syoriyou!D295=\"\",\"\",syoriyou!D295)","v":""},{"$f":"IF(syoriyou!E295=\"\",\"\",syoriyou!E295)","v":""},{"$f":"IF(syoriyou!F295=\"\",\"\",syoriyou!F295)","v":""},{"$f":"IF(syoriyou!G295=\"\",\"\",syoriyou!G295)","v":""},{"$f":"IF(syoriyou!H295=\"\",\"\",syoriyou!H295)","v":""},{"$f":"IF(syoriyou!I295=\"\",\"\",syoriyou!I295)","v":""},{"$f":"IF(syoriyou!J295=\"\",\"\",syoriyou!N295)","v":""}]
[{"$f":"IF(syoriyou!A296=\"\",\"\",syoriyou!A296)","v":""},{"$f":"IF(syoriyou!B296=\"\",\"\",syoriyou!B296)","v":""},{"$f":"IF(syoriyou!C296=\"\",\"\",syoriyou!C296)","v":""},{"$f":"IF(syoriyou!D296=\"\",\"\",syoriyou!D296)","v":""},{"$f":"IF(syoriyou!E296=\"\",\"\",syoriyou!E296)","v":""},{"$f":"IF(syoriyou!F296=\"\",\"\",syoriyou!F296)","v":""},{"$f":"IF(syoriyou!G296=\"\",\"\",syoriyou!G296)","v":""},{"$f":"IF(syoriyou!H296=\"\",\"\",syoriyou!H296)","v":""},{"$f":"IF(syoriyou!I296=\"\",\"\",syoriyou!I296)","v":""},{"$f":"IF(syoriyou!J296=\"\",\"\",syoriyou!N296)","v":""}]
[{"$f":"IF(syoriyou!A297=\"\",\"\",syoriyou!A297)","v":""},{"$f":"IF(syoriyou!B297=\"\",\"\",syoriyou!B297)","v":""},{"$f":"IF(syoriyou!C297=\"\",\"\",syoriyou!C297)","v":""},{"$f":"IF(syoriyou!D297=\"\",\"\",syoriyou!D297)","v":""},{"$f":"IF(syoriyou!E297=\"\",\"\",syoriyou!E297)","v":""},{"$f":"IF(syoriyou!F297=\"\",\"\",syoriyou!F297)","v":""},{"$f":"IF(syoriyou!G297=\"\",\"\",syoriyou!G297)","v":""},{"$f":"IF(syoriyou!H297=\"\",\"\",syoriyou!H297)","v":""},{"$f":"IF(syoriyou!I297=\"\",\"\",syoriyou!I297)","v":""},{"$f":"IF(syoriyou!J297=\"\",\"\",syoriyou!N297)","v":""}]
[{"$f":"IF(syoriyou!A298=\"\",\"\",syoriyou!A298)","v":""},{"$f":"IF(syoriyou!B298=\"\",\"\",syoriyou!B298)","v":""},{"$f":"IF(syoriyou!C298=\"\",\"\",syoriyou!C298)","v":""},{"$f":"IF(syoriyou!D298=\"\",\"\",syoriyou!D298)","v":""},{"$f":"IF(syoriyou!E298=\"\",\"\",syoriyou!E298)","v":""},{"$f":"IF(syoriyou!F298=\"\",\"\",syoriyou!F298)","v":""},{"$f":"IF(syoriyou!G298=\"\",\"\",syoriyou!G298)","v":""},{"$f":"IF(syoriyou!H298=\"\",\"\",syoriyou!H298)","v":""},{"$f":"IF(syoriyou!I298=\"\",\"\",syoriyou!I298)","v":""},{"$f":"IF(syoriyou!J298=\"\",\"\",syoriyou!N298)","v":""}]
[{"$f":"IF(syoriyou!A299=\"\",\"\",syoriyou!A299)","v":""},{"$f":"IF(syoriyou!B299=\"\",\"\",syoriyou!B299)","v":""},{"$f":"IF(syoriyou!C299=\"\",\"\",syoriyou!C299)","v":""},{"$f":"IF(syoriyou!D299=\"\",\"\",syoriyou!D299)","v":""},{"$f":"IF(syoriyou!E299=\"\",\"\",syoriyou!E299)","v":""},{"$f":"IF(syoriyou!F299=\"\",\"\",syoriyou!F299)","v":""},{"$f":"IF(syoriyou!G299=\"\",\"\",syoriyou!G299)","v":""},{"$f":"IF(syoriyou!H299=\"\",\"\",syoriyou!H299)","v":""},{"$f":"IF(syoriyou!I299=\"\",\"\",syoriyou!I299)","v":""},{"$f":"IF(syoriyou!J299=\"\",\"\",syoriyou!N299)","v":""}]
[{"$f":"IF(syoriyou!A300=\"\",\"\",syoriyou!A300)","v":""},{"$f":"IF(syoriyou!B300=\"\",\"\",syoriyou!B300)","v":""},{"$f":"IF(syoriyou!C300=\"\",\"\",syoriyou!C300)","v":""},{"$f":"IF(syoriyou!D300=\"\",\"\",syoriyou!D300)","v":""},{"$f":"IF(syoriyou!E300=\"\",\"\",syoriyou!E300)","v":""},{"$f":"IF(syoriyou!F300=\"\",\"\",syoriyou!F300)","v":""},{"$f":"IF(syoriyou!G300=\"\",\"\",syoriyou!G300)","v":""},{"$f":"IF(syoriyou!H300=\"\",\"\",syoriyou!H300)","v":""},{"$f":"IF(syoriyou!I300=\"\",\"\",syoriyou!I300)","v":""},{"$f":"IF(syoriyou!J300=\"\",\"\",syoriyou!N300)","v":""}]
[{"$f":"IF(syoriyou!A301=\"\",\"\",syoriyou!A301)","v":""},{"$f":"IF(syoriyou!B301=\"\",\"\",syoriyou!B301)","v":""},{"$f":"IF(syoriyou!C301=\"\",\"\",syoriyou!C301)","v":""},{"$f":"IF(syoriyou!D301=\"\",\"\",syoriyou!D301)","v":""},{"$f":"IF(syoriyou!E301=\"\",\"\",syoriyou!E301)","v":""},{"$f":"IF(syoriyou!F301=\"\",\"\",syoriyou!F301)","v":""},{"$f":"IF(syoriyou!G301=\"\",\"\",syoriyou!G301)","v":""},{"$f":"IF(syoriyou!H301=\"\",\"\",syoriyou!H301)","v":""},{"$f":"IF(syoriyou!I301=\"\",\"\",syoriyou!I301)","v":""},{"$f":"IF(syoriyou!J301=\"\",\"\",syoriyou!N301)","v":""}]
[{"$f":"IF(syoriyou!A302=\"\",\"\",syoriyou!A302)","v":""},{"$f":"IF(syoriyou!B302=\"\",\"\",syoriyou!B302)","v":""},{"$f":"IF(syoriyou!C302=\"\",\"\",syoriyou!C302)","v":""},{"$f":"IF(syoriyou!D302=\"\",\"\",syoriyou!D302)","v":""},{"$f":"IF(syoriyou!E302=\"\",\"\",syoriyou!E302)","v":""},{"$f":"IF(syoriyou!F302=\"\",\"\",syoriyou!F302)","v":""},{"$f":"IF(syoriyou!G302=\"\",\"\",syoriyou!G302)","v":""},{"$f":"IF(syoriyou!H302=\"\",\"\",syoriyou!H302)","v":""},{"$f":"IF(syoriyou!I302=\"\",\"\",syoriyou!I302)","v":""},{"$f":"IF(syoriyou!J302=\"\",\"\",syoriyou!N302)","v":""}]
[{"$f":"IF(syoriyou!A303=\"\",\"\",syoriyou!A303)","v":""},{"$f":"IF(syoriyou!B303=\"\",\"\",syoriyou!B303)","v":""},{"$f":"IF(syoriyou!C303=\"\",\"\",syoriyou!C303)","v":""},{"$f":"IF(syoriyou!D303=\"\",\"\",syoriyou!D303)","v":""},{"$f":"IF(syoriyou!E303=\"\",\"\",syoriyou!E303)","v":""},{"$f":"IF(syoriyou!F303=\"\",\"\",syoriyou!F303)","v":""},{"$f":"IF(syoriyou!G303=\"\",\"\",syoriyou!G303)","v":""},{"$f":"IF(syoriyou!H303=\"\",\"\",syoriyou!H303)","v":""},{"$f":"IF(syoriyou!I303=\"\",\"\",syoriyou!I303)","v":""},{"$f":"IF(syoriyou!J303=\"\",\"\",syoriyou!N303)","v":""}]
[{"$f":"IF(syoriyou!A304=\"\",\"\",syoriyou!A304)","v":""},{"$f":"IF(syoriyou!B304=\"\",\"\",syoriyou!B304)","v":""},{"$f":"IF(syoriyou!C304=\"\",\"\",syoriyou!C304)","v":""},{"$f":"IF(syoriyou!D304=\"\",\"\",syoriyou!D304)","v":""},{"$f":"IF(syoriyou!E304=\"\",\"\",syoriyou!E304)","v":""},{"$f":"IF(syoriyou!F304=\"\",\"\",syoriyou!F304)","v":""},{"$f":"IF(syoriyou!G304=\"\",\"\",syoriyou!G304)","v":""},{"$f":"IF(syoriyou!H304=\"\",\"\",syoriyou!H304)","v":""},{"$f":"IF(syoriyou!I304=\"\",\"\",syoriyou!I304)","v":""},{"$f":"IF(syoriyou!J304=\"\",\"\",syoriyou!N304)","v":""}]
[{"$f":"IF(syoriyou!A305=\"\",\"\",syoriyou!A305)","v":""},{"$f":"IF(syoriyou!B305=\"\",\"\",syoriyou!B305)","v":""},{"$f":"IF(syoriyou!C305=\"\",\"\",syoriyou!C305)","v":""},{"$f":"IF(syoriyou!D305=\"\",\"\",syoriyou!D305)","v":""},{"$f":"IF(syoriyou!E305=\"\",\"\",syoriyou!E305)","v":""},{"$f":"IF(syoriyou!F305=\"\",\"\",syoriyou!F305)","v":""},{"$f":"IF(syoriyou!G305=\"\",\"\",syoriyou!G305)","v":""},{"$f":"IF(syoriyou!H305=\"\",\"\",syoriyou!H305)","v":""},{"$f":"IF(syoriyou!I305=\"\",\"\",syoriyou!I305)","v":""},{"$f":"IF(syoriyou!J305=\"\",\"\",syoriyou!N305)","v":""}]
[{"$f":"IF(syoriyou!A306=\"\",\"\",syoriyou!A306)","v":""},{"$f":"IF(syoriyou!B306=\"\",\"\",syoriyou!B306)","v":""},{"$f":"IF(syoriyou!C306=\"\",\"\",syoriyou!C306)","v":""},{"$f":"IF(syoriyou!D306=\"\",\"\",syoriyou!D306)","v":""},{"$f":"IF(syoriyou!E306=\"\",\"\",syoriyou!E306)","v":""},{"$f":"IF(syoriyou!F306=\"\",\"\",syoriyou!F306)","v":""},{"$f":"IF(syoriyou!G306=\"\",\"\",syoriyou!G306)","v":""},{"$f":"IF(syoriyou!H306=\"\",\"\",syoriyou!H306)","v":""},{"$f":"IF(syoriyou!I306=\"\",\"\",syoriyou!I306)","v":""},{"$f":"IF(syoriyou!J306=\"\",\"\",syoriyou!N306)","v":""}]
[{"$f":"IF(syoriyou!A307=\"\",\"\",syoriyou!A307)","v":""},{"$f":"IF(syoriyou!B307=\"\",\"\",syoriyou!B307)","v":""},{"$f":"IF(syoriyou!C307=\"\",\"\",syoriyou!C307)","v":""},{"$f":"IF(syoriyou!D307=\"\",\"\",syoriyou!D307)","v":""},{"$f":"IF(syoriyou!E307=\"\",\"\",syoriyou!E307)","v":""},{"$f":"IF(syoriyou!F307=\"\",\"\",syoriyou!F307)","v":""},{"$f":"IF(syoriyou!G307=\"\",\"\",syoriyou!G307)","v":""},{"$f":"IF(syoriyou!H307=\"\",\"\",syoriyou!H307)","v":""},{"$f":"IF(syoriyou!I307=\"\",\"\",syoriyou!I307)","v":""},{"$f":"IF(syoriyou!J307=\"\",\"\",syoriyou!N307)","v":""}]
[{"$f":"IF(syoriyou!A308=\"\",\"\",syoriyou!A308)","v":""},{"$f":"IF(syoriyou!B308=\"\",\"\",syoriyou!B308)","v":""},{"$f":"IF(syoriyou!C308=\"\",\"\",syoriyou!C308)","v":""},{"$f":"IF(syoriyou!D308=\"\",\"\",syoriyou!D308)","v":""},{"$f":"IF(syoriyou!E308=\"\",\"\",syoriyou!E308)","v":""},{"$f":"IF(syoriyou!F308=\"\",\"\",syoriyou!F308)","v":""},{"$f":"IF(syoriyou!G308=\"\",\"\",syoriyou!G308)","v":""},{"$f":"IF(syoriyou!H308=\"\",\"\",syoriyou!H308)","v":""},{"$f":"IF(syoriyou!I308=\"\",\"\",syoriyou!I308)","v":""},{"$f":"IF(syoriyou!J308=\"\",\"\",syoriyou!N308)","v":""}]
[{"$f":"IF(syoriyou!A309=\"\",\"\",syoriyou!A309)","v":""},{"$f":"IF(syoriyou!B309=\"\",\"\",syoriyou!B309)","v":""},{"$f":"IF(syoriyou!C309=\"\",\"\",syoriyou!C309)","v":""},{"$f":"IF(syoriyou!D309=\"\",\"\",syoriyou!D309)","v":""},{"$f":"IF(syoriyou!E309=\"\",\"\",syoriyou!E309)","v":""},{"$f":"IF(syoriyou!F309=\"\",\"\",syoriyou!F309)","v":""},{"$f":"IF(syoriyou!G309=\"\",\"\",syoriyou!G309)","v":""},{"$f":"IF(syoriyou!H309=\"\",\"\",syoriyou!H309)","v":""},{"$f":"IF(syoriyou!I309=\"\",\"\",syoriyou!I309)","v":""},{"$f":"IF(syoriyou!J309=\"\",\"\",syoriyou!N309)","v":""}]
[{"$f":"IF(syoriyou!A310=\"\",\"\",syoriyou!A310)","v":""},{"$f":"IF(syoriyou!B310=\"\",\"\",syoriyou!B310)","v":""},{"$f":"IF(syoriyou!C310=\"\",\"\",syoriyou!C310)","v":""},{"$f":"IF(syoriyou!D310=\"\",\"\",syoriyou!D310)","v":""},{"$f":"IF(syoriyou!E310=\"\",\"\",syoriyou!E310)","v":""},{"$f":"IF(syoriyou!F310=\"\",\"\",syoriyou!F310)","v":""},{"$f":"IF(syoriyou!G310=\"\",\"\",syoriyou!G310)","v":""},{"$f":"IF(syoriyou!H310=\"\",\"\",syoriyou!H310)","v":""},{"$f":"IF(syoriyou!I310=\"\",\"\",syoriyou!I310)","v":""},{"$f":"IF(syoriyou!J310=\"\",\"\",syoriyou!N310)","v":""}]
[{"$f":"IF(syoriyou!A311=\"\",\"\",syoriyou!A311)","v":""},{"$f":"IF(syoriyou!B311=\"\",\"\",syoriyou!B311)","v":""},{"$f":"IF(syoriyou!C311=\"\",\"\",syoriyou!C311)","v":""},{"$f":"IF(syoriyou!D311=\"\",\"\",syoriyou!D311)","v":""},{"$f":"IF(syoriyou!E311=\"\",\"\",syoriyou!E311)","v":""},{"$f":"IF(syoriyou!F311=\"\",\"\",syoriyou!F311)","v":""},{"$f":"IF(syoriyou!G311=\"\",\"\",syoriyou!G311)","v":""},{"$f":"IF(syoriyou!H311=\"\",\"\",syoriyou!H311)","v":""},{"$f":"IF(syoriyou!I311=\"\",\"\",syoriyou!I311)","v":""},{"$f":"IF(syoriyou!J311=\"\",\"\",syoriyou!N311)","v":""}]
[{"$f":"IF(syoriyou!A312=\"\",\"\",syoriyou!A312)","v":""},{"$f":"IF(syoriyou!B312=\"\",\"\",syoriyou!B312)","v":""},{"$f":"IF(syoriyou!C312=\"\",\"\",syoriyou!C312)","v":""},{"$f":"IF(syoriyou!D312=\"\",\"\",syoriyou!D312)","v":""},{"$f":"IF(syoriyou!E312=\"\",\"\",syoriyou!E312)","v":""},{"$f":"IF(syoriyou!F312=\"\",\"\",syoriyou!F312)","v":""},{"$f":"IF(syoriyou!G312=\"\",\"\",syoriyou!G312)","v":""},{"$f":"IF(syoriyou!H312=\"\",\"\",syoriyou!H312)","v":""},{"$f":"IF(syoriyou!I312=\"\",\"\",syoriyou!I312)","v":""},{"$f":"IF(syoriyou!J312=\"\",\"\",syoriyou!N312)","v":""}]
[{"$f":"IF(syoriyou!A313=\"\",\"\",syoriyou!A313)","v":""},{"$f":"IF(syoriyou!B313=\"\",\"\",syoriyou!B313)","v":""},{"$f":"IF(syoriyou!C313=\"\",\"\",syoriyou!C313)","v":""},{"$f":"IF(syoriyou!D313=\"\",\"\",syoriyou!D313)","v":""},{"$f":"IF(syoriyou!E313=\"\",\"\",syoriyou!E313)","v":""},{"$f":"IF(syoriyou!F313=\"\",\"\",syoriyou!F313)","v":""},{"$f":"IF(syoriyou!G313=\"\",\"\",syoriyou!G313)","v":""},{"$f":"IF(syoriyou!H313=\"\",\"\",syoriyou!H313)","v":""},{"$f":"IF(syoriyou!I313=\"\",\"\",syoriyou!I313)","v":""},{"$f":"IF(syoriyou!J313=\"\",\"\",syoriyou!N313)","v":""}]
[{"$f":"IF(syoriyou!A314=\"\",\"\",syoriyou!A314)","v":""},{"$f":"IF(syoriyou!B314=\"\",\"\",syoriyou!B314)","v":""},{"$f":"IF(syoriyou!C314=\"\",\"\",syoriyou!C314)","v":""},{"$f":"IF(syoriyou!D314=\"\",\"\",syoriyou!D314)","v":""},{"$f":"IF(syoriyou!E314=\"\",\"\",syoriyou!E314)","v":""},{"$f":"IF(syoriyou!F314=\"\",\"\",syoriyou!F314)","v":""},{"$f":"IF(syoriyou!G314=\"\",\"\",syoriyou!G314)","v":""},{"$f":"IF(syoriyou!H314=\"\",\"\",syoriyou!H314)","v":""},{"$f":"IF(syoriyou!I314=\"\",\"\",syoriyou!I314)","v":""},{"$f":"IF(syoriyou!J314=\"\",\"\",syoriyou!N314)","v":""}]
[{"$f":"IF(syoriyou!A315=\"\",\"\",syoriyou!A315)","v":""},{"$f":"IF(syoriyou!B315=\"\",\"\",syoriyou!B315)","v":""},{"$f":"IF(syoriyou!C315=\"\",\"\",syoriyou!C315)","v":""},{"$f":"IF(syoriyou!D315=\"\",\"\",syoriyou!D315)","v":""},{"$f":"IF(syoriyou!E315=\"\",\"\",syoriyou!E315)","v":""},{"$f":"IF(syoriyou!F315=\"\",\"\",syoriyou!F315)","v":""},{"$f":"IF(syoriyou!G315=\"\",\"\",syoriyou!G315)","v":""},{"$f":"IF(syoriyou!H315=\"\",\"\",syoriyou!H315)","v":""},{"$f":"IF(syoriyou!I315=\"\",\"\",syoriyou!I315)","v":""},{"$f":"IF(syoriyou!J315=\"\",\"\",syoriyou!N315)","v":""}]
[{"$f":"IF(syoriyou!A316=\"\",\"\",syoriyou!A316)","v":""},{"$f":"IF(syoriyou!B316=\"\",\"\",syoriyou!B316)","v":""},{"$f":"IF(syoriyou!C316=\"\",\"\",syoriyou!C316)","v":""},{"$f":"IF(syoriyou!D316=\"\",\"\",syoriyou!D316)","v":""},{"$f":"IF(syoriyou!E316=\"\",\"\",syoriyou!E316)","v":""},{"$f":"IF(syoriyou!F316=\"\",\"\",syoriyou!F316)","v":""},{"$f":"IF(syoriyou!G316=\"\",\"\",syoriyou!G316)","v":""},{"$f":"IF(syoriyou!H316=\"\",\"\",syoriyou!H316)","v":""},{"$f":"IF(syoriyou!I316=\"\",\"\",syoriyou!I316)","v":""},{"$f":"IF(syoriyou!J316=\"\",\"\",syoriyou!N316)","v":""}]
[{"$f":"IF(syoriyou!A317=\"\",\"\",syoriyou!A317)","v":""},{"$f":"IF(syoriyou!B317=\"\",\"\",syoriyou!B317)","v":""},{"$f":"IF(syoriyou!C317=\"\",\"\",syoriyou!C317)","v":""},{"$f":"IF(syoriyou!D317=\"\",\"\",syoriyou!D317)","v":""},{"$f":"IF(syoriyou!E317=\"\",\"\",syoriyou!E317)","v":""},{"$f":"IF(syoriyou!F317=\"\",\"\",syoriyou!F317)","v":""},{"$f":"IF(syoriyou!G317=\"\",\"\",syoriyou!G317)","v":""},{"$f":"IF(syoriyou!H317=\"\",\"\",syoriyou!H317)","v":""},{"$f":"IF(syoriyou!I317=\"\",\"\",syoriyou!I317)","v":""},{"$f":"IF(syoriyou!J317=\"\",\"\",syoriyou!N317)","v":""}]
[{"$f":"IF(syoriyou!A318=\"\",\"\",syoriyou!A318)","v":""},{"$f":"IF(syoriyou!B318=\"\",\"\",syoriyou!B318)","v":""},{"$f":"IF(syoriyou!C318=\"\",\"\",syoriyou!C318)","v":""},{"$f":"IF(syoriyou!D318=\"\",\"\",syoriyou!D318)","v":""},{"$f":"IF(syoriyou!E318=\"\",\"\",syoriyou!E318)","v":""},{"$f":"IF(syoriyou!F318=\"\",\"\",syoriyou!F318)","v":""},{"$f":"IF(syoriyou!G318=\"\",\"\",syoriyou!G318)","v":""},{"$f":"IF(syoriyou!H318=\"\",\"\",syoriyou!H318)","v":""},{"$f":"IF(syoriyou!I318=\"\",\"\",syoriyou!I318)","v":""},{"$f":"IF(syoriyou!J318=\"\",\"\",syoriyou!N318)","v":""}]
[{"$f":"IF(syoriyou!A319=\"\",\"\",syoriyou!A319)","v":""},{"$f":"IF(syoriyou!B319=\"\",\"\",syoriyou!B319)","v":""},{"$f":"IF(syoriyou!C319=\"\",\"\",syoriyou!C319)","v":""},{"$f":"IF(syoriyou!D319=\"\",\"\",syoriyou!D319)","v":""},{"$f":"IF(syoriyou!E319=\"\",\"\",syoriyou!E319)","v":""},{"$f":"IF(syoriyou!F319=\"\",\"\",syoriyou!F319)","v":""},{"$f":"IF(syoriyou!G319=\"\",\"\",syoriyou!G319)","v":""},{"$f":"IF(syoriyou!H319=\"\",\"\",syoriyou!H319)","v":""},{"$f":"IF(syoriyou!I319=\"\",\"\",syoriyou!I319)","v":""},{"$f":"IF(syoriyou!J319=\"\",\"\",syoriyou!N319)","v":""}]
[{"$f":"IF(syoriyou!A320=\"\",\"\",syoriyou!A320)","v":""},{"$f":"IF(syoriyou!B320=\"\",\"\",syoriyou!B320)","v":""},{"$f":"IF(syoriyou!C320=\"\",\"\",syoriyou!C320)","v":""},{"$f":"IF(syoriyou!D320=\"\",\"\",syoriyou!D320)","v":""},{"$f":"IF(syoriyou!E320=\"\",\"\",syoriyou!E320)","v":""},{"$f":"IF(syoriyou!F320=\"\",\"\",syoriyou!F320)","v":""},{"$f":"IF(syoriyou!G320=\"\",\"\",syoriyou!G320)","v":""},{"$f":"IF(syoriyou!H320=\"\",\"\",syoriyou!H320)","v":""},{"$f":"IF(syoriyou!I320=\"\",\"\",syoriyou!I320)","v":""},{"$f":"IF(syoriyou!J320=\"\",\"\",syoriyou!N320)","v":""}]
[{"$f":"IF(syoriyou!A321=\"\",\"\",syoriyou!A321)","v":""},{"$f":"IF(syoriyou!B321=\"\",\"\",syoriyou!B321)","v":""},{"$f":"IF(syoriyou!C321=\"\",\"\",syoriyou!C321)","v":""},{"$f":"IF(syoriyou!D321=\"\",\"\",syoriyou!D321)","v":""},{"$f":"IF(syoriyou!E321=\"\",\"\",syoriyou!E321)","v":""},{"$f":"IF(syoriyou!F321=\"\",\"\",syoriyou!F321)","v":""},{"$f":"IF(syoriyou!G321=\"\",\"\",syoriyou!G321)","v":""},{"$f":"IF(syoriyou!H321=\"\",\"\",syoriyou!H321)","v":""},{"$f":"IF(syoriyou!I321=\"\",\"\",syoriyou!I321)","v":""},{"$f":"IF(syoriyou!J321=\"\",\"\",syoriyou!N321)","v":""}]
[{"$f":"IF(syoriyou!A322=\"\",\"\",syoriyou!A322)","v":""},{"$f":"IF(syoriyou!B322=\"\",\"\",syoriyou!B322)","v":""},{"$f":"IF(syoriyou!C322=\"\",\"\",syoriyou!C322)","v":""},{"$f":"IF(syoriyou!D322=\"\",\"\",syoriyou!D322)","v":""},{"$f":"IF(syoriyou!E322=\"\",\"\",syoriyou!E322)","v":""},{"$f":"IF(syoriyou!F322=\"\",\"\",syoriyou!F322)","v":""},{"$f":"IF(syoriyou!G322=\"\",\"\",syoriyou!G322)","v":""},{"$f":"IF(syoriyou!H322=\"\",\"\",syoriyou!H322)","v":""},{"$f":"IF(syoriyou!I322=\"\",\"\",syoriyou!I322)","v":""},{"$f":"IF(syoriyou!J322=\"\",\"\",syoriyou!N322)","v":""}]
[{"$f":"IF(syoriyou!A323=\"\",\"\",syoriyou!A323)","v":""},{"$f":"IF(syoriyou!B323=\"\",\"\",syoriyou!B323)","v":""},{"$f":"IF(syoriyou!C323=\"\",\"\",syoriyou!C323)","v":""},{"$f":"IF(syoriyou!D323=\"\",\"\",syoriyou!D323)","v":""},{"$f":"IF(syoriyou!E323=\"\",\"\",syoriyou!E323)","v":""},{"$f":"IF(syoriyou!F323=\"\",\"\",syoriyou!F323)","v":""},{"$f":"IF(syoriyou!G323=\"\",\"\",syoriyou!G323)","v":""},{"$f":"IF(syoriyou!H323=\"\",\"\",syoriyou!H323)","v":""},{"$f":"IF(syoriyou!I323=\"\",\"\",syoriyou!I323)","v":""},{"$f":"IF(syoriyou!J323=\"\",\"\",syoriyou!N323)","v":""}]
[{"$f":"IF(syoriyou!A324=\"\",\"\",syoriyou!A324)","v":""},{"$f":"IF(syoriyou!B324=\"\",\"\",syoriyou!B324)","v":""},{"$f":"IF(syoriyou!C324=\"\",\"\",syoriyou!C324)","v":""},{"$f":"IF(syoriyou!D324=\"\",\"\",syoriyou!D324)","v":""},{"$f":"IF(syoriyou!E324=\"\",\"\",syoriyou!E324)","v":""},{"$f":"IF(syoriyou!F324=\"\",\"\",syoriyou!F324)","v":""},{"$f":"IF(syoriyou!G324=\"\",\"\",syoriyou!G324)","v":""},{"$f":"IF(syoriyou!H324=\"\",\"\",syoriyou!H324)","v":""},{"$f":"IF(syoriyou!I324=\"\",\"\",syoriyou!I324)","v":""},{"$f":"IF(syoriyou!J324=\"\",\"\",syoriyou!N324)","v":""}]
[{"$f":"IF(syoriyou!A325=\"\",\"\",syoriyou!A325)","v":""},{"$f":"IF(syoriyou!B325=\"\",\"\",syoriyou!B325)","v":""},{"$f":"IF(syoriyou!C325=\"\",\"\",syoriyou!C325)","v":""},{"$f":"IF(syoriyou!D325=\"\",\"\",syoriyou!D325)","v":""},{"$f":"IF(syoriyou!E325=\"\",\"\",syoriyou!E325)","v":""},{"$f":"IF(syoriyou!F325=\"\",\"\",syoriyou!F325)","v":""},{"$f":"IF(syoriyou!G325=\"\",\"\",syoriyou!G325)","v":""},{"$f":"IF(syoriyou!H325=\"\",\"\",syoriyou!H325)","v":""},{"$f":"IF(syoriyou!I325=\"\",\"\",syoriyou!I325)","v":""},{"$f":"IF(syoriyou!J325=\"\",\"\",syoriyou!N325)","v":""}]
[{"$f":"IF(syoriyou!A326=\"\",\"\",syoriyou!A326)","v":""},{"$f":"IF(syoriyou!B326=\"\",\"\",syoriyou!B326)","v":""},{"$f":"IF(syoriyou!C326=\"\",\"\",syoriyou!C326)","v":""},{"$f":"IF(syoriyou!D326=\"\",\"\",syoriyou!D326)","v":""},{"$f":"IF(syoriyou!E326=\"\",\"\",syoriyou!E326)","v":""},{"$f":"IF(syoriyou!F326=\"\",\"\",syoriyou!F326)","v":""},{"$f":"IF(syoriyou!G326=\"\",\"\",syoriyou!G326)","v":""},{"$f":"IF(syoriyou!H326=\"\",\"\",syoriyou!H326)","v":""},{"$f":"IF(syoriyou!I326=\"\",\"\",syoriyou!I326)","v":""},{"$f":"IF(syoriyou!J326=\"\",\"\",syoriyou!N326)","v":""}]
[{"$f":"IF(syoriyou!A327=\"\",\"\",syoriyou!A327)","v":""},{"$f":"IF(syoriyou!B327=\"\",\"\",syoriyou!B327)","v":""},{"$f":"IF(syoriyou!C327=\"\",\"\",syoriyou!C327)","v":""},{"$f":"IF(syoriyou!D327=\"\",\"\",syoriyou!D327)","v":""},{"$f":"IF(syoriyou!E327=\"\",\"\",syoriyou!E327)","v":""},{"$f":"IF(syoriyou!F327=\"\",\"\",syoriyou!F327)","v":""},{"$f":"IF(syoriyou!G327=\"\",\"\",syoriyou!G327)","v":""},{"$f":"IF(syoriyou!H327=\"\",\"\",syoriyou!H327)","v":""},{"$f":"IF(syoriyou!I327=\"\",\"\",syoriyou!I327)","v":""},{"$f":"IF(syoriyou!J327=\"\",\"\",syoriyou!N327)","v":""}]
[{"$f":"IF(syoriyou!A328=\"\",\"\",syoriyou!A328)","v":""},{"$f":"IF(syoriyou!B328=\"\",\"\",syoriyou!B328)","v":""},{"$f":"IF(syoriyou!C328=\"\",\"\",syoriyou!C328)","v":""},{"$f":"IF(syoriyou!D328=\"\",\"\",syoriyou!D328)","v":""},{"$f":"IF(syoriyou!E328=\"\",\"\",syoriyou!E328)","v":""},{"$f":"IF(syoriyou!F328=\"\",\"\",syoriyou!F328)","v":""},{"$f":"IF(syoriyou!G328=\"\",\"\",syoriyou!G328)","v":""},{"$f":"IF(syoriyou!H328=\"\",\"\",syoriyou!H328)","v":""},{"$f":"IF(syoriyou!I328=\"\",\"\",syoriyou!I328)","v":""},{"$f":"IF(syoriyou!J328=\"\",\"\",syoriyou!N328)","v":""}]
[{"$f":"IF(syoriyou!A329=\"\",\"\",syoriyou!A329)","v":""},{"$f":"IF(syoriyou!B329=\"\",\"\",syoriyou!B329)","v":""},{"$f":"IF(syoriyou!C329=\"\",\"\",syoriyou!C329)","v":""},{"$f":"IF(syoriyou!D329=\"\",\"\",syoriyou!D329)","v":""},{"$f":"IF(syoriyou!E329=\"\",\"\",syoriyou!E329)","v":""},{"$f":"IF(syoriyou!F329=\"\",\"\",syoriyou!F329)","v":""},{"$f":"IF(syoriyou!G329=\"\",\"\",syoriyou!G329)","v":""},{"$f":"IF(syoriyou!H329=\"\",\"\",syoriyou!H329)","v":""},{"$f":"IF(syoriyou!I329=\"\",\"\",syoriyou!I329)","v":""},{"$f":"IF(syoriyou!J329=\"\",\"\",syoriyou!N329)","v":""}]
[{"$f":"IF(syoriyou!A330=\"\",\"\",syoriyou!A330)","v":""},{"$f":"IF(syoriyou!B330=\"\",\"\",syoriyou!B330)","v":""},{"$f":"IF(syoriyou!C330=\"\",\"\",syoriyou!C330)","v":""},{"$f":"IF(syoriyou!D330=\"\",\"\",syoriyou!D330)","v":""},{"$f":"IF(syoriyou!E330=\"\",\"\",syoriyou!E330)","v":""},{"$f":"IF(syoriyou!F330=\"\",\"\",syoriyou!F330)","v":""},{"$f":"IF(syoriyou!G330=\"\",\"\",syoriyou!G330)","v":""},{"$f":"IF(syoriyou!H330=\"\",\"\",syoriyou!H330)","v":""},{"$f":"IF(syoriyou!I330=\"\",\"\",syoriyou!I330)","v":""},{"$f":"IF(syoriyou!J330=\"\",\"\",syoriyou!N330)","v":""}]
[{"$f":"IF(syoriyou!A331=\"\",\"\",syoriyou!A331)","v":""},{"$f":"IF(syoriyou!B331=\"\",\"\",syoriyou!B331)","v":""},{"$f":"IF(syoriyou!C331=\"\",\"\",syoriyou!C331)","v":""},{"$f":"IF(syoriyou!D331=\"\",\"\",syoriyou!D331)","v":""},{"$f":"IF(syoriyou!E331=\"\",\"\",syoriyou!E331)","v":""},{"$f":"IF(syoriyou!F331=\"\",\"\",syoriyou!F331)","v":""},{"$f":"IF(syoriyou!G331=\"\",\"\",syoriyou!G331)","v":""},{"$f":"IF(syoriyou!H331=\"\",\"\",syoriyou!H331)","v":""},{"$f":"IF(syoriyou!I331=\"\",\"\",syoriyou!I331)","v":""},{"$f":"IF(syoriyou!J331=\"\",\"\",syoriyou!N331)","v":""}]
[{"$f":"IF(syoriyou!A332=\"\",\"\",syoriyou!A332)","v":""},{"$f":"IF(syoriyou!B332=\"\",\"\",syoriyou!B332)","v":""},{"$f":"IF(syoriyou!C332=\"\",\"\",syoriyou!C332)","v":""},{"$f":"IF(syoriyou!D332=\"\",\"\",syoriyou!D332)","v":""},{"$f":"IF(syoriyou!E332=\"\",\"\",syoriyou!E332)","v":""},{"$f":"IF(syoriyou!F332=\"\",\"\",syoriyou!F332)","v":""},{"$f":"IF(syoriyou!G332=\"\",\"\",syoriyou!G332)","v":""},{"$f":"IF(syoriyou!H332=\"\",\"\",syoriyou!H332)","v":""},{"$f":"IF(syoriyou!I332=\"\",\"\",syoriyou!I332)","v":""},{"$f":"IF(syoriyou!J332=\"\",\"\",syoriyou!N332)","v":""}]
[{"$f":"IF(syoriyou!A333=\"\",\"\",syoriyou!A333)","v":""},{"$f":"IF(syoriyou!B333=\"\",\"\",syoriyou!B333)","v":""},{"$f":"IF(syoriyou!C333=\"\",\"\",syoriyou!C333)","v":""},{"$f":"IF(syoriyou!D333=\"\",\"\",syoriyou!D333)","v":""},{"$f":"IF(syoriyou!E333=\"\",\"\",syoriyou!E333)","v":""},{"$f":"IF(syoriyou!F333=\"\",\"\",syoriyou!F333)","v":""},{"$f":"IF(syoriyou!G333=\"\",\"\",syoriyou!G333)","v":""},{"$f":"IF(syoriyou!H333=\"\",\"\",syoriyou!H333)","v":""},{"$f":"IF(syoriyou!I333=\"\",\"\",syoriyou!I333)","v":""},{"$f":"IF(syoriyou!J333=\"\",\"\",syoriyou!N333)","v":""}]
[{"$f":"IF(syoriyou!A334=\"\",\"\",syoriyou!A334)","v":""},{"$f":"IF(syoriyou!B334=\"\",\"\",syoriyou!B334)","v":""},{"$f":"IF(syoriyou!C334=\"\",\"\",syoriyou!C334)","v":""},{"$f":"IF(syoriyou!D334=\"\",\"\",syoriyou!D334)","v":""},{"$f":"IF(syoriyou!E334=\"\",\"\",syoriyou!E334)","v":""},{"$f":"IF(syoriyou!F334=\"\",\"\",syoriyou!F334)","v":""},{"$f":"IF(syoriyou!G334=\"\",\"\",syoriyou!G334)","v":""},{"$f":"IF(syoriyou!H334=\"\",\"\",syoriyou!H334)","v":""},{"$f":"IF(syoriyou!I334=\"\",\"\",syoriyou!I334)","v":""},{"$f":"IF(syoriyou!J334=\"\",\"\",syoriyou!N334)","v":""}]
[{"$f":"IF(syoriyou!A335=\"\",\"\",syoriyou!A335)","v":""},{"$f":"IF(syoriyou!B335=\"\",\"\",syoriyou!B335)","v":""},{"$f":"IF(syoriyou!C335=\"\",\"\",syoriyou!C335)","v":""},{"$f":"IF(syoriyou!D335=\"\",\"\",syoriyou!D335)","v":""},{"$f":"IF(syoriyou!E335=\"\",\"\",syoriyou!E335)","v":""},{"$f":"IF(syoriyou!F335=\"\",\"\",syoriyou!F335)","v":""},{"$f":"IF(syoriyou!G335=\"\",\"\",syoriyou!G335)","v":""},{"$f":"IF(syoriyou!H335=\"\",\"\",syoriyou!H335)","v":""},{"$f":"IF(syoriyou!I335=\"\",\"\",syoriyou!I335)","v":""},{"$f":"IF(syoriyou!J335=\"\",\"\",syoriyou!N335)","v":""}]
[{"$f":"IF(syoriyou!A336=\"\",\"\",syoriyou!A336)","v":""},{"$f":"IF(syoriyou!B336=\"\",\"\",syoriyou!B336)","v":""},{"$f":"IF(syoriyou!C336=\"\",\"\",syoriyou!C336)","v":""},{"$f":"IF(syoriyou!D336=\"\",\"\",syoriyou!D336)","v":""},{"$f":"IF(syoriyou!E336=\"\",\"\",syoriyou!E336)","v":""},{"$f":"IF(syoriyou!F336=\"\",\"\",syoriyou!F336)","v":""},{"$f":"IF(syoriyou!G336=\"\",\"\",syoriyou!G336)","v":""},{"$f":"IF(syoriyou!H336=\"\",\"\",syoriyou!H336)","v":""},{"$f":"IF(syoriyou!I336=\"\",\"\",syoriyou!I336)","v":""},{"$f":"IF(syoriyou!J336=\"\",\"\",syoriyou!N336)","v":""}]
[{"$f":"IF(syoriyou!A337=\"\",\"\",syoriyou!A337)","v":""},{"$f":"IF(syoriyou!B337=\"\",\"\",syoriyou!B337)","v":""},{"$f":"IF(syoriyou!C337=\"\",\"\",syoriyou!C337)","v":""},{"$f":"IF(syoriyou!D337=\"\",\"\",syoriyou!D337)","v":""},{"$f":"IF(syoriyou!E337=\"\",\"\",syoriyou!E337)","v":""},{"$f":"IF(syoriyou!F337=\"\",\"\",syoriyou!F337)","v":""},{"$f":"IF(syoriyou!G337=\"\",\"\",syoriyou!G337)","v":""},{"$f":"IF(syoriyou!H337=\"\",\"\",syoriyou!H337)","v":""},{"$f":"IF(syoriyou!I337=\"\",\"\",syoriyou!I337)","v":""},{"$f":"IF(syoriyou!J337=\"\",\"\",syoriyou!N337)","v":""}]
[{"$f":"IF(syoriyou!A338=\"\",\"\",syoriyou!A338)","v":""},{"$f":"IF(syoriyou!B338=\"\",\"\",syoriyou!B338)","v":""},{"$f":"IF(syoriyou!C338=\"\",\"\",syoriyou!C338)","v":""},{"$f":"IF(syoriyou!D338=\"\",\"\",syoriyou!D338)","v":""},{"$f":"IF(syoriyou!E338=\"\",\"\",syoriyou!E338)","v":""},{"$f":"IF(syoriyou!F338=\"\",\"\",syoriyou!F338)","v":""},{"$f":"IF(syoriyou!G338=\"\",\"\",syoriyou!G338)","v":""},{"$f":"IF(syoriyou!H338=\"\",\"\",syoriyou!H338)","v":""},{"$f":"IF(syoriyou!I338=\"\",\"\",syoriyou!I338)","v":""},{"$f":"IF(syoriyou!J338=\"\",\"\",syoriyou!N338)","v":""}]
[{"$f":"IF(syoriyou!A339=\"\",\"\",syoriyou!A339)","v":""},{"$f":"IF(syoriyou!B339=\"\",\"\",syoriyou!B339)","v":""},{"$f":"IF(syoriyou!C339=\"\",\"\",syoriyou!C339)","v":""},{"$f":"IF(syoriyou!D339=\"\",\"\",syoriyou!D339)","v":""},{"$f":"IF(syoriyou!E339=\"\",\"\",syoriyou!E339)","v":""},{"$f":"IF(syoriyou!F339=\"\",\"\",syoriyou!F339)","v":""},{"$f":"IF(syoriyou!G339=\"\",\"\",syoriyou!G339)","v":""},{"$f":"IF(syoriyou!H339=\"\",\"\",syoriyou!H339)","v":""},{"$f":"IF(syoriyou!I339=\"\",\"\",syoriyou!I339)","v":""},{"$f":"IF(syoriyou!J339=\"\",\"\",syoriyou!N339)","v":""}]
[{"$f":"IF(syoriyou!A340=\"\",\"\",syoriyou!A340)","v":""},{"$f":"IF(syoriyou!B340=\"\",\"\",syoriyou!B340)","v":""},{"$f":"IF(syoriyou!C340=\"\",\"\",syoriyou!C340)","v":""},{"$f":"IF(syoriyou!D340=\"\",\"\",syoriyou!D340)","v":""},{"$f":"IF(syoriyou!E340=\"\",\"\",syoriyou!E340)","v":""},{"$f":"IF(syoriyou!F340=\"\",\"\",syoriyou!F340)","v":""},{"$f":"IF(syoriyou!G340=\"\",\"\",syoriyou!G340)","v":""},{"$f":"IF(syoriyou!H340=\"\",\"\",syoriyou!H340)","v":""},{"$f":"IF(syoriyou!I340=\"\",\"\",syoriyou!I340)","v":""},{"$f":"IF(syoriyou!J340=\"\",\"\",syoriyou!N340)","v":""}]
[{"$f":"IF(syoriyou!A341=\"\",\"\",syoriyou!A341)","v":""},{"$f":"IF(syoriyou!B341=\"\",\"\",syoriyou!B341)","v":""},{"$f":"IF(syoriyou!C341=\"\",\"\",syoriyou!C341)","v":""},{"$f":"IF(syoriyou!D341=\"\",\"\",syoriyou!D341)","v":""},{"$f":"IF(syoriyou!E341=\"\",\"\",syoriyou!E341)","v":""},{"$f":"IF(syoriyou!F341=\"\",\"\",syoriyou!F341)","v":""},{"$f":"IF(syoriyou!G341=\"\",\"\",syoriyou!G341)","v":""},{"$f":"IF(syoriyou!H341=\"\",\"\",syoriyou!H341)","v":""},{"$f":"IF(syoriyou!I341=\"\",\"\",syoriyou!I341)","v":""},{"$f":"IF(syoriyou!J341=\"\",\"\",syoriyou!N341)","v":""}]
[{"$f":"IF(syoriyou!A342=\"\",\"\",syoriyou!A342)","v":""},{"$f":"IF(syoriyou!B342=\"\",\"\",syoriyou!B342)","v":""},{"$f":"IF(syoriyou!C342=\"\",\"\",syoriyou!C342)","v":""},{"$f":"IF(syoriyou!D342=\"\",\"\",syoriyou!D342)","v":""},{"$f":"IF(syoriyou!E342=\"\",\"\",syoriyou!E342)","v":""},{"$f":"IF(syoriyou!F342=\"\",\"\",syoriyou!F342)","v":""},{"$f":"IF(syoriyou!G342=\"\",\"\",syoriyou!G342)","v":""},{"$f":"IF(syoriyou!H342=\"\",\"\",syoriyou!H342)","v":""},{"$f":"IF(syoriyou!I342=\"\",\"\",syoriyou!I342)","v":""},{"$f":"IF(syoriyou!J342=\"\",\"\",syoriyou!N342)","v":""}]
[{"$f":"IF(syoriyou!A343=\"\",\"\",syoriyou!A343)","v":""},{"$f":"IF(syoriyou!B343=\"\",\"\",syoriyou!B343)","v":""},{"$f":"IF(syoriyou!C343=\"\",\"\",syoriyou!C343)","v":""},{"$f":"IF(syoriyou!D343=\"\",\"\",syoriyou!D343)","v":""},{"$f":"IF(syoriyou!E343=\"\",\"\",syoriyou!E343)","v":""},{"$f":"IF(syoriyou!F343=\"\",\"\",syoriyou!F343)","v":""},{"$f":"IF(syoriyou!G343=\"\",\"\",syoriyou!G343)","v":""},{"$f":"IF(syoriyou!H343=\"\",\"\",syoriyou!H343)","v":""},{"$f":"IF(syoriyou!I343=\"\",\"\",syoriyou!I343)","v":""},{"$f":"IF(syoriyou!J343=\"\",\"\",syoriyou!N343)","v":""}]
[{"$f":"IF(syoriyou!A344=\"\",\"\",syoriyou!A344)","v":""},{"$f":"IF(syoriyou!B344=\"\",\"\",syoriyou!B344)","v":""},{"$f":"IF(syoriyou!C344=\"\",\"\",syoriyou!C344)","v":""},{"$f":"IF(syoriyou!D344=\"\",\"\",syoriyou!D344)","v":""},{"$f":"IF(syoriyou!E344=\"\",\"\",syoriyou!E344)","v":""},{"$f":"IF(syoriyou!F344=\"\",\"\",syoriyou!F344)","v":""},{"$f":"IF(syoriyou!G344=\"\",\"\",syoriyou!G344)","v":""},{"$f":"IF(syoriyou!H344=\"\",\"\",syoriyou!H344)","v":""},{"$f":"IF(syoriyou!I344=\"\",\"\",syoriyou!I344)","v":""},{"$f":"IF(syoriyou!J344=\"\",\"\",syoriyou!N344)","v":""}]
[{"$f":"IF(syoriyou!A345=\"\",\"\",syoriyou!A345)","v":""},{"$f":"IF(syoriyou!B345=\"\",\"\",syoriyou!B345)","v":""},{"$f":"IF(syoriyou!C345=\"\",\"\",syoriyou!C345)","v":""},{"$f":"IF(syoriyou!D345=\"\",\"\",syoriyou!D345)","v":""},{"$f":"IF(syoriyou!E345=\"\",\"\",syoriyou!E345)","v":""},{"$f":"IF(syoriyou!F345=\"\",\"\",syoriyou!F345)","v":""},{"$f":"IF(syoriyou!G345=\"\",\"\",syoriyou!G345)","v":""},{"$f":"IF(syoriyou!H345=\"\",\"\",syoriyou!H345)","v":""},{"$f":"IF(syoriyou!I345=\"\",\"\",syoriyou!I345)","v":""},{"$f":"IF(syoriyou!J345=\"\",\"\",syoriyou!N345)","v":""}]
[{"$f":"IF(syoriyou!A346=\"\",\"\",syoriyou!A346)","v":""},{"$f":"IF(syoriyou!B346=\"\",\"\",syoriyou!B346)","v":""},{"$f":"IF(syoriyou!C346=\"\",\"\",syoriyou!C346)","v":""},{"$f":"IF(syoriyou!D346=\"\",\"\",syoriyou!D346)","v":""},{"$f":"IF(syoriyou!E346=\"\",\"\",syoriyou!E346)","v":""},{"$f":"IF(syoriyou!F346=\"\",\"\",syoriyou!F346)","v":""},{"$f":"IF(syoriyou!G346=\"\",\"\",syoriyou!G346)","v":""},{"$f":"IF(syoriyou!H346=\"\",\"\",syoriyou!H346)","v":""},{"$f":"IF(syoriyou!I346=\"\",\"\",syoriyou!I346)","v":""},{"$f":"IF(syoriyou!J346=\"\",\"\",syoriyou!N346)","v":""}]
[{"$f":"IF(syoriyou!A347=\"\",\"\",syoriyou!A347)","v":""},{"$f":"IF(syoriyou!B347=\"\",\"\",syoriyou!B347)","v":""},{"$f":"IF(syoriyou!C347=\"\",\"\",syoriyou!C347)","v":""},{"$f":"IF(syoriyou!D347=\"\",\"\",syoriyou!D347)","v":""},{"$f":"IF(syoriyou!E347=\"\",\"\",syoriyou!E347)","v":""},{"$f":"IF(syoriyou!F347=\"\",\"\",syoriyou!F347)","v":""},{"$f":"IF(syoriyou!G347=\"\",\"\",syoriyou!G347)","v":""},{"$f":"IF(syoriyou!H347=\"\",\"\",syoriyou!H347)","v":""},{"$f":"IF(syoriyou!I347=\"\",\"\",syoriyou!I347)","v":""},{"$f":"IF(syoriyou!J347=\"\",\"\",syoriyou!N347)","v":""}]
[{"$f":"IF(syoriyou!A348=\"\",\"\",syoriyou!A348)","v":""},{"$f":"IF(syoriyou!B348=\"\",\"\",syoriyou!B348)","v":""},{"$f":"IF(syoriyou!C348=\"\",\"\",syoriyou!C348)","v":""},{"$f":"IF(syoriyou!D348=\"\",\"\",syoriyou!D348)","v":""},{"$f":"IF(syoriyou!E348=\"\",\"\",syoriyou!E348)","v":""},{"$f":"IF(syoriyou!F348=\"\",\"\",syoriyou!F348)","v":""},{"$f":"IF(syoriyou!G348=\"\",\"\",syoriyou!G348)","v":""},{"$f":"IF(syoriyou!H348=\"\",\"\",syoriyou!H348)","v":""},{"$f":"IF(syoriyou!I348=\"\",\"\",syoriyou!I348)","v":""},{"$f":"IF(syoriyou!J348=\"\",\"\",syoriyou!N348)","v":""}]
[{"$f":"IF(syoriyou!A349=\"\",\"\",syoriyou!A349)","v":""},{"$f":"IF(syoriyou!B349=\"\",\"\",syoriyou!B349)","v":""},{"$f":"IF(syoriyou!C349=\"\",\"\",syoriyou!C349)","v":""},{"$f":"IF(syoriyou!D349=\"\",\"\",syoriyou!D349)","v":""},{"$f":"IF(syoriyou!E349=\"\",\"\",syoriyou!E349)","v":""},{"$f":"IF(syoriyou!F349=\"\",\"\",syoriyou!F349)","v":""},{"$f":"IF(syoriyou!G349=\"\",\"\",syoriyou!G349)","v":""},{"$f":"IF(syoriyou!H349=\"\",\"\",syoriyou!H349)","v":""},{"$f":"IF(syoriyou!I349=\"\",\"\",syoriyou!I349)","v":""},{"$f":"IF(syoriyou!J349=\"\",\"\",syoriyou!N349)","v":""}]
[{"$f":"IF(syoriyou!A350=\"\",\"\",syoriyou!A350)","v":""},{"$f":"IF(syoriyou!B350=\"\",\"\",syoriyou!B350)","v":""},{"$f":"IF(syoriyou!C350=\"\",\"\",syoriyou!C350)","v":""},{"$f":"IF(syoriyou!D350=\"\",\"\",syoriyou!D350)","v":""},{"$f":"IF(syoriyou!E350=\"\",\"\",syoriyou!E350)","v":""},{"$f":"IF(syoriyou!F350=\"\",\"\",syoriyou!F350)","v":""},{"$f":"IF(syoriyou!G350=\"\",\"\",syoriyou!G350)","v":""},{"$f":"IF(syoriyou!H350=\"\",\"\",syoriyou!H350)","v":""},{"$f":"IF(syoriyou!I350=\"\",\"\",syoriyou!I350)","v":""},{"$f":"IF(syoriyou!J350=\"\",\"\",syoriyou!N350)","v":""}]
[{"$f":"IF(syoriyou!A351=\"\",\"\",syoriyou!A351)","v":""},{"$f":"IF(syoriyou!B351=\"\",\"\",syoriyou!B351)","v":""},{"$f":"IF(syoriyou!C351=\"\",\"\",syoriyou!C351)","v":""},{"$f":"IF(syoriyou!D351=\"\",\"\",syoriyou!D351)","v":""},{"$f":"IF(syoriyou!E351=\"\",\"\",syoriyou!E351)","v":""},{"$f":"IF(syoriyou!F351=\"\",\"\",syoriyou!F351)","v":""},{"$f":"IF(syoriyou!G351=\"\",\"\",syoriyou!G351)","v":""},{"$f":"IF(syoriyou!H351=\"\",\"\",syoriyou!H351)","v":""},{"$f":"IF(syoriyou!I351=\"\",\"\",syoriyou!I351)","v":""},{"$f":"IF(syoriyou!J351=\"\",\"\",syoriyou!N351)","v":""}]
[{"$f":"IF(syoriyou!A352=\"\",\"\",syoriyou!A352)","v":""},{"$f":"IF(syoriyou!B352=\"\",\"\",syoriyou!B352)","v":""},{"$f":"IF(syoriyou!C352=\"\",\"\",syoriyou!C352)","v":""},{"$f":"IF(syoriyou!D352=\"\",\"\",syoriyou!D352)","v":""},{"$f":"IF(syoriyou!E352=\"\",\"\",syoriyou!E352)","v":""},{"$f":"IF(syoriyou!F352=\"\",\"\",syoriyou!F352)","v":""},{"$f":"IF(syoriyou!G352=\"\",\"\",syoriyou!G352)","v":""},{"$f":"IF(syoriyou!H352=\"\",\"\",syoriyou!H352)","v":""},{"$f":"IF(syoriyou!I352=\"\",\"\",syoriyou!I352)","v":""},{"$f":"IF(syoriyou!J352=\"\",\"\",syoriyou!N352)","v":""}]
[{"$f":"IF(syoriyou!A353=\"\",\"\",syoriyou!A353)","v":""},{"$f":"IF(syoriyou!B353=\"\",\"\",syoriyou!B353)","v":""},{"$f":"IF(syoriyou!C353=\"\",\"\",syoriyou!C353)","v":""},{"$f":"IF(syoriyou!D353=\"\",\"\",syoriyou!D353)","v":""},{"$f":"IF(syoriyou!E353=\"\",\"\",syoriyou!E353)","v":""},{"$f":"IF(syoriyou!F353=\"\",\"\",syoriyou!F353)","v":""},{"$f":"IF(syoriyou!G353=\"\",\"\",syoriyou!G353)","v":""},{"$f":"IF(syoriyou!H353=\"\",\"\",syoriyou!H353)","v":""},{"$f":"IF(syoriyou!I353=\"\",\"\",syoriyou!I353)","v":""},{"$f":"IF(syoriyou!J353=\"\",\"\",syoriyou!N353)","v":""}]
[{"$f":"IF(syoriyou!A354=\"\",\"\",syoriyou!A354)","v":""},{"$f":"IF(syoriyou!B354=\"\",\"\",syoriyou!B354)","v":""},{"$f":"IF(syoriyou!C354=\"\",\"\",syoriyou!C354)","v":""},{"$f":"IF(syoriyou!D354=\"\",\"\",syoriyou!D354)","v":""},{"$f":"IF(syoriyou!E354=\"\",\"\",syoriyou!E354)","v":""},{"$f":"IF(syoriyou!F354=\"\",\"\",syoriyou!F354)","v":""},{"$f":"IF(syoriyou!G354=\"\",\"\",syoriyou!G354)","v":""},{"$f":"IF(syoriyou!H354=\"\",\"\",syoriyou!H354)","v":""},{"$f":"IF(syoriyou!I354=\"\",\"\",syoriyou!I354)","v":""},{"$f":"IF(syoriyou!J354=\"\",\"\",syoriyou!N354)","v":""}]
[{"$f":"IF(syoriyou!A355=\"\",\"\",syoriyou!A355)","v":""},{"$f":"IF(syoriyou!B355=\"\",\"\",syoriyou!B355)","v":""},{"$f":"IF(syoriyou!C355=\"\",\"\",syoriyou!C355)","v":""},{"$f":"IF(syoriyou!D355=\"\",\"\",syoriyou!D355)","v":""},{"$f":"IF(syoriyou!E355=\"\",\"\",syoriyou!E355)","v":""},{"$f":"IF(syoriyou!F355=\"\",\"\",syoriyou!F355)","v":""},{"$f":"IF(syoriyou!G355=\"\",\"\",syoriyou!G355)","v":""},{"$f":"IF(syoriyou!H355=\"\",\"\",syoriyou!H355)","v":""},{"$f":"IF(syoriyou!I355=\"\",\"\",syoriyou!I355)","v":""},{"$f":"IF(syoriyou!J355=\"\",\"\",syoriyou!N355)","v":""}]
[{"$f":"IF(syoriyou!A356=\"\",\"\",syoriyou!A356)","v":""},{"$f":"IF(syoriyou!B356=\"\",\"\",syoriyou!B356)","v":""},{"$f":"IF(syoriyou!C356=\"\",\"\",syoriyou!C356)","v":""},{"$f":"IF(syoriyou!D356=\"\",\"\",syoriyou!D356)","v":""},{"$f":"IF(syoriyou!E356=\"\",\"\",syoriyou!E356)","v":""},{"$f":"IF(syoriyou!F356=\"\",\"\",syoriyou!F356)","v":""},{"$f":"IF(syoriyou!G356=\"\",\"\",syoriyou!G356)","v":""},{"$f":"IF(syoriyou!H356=\"\",\"\",syoriyou!H356)","v":""},{"$f":"IF(syoriyou!I356=\"\",\"\",syoriyou!I356)","v":""},{"$f":"IF(syoriyou!J356=\"\",\"\",syoriyou!N356)","v":""}]
[{"$f":"IF(syoriyou!A357=\"\",\"\",syoriyou!A357)","v":""},{"$f":"IF(syoriyou!B357=\"\",\"\",syoriyou!B357)","v":""},{"$f":"IF(syoriyou!C357=\"\",\"\",syoriyou!C357)","v":""},{"$f":"IF(syoriyou!D357=\"\",\"\",syoriyou!D357)","v":""},{"$f":"IF(syoriyou!E357=\"\",\"\",syoriyou!E357)","v":""},{"$f":"IF(syoriyou!F357=\"\",\"\",syoriyou!F357)","v":""},{"$f":"IF(syoriyou!G357=\"\",\"\",syoriyou!G357)","v":""},{"$f":"IF(syoriyou!H357=\"\",\"\",syoriyou!H357)","v":""},{"$f":"IF(syoriyou!I357=\"\",\"\",syoriyou!I357)","v":""},{"$f":"IF(syoriyou!J357=\"\",\"\",syoriyou!N357)","v":""}]
[{"$f":"IF(syoriyou!A358=\"\",\"\",syoriyou!A358)","v":""},{"$f":"IF(syoriyou!B358=\"\",\"\",syoriyou!B358)","v":""},{"$f":"IF(syoriyou!C358=\"\",\"\",syoriyou!C358)","v":""},{"$f":"IF(syoriyou!D358=\"\",\"\",syoriyou!D358)","v":""},{"$f":"IF(syoriyou!E358=\"\",\"\",syoriyou!E358)","v":""},{"$f":"IF(syoriyou!F358=\"\",\"\",syoriyou!F358)","v":""},{"$f":"IF(syoriyou!G358=\"\",\"\",syoriyou!G358)","v":""},{"$f":"IF(syoriyou!H358=\"\",\"\",syoriyou!H358)","v":""},{"$f":"IF(syoriyou!I358=\"\",\"\",syoriyou!I358)","v":""},{"$f":"IF(syoriyou!J358=\"\",\"\",syoriyou!N358)","v":""}]
[{"$f":"IF(syoriyou!A359=\"\",\"\",syoriyou!A359)","v":""},{"$f":"IF(syoriyou!B359=\"\",\"\",syoriyou!B359)","v":""},{"$f":"IF(syoriyou!C359=\"\",\"\",syoriyou!C359)","v":""},{"$f":"IF(syoriyou!D359=\"\",\"\",syoriyou!D359)","v":""},{"$f":"IF(syoriyou!E359=\"\",\"\",syoriyou!E359)","v":""},{"$f":"IF(syoriyou!F359=\"\",\"\",syoriyou!F359)","v":""},{"$f":"IF(syoriyou!G359=\"\",\"\",syoriyou!G359)","v":""},{"$f":"IF(syoriyou!H359=\"\",\"\",syoriyou!H359)","v":""},{"$f":"IF(syoriyou!I359=\"\",\"\",syoriyou!I359)","v":""},{"$f":"IF(syoriyou!J359=\"\",\"\",syoriyou!N359)","v":""}]
[{"$f":"IF(syoriyou!A360=\"\",\"\",syoriyou!A360)","v":""},{"$f":"IF(syoriyou!B360=\"\",\"\",syoriyou!B360)","v":""},{"$f":"IF(syoriyou!C360=\"\",\"\",syoriyou!C360)","v":""},{"$f":"IF(syoriyou!D360=\"\",\"\",syoriyou!D360)","v":""},{"$f":"IF(syoriyou!E360=\"\",\"\",syoriyou!E360)","v":""},{"$f":"IF(syoriyou!F360=\"\",\"\",syoriyou!F360)","v":""},{"$f":"IF(syoriyou!G360=\"\",\"\",syoriyou!G360)","v":""},{"$f":"IF(syoriyou!H360=\"\",\"\",syoriyou!H360)","v":""},{"$f":"IF(syoriyou!I360=\"\",\"\",syoriyou!I360)","v":""},{"$f":"IF(syoriyou!J360=\"\",\"\",syoriyou!N360)","v":""}]
[{"$f":"IF(syoriyou!A361=\"\",\"\",syoriyou!A361)","v":""},{"$f":"IF(syoriyou!B361=\"\",\"\",syoriyou!B361)","v":""},{"$f":"IF(syoriyou!C361=\"\",\"\",syoriyou!C361)","v":""},{"$f":"IF(syoriyou!D361=\"\",\"\",syoriyou!D361)","v":""},{"$f":"IF(syoriyou!E361=\"\",\"\",syoriyou!E361)","v":""},{"$f":"IF(syoriyou!F361=\"\",\"\",syoriyou!F361)","v":""},{"$f":"IF(syoriyou!G361=\"\",\"\",syoriyou!G361)","v":""},{"$f":"IF(syoriyou!H361=\"\",\"\",syoriyou!H361)","v":""},{"$f":"IF(syoriyou!I361=\"\",\"\",syoriyou!I361)","v":""},{"$f":"IF(syoriyou!J361=\"\",\"\",syoriyou!N361)","v":""}]
[{"$f":"IF(syoriyou!A362=\"\",\"\",syoriyou!A362)","v":""},{"$f":"IF(syoriyou!B362=\"\",\"\",syoriyou!B362)","v":""},{"$f":"IF(syoriyou!C362=\"\",\"\",syoriyou!C362)","v":""},{"$f":"IF(syoriyou!D362=\"\",\"\",syoriyou!D362)","v":""},{"$f":"IF(syoriyou!E362=\"\",\"\",syoriyou!E362)","v":""},{"$f":"IF(syoriyou!F362=\"\",\"\",syoriyou!F362)","v":""},{"$f":"IF(syoriyou!G362=\"\",\"\",syoriyou!G362)","v":""},{"$f":"IF(syoriyou!H362=\"\",\"\",syoriyou!H362)","v":""},{"$f":"IF(syoriyou!I362=\"\",\"\",syoriyou!I362)","v":""},{"$f":"IF(syoriyou!J362=\"\",\"\",syoriyou!N362)","v":""}]
[{"$f":"IF(syoriyou!A363=\"\",\"\",syoriyou!A363)","v":""},{"$f":"IF(syoriyou!B363=\"\",\"\",syoriyou!B363)","v":""},{"$f":"IF(syoriyou!C363=\"\",\"\",syoriyou!C363)","v":""},{"$f":"IF(syoriyou!D363=\"\",\"\",syoriyou!D363)","v":""},{"$f":"IF(syoriyou!E363=\"\",\"\",syoriyou!E363)","v":""},{"$f":"IF(syoriyou!F363=\"\",\"\",syoriyou!F363)","v":""},{"$f":"IF(syoriyou!G363=\"\",\"\",syoriyou!G363)","v":""},{"$f":"IF(syoriyou!H363=\"\",\"\",syoriyou!H363)","v":""},{"$f":"IF(syoriyou!I363=\"\",\"\",syoriyou!I363)","v":""},{"$f":"IF(syoriyou!J363=\"\",\"\",syoriyou!N363)","v":""}]
[{"$f":"IF(syoriyou!A364=\"\",\"\",syoriyou!A364)","v":""},{"$f":"IF(syoriyou!B364=\"\",\"\",syoriyou!B364)","v":""},{"$f":"IF(syoriyou!C364=\"\",\"\",syoriyou!C364)","v":""},{"$f":"IF(syoriyou!D364=\"\",\"\",syoriyou!D364)","v":""},{"$f":"IF(syoriyou!E364=\"\",\"\",syoriyou!E364)","v":""},{"$f":"IF(syoriyou!F364=\"\",\"\",syoriyou!F364)","v":""},{"$f":"IF(syoriyou!G364=\"\",\"\",syoriyou!G364)","v":""},{"$f":"IF(syoriyou!H364=\"\",\"\",syoriyou!H364)","v":""},{"$f":"IF(syoriyou!I364=\"\",\"\",syoriyou!I364)","v":""},{"$f":"IF(syoriyou!J364=\"\",\"\",syoriyou!N364)","v":""}]
[{"$f":"IF(syoriyou!A365=\"\",\"\",syoriyou!A365)","v":""},{"$f":"IF(syoriyou!B365=\"\",\"\",syoriyou!B365)","v":""},{"$f":"IF(syoriyou!C365=\"\",\"\",syoriyou!C365)","v":""},{"$f":"IF(syoriyou!D365=\"\",\"\",syoriyou!D365)","v":""},{"$f":"IF(syoriyou!E365=\"\",\"\",syoriyou!E365)","v":""},{"$f":"IF(syoriyou!F365=\"\",\"\",syoriyou!F365)","v":""},{"$f":"IF(syoriyou!G365=\"\",\"\",syoriyou!G365)","v":""},{"$f":"IF(syoriyou!H365=\"\",\"\",syoriyou!H365)","v":""},{"$f":"IF(syoriyou!I365=\"\",\"\",syoriyou!I365)","v":""},{"$f":"IF(syoriyou!J365=\"\",\"\",syoriyou!N365)","v":""}]
[{"$f":"IF(syoriyou!A366=\"\",\"\",syoriyou!A366)","v":""},{"$f":"IF(syoriyou!B366=\"\",\"\",syoriyou!B366)","v":""},{"$f":"IF(syoriyou!C366=\"\",\"\",syoriyou!C366)","v":""},{"$f":"IF(syoriyou!D366=\"\",\"\",syoriyou!D366)","v":""},{"$f":"IF(syoriyou!E366=\"\",\"\",syoriyou!E366)","v":""},{"$f":"IF(syoriyou!F366=\"\",\"\",syoriyou!F366)","v":""},{"$f":"IF(syoriyou!G366=\"\",\"\",syoriyou!G366)","v":""},{"$f":"IF(syoriyou!H366=\"\",\"\",syoriyou!H366)","v":""},{"$f":"IF(syoriyou!I366=\"\",\"\",syoriyou!I366)","v":""},{"$f":"IF(syoriyou!J366=\"\",\"\",syoriyou!N366)","v":""}]
[{"$f":"IF(syoriyou!A367=\"\",\"\",syoriyou!A367)","v":""},{"$f":"IF(syoriyou!B367=\"\",\"\",syoriyou!B367)","v":""},{"$f":"IF(syoriyou!C367=\"\",\"\",syoriyou!C367)","v":""},{"$f":"IF(syoriyou!D367=\"\",\"\",syoriyou!D367)","v":""},{"$f":"IF(syoriyou!E367=\"\",\"\",syoriyou!E367)","v":""},{"$f":"IF(syoriyou!F367=\"\",\"\",syoriyou!F367)","v":""},{"$f":"IF(syoriyou!G367=\"\",\"\",syoriyou!G367)","v":""},{"$f":"IF(syoriyou!H367=\"\",\"\",syoriyou!H367)","v":""},{"$f":"IF(syoriyou!I367=\"\",\"\",syoriyou!I367)","v":""},{"$f":"IF(syoriyou!J367=\"\",\"\",syoriyou!N367)","v":""}]
[{"$f":"IF(syoriyou!A368=\"\",\"\",syoriyou!A368)","v":""},{"$f":"IF(syoriyou!B368=\"\",\"\",syoriyou!B368)","v":""},{"$f":"IF(syoriyou!C368=\"\",\"\",syoriyou!C368)","v":""},{"$f":"IF(syoriyou!D368=\"\",\"\",syoriyou!D368)","v":""},{"$f":"IF(syoriyou!E368=\"\",\"\",syoriyou!E368)","v":""},{"$f":"IF(syoriyou!F368=\"\",\"\",syoriyou!F368)","v":""},{"$f":"IF(syoriyou!G368=\"\",\"\",syoriyou!G368)","v":""},{"$f":"IF(syoriyou!H368=\"\",\"\",syoriyou!H368)","v":""},{"$f":"IF(syoriyou!I368=\"\",\"\",syoriyou!I368)","v":""},{"$f":"IF(syoriyou!J368=\"\",\"\",syoriyou!N368)","v":""}]
[{"$f":"IF(syoriyou!A369=\"\",\"\",syoriyou!A369)","v":""},{"$f":"IF(syoriyou!B369=\"\",\"\",syoriyou!B369)","v":""},{"$f":"IF(syoriyou!C369=\"\",\"\",syoriyou!C369)","v":""},{"$f":"IF(syoriyou!D369=\"\",\"\",syoriyou!D369)","v":""},{"$f":"IF(syoriyou!E369=\"\",\"\",syoriyou!E369)","v":""},{"$f":"IF(syoriyou!F369=\"\",\"\",syoriyou!F369)","v":""},{"$f":"IF(syoriyou!G369=\"\",\"\",syoriyou!G369)","v":""},{"$f":"IF(syoriyou!H369=\"\",\"\",syoriyou!H369)","v":""},{"$f":"IF(syoriyou!I369=\"\",\"\",syoriyou!I369)","v":""},{"$f":"IF(syoriyou!J369=\"\",\"\",syoriyou!N369)","v":""}]
[{"$f":"IF(syoriyou!A370=\"\",\"\",syoriyou!A370)","v":""},{"$f":"IF(syoriyou!B370=\"\",\"\",syoriyou!B370)","v":""},{"$f":"IF(syoriyou!C370=\"\",\"\",syoriyou!C370)","v":""},{"$f":"IF(syoriyou!D370=\"\",\"\",syoriyou!D370)","v":""},{"$f":"IF(syoriyou!E370=\"\",\"\",syoriyou!E370)","v":""},{"$f":"IF(syoriyou!F370=\"\",\"\",syoriyou!F370)","v":""},{"$f":"IF(syoriyou!G370=\"\",\"\",syoriyou!G370)","v":""},{"$f":"IF(syoriyou!H370=\"\",\"\",syoriyou!H370)","v":""},{"$f":"IF(syoriyou!I370=\"\",\"\",syoriyou!I370)","v":""},{"$f":"IF(syoriyou!J370=\"\",\"\",syoriyou!N370)","v":""}]
[{"$f":"IF(syoriyou!A371=\"\",\"\",syoriyou!A371)","v":""},{"$f":"IF(syoriyou!B371=\"\",\"\",syoriyou!B371)","v":""},{"$f":"IF(syoriyou!C371=\"\",\"\",syoriyou!C371)","v":""},{"$f":"IF(syoriyou!D371=\"\",\"\",syoriyou!D371)","v":""},{"$f":"IF(syoriyou!E371=\"\",\"\",syoriyou!E371)","v":""},{"$f":"IF(syoriyou!F371=\"\",\"\",syoriyou!F371)","v":""},{"$f":"IF(syoriyou!G371=\"\",\"\",syoriyou!G371)","v":""},{"$f":"IF(syoriyou!H371=\"\",\"\",syoriyou!H371)","v":""},{"$f":"IF(syoriyou!I371=\"\",\"\",syoriyou!I371)","v":""},{"$f":"IF(syoriyou!J371=\"\",\"\",syoriyou!N371)","v":""}]
[{"$f":"IF(syoriyou!A372=\"\",\"\",syoriyou!A372)","v":""},{"$f":"IF(syoriyou!B372=\"\",\"\",syoriyou!B372)","v":""},{"$f":"IF(syoriyou!C372=\"\",\"\",syoriyou!C372)","v":""},{"$f":"IF(syoriyou!D372=\"\",\"\",syoriyou!D372)","v":""},{"$f":"IF(syoriyou!E372=\"\",\"\",syoriyou!E372)","v":""},{"$f":"IF(syoriyou!F372=\"\",\"\",syoriyou!F372)","v":""},{"$f":"IF(syoriyou!G372=\"\",\"\",syoriyou!G372)","v":""},{"$f":"IF(syoriyou!H372=\"\",\"\",syoriyou!H372)","v":""},{"$f":"IF(syoriyou!I372=\"\",\"\",syoriyou!I372)","v":""},{"$f":"IF(syoriyou!J372=\"\",\"\",syoriyou!N372)","v":""}]
[{"$f":"IF(syoriyou!A373=\"\",\"\",syoriyou!A373)","v":""},{"$f":"IF(syoriyou!B373=\"\",\"\",syoriyou!B373)","v":""},{"$f":"IF(syoriyou!C373=\"\",\"\",syoriyou!C373)","v":""},{"$f":"IF(syoriyou!D373=\"\",\"\",syoriyou!D373)","v":""},{"$f":"IF(syoriyou!E373=\"\",\"\",syoriyou!E373)","v":""},{"$f":"IF(syoriyou!F373=\"\",\"\",syoriyou!F373)","v":""},{"$f":"IF(syoriyou!G373=\"\",\"\",syoriyou!G373)","v":""},{"$f":"IF(syoriyou!H373=\"\",\"\",syoriyou!H373)","v":""},{"$f":"IF(syoriyou!I373=\"\",\"\",syoriyou!I373)","v":""},{"$f":"IF(syoriyou!J373=\"\",\"\",syoriyou!N373)","v":""}]
[{"$f":"IF(syoriyou!A374=\"\",\"\",syoriyou!A374)","v":""},{"$f":"IF(syoriyou!B374=\"\",\"\",syoriyou!B374)","v":""},{"$f":"IF(syoriyou!C374=\"\",\"\",syoriyou!C374)","v":""},{"$f":"IF(syoriyou!D374=\"\",\"\",syoriyou!D374)","v":""},{"$f":"IF(syoriyou!E374=\"\",\"\",syoriyou!E374)","v":""},{"$f":"IF(syoriyou!F374=\"\",\"\",syoriyou!F374)","v":""},{"$f":"IF(syoriyou!G374=\"\",\"\",syoriyou!G374)","v":""},{"$f":"IF(syoriyou!H374=\"\",\"\",syoriyou!H374)","v":""},{"$f":"IF(syoriyou!I374=\"\",\"\",syoriyou!I374)","v":""},{"$f":"IF(syoriyou!J374=\"\",\"\",syoriyou!N374)","v":""}]
[{"$f":"IF(syoriyou!A375=\"\",\"\",syoriyou!A375)","v":""},{"$f":"IF(syoriyou!B375=\"\",\"\",syoriyou!B375)","v":""},{"$f":"IF(syoriyou!C375=\"\",\"\",syoriyou!C375)","v":""},{"$f":"IF(syoriyou!D375=\"\",\"\",syoriyou!D375)","v":""},{"$f":"IF(syoriyou!E375=\"\",\"\",syoriyou!E375)","v":""},{"$f":"IF(syoriyou!F375=\"\",\"\",syoriyou!F375)","v":""},{"$f":"IF(syoriyou!G375=\"\",\"\",syoriyou!G375)","v":""},{"$f":"IF(syoriyou!H375=\"\",\"\",syoriyou!H375)","v":""},{"$f":"IF(syoriyou!I375=\"\",\"\",syoriyou!I375)","v":""},{"$f":"IF(syoriyou!J375=\"\",\"\",syoriyou!N375)","v":""}]
[{"$f":"IF(syoriyou!A376=\"\",\"\",syoriyou!A376)","v":""},{"$f":"IF(syoriyou!B376=\"\",\"\",syoriyou!B376)","v":""},{"$f":"IF(syoriyou!C376=\"\",\"\",syoriyou!C376)","v":""},{"$f":"IF(syoriyou!D376=\"\",\"\",syoriyou!D376)","v":""},{"$f":"IF(syoriyou!E376=\"\",\"\",syoriyou!E376)","v":""},{"$f":"IF(syoriyou!F376=\"\",\"\",syoriyou!F376)","v":""},{"$f":"IF(syoriyou!G376=\"\",\"\",syoriyou!G376)","v":""},{"$f":"IF(syoriyou!H376=\"\",\"\",syoriyou!H376)","v":""},{"$f":"IF(syoriyou!I376=\"\",\"\",syoriyou!I376)","v":""},{"$f":"IF(syoriyou!J376=\"\",\"\",syoriyou!N376)","v":""}]
[{"$f":"IF(syoriyou!A377=\"\",\"\",syoriyou!A377)","v":""},{"$f":"IF(syoriyou!B377=\"\",\"\",syoriyou!B377)","v":""},{"$f":"IF(syoriyou!C377=\"\",\"\",syoriyou!C377)","v":""},{"$f":"IF(syoriyou!D377=\"\",\"\",syoriyou!D377)","v":""},{"$f":"IF(syoriyou!E377=\"\",\"\",syoriyou!E377)","v":""},{"$f":"IF(syoriyou!F377=\"\",\"\",syoriyou!F377)","v":""},{"$f":"IF(syoriyou!G377=\"\",\"\",syoriyou!G377)","v":""},{"$f":"IF(syoriyou!H377=\"\",\"\",syoriyou!H377)","v":""},{"$f":"IF(syoriyou!I377=\"\",\"\",syoriyou!I377)","v":""},{"$f":"IF(syoriyou!J377=\"\",\"\",syoriyou!N377)","v":""}]
[{"$f":"IF(syoriyou!A378=\"\",\"\",syoriyou!A378)","v":""},{"$f":"IF(syoriyou!B378=\"\",\"\",syoriyou!B378)","v":""},{"$f":"IF(syoriyou!C378=\"\",\"\",syoriyou!C378)","v":""},{"$f":"IF(syoriyou!D378=\"\",\"\",syoriyou!D378)","v":""},{"$f":"IF(syoriyou!E378=\"\",\"\",syoriyou!E378)","v":""},{"$f":"IF(syoriyou!F378=\"\",\"\",syoriyou!F378)","v":""},{"$f":"IF(syoriyou!G378=\"\",\"\",syoriyou!G378)","v":""},{"$f":"IF(syoriyou!H378=\"\",\"\",syoriyou!H378)","v":""},{"$f":"IF(syoriyou!I378=\"\",\"\",syoriyou!I378)","v":""},{"$f":"IF(syoriyou!J378=\"\",\"\",syoriyou!N378)","v":""}]
[{"$f":"IF(syoriyou!A379=\"\",\"\",syoriyou!A379)","v":""},{"$f":"IF(syoriyou!B379=\"\",\"\",syoriyou!B379)","v":""},{"$f":"IF(syoriyou!C379=\"\",\"\",syoriyou!C379)","v":""},{"$f":"IF(syoriyou!D379=\"\",\"\",syoriyou!D379)","v":""},{"$f":"IF(syoriyou!E379=\"\",\"\",syoriyou!E379)","v":""},{"$f":"IF(syoriyou!F379=\"\",\"\",syoriyou!F379)","v":""},{"$f":"IF(syoriyou!G379=\"\",\"\",syoriyou!G379)","v":""},{"$f":"IF(syoriyou!H379=\"\",\"\",syoriyou!H379)","v":""},{"$f":"IF(syoriyou!I379=\"\",\"\",syoriyou!I379)","v":""},{"$f":"IF(syoriyou!J379=\"\",\"\",syoriyou!N379)","v":""}]
[{"$f":"IF(syoriyou!A380=\"\",\"\",syoriyou!A380)","v":""},{"$f":"IF(syoriyou!B380=\"\",\"\",syoriyou!B380)","v":""},{"$f":"IF(syoriyou!C380=\"\",\"\",syoriyou!C380)","v":""},{"$f":"IF(syoriyou!D380=\"\",\"\",syoriyou!D380)","v":""},{"$f":"IF(syoriyou!E380=\"\",\"\",syoriyou!E380)","v":""},{"$f":"IF(syoriyou!F380=\"\",\"\",syoriyou!F380)","v":""},{"$f":"IF(syoriyou!G380=\"\",\"\",syoriyou!G380)","v":""},{"$f":"IF(syoriyou!H380=\"\",\"\",syoriyou!H380)","v":""},{"$f":"IF(syoriyou!I380=\"\",\"\",syoriyou!I380)","v":""},{"$f":"IF(syoriyou!J380=\"\",\"\",syoriyou!N380)","v":""}]
[{"$f":"IF(syoriyou!A381=\"\",\"\",syoriyou!A381)","v":""},{"$f":"IF(syoriyou!B381=\"\",\"\",syoriyou!B381)","v":""},{"$f":"IF(syoriyou!C381=\"\",\"\",syoriyou!C381)","v":""},{"$f":"IF(syoriyou!D381=\"\",\"\",syoriyou!D381)","v":""},{"$f":"IF(syoriyou!E381=\"\",\"\",syoriyou!E381)","v":""},{"$f":"IF(syoriyou!F381=\"\",\"\",syoriyou!F381)","v":""},{"$f":"IF(syoriyou!G381=\"\",\"\",syoriyou!G381)","v":""},{"$f":"IF(syoriyou!H381=\"\",\"\",syoriyou!H381)","v":""},{"$f":"IF(syoriyou!I381=\"\",\"\",syoriyou!I381)","v":""},{"$f":"IF(syoriyou!J381=\"\",\"\",syoriyou!N381)","v":""}]
[{"$f":"IF(syoriyou!A382=\"\",\"\",syoriyou!A382)","v":""},{"$f":"IF(syoriyou!B382=\"\",\"\",syoriyou!B382)","v":""},{"$f":"IF(syoriyou!C382=\"\",\"\",syoriyou!C382)","v":""},{"$f":"IF(syoriyou!D382=\"\",\"\",syoriyou!D382)","v":""},{"$f":"IF(syoriyou!E382=\"\",\"\",syoriyou!E382)","v":""},{"$f":"IF(syoriyou!F382=\"\",\"\",syoriyou!F382)","v":""},{"$f":"IF(syoriyou!G382=\"\",\"\",syoriyou!G382)","v":""},{"$f":"IF(syoriyou!H382=\"\",\"\",syoriyou!H382)","v":""},{"$f":"IF(syoriyou!I382=\"\",\"\",syoriyou!I382)","v":""},{"$f":"IF(syoriyou!J382=\"\",\"\",syoriyou!N382)","v":""}]
[{"$f":"IF(syoriyou!A383=\"\",\"\",syoriyou!A383)","v":""},{"$f":"IF(syoriyou!B383=\"\",\"\",syoriyou!B383)","v":""},{"$f":"IF(syoriyou!C383=\"\",\"\",syoriyou!C383)","v":""},{"$f":"IF(syoriyou!D383=\"\",\"\",syoriyou!D383)","v":""},{"$f":"IF(syoriyou!E383=\"\",\"\",syoriyou!E383)","v":""},{"$f":"IF(syoriyou!F383=\"\",\"\",syoriyou!F383)","v":""},{"$f":"IF(syoriyou!G383=\"\",\"\",syoriyou!G383)","v":""},{"$f":"IF(syoriyou!H383=\"\",\"\",syoriyou!H383)","v":""},{"$f":"IF(syoriyou!I383=\"\",\"\",syoriyou!I383)","v":""},{"$f":"IF(syoriyou!J383=\"\",\"\",syoriyou!N383)","v":""}]
[{"$f":"IF(syoriyou!A384=\"\",\"\",syoriyou!A384)","v":""},{"$f":"IF(syoriyou!B384=\"\",\"\",syoriyou!B384)","v":""},{"$f":"IF(syoriyou!C384=\"\",\"\",syoriyou!C384)","v":""},{"$f":"IF(syoriyou!D384=\"\",\"\",syoriyou!D384)","v":""},{"$f":"IF(syoriyou!E384=\"\",\"\",syoriyou!E384)","v":""},{"$f":"IF(syoriyou!F384=\"\",\"\",syoriyou!F384)","v":""},{"$f":"IF(syoriyou!G384=\"\",\"\",syoriyou!G384)","v":""},{"$f":"IF(syoriyou!H384=\"\",\"\",syoriyou!H384)","v":""},{"$f":"IF(syoriyou!I384=\"\",\"\",syoriyou!I384)","v":""},{"$f":"IF(syoriyou!J384=\"\",\"\",syoriyou!N384)","v":""}]
[{"$f":"IF(syoriyou!A385=\"\",\"\",syoriyou!A385)","v":""},{"$f":"IF(syoriyou!B385=\"\",\"\",syoriyou!B385)","v":""},{"$f":"IF(syoriyou!C385=\"\",\"\",syoriyou!C385)","v":""},{"$f":"IF(syoriyou!D385=\"\",\"\",syoriyou!D385)","v":""},{"$f":"IF(syoriyou!E385=\"\",\"\",syoriyou!E385)","v":""},{"$f":"IF(syoriyou!F385=\"\",\"\",syoriyou!F385)","v":""},{"$f":"IF(syoriyou!G385=\"\",\"\",syoriyou!G385)","v":""},{"$f":"IF(syoriyou!H385=\"\",\"\",syoriyou!H385)","v":""},{"$f":"IF(syoriyou!I385=\"\",\"\",syoriyou!I385)","v":""},{"$f":"IF(syoriyou!J385=\"\",\"\",syoriyou!N385)","v":""}]
[{"$f":"IF(syoriyou!A386=\"\",\"\",syoriyou!A386)","v":""},{"$f":"IF(syoriyou!B386=\"\",\"\",syoriyou!B386)","v":""},{"$f":"IF(syoriyou!C386=\"\",\"\",syoriyou!C386)","v":""},{"$f":"IF(syoriyou!D386=\"\",\"\",syoriyou!D386)","v":""},{"$f":"IF(syoriyou!E386=\"\",\"\",syoriyou!E386)","v":""},{"$f":"IF(syoriyou!F386=\"\",\"\",syoriyou!F386)","v":""},{"$f":"IF(syoriyou!G386=\"\",\"\",syoriyou!G386)","v":""},{"$f":"IF(syoriyou!H386=\"\",\"\",syoriyou!H386)","v":""},{"$f":"IF(syoriyou!I386=\"\",\"\",syoriyou!I386)","v":""},{"$f":"IF(syoriyou!J386=\"\",\"\",syoriyou!N386)","v":""}]
[{"$f":"IF(syoriyou!A387=\"\",\"\",syoriyou!A387)","v":""},{"$f":"IF(syoriyou!B387=\"\",\"\",syoriyou!B387)","v":""},{"$f":"IF(syoriyou!C387=\"\",\"\",syoriyou!C387)","v":""},{"$f":"IF(syoriyou!D387=\"\",\"\",syoriyou!D387)","v":""},{"$f":"IF(syoriyou!E387=\"\",\"\",syoriyou!E387)","v":""},{"$f":"IF(syoriyou!F387=\"\",\"\",syoriyou!F387)","v":""},{"$f":"IF(syoriyou!G387=\"\",\"\",syoriyou!G387)","v":""},{"$f":"IF(syoriyou!H387=\"\",\"\",syoriyou!H387)","v":""},{"$f":"IF(syoriyou!I387=\"\",\"\",syoriyou!I387)","v":""},{"$f":"IF(syoriyou!J387=\"\",\"\",syoriyou!N387)","v":""}]
[{"$f":"IF(syoriyou!A388=\"\",\"\",syoriyou!A388)","v":""},{"$f":"IF(syoriyou!B388=\"\",\"\",syoriyou!B388)","v":""},{"$f":"IF(syoriyou!C388=\"\",\"\",syoriyou!C388)","v":""},{"$f":"IF(syoriyou!D388=\"\",\"\",syoriyou!D388)","v":""},{"$f":"IF(syoriyou!E388=\"\",\"\",syoriyou!E388)","v":""},{"$f":"IF(syoriyou!F388=\"\",\"\",syoriyou!F388)","v":""},{"$f":"IF(syoriyou!G388=\"\",\"\",syoriyou!G388)","v":""},{"$f":"IF(syoriyou!H388=\"\",\"\",syoriyou!H388)","v":""},{"$f":"IF(syoriyou!I388=\"\",\"\",syoriyou!I388)","v":""},{"$f":"IF(syoriyou!J388=\"\",\"\",syoriyou!N388)","v":""}]
[{"$f":"IF(syoriyou!A389=\"\",\"\",syoriyou!A389)","v":""},{"$f":"IF(syoriyou!B389=\"\",\"\",syoriyou!B389)","v":""},{"$f":"IF(syoriyou!C389=\"\",\"\",syoriyou!C389)","v":""},{"$f":"IF(syoriyou!D389=\"\",\"\",syoriyou!D389)","v":""},{"$f":"IF(syoriyou!E389=\"\",\"\",syoriyou!E389)","v":""},{"$f":"IF(syoriyou!F389=\"\",\"\",syoriyou!F389)","v":""},{"$f":"IF(syoriyou!G389=\"\",\"\",syoriyou!G389)","v":""},{"$f":"IF(syoriyou!H389=\"\",\"\",syoriyou!H389)","v":""},{"$f":"IF(syoriyou!I389=\"\",\"\",syoriyou!I389)","v":""},{"$f":"IF(syoriyou!J389=\"\",\"\",syoriyou!N389)","v":""}]
[{"$f":"IF(syoriyou!A390=\"\",\"\",syoriyou!A390)","v":""},{"$f":"IF(syoriyou!B390=\"\",\"\",syoriyou!B390)","v":""},{"$f":"IF(syoriyou!C390=\"\",\"\",syoriyou!C390)","v":""},{"$f":"IF(syoriyou!D390=\"\",\"\",syoriyou!D390)","v":""},{"$f":"IF(syoriyou!E390=\"\",\"\",syoriyou!E390)","v":""},{"$f":"IF(syoriyou!F390=\"\",\"\",syoriyou!F390)","v":""},{"$f":"IF(syoriyou!G390=\"\",\"\",syoriyou!G390)","v":""},{"$f":"IF(syoriyou!H390=\"\",\"\",syoriyou!H390)","v":""},{"$f":"IF(syoriyou!I390=\"\",\"\",syoriyou!I390)","v":""},{"$f":"IF(syoriyou!J390=\"\",\"\",syoriyou!N390)","v":""}]
[{"$f":"IF(syoriyou!A391=\"\",\"\",syoriyou!A391)","v":""},{"$f":"IF(syoriyou!B391=\"\",\"\",syoriyou!B391)","v":""},{"$f":"IF(syoriyou!C391=\"\",\"\",syoriyou!C391)","v":""},{"$f":"IF(syoriyou!D391=\"\",\"\",syoriyou!D391)","v":""},{"$f":"IF(syoriyou!E391=\"\",\"\",syoriyou!E391)","v":""},{"$f":"IF(syoriyou!F391=\"\",\"\",syoriyou!F391)","v":""},{"$f":"IF(syoriyou!G391=\"\",\"\",syoriyou!G391)","v":""},{"$f":"IF(syoriyou!H391=\"\",\"\",syoriyou!H391)","v":""},{"$f":"IF(syoriyou!I391=\"\",\"\",syoriyou!I391)","v":""},{"$f":"IF(syoriyou!J391=\"\",\"\",syoriyou!N391)","v":""}]
[{"$f":"IF(syoriyou!A392=\"\",\"\",syoriyou!A392)","v":""},{"$f":"IF(syoriyou!B392=\"\",\"\",syoriyou!B392)","v":""},{"$f":"IF(syoriyou!C392=\"\",\"\",syoriyou!C392)","v":""},{"$f":"IF(syoriyou!D392=\"\",\"\",syoriyou!D392)","v":""},{"$f":"IF(syoriyou!E392=\"\",\"\",syoriyou!E392)","v":""},{"$f":"IF(syoriyou!F392=\"\",\"\",syoriyou!F392)","v":""},{"$f":"IF(syoriyou!G392=\"\",\"\",syoriyou!G392)","v":""},{"$f":"IF(syoriyou!H392=\"\",\"\",syoriyou!H392)","v":""},{"$f":"IF(syoriyou!I392=\"\",\"\",syoriyou!I392)","v":""},{"$f":"IF(syoriyou!J392=\"\",\"\",syoriyou!N392)","v":""}]
[{"$f":"IF(syoriyou!A393=\"\",\"\",syoriyou!A393)","v":""},{"$f":"IF(syoriyou!B393=\"\",\"\",syoriyou!B393)","v":""},{"$f":"IF(syoriyou!C393=\"\",\"\",syoriyou!C393)","v":""},{"$f":"IF(syoriyou!D393=\"\",\"\",syoriyou!D393)","v":""},{"$f":"IF(syoriyou!E393=\"\",\"\",syoriyou!E393)","v":""},{"$f":"IF(syoriyou!F393=\"\",\"\",syoriyou!F393)","v":""},{"$f":"IF(syoriyou!G393=\"\",\"\",syoriyou!G393)","v":""},{"$f":"IF(syoriyou!H393=\"\",\"\",syoriyou!H393)","v":""},{"$f":"IF(syoriyou!I393=\"\",\"\",syoriyou!I393)","v":""},{"$f":"IF(syoriyou!J393=\"\",\"\",syoriyou!N393)","v":""}]
[{"$f":"IF(syoriyou!A394=\"\",\"\",syoriyou!A394)","v":""},{"$f":"IF(syoriyou!B394=\"\",\"\",syoriyou!B394)","v":""},{"$f":"IF(syoriyou!C394=\"\",\"\",syoriyou!C394)","v":""},{"$f":"IF(syoriyou!D394=\"\",\"\",syoriyou!D394)","v":""},{"$f":"IF(syoriyou!E394=\"\",\"\",syoriyou!E394)","v":""},{"$f":"IF(syoriyou!F394=\"\",\"\",syoriyou!F394)","v":""},{"$f":"IF(syoriyou!G394=\"\",\"\",syoriyou!G394)","v":""},{"$f":"IF(syoriyou!H394=\"\",\"\",syoriyou!H394)","v":""},{"$f":"IF(syoriyou!I394=\"\",\"\",syoriyou!I394)","v":""},{"$f":"IF(syoriyou!J394=\"\",\"\",syoriyou!N394)","v":""}]
[{"$f":"IF(syoriyou!A395=\"\",\"\",syoriyou!A395)","v":""},{"$f":"IF(syoriyou!B395=\"\",\"\",syoriyou!B395)","v":""},{"$f":"IF(syoriyou!C395=\"\",\"\",syoriyou!C395)","v":""},{"$f":"IF(syoriyou!D395=\"\",\"\",syoriyou!D395)","v":""},{"$f":"IF(syoriyou!E395=\"\",\"\",syoriyou!E395)","v":""},{"$f":"IF(syoriyou!F395=\"\",\"\",syoriyou!F395)","v":""},{"$f":"IF(syoriyou!G395=\"\",\"\",syoriyou!G395)","v":""},{"$f":"IF(syoriyou!H395=\"\",\"\",syoriyou!H395)","v":""},{"$f":"IF(syoriyou!I395=\"\",\"\",syoriyou!I395)","v":""},{"$f":"IF(syoriyou!J395=\"\",\"\",syoriyou!N395)","v":""}]
[{"$f":"IF(syoriyou!A396=\"\",\"\",syoriyou!A396)","v":""},{"$f":"IF(syoriyou!B396=\"\",\"\",syoriyou!B396)","v":""},{"$f":"IF(syoriyou!C396=\"\",\"\",syoriyou!C396)","v":""},{"$f":"IF(syoriyou!D396=\"\",\"\",syoriyou!D396)","v":""},{"$f":"IF(syoriyou!E396=\"\",\"\",syoriyou!E396)","v":""},{"$f":"IF(syoriyou!F396=\"\",\"\",syoriyou!F396)","v":""},{"$f":"IF(syoriyou!G396=\"\",\"\",syoriyou!G396)","v":""},{"$f":"IF(syoriyou!H396=\"\",\"\",syoriyou!H396)","v":""},{"$f":"IF(syoriyou!I396=\"\",\"\",syoriyou!I396)","v":""},{"$f":"IF(syoriyou!J396=\"\",\"\",syoriyou!N396)","v":""}]
[{"$f":"IF(syoriyou!A397=\"\",\"\",syoriyou!A397)","v":""},{"$f":"IF(syoriyou!B397=\"\",\"\",syoriyou!B397)","v":""},{"$f":"IF(syoriyou!C397=\"\",\"\",syoriyou!C397)","v":""},{"$f":"IF(syoriyou!D397=\"\",\"\",syoriyou!D397)","v":""},{"$f":"IF(syoriyou!E397=\"\",\"\",syoriyou!E397)","v":""},{"$f":"IF(syoriyou!F397=\"\",\"\",syoriyou!F397)","v":""},{"$f":"IF(syoriyou!G397=\"\",\"\",syoriyou!G397)","v":""},{"$f":"IF(syoriyou!H397=\"\",\"\",syoriyou!H397)","v":""},{"$f":"IF(syoriyou!I397=\"\",\"\",syoriyou!I397)","v":""},{"$f":"IF(syoriyou!J397=\"\",\"\",syoriyou!N397)","v":""}]
[{"$f":"IF(syoriyou!A398=\"\",\"\",syoriyou!A398)","v":""},{"$f":"IF(syoriyou!B398=\"\",\"\",syoriyou!B398)","v":""},{"$f":"IF(syoriyou!C398=\"\",\"\",syoriyou!C398)","v":""},{"$f":"IF(syoriyou!D398=\"\",\"\",syoriyou!D398)","v":""},{"$f":"IF(syoriyou!E398=\"\",\"\",syoriyou!E398)","v":""},{"$f":"IF(syoriyou!F398=\"\",\"\",syoriyou!F398)","v":""},{"$f":"IF(syoriyou!G398=\"\",\"\",syoriyou!G398)","v":""},{"$f":"IF(syoriyou!H398=\"\",\"\",syoriyou!H398)","v":""},{"$f":"IF(syoriyou!I398=\"\",\"\",syoriyou!I398)","v":""},{"$f":"IF(syoriyou!J398=\"\",\"\",syoriyou!N398)","v":""}]
[{"$f":"IF(syoriyou!A399=\"\",\"\",syoriyou!A399)","v":""},{"$f":"IF(syoriyou!B399=\"\",\"\",syoriyou!B399)","v":""},{"$f":"IF(syoriyou!C399=\"\",\"\",syoriyou!C399)","v":""},{"$f":"IF(syoriyou!D399=\"\",\"\",syoriyou!D399)","v":""},{"$f":"IF(syoriyou!E399=\"\",\"\",syoriyou!E399)","v":""},{"$f":"IF(syoriyou!F399=\"\",\"\",syoriyou!F399)","v":""},{"$f":"IF(syoriyou!G399=\"\",\"\",syoriyou!G399)","v":""},{"$f":"IF(syoriyou!H399=\"\",\"\",syoriyou!H399)","v":""},{"$f":"IF(syoriyou!I399=\"\",\"\",syoriyou!I399)","v":""},{"$f":"IF(syoriyou!J399=\"\",\"\",syoriyou!N399)","v":""}]
[{"$f":"IF(syoriyou!A400=\"\",\"\",syoriyou!A400)","v":""},{"$f":"IF(syoriyou!B400=\"\",\"\",syoriyou!B400)","v":""},{"$f":"IF(syoriyou!C400=\"\",\"\",syoriyou!C400)","v":""},{"$f":"IF(syoriyou!D400=\"\",\"\",syoriyou!D400)","v":""},{"$f":"IF(syoriyou!E400=\"\",\"\",syoriyou!E400)","v":""},{"$f":"IF(syoriyou!F400=\"\",\"\",syoriyou!F400)","v":""},{"$f":"IF(syoriyou!G400=\"\",\"\",syoriyou!G400)","v":""},{"$f":"IF(syoriyou!H400=\"\",\"\",syoriyou!H400)","v":""},{"$f":"IF(syoriyou!I400=\"\",\"\",syoriyou!I400)","v":""},{"$f":"IF(syoriyou!J400=\"\",\"\",syoriyou!N400)","v":""}]
[{"$f":"IF(syoriyou!A401=\"\",\"\",syoriyou!A401)","v":""},{"$f":"IF(syoriyou!B401=\"\",\"\",syoriyou!B401)","v":""},{"$f":"IF(syoriyou!C401=\"\",\"\",syoriyou!C401)","v":""},{"$f":"IF(syoriyou!D401=\"\",\"\",syoriyou!D401)","v":""},{"$f":"IF(syoriyou!E401=\"\",\"\",syoriyou!E401)","v":""},{"$f":"IF(syoriyou!F401=\"\",\"\",syoriyou!F401)","v":""},{"$f":"IF(syoriyou!G401=\"\",\"\",syoriyou!G401)","v":""},{"$f":"IF(syoriyou!H401=\"\",\"\",syoriyou!H401)","v":""},{"$f":"IF(syoriyou!I401=\"\",\"\",syoriyou!I401)","v":""},{"$f":"IF(syoriyou!J401=\"\",\"\",syoriyou!N401)","v":""}]
[{"$f":"IF(syoriyou!A402=\"\",\"\",syoriyou!A402)","v":""},{"$f":"IF(syoriyou!B402=\"\",\"\",syoriyou!B402)","v":""},{"$f":"IF(syoriyou!C402=\"\",\"\",syoriyou!C402)","v":""},{"$f":"IF(syoriyou!D402=\"\",\"\",syoriyou!D402)","v":""},{"$f":"IF(syoriyou!E402=\"\",\"\",syoriyou!E402)","v":""},{"$f":"IF(syoriyou!F402=\"\",\"\",syoriyou!F402)","v":""},{"$f":"IF(syoriyou!G402=\"\",\"\",syoriyou!G402)","v":""},{"$f":"IF(syoriyou!H402=\"\",\"\",syoriyou!H402)","v":""},{"$f":"IF(syoriyou!I402=\"\",\"\",syoriyou!I402)","v":""},{"$f":"IF(syoriyou!J402=\"\",\"\",syoriyou!N402)","v":""}]
[{"$f":"IF(syoriyou!A403=\"\",\"\",syoriyou!A403)","v":""},{"$f":"IF(syoriyou!B403=\"\",\"\",syoriyou!B403)","v":""},{"$f":"IF(syoriyou!C403=\"\",\"\",syoriyou!C403)","v":""},{"$f":"IF(syoriyou!D403=\"\",\"\",syoriyou!D403)","v":""},{"$f":"IF(syoriyou!E403=\"\",\"\",syoriyou!E403)","v":""},{"$f":"IF(syoriyou!F403=\"\",\"\",syoriyou!F403)","v":""},{"$f":"IF(syoriyou!G403=\"\",\"\",syoriyou!G403)","v":""},{"$f":"IF(syoriyou!H403=\"\",\"\",syoriyou!H403)","v":""},{"$f":"IF(syoriyou!I403=\"\",\"\",syoriyou!I403)","v":""},{"$f":"IF(syoriyou!J403=\"\",\"\",syoriyou!N403)","v":""}]
[{"$f":"IF(syoriyou!A404=\"\",\"\",syoriyou!A404)","v":""},{"$f":"IF(syoriyou!B404=\"\",\"\",syoriyou!B404)","v":""},{"$f":"IF(syoriyou!C404=\"\",\"\",syoriyou!C404)","v":""},{"$f":"IF(syoriyou!D404=\"\",\"\",syoriyou!D404)","v":""},{"$f":"IF(syoriyou!E404=\"\",\"\",syoriyou!E404)","v":""},{"$f":"IF(syoriyou!F404=\"\",\"\",syoriyou!F404)","v":""},{"$f":"IF(syoriyou!G404=\"\",\"\",syoriyou!G404)","v":""},{"$f":"IF(syoriyou!H404=\"\",\"\",syoriyou!H404)","v":""},{"$f":"IF(syoriyou!I404=\"\",\"\",syoriyou!I404)","v":""},{"$f":"IF(syoriyou!J404=\"\",\"\",syoriyou!N404)","v":""}]
[{"$f":"IF(syoriyou!A405=\"\",\"\",syoriyou!A405)","v":""},{"$f":"IF(syoriyou!B405=\"\",\"\",syoriyou!B405)","v":""},{"$f":"IF(syoriyou!C405=\"\",\"\",syoriyou!C405)","v":""},{"$f":"IF(syoriyou!D405=\"\",\"\",syoriyou!D405)","v":""},{"$f":"IF(syoriyou!E405=\"\",\"\",syoriyou!E405)","v":""},{"$f":"IF(syoriyou!F405=\"\",\"\",syoriyou!F405)","v":""},{"$f":"IF(syoriyou!G405=\"\",\"\",syoriyou!G405)","v":""},{"$f":"IF(syoriyou!H405=\"\",\"\",syoriyou!H405)","v":""},{"$f":"IF(syoriyou!I405=\"\",\"\",syoriyou!I405)","v":""},{"$f":"IF(syoriyou!J405=\"\",\"\",syoriyou!N405)","v":""}]
[{"$f":"IF(syoriyou!A406=\"\",\"\",syoriyou!A406)","v":""},{"$f":"IF(syoriyou!B406=\"\",\"\",syoriyou!B406)","v":""},{"$f":"IF(syoriyou!C406=\"\",\"\",syoriyou!C406)","v":""},{"$f":"IF(syoriyou!D406=\"\",\"\",syoriyou!D406)","v":""},{"$f":"IF(syoriyou!E406=\"\",\"\",syoriyou!E406)","v":""},{"$f":"IF(syoriyou!F406=\"\",\"\",syoriyou!F406)","v":""},{"$f":"IF(syoriyou!G406=\"\",\"\",syoriyou!G406)","v":""},{"$f":"IF(syoriyou!H406=\"\",\"\",syoriyou!H406)","v":""},{"$f":"IF(syoriyou!I406=\"\",\"\",syoriyou!I406)","v":""},{"$f":"IF(syoriyou!J406=\"\",\"\",syoriyou!N406)","v":""}]
[{"$f":"IF(syoriyou!A407=\"\",\"\",syoriyou!A407)","v":""},{"$f":"IF(syoriyou!B407=\"\",\"\",syoriyou!B407)","v":""},{"$f":"IF(syoriyou!C407=\"\",\"\",syoriyou!C407)","v":""},{"$f":"IF(syoriyou!D407=\"\",\"\",syoriyou!D407)","v":""},{"$f":"IF(syoriyou!E407=\"\",\"\",syoriyou!E407)","v":""},{"$f":"IF(syoriyou!F407=\"\",\"\",syoriyou!F407)","v":""},{"$f":"IF(syoriyou!G407=\"\",\"\",syoriyou!G407)","v":""},{"$f":"IF(syoriyou!H407=\"\",\"\",syoriyou!H407)","v":""},{"$f":"IF(syoriyou!I407=\"\",\"\",syoriyou!I407)","v":""},{"$f":"IF(syoriyou!J407=\"\",\"\",syoriyou!N407)","v":""}]
[{"$f":"IF(syoriyou!A408=\"\",\"\",syoriyou!A408)","v":""},{"$f":"IF(syoriyou!B408=\"\",\"\",syoriyou!B408)","v":""},{"$f":"IF(syoriyou!C408=\"\",\"\",syoriyou!C408)","v":""},{"$f":"IF(syoriyou!D408=\"\",\"\",syoriyou!D408)","v":""},{"$f":"IF(syoriyou!E408=\"\",\"\",syoriyou!E408)","v":""},{"$f":"IF(syoriyou!F408=\"\",\"\",syoriyou!F408)","v":""},{"$f":"IF(syoriyou!G408=\"\",\"\",syoriyou!G408)","v":""},{"$f":"IF(syoriyou!H408=\"\",\"\",syoriyou!H408)","v":""},{"$f":"IF(syoriyou!I408=\"\",\"\",syoriyou!I408)","v":""},{"$f":"IF(syoriyou!J408=\"\",\"\",syoriyou!N408)","v":""}]
[{"$f":"IF(syoriyou!A409=\"\",\"\",syoriyou!A409)","v":""},{"$f":"IF(syoriyou!B409=\"\",\"\",syoriyou!B409)","v":""},{"$f":"IF(syoriyou!C409=\"\",\"\",syoriyou!C409)","v":""},{"$f":"IF(syoriyou!D409=\"\",\"\",syoriyou!D409)","v":""},{"$f":"IF(syoriyou!E409=\"\",\"\",syoriyou!E409)","v":""},{"$f":"IF(syoriyou!F409=\"\",\"\",syoriyou!F409)","v":""},{"$f":"IF(syoriyou!G409=\"\",\"\",syoriyou!G409)","v":""},{"$f":"IF(syoriyou!H409=\"\",\"\",syoriyou!H409)","v":""},{"$f":"IF(syoriyou!I409=\"\",\"\",syoriyou!I409)","v":""},{"$f":"IF(syoriyou!J409=\"\",\"\",syoriyou!N409)","v":""}]
[{"$f":"IF(syoriyou!A410=\"\",\"\",syoriyou!A410)","v":""},{"$f":"IF(syoriyou!B410=\"\",\"\",syoriyou!B410)","v":""},{"$f":"IF(syoriyou!C410=\"\",\"\",syoriyou!C410)","v":""},{"$f":"IF(syoriyou!D410=\"\",\"\",syoriyou!D410)","v":""},{"$f":"IF(syoriyou!E410=\"\",\"\",syoriyou!E410)","v":""},{"$f":"IF(syoriyou!F410=\"\",\"\",syoriyou!F410)","v":""},{"$f":"IF(syoriyou!G410=\"\",\"\",syoriyou!G410)","v":""},{"$f":"IF(syoriyou!H410=\"\",\"\",syoriyou!H410)","v":""},{"$f":"IF(syoriyou!I410=\"\",\"\",syoriyou!I410)","v":""},{"$f":"IF(syoriyou!J410=\"\",\"\",syoriyou!N410)","v":""}]
[{"$f":"IF(syoriyou!A411=\"\",\"\",syoriyou!A411)","v":""},{"$f":"IF(syoriyou!B411=\"\",\"\",syoriyou!B411)","v":""},{"$f":"IF(syoriyou!C411=\"\",\"\",syoriyou!C411)","v":""},{"$f":"IF(syoriyou!D411=\"\",\"\",syoriyou!D411)","v":""},{"$f":"IF(syoriyou!E411=\"\",\"\",syoriyou!E411)","v":""},{"$f":"IF(syoriyou!F411=\"\",\"\",syoriyou!F411)","v":""},{"$f":"IF(syoriyou!G411=\"\",\"\",syoriyou!G411)","v":""},{"$f":"IF(syoriyou!H411=\"\",\"\",syoriyou!H411)","v":""},{"$f":"IF(syoriyou!I411=\"\",\"\",syoriyou!I411)","v":""},{"$f":"IF(syoriyou!J411=\"\",\"\",syoriyou!N411)","v":""}]
[{"$f":"IF(syoriyou!A412=\"\",\"\",syoriyou!A412)","v":""},{"$f":"IF(syoriyou!B412=\"\",\"\",syoriyou!B412)","v":""},{"$f":"IF(syoriyou!C412=\"\",\"\",syoriyou!C412)","v":""},{"$f":"IF(syoriyou!D412=\"\",\"\",syoriyou!D412)","v":""},{"$f":"IF(syoriyou!E412=\"\",\"\",syoriyou!E412)","v":""},{"$f":"IF(syoriyou!F412=\"\",\"\",syoriyou!F412)","v":""},{"$f":"IF(syoriyou!G412=\"\",\"\",syoriyou!G412)","v":""},{"$f":"IF(syoriyou!H412=\"\",\"\",syoriyou!H412)","v":""},{"$f":"IF(syoriyou!I412=\"\",\"\",syoriyou!I412)","v":""},{"$f":"IF(syoriyou!J412=\"\",\"\",syoriyou!N412)","v":""}]
[{"$f":"IF(syoriyou!A413=\"\",\"\",syoriyou!A413)","v":""},{"$f":"IF(syoriyou!B413=\"\",\"\",syoriyou!B413)","v":""},{"$f":"IF(syoriyou!C413=\"\",\"\",syoriyou!C413)","v":""},{"$f":"IF(syoriyou!D413=\"\",\"\",syoriyou!D413)","v":""},{"$f":"IF(syoriyou!E413=\"\",\"\",syoriyou!E413)","v":""},{"$f":"IF(syoriyou!F413=\"\",\"\",syoriyou!F413)","v":""},{"$f":"IF(syoriyou!G413=\"\",\"\",syoriyou!G413)","v":""},{"$f":"IF(syoriyou!H413=\"\",\"\",syoriyou!H413)","v":""},{"$f":"IF(syoriyou!I413=\"\",\"\",syoriyou!I413)","v":""},{"$f":"IF(syoriyou!J413=\"\",\"\",syoriyou!N413)","v":""}]
[{"$f":"IF(syoriyou!A414=\"\",\"\",syoriyou!A414)","v":""},{"$f":"IF(syoriyou!B414=\"\",\"\",syoriyou!B414)","v":""},{"$f":"IF(syoriyou!C414=\"\",\"\",syoriyou!C414)","v":""},{"$f":"IF(syoriyou!D414=\"\",\"\",syoriyou!D414)","v":""},{"$f":"IF(syoriyou!E414=\"\",\"\",syoriyou!E414)","v":""},{"$f":"IF(syoriyou!F414=\"\",\"\",syoriyou!F414)","v":""},{"$f":"IF(syoriyou!G414=\"\",\"\",syoriyou!G414)","v":""},{"$f":"IF(syoriyou!H414=\"\",\"\",syoriyou!H414)","v":""},{"$f":"IF(syoriyou!I414=\"\",\"\",syoriyou!I414)","v":""},{"$f":"IF(syoriyou!J414=\"\",\"\",syoriyou!N414)","v":""}]
[{"$f":"IF(syoriyou!A415=\"\",\"\",syoriyou!A415)","v":""},{"$f":"IF(syoriyou!B415=\"\",\"\",syoriyou!B415)","v":""},{"$f":"IF(syoriyou!C415=\"\",\"\",syoriyou!C415)","v":""},{"$f":"IF(syoriyou!D415=\"\",\"\",syoriyou!D415)","v":""},{"$f":"IF(syoriyou!E415=\"\",\"\",syoriyou!E415)","v":""},{"$f":"IF(syoriyou!F415=\"\",\"\",syoriyou!F415)","v":""},{"$f":"IF(syoriyou!G415=\"\",\"\",syoriyou!G415)","v":""},{"$f":"IF(syoriyou!H415=\"\",\"\",syoriyou!H415)","v":""},{"$f":"IF(syoriyou!I415=\"\",\"\",syoriyou!I415)","v":""},{"$f":"IF(syoriyou!J415=\"\",\"\",syoriyou!N415)","v":""}]
[{"$f":"IF(syoriyou!A416=\"\",\"\",syoriyou!A416)","v":""},{"$f":"IF(syoriyou!B416=\"\",\"\",syoriyou!B416)","v":""},{"$f":"IF(syoriyou!C416=\"\",\"\",syoriyou!C416)","v":""},{"$f":"IF(syoriyou!D416=\"\",\"\",syoriyou!D416)","v":""},{"$f":"IF(syoriyou!E416=\"\",\"\",syoriyou!E416)","v":""},{"$f":"IF(syoriyou!F416=\"\",\"\",syoriyou!F416)","v":""},{"$f":"IF(syoriyou!G416=\"\",\"\",syoriyou!G416)","v":""},{"$f":"IF(syoriyou!H416=\"\",\"\",syoriyou!H416)","v":""},{"$f":"IF(syoriyou!I416=\"\",\"\",syoriyou!I416)","v":""},{"$f":"IF(syoriyou!J416=\"\",\"\",syoriyou!N416)","v":""}]
[{"$f":"IF(syoriyou!A417=\"\",\"\",syoriyou!A417)","v":""},{"$f":"IF(syoriyou!B417=\"\",\"\",syoriyou!B417)","v":""},{"$f":"IF(syoriyou!C417=\"\",\"\",syoriyou!C417)","v":""},{"$f":"IF(syoriyou!D417=\"\",\"\",syoriyou!D417)","v":""},{"$f":"IF(syoriyou!E417=\"\",\"\",syoriyou!E417)","v":""},{"$f":"IF(syoriyou!F417=\"\",\"\",syoriyou!F417)","v":""},{"$f":"IF(syoriyou!G417=\"\",\"\",syoriyou!G417)","v":""},{"$f":"IF(syoriyou!H417=\"\",\"\",syoriyou!H417)","v":""},{"$f":"IF(syoriyou!I417=\"\",\"\",syoriyou!I417)","v":""},{"$f":"IF(syoriyou!J417=\"\",\"\",syoriyou!N417)","v":""}]
[{"$f":"IF(syoriyou!A418=\"\",\"\",syoriyou!A418)","v":""},{"$f":"IF(syoriyou!B418=\"\",\"\",syoriyou!B418)","v":""},{"$f":"IF(syoriyou!C418=\"\",\"\",syoriyou!C418)","v":""},{"$f":"IF(syoriyou!D418=\"\",\"\",syoriyou!D418)","v":""},{"$f":"IF(syoriyou!E418=\"\",\"\",syoriyou!E418)","v":""},{"$f":"IF(syoriyou!F418=\"\",\"\",syoriyou!F418)","v":""},{"$f":"IF(syoriyou!G418=\"\",\"\",syoriyou!G418)","v":""},{"$f":"IF(syoriyou!H418=\"\",\"\",syoriyou!H418)","v":""},{"$f":"IF(syoriyou!I418=\"\",\"\",syoriyou!I418)","v":""},{"$f":"IF(syoriyou!J418=\"\",\"\",syoriyou!N418)","v":""}]
[{"$f":"IF(syoriyou!A419=\"\",\"\",syoriyou!A419)","v":""},{"$f":"IF(syoriyou!B419=\"\",\"\",syoriyou!B419)","v":""},{"$f":"IF(syoriyou!C419=\"\",\"\",syoriyou!C419)","v":""},{"$f":"IF(syoriyou!D419=\"\",\"\",syoriyou!D419)","v":""},{"$f":"IF(syoriyou!E419=\"\",\"\",syoriyou!E419)","v":""},{"$f":"IF(syoriyou!F419=\"\",\"\",syoriyou!F419)","v":""},{"$f":"IF(syoriyou!G419=\"\",\"\",syoriyou!G419)","v":""},{"$f":"IF(syoriyou!H419=\"\",\"\",syoriyou!H419)","v":""},{"$f":"IF(syoriyou!I419=\"\",\"\",syoriyou!I419)","v":""},{"$f":"IF(syoriyou!J419=\"\",\"\",syoriyou!N419)","v":""}]
[{"$f":"IF(syoriyou!A420=\"\",\"\",syoriyou!A420)","v":""},{"$f":"IF(syoriyou!B420=\"\",\"\",syoriyou!B420)","v":""},{"$f":"IF(syoriyou!C420=\"\",\"\",syoriyou!C420)","v":""},{"$f":"IF(syoriyou!D420=\"\",\"\",syoriyou!D420)","v":""},{"$f":"IF(syoriyou!E420=\"\",\"\",syoriyou!E420)","v":""},{"$f":"IF(syoriyou!F420=\"\",\"\",syoriyou!F420)","v":""},{"$f":"IF(syoriyou!G420=\"\",\"\",syoriyou!G420)","v":""},{"$f":"IF(syoriyou!H420=\"\",\"\",syoriyou!H420)","v":""},{"$f":"IF(syoriyou!I420=\"\",\"\",syoriyou!I420)","v":""},{"$f":"IF(syoriyou!J420=\"\",\"\",syoriyou!N420)","v":""}]
[{"$f":"IF(syoriyou!A421=\"\",\"\",syoriyou!A421)","v":""},{"$f":"IF(syoriyou!B421=\"\",\"\",syoriyou!B421)","v":""},{"$f":"IF(syoriyou!C421=\"\",\"\",syoriyou!C421)","v":""},{"$f":"IF(syoriyou!D421=\"\",\"\",syoriyou!D421)","v":""},{"$f":"IF(syoriyou!E421=\"\",\"\",syoriyou!E421)","v":""},{"$f":"IF(syoriyou!F421=\"\",\"\",syoriyou!F421)","v":""},{"$f":"IF(syoriyou!G421=\"\",\"\",syoriyou!G421)","v":""},{"$f":"IF(syoriyou!H421=\"\",\"\",syoriyou!H421)","v":""},{"$f":"IF(syoriyou!I421=\"\",\"\",syoriyou!I421)","v":""},{"$f":"IF(syoriyou!J421=\"\",\"\",syoriyou!N421)","v":""}]
[{"$f":"IF(syoriyou!A422=\"\",\"\",syoriyou!A422)","v":""},{"$f":"IF(syoriyou!B422=\"\",\"\",syoriyou!B422)","v":""},{"$f":"IF(syoriyou!C422=\"\",\"\",syoriyou!C422)","v":""},{"$f":"IF(syoriyou!D422=\"\",\"\",syoriyou!D422)","v":""},{"$f":"IF(syoriyou!E422=\"\",\"\",syoriyou!E422)","v":""},{"$f":"IF(syoriyou!F422=\"\",\"\",syoriyou!F422)","v":""},{"$f":"IF(syoriyou!G422=\"\",\"\",syoriyou!G422)","v":""},{"$f":"IF(syoriyou!H422=\"\",\"\",syoriyou!H422)","v":""},{"$f":"IF(syoriyou!I422=\"\",\"\",syoriyou!I422)","v":""},{"$f":"IF(syoriyou!J422=\"\",\"\",syoriyou!N422)","v":""}]
[{"$f":"IF(syoriyou!A423=\"\",\"\",syoriyou!A423)","v":""},{"$f":"IF(syoriyou!B423=\"\",\"\",syoriyou!B423)","v":""},{"$f":"IF(syoriyou!C423=\"\",\"\",syoriyou!C423)","v":""},{"$f":"IF(syoriyou!D423=\"\",\"\",syoriyou!D423)","v":""},{"$f":"IF(syoriyou!E423=\"\",\"\",syoriyou!E423)","v":""},{"$f":"IF(syoriyou!F423=\"\",\"\",syoriyou!F423)","v":""},{"$f":"IF(syoriyou!G423=\"\",\"\",syoriyou!G423)","v":""},{"$f":"IF(syoriyou!H423=\"\",\"\",syoriyou!H423)","v":""},{"$f":"IF(syoriyou!I423=\"\",\"\",syoriyou!I423)","v":""},{"$f":"IF(syoriyou!J423=\"\",\"\",syoriyou!N423)","v":""}]
[{"$f":"IF(syoriyou!A424=\"\",\"\",syoriyou!A424)","v":""},{"$f":"IF(syoriyou!B424=\"\",\"\",syoriyou!B424)","v":""},{"$f":"IF(syoriyou!C424=\"\",\"\",syoriyou!C424)","v":""},{"$f":"IF(syoriyou!D424=\"\",\"\",syoriyou!D424)","v":""},{"$f":"IF(syoriyou!E424=\"\",\"\",syoriyou!E424)","v":""},{"$f":"IF(syoriyou!F424=\"\",\"\",syoriyou!F424)","v":""},{"$f":"IF(syoriyou!G424=\"\",\"\",syoriyou!G424)","v":""},{"$f":"IF(syoriyou!H424=\"\",\"\",syoriyou!H424)","v":""},{"$f":"IF(syoriyou!I424=\"\",\"\",syoriyou!I424)","v":""},{"$f":"IF(syoriyou!J424=\"\",\"\",syoriyou!N424)","v":""}]
[{"$f":"IF(syoriyou!A425=\"\",\"\",syoriyou!A425)","v":""},{"$f":"IF(syoriyou!B425=\"\",\"\",syoriyou!B425)","v":""},{"$f":"IF(syoriyou!C425=\"\",\"\",syoriyou!C425)","v":""},{"$f":"IF(syoriyou!D425=\"\",\"\",syoriyou!D425)","v":""},{"$f":"IF(syoriyou!E425=\"\",\"\",syoriyou!E425)","v":""},{"$f":"IF(syoriyou!F425=\"\",\"\",syoriyou!F425)","v":""},{"$f":"IF(syoriyou!G425=\"\",\"\",syoriyou!G425)","v":""},{"$f":"IF(syoriyou!H425=\"\",\"\",syoriyou!H425)","v":""},{"$f":"IF(syoriyou!I425=\"\",\"\",syoriyou!I425)","v":""},{"$f":"IF(syoriyou!J425=\"\",\"\",syoriyou!N425)","v":""}]
[{"$f":"IF(syoriyou!A426=\"\",\"\",syoriyou!A426)","v":""},{"$f":"IF(syoriyou!B426=\"\",\"\",syoriyou!B426)","v":""},{"$f":"IF(syoriyou!C426=\"\",\"\",syoriyou!C426)","v":""},{"$f":"IF(syoriyou!D426=\"\",\"\",syoriyou!D426)","v":""},{"$f":"IF(syoriyou!E426=\"\",\"\",syoriyou!E426)","v":""},{"$f":"IF(syoriyou!F426=\"\",\"\",syoriyou!F426)","v":""},{"$f":"IF(syoriyou!G426=\"\",\"\",syoriyou!G426)","v":""},{"$f":"IF(syoriyou!H426=\"\",\"\",syoriyou!H426)","v":""},{"$f":"IF(syoriyou!I426=\"\",\"\",syoriyou!I426)","v":""},{"$f":"IF(syoriyou!J426=\"\",\"\",syoriyou!N426)","v":""}]
[{"$f":"IF(syoriyou!A427=\"\",\"\",syoriyou!A427)","v":""},{"$f":"IF(syoriyou!B427=\"\",\"\",syoriyou!B427)","v":""},{"$f":"IF(syoriyou!C427=\"\",\"\",syoriyou!C427)","v":""},{"$f":"IF(syoriyou!D427=\"\",\"\",syoriyou!D427)","v":""},{"$f":"IF(syoriyou!E427=\"\",\"\",syoriyou!E427)","v":""},{"$f":"IF(syoriyou!F427=\"\",\"\",syoriyou!F427)","v":""},{"$f":"IF(syoriyou!G427=\"\",\"\",syoriyou!G427)","v":""},{"$f":"IF(syoriyou!H427=\"\",\"\",syoriyou!H427)","v":""},{"$f":"IF(syoriyou!I427=\"\",\"\",syoriyou!I427)","v":""},{"$f":"IF(syoriyou!J427=\"\",\"\",syoriyou!N427)","v":""}]
[{"$f":"IF(syoriyou!A428=\"\",\"\",syoriyou!A428)","v":""},{"$f":"IF(syoriyou!B428=\"\",\"\",syoriyou!B428)","v":""},{"$f":"IF(syoriyou!C428=\"\",\"\",syoriyou!C428)","v":""},{"$f":"IF(syoriyou!D428=\"\",\"\",syoriyou!D428)","v":""},{"$f":"IF(syoriyou!E428=\"\",\"\",syoriyou!E428)","v":""},{"$f":"IF(syoriyou!F428=\"\",\"\",syoriyou!F428)","v":""},{"$f":"IF(syoriyou!G428=\"\",\"\",syoriyou!G428)","v":""},{"$f":"IF(syoriyou!H428=\"\",\"\",syoriyou!H428)","v":""},{"$f":"IF(syoriyou!I428=\"\",\"\",syoriyou!I428)","v":""},{"$f":"IF(syoriyou!J428=\"\",\"\",syoriyou!N428)","v":""}]
[{"$f":"IF(syoriyou!A429=\"\",\"\",syoriyou!A429)","v":""},{"$f":"IF(syoriyou!B429=\"\",\"\",syoriyou!B429)","v":""},{"$f":"IF(syoriyou!C429=\"\",\"\",syoriyou!C429)","v":""},{"$f":"IF(syoriyou!D429=\"\",\"\",syoriyou!D429)","v":""},{"$f":"IF(syoriyou!E429=\"\",\"\",syoriyou!E429)","v":""},{"$f":"IF(syoriyou!F429=\"\",\"\",syoriyou!F429)","v":""},{"$f":"IF(syoriyou!G429=\"\",\"\",syoriyou!G429)","v":""},{"$f":"IF(syoriyou!H429=\"\",\"\",syoriyou!H429)","v":""},{"$f":"IF(syoriyou!I429=\"\",\"\",syoriyou!I429)","v":""},{"$f":"IF(syoriyou!J429=\"\",\"\",syoriyou!N429)","v":""}]
[{"$f":"IF(syoriyou!A430=\"\",\"\",syoriyou!A430)","v":""},{"$f":"IF(syoriyou!B430=\"\",\"\",syoriyou!B430)","v":""},{"$f":"IF(syoriyou!C430=\"\",\"\",syoriyou!C430)","v":""},{"$f":"IF(syoriyou!D430=\"\",\"\",syoriyou!D430)","v":""},{"$f":"IF(syoriyou!E430=\"\",\"\",syoriyou!E430)","v":""},{"$f":"IF(syoriyou!F430=\"\",\"\",syoriyou!F430)","v":""},{"$f":"IF(syoriyou!G430=\"\",\"\",syoriyou!G430)","v":""},{"$f":"IF(syoriyou!H430=\"\",\"\",syoriyou!H430)","v":""},{"$f":"IF(syoriyou!I430=\"\",\"\",syoriyou!I430)","v":""},{"$f":"IF(syoriyou!J430=\"\",\"\",syoriyou!N430)","v":""}]
[{"$f":"IF(syoriyou!A431=\"\",\"\",syoriyou!A431)","v":""},{"$f":"IF(syoriyou!B431=\"\",\"\",syoriyou!B431)","v":""},{"$f":"IF(syoriyou!C431=\"\",\"\",syoriyou!C431)","v":""},{"$f":"IF(syoriyou!D431=\"\",\"\",syoriyou!D431)","v":""},{"$f":"IF(syoriyou!E431=\"\",\"\",syoriyou!E431)","v":""},{"$f":"IF(syoriyou!F431=\"\",\"\",syoriyou!F431)","v":""},{"$f":"IF(syoriyou!G431=\"\",\"\",syoriyou!G431)","v":""},{"$f":"IF(syoriyou!H431=\"\",\"\",syoriyou!H431)","v":""},{"$f":"IF(syoriyou!I431=\"\",\"\",syoriyou!I431)","v":""},{"$f":"IF(syoriyou!J431=\"\",\"\",syoriyou!N431)","v":""}]
[{"$f":"IF(syoriyou!A432=\"\",\"\",syoriyou!A432)","v":""},{"$f":"IF(syoriyou!B432=\"\",\"\",syoriyou!B432)","v":""},{"$f":"IF(syoriyou!C432=\"\",\"\",syoriyou!C432)","v":""},{"$f":"IF(syoriyou!D432=\"\",\"\",syoriyou!D432)","v":""},{"$f":"IF(syoriyou!E432=\"\",\"\",syoriyou!E432)","v":""},{"$f":"IF(syoriyou!F432=\"\",\"\",syoriyou!F432)","v":""},{"$f":"IF(syoriyou!G432=\"\",\"\",syoriyou!G432)","v":""},{"$f":"IF(syoriyou!H432=\"\",\"\",syoriyou!H432)","v":""},{"$f":"IF(syoriyou!I432=\"\",\"\",syoriyou!I432)","v":""},{"$f":"IF(syoriyou!J432=\"\",\"\",syoriyou!N432)","v":""}]
[{"$f":"IF(syoriyou!A433=\"\",\"\",syoriyou!A433)","v":""},{"$f":"IF(syoriyou!B433=\"\",\"\",syoriyou!B433)","v":""},{"$f":"IF(syoriyou!C433=\"\",\"\",syoriyou!C433)","v":""},{"$f":"IF(syoriyou!D433=\"\",\"\",syoriyou!D433)","v":""},{"$f":"IF(syoriyou!E433=\"\",\"\",syoriyou!E433)","v":""},{"$f":"IF(syoriyou!F433=\"\",\"\",syoriyou!F433)","v":""},{"$f":"IF(syoriyou!G433=\"\",\"\",syoriyou!G433)","v":""},{"$f":"IF(syoriyou!H433=\"\",\"\",syoriyou!H433)","v":""},{"$f":"IF(syoriyou!I433=\"\",\"\",syoriyou!I433)","v":""},{"$f":"IF(syoriyou!J433=\"\",\"\",syoriyou!N433)","v":""}]
[{"$f":"IF(syoriyou!A434=\"\",\"\",syoriyou!A434)","v":""},{"$f":"IF(syoriyou!B434=\"\",\"\",syoriyou!B434)","v":""},{"$f":"IF(syoriyou!C434=\"\",\"\",syoriyou!C434)","v":""},{"$f":"IF(syoriyou!D434=\"\",\"\",syoriyou!D434)","v":""},{"$f":"IF(syoriyou!E434=\"\",\"\",syoriyou!E434)","v":""},{"$f":"IF(syoriyou!F434=\"\",\"\",syoriyou!F434)","v":""},{"$f":"IF(syoriyou!G434=\"\",\"\",syoriyou!G434)","v":""},{"$f":"IF(syoriyou!H434=\"\",\"\",syoriyou!H434)","v":""},{"$f":"IF(syoriyou!I434=\"\",\"\",syoriyou!I434)","v":""},{"$f":"IF(syoriyou!J434=\"\",\"\",syoriyou!N434)","v":""}]
[{"$f":"IF(syoriyou!A435=\"\",\"\",syoriyou!A435)","v":""},{"$f":"IF(syoriyou!B435=\"\",\"\",syoriyou!B435)","v":""},{"$f":"IF(syoriyou!C435=\"\",\"\",syoriyou!C435)","v":""},{"$f":"IF(syoriyou!D435=\"\",\"\",syoriyou!D435)","v":""},{"$f":"IF(syoriyou!E435=\"\",\"\",syoriyou!E435)","v":""},{"$f":"IF(syoriyou!F435=\"\",\"\",syoriyou!F435)","v":""},{"$f":"IF(syoriyou!G435=\"\",\"\",syoriyou!G435)","v":""},{"$f":"IF(syoriyou!H435=\"\",\"\",syoriyou!H435)","v":""},{"$f":"IF(syoriyou!I435=\"\",\"\",syoriyou!I435)","v":""},{"$f":"IF(syoriyou!J435=\"\",\"\",syoriyou!N435)","v":""}]
[{"$f":"IF(syoriyou!A436=\"\",\"\",syoriyou!A436)","v":""},{"$f":"IF(syoriyou!B436=\"\",\"\",syoriyou!B436)","v":""},{"$f":"IF(syoriyou!C436=\"\",\"\",syoriyou!C436)","v":""},{"$f":"IF(syoriyou!D436=\"\",\"\",syoriyou!D436)","v":""},{"$f":"IF(syoriyou!E436=\"\",\"\",syoriyou!E436)","v":""},{"$f":"IF(syoriyou!F436=\"\",\"\",syoriyou!F436)","v":""},{"$f":"IF(syoriyou!G436=\"\",\"\",syoriyou!G436)","v":""},{"$f":"IF(syoriyou!H436=\"\",\"\",syoriyou!H436)","v":""},{"$f":"IF(syoriyou!I436=\"\",\"\",syoriyou!I436)","v":""},{"$f":"IF(syoriyou!J436=\"\",\"\",syoriyou!N436)","v":""}]
[{"$f":"IF(syoriyou!A437=\"\",\"\",syoriyou!A437)","v":""},{"$f":"IF(syoriyou!B437=\"\",\"\",syoriyou!B437)","v":""},{"$f":"IF(syoriyou!C437=\"\",\"\",syoriyou!C437)","v":""},{"$f":"IF(syoriyou!D437=\"\",\"\",syoriyou!D437)","v":""},{"$f":"IF(syoriyou!E437=\"\",\"\",syoriyou!E437)","v":""},{"$f":"IF(syoriyou!F437=\"\",\"\",syoriyou!F437)","v":""},{"$f":"IF(syoriyou!G437=\"\",\"\",syoriyou!G437)","v":""},{"$f":"IF(syoriyou!H437=\"\",\"\",syoriyou!H437)","v":""},{"$f":"IF(syoriyou!I437=\"\",\"\",syoriyou!I437)","v":""},{"$f":"IF(syoriyou!J437=\"\",\"\",syoriyou!N437)","v":""}]
[{"$f":"IF(syoriyou!A438=\"\",\"\",syoriyou!A438)","v":""},{"$f":"IF(syoriyou!B438=\"\",\"\",syoriyou!B438)","v":""},{"$f":"IF(syoriyou!C438=\"\",\"\",syoriyou!C438)","v":""},{"$f":"IF(syoriyou!D438=\"\",\"\",syoriyou!D438)","v":""},{"$f":"IF(syoriyou!E438=\"\",\"\",syoriyou!E438)","v":""},{"$f":"IF(syoriyou!F438=\"\",\"\",syoriyou!F438)","v":""},{"$f":"IF(syoriyou!G438=\"\",\"\",syoriyou!G438)","v":""},{"$f":"IF(syoriyou!H438=\"\",\"\",syoriyou!H438)","v":""},{"$f":"IF(syoriyou!I438=\"\",\"\",syoriyou!I438)","v":""},{"$f":"IF(syoriyou!J438=\"\",\"\",syoriyou!N438)","v":""}]
[{"$f":"IF(syoriyou!A439=\"\",\"\",syoriyou!A439)","v":""},{"$f":"IF(syoriyou!B439=\"\",\"\",syoriyou!B439)","v":""},{"$f":"IF(syoriyou!C439=\"\",\"\",syoriyou!C439)","v":""},{"$f":"IF(syoriyou!D439=\"\",\"\",syoriyou!D439)","v":""},{"$f":"IF(syoriyou!E439=\"\",\"\",syoriyou!E439)","v":""},{"$f":"IF(syoriyou!F439=\"\",\"\",syoriyou!F439)","v":""},{"$f":"IF(syoriyou!G439=\"\",\"\",syoriyou!G439)","v":""},{"$f":"IF(syoriyou!H439=\"\",\"\",syoriyou!H439)","v":""},{"$f":"IF(syoriyou!I439=\"\",\"\",syoriyou!I439)","v":""},{"$f":"IF(syoriyou!J439=\"\",\"\",syoriyou!N439)","v":""}]
[{"$f":"IF(syoriyou!A440=\"\",\"\",syoriyou!A440)","v":""},{"$f":"IF(syoriyou!B440=\"\",\"\",syoriyou!B440)","v":""},{"$f":"IF(syoriyou!C440=\"\",\"\",syoriyou!C440)","v":""},{"$f":"IF(syoriyou!D440=\"\",\"\",syoriyou!D440)","v":""},{"$f":"IF(syoriyou!E440=\"\",\"\",syoriyou!E440)","v":""},{"$f":"IF(syoriyou!F440=\"\",\"\",syoriyou!F440)","v":""},{"$f":"IF(syoriyou!G440=\"\",\"\",syoriyou!G440)","v":""},{"$f":"IF(syoriyou!H440=\"\",\"\",syoriyou!H440)","v":""},{"$f":"IF(syoriyou!I440=\"\",\"\",syoriyou!I440)","v":""},{"$f":"IF(syoriyou!J440=\"\",\"\",syoriyou!N440)","v":""}]
[{"$f":"IF(syoriyou!A441=\"\",\"\",syoriyou!A441)","v":""},{"$f":"IF(syoriyou!B441=\"\",\"\",syoriyou!B441)","v":""},{"$f":"IF(syoriyou!C441=\"\",\"\",syoriyou!C441)","v":""},{"$f":"IF(syoriyou!D441=\"\",\"\",syoriyou!D441)","v":""},{"$f":"IF(syoriyou!E441=\"\",\"\",syoriyou!E441)","v":""},{"$f":"IF(syoriyou!F441=\"\",\"\",syoriyou!F441)","v":""},{"$f":"IF(syoriyou!G441=\"\",\"\",syoriyou!G441)","v":""},{"$f":"IF(syoriyou!H441=\"\",\"\",syoriyou!H441)","v":""},{"$f":"IF(syoriyou!I441=\"\",\"\",syoriyou!I441)","v":""},{"$f":"IF(syoriyou!J441=\"\",\"\",syoriyou!N441)","v":""}]
[{"$f":"IF(syoriyou!A442=\"\",\"\",syoriyou!A442)","v":""},{"$f":"IF(syoriyou!B442=\"\",\"\",syoriyou!B442)","v":""},{"$f":"IF(syoriyou!C442=\"\",\"\",syoriyou!C442)","v":""},{"$f":"IF(syoriyou!D442=\"\",\"\",syoriyou!D442)","v":""},{"$f":"IF(syoriyou!E442=\"\",\"\",syoriyou!E442)","v":""},{"$f":"IF(syoriyou!F442=\"\",\"\",syoriyou!F442)","v":""},{"$f":"IF(syoriyou!G442=\"\",\"\",syoriyou!G442)","v":""},{"$f":"IF(syoriyou!H442=\"\",\"\",syoriyou!H442)","v":""},{"$f":"IF(syoriyou!I442=\"\",\"\",syoriyou!I442)","v":""},{"$f":"IF(syoriyou!J442=\"\",\"\",syoriyou!N442)","v":""}]
[{"$f":"IF(syoriyou!A443=\"\",\"\",syoriyou!A443)","v":""},{"$f":"IF(syoriyou!B443=\"\",\"\",syoriyou!B443)","v":""},{"$f":"IF(syoriyou!C443=\"\",\"\",syoriyou!C443)","v":""},{"$f":"IF(syoriyou!D443=\"\",\"\",syoriyou!D443)","v":""},{"$f":"IF(syoriyou!E443=\"\",\"\",syoriyou!E443)","v":""},{"$f":"IF(syoriyou!F443=\"\",\"\",syoriyou!F443)","v":""},{"$f":"IF(syoriyou!G443=\"\",\"\",syoriyou!G443)","v":""},{"$f":"IF(syoriyou!H443=\"\",\"\",syoriyou!H443)","v":""},{"$f":"IF(syoriyou!I443=\"\",\"\",syoriyou!I443)","v":""},{"$f":"IF(syoriyou!J443=\"\",\"\",syoriyou!N443)","v":""}]
[{"$f":"IF(syoriyou!A444=\"\",\"\",syoriyou!A444)","v":""},{"$f":"IF(syoriyou!B444=\"\",\"\",syoriyou!B444)","v":""},{"$f":"IF(syoriyou!C444=\"\",\"\",syoriyou!C444)","v":""},{"$f":"IF(syoriyou!D444=\"\",\"\",syoriyou!D444)","v":""},{"$f":"IF(syoriyou!E444=\"\",\"\",syoriyou!E444)","v":""},{"$f":"IF(syoriyou!F444=\"\",\"\",syoriyou!F444)","v":""},{"$f":"IF(syoriyou!G444=\"\",\"\",syoriyou!G444)","v":""},{"$f":"IF(syoriyou!H444=\"\",\"\",syoriyou!H444)","v":""},{"$f":"IF(syoriyou!I444=\"\",\"\",syoriyou!I444)","v":""},{"$f":"IF(syoriyou!J444=\"\",\"\",syoriyou!N444)","v":""}]
[{"$f":"IF(syoriyou!A445=\"\",\"\",syoriyou!A445)","v":""},{"$f":"IF(syoriyou!B445=\"\",\"\",syoriyou!B445)","v":""},{"$f":"IF(syoriyou!C445=\"\",\"\",syoriyou!C445)","v":""},{"$f":"IF(syoriyou!D445=\"\",\"\",syoriyou!D445)","v":""},{"$f":"IF(syoriyou!E445=\"\",\"\",syoriyou!E445)","v":""},{"$f":"IF(syoriyou!F445=\"\",\"\",syoriyou!F445)","v":""},{"$f":"IF(syoriyou!G445=\"\",\"\",syoriyou!G445)","v":""},{"$f":"IF(syoriyou!H445=\"\",\"\",syoriyou!H445)","v":""},{"$f":"IF(syoriyou!I445=\"\",\"\",syoriyou!I445)","v":""},{"$f":"IF(syoriyou!J445=\"\",\"\",syoriyou!N445)","v":""}]
[{"$f":"IF(syoriyou!A446=\"\",\"\",syoriyou!A446)","v":""},{"$f":"IF(syoriyou!B446=\"\",\"\",syoriyou!B446)","v":""},{"$f":"IF(syoriyou!C446=\"\",\"\",syoriyou!C446)","v":""},{"$f":"IF(syoriyou!D446=\"\",\"\",syoriyou!D446)","v":""},{"$f":"IF(syoriyou!E446=\"\",\"\",syoriyou!E446)","v":""},{"$f":"IF(syoriyou!F446=\"\",\"\",syoriyou!F446)","v":""},{"$f":"IF(syoriyou!G446=\"\",\"\",syoriyou!G446)","v":""},{"$f":"IF(syoriyou!H446=\"\",\"\",syoriyou!H446)","v":""},{"$f":"IF(syoriyou!I446=\"\",\"\",syoriyou!I446)","v":""},{"$f":"IF(syoriyou!J446=\"\",\"\",syoriyou!N446)","v":""}]
[{"$f":"IF(syoriyou!A447=\"\",\"\",syoriyou!A447)","v":""},{"$f":"IF(syoriyou!B447=\"\",\"\",syoriyou!B447)","v":""},{"$f":"IF(syoriyou!C447=\"\",\"\",syoriyou!C447)","v":""},{"$f":"IF(syoriyou!D447=\"\",\"\",syoriyou!D447)","v":""},{"$f":"IF(syoriyou!E447=\"\",\"\",syoriyou!E447)","v":""},{"$f":"IF(syoriyou!F447=\"\",\"\",syoriyou!F447)","v":""},{"$f":"IF(syoriyou!G447=\"\",\"\",syoriyou!G447)","v":""},{"$f":"IF(syoriyou!H447=\"\",\"\",syoriyou!H447)","v":""},{"$f":"IF(syoriyou!I447=\"\",\"\",syoriyou!I447)","v":""},{"$f":"IF(syoriyou!J447=\"\",\"\",syoriyou!N447)","v":""}]
[{"$f":"IF(syoriyou!A448=\"\",\"\",syoriyou!A448)","v":""},{"$f":"IF(syoriyou!B448=\"\",\"\",syoriyou!B448)","v":""},{"$f":"IF(syoriyou!C448=\"\",\"\",syoriyou!C448)","v":""},{"$f":"IF(syoriyou!D448=\"\",\"\",syoriyou!D448)","v":""},{"$f":"IF(syoriyou!E448=\"\",\"\",syoriyou!E448)","v":""},{"$f":"IF(syoriyou!F448=\"\",\"\",syoriyou!F448)","v":""},{"$f":"IF(syoriyou!G448=\"\",\"\",syoriyou!G448)","v":""},{"$f":"IF(syoriyou!H448=\"\",\"\",syoriyou!H448)","v":""},{"$f":"IF(syoriyou!I448=\"\",\"\",syoriyou!I448)","v":""},{"$f":"IF(syoriyou!J448=\"\",\"\",syoriyou!N448)","v":""}]
[{"$f":"IF(syoriyou!A449=\"\",\"\",syoriyou!A449)","v":""},{"$f":"IF(syoriyou!B449=\"\",\"\",syoriyou!B449)","v":""},{"$f":"IF(syoriyou!C449=\"\",\"\",syoriyou!C449)","v":""},{"$f":"IF(syoriyou!D449=\"\",\"\",syoriyou!D449)","v":""},{"$f":"IF(syoriyou!E449=\"\",\"\",syoriyou!E449)","v":""},{"$f":"IF(syoriyou!F449=\"\",\"\",syoriyou!F449)","v":""},{"$f":"IF(syoriyou!G449=\"\",\"\",syoriyou!G449)","v":""},{"$f":"IF(syoriyou!H449=\"\",\"\",syoriyou!H449)","v":""},{"$f":"IF(syoriyou!I449=\"\",\"\",syoriyou!I449)","v":""},{"$f":"IF(syoriyou!J449=\"\",\"\",syoriyou!N449)","v":""}]
[{"$f":"IF(syoriyou!A450=\"\",\"\",syoriyou!A450)","v":""},{"$f":"IF(syoriyou!B450=\"\",\"\",syoriyou!B450)","v":""},{"$f":"IF(syoriyou!C450=\"\",\"\",syoriyou!C450)","v":""},{"$f":"IF(syoriyou!D450=\"\",\"\",syoriyou!D450)","v":""},{"$f":"IF(syoriyou!E450=\"\",\"\",syoriyou!E450)","v":""},{"$f":"IF(syoriyou!F450=\"\",\"\",syoriyou!F450)","v":""},{"$f":"IF(syoriyou!G450=\"\",\"\",syoriyou!G450)","v":""},{"$f":"IF(syoriyou!H450=\"\",\"\",syoriyou!H450)","v":""},{"$f":"IF(syoriyou!I450=\"\",\"\",syoriyou!I450)","v":""},{"$f":"IF(syoriyou!J450=\"\",\"\",syoriyou!N450)","v":""}]
[{"$f":"IF(syoriyou!A451=\"\",\"\",syoriyou!A451)","v":""},{"$f":"IF(syoriyou!B451=\"\",\"\",syoriyou!B451)","v":""},{"$f":"IF(syoriyou!C451=\"\",\"\",syoriyou!C451)","v":""},{"$f":"IF(syoriyou!D451=\"\",\"\",syoriyou!D451)","v":""},{"$f":"IF(syoriyou!E451=\"\",\"\",syoriyou!E451)","v":""},{"$f":"IF(syoriyou!F451=\"\",\"\",syoriyou!F451)","v":""},{"$f":"IF(syoriyou!G451=\"\",\"\",syoriyou!G451)","v":""},{"$f":"IF(syoriyou!H451=\"\",\"\",syoriyou!H451)","v":""},{"$f":"IF(syoriyou!I451=\"\",\"\",syoriyou!I451)","v":""},{"$f":"IF(syoriyou!J451=\"\",\"\",syoriyou!N451)","v":""}]
[{"$f":"IF(syoriyou!A452=\"\",\"\",syoriyou!A452)","v":""},{"$f":"IF(syoriyou!B452=\"\",\"\",syoriyou!B452)","v":""},{"$f":"IF(syoriyou!C452=\"\",\"\",syoriyou!C452)","v":""},{"$f":"IF(syoriyou!D452=\"\",\"\",syoriyou!D452)","v":""},{"$f":"IF(syoriyou!E452=\"\",\"\",syoriyou!E452)","v":""},{"$f":"IF(syoriyou!F452=\"\",\"\",syoriyou!F452)","v":""},{"$f":"IF(syoriyou!G452=\"\",\"\",syoriyou!G452)","v":""},{"$f":"IF(syoriyou!H452=\"\",\"\",syoriyou!H452)","v":""},{"$f":"IF(syoriyou!I452=\"\",\"\",syoriyou!I452)","v":""},{"$f":"IF(syoriyou!J452=\"\",\"\",syoriyou!N452)","v":""}]
[{"$f":"IF(syoriyou!A453=\"\",\"\",syoriyou!A453)","v":""},{"$f":"IF(syoriyou!B453=\"\",\"\",syoriyou!B453)","v":""},{"$f":"IF(syoriyou!C453=\"\",\"\",syoriyou!C453)","v":""},{"$f":"IF(syoriyou!D453=\"\",\"\",syoriyou!D453)","v":""},{"$f":"IF(syoriyou!E453=\"\",\"\",syoriyou!E453)","v":""},{"$f":"IF(syoriyou!F453=\"\",\"\",syoriyou!F453)","v":""},{"$f":"IF(syoriyou!G453=\"\",\"\",syoriyou!G453)","v":""},{"$f":"IF(syoriyou!H453=\"\",\"\",syoriyou!H453)","v":""},{"$f":"IF(syoriyou!I453=\"\",\"\",syoriyou!I453)","v":""},{"$f":"IF(syoriyou!J453=\"\",\"\",syoriyou!N453)","v":""}]
[{"$f":"IF(syoriyou!A454=\"\",\"\",syoriyou!A454)","v":""},{"$f":"IF(syoriyou!B454=\"\",\"\",syoriyou!B454)","v":""},{"$f":"IF(syoriyou!C454=\"\",\"\",syoriyou!C454)","v":""},{"$f":"IF(syoriyou!D454=\"\",\"\",syoriyou!D454)","v":""},{"$f":"IF(syoriyou!E454=\"\",\"\",syoriyou!E454)","v":""},{"$f":"IF(syoriyou!F454=\"\",\"\",syoriyou!F454)","v":""},{"$f":"IF(syoriyou!G454=\"\",\"\",syoriyou!G454)","v":""},{"$f":"IF(syoriyou!H454=\"\",\"\",syoriyou!H454)","v":""},{"$f":"IF(syoriyou!I454=\"\",\"\",syoriyou!I454)","v":""},{"$f":"IF(syoriyou!J454=\"\",\"\",syoriyou!N454)","v":""}]
[{"$f":"IF(syoriyou!A455=\"\",\"\",syoriyou!A455)","v":""},{"$f":"IF(syoriyou!B455=\"\",\"\",syoriyou!B455)","v":""},{"$f":"IF(syoriyou!C455=\"\",\"\",syoriyou!C455)","v":""},{"$f":"IF(syoriyou!D455=\"\",\"\",syoriyou!D455)","v":""},{"$f":"IF(syoriyou!E455=\"\",\"\",syoriyou!E455)","v":""},{"$f":"IF(syoriyou!F455=\"\",\"\",syoriyou!F455)","v":""},{"$f":"IF(syoriyou!G455=\"\",\"\",syoriyou!G455)","v":""},{"$f":"IF(syoriyou!H455=\"\",\"\",syoriyou!H455)","v":""},{"$f":"IF(syoriyou!I455=\"\",\"\",syoriyou!I455)","v":""},{"$f":"IF(syoriyou!J455=\"\",\"\",syoriyou!N455)","v":""}]
[{"$f":"IF(syoriyou!A456=\"\",\"\",syoriyou!A456)","v":""},{"$f":"IF(syoriyou!B456=\"\",\"\",syoriyou!B456)","v":""},{"$f":"IF(syoriyou!C456=\"\",\"\",syoriyou!C456)","v":""},{"$f":"IF(syoriyou!D456=\"\",\"\",syoriyou!D456)","v":""},{"$f":"IF(syoriyou!E456=\"\",\"\",syoriyou!E456)","v":""},{"$f":"IF(syoriyou!F456=\"\",\"\",syoriyou!F456)","v":""},{"$f":"IF(syoriyou!G456=\"\",\"\",syoriyou!G456)","v":""},{"$f":"IF(syoriyou!H456=\"\",\"\",syoriyou!H456)","v":""},{"$f":"IF(syoriyou!I456=\"\",\"\",syoriyou!I456)","v":""},{"$f":"IF(syoriyou!J456=\"\",\"\",syoriyou!N456)","v":""}]
[{"$f":"IF(syoriyou!A457=\"\",\"\",syoriyou!A457)","v":""},{"$f":"IF(syoriyou!B457=\"\",\"\",syoriyou!B457)","v":""},{"$f":"IF(syoriyou!C457=\"\",\"\",syoriyou!C457)","v":""},{"$f":"IF(syoriyou!D457=\"\",\"\",syoriyou!D457)","v":""},{"$f":"IF(syoriyou!E457=\"\",\"\",syoriyou!E457)","v":""},{"$f":"IF(syoriyou!F457=\"\",\"\",syoriyou!F457)","v":""},{"$f":"IF(syoriyou!G457=\"\",\"\",syoriyou!G457)","v":""},{"$f":"IF(syoriyou!H457=\"\",\"\",syoriyou!H457)","v":""},{"$f":"IF(syoriyou!I457=\"\",\"\",syoriyou!I457)","v":""},{"$f":"IF(syoriyou!J457=\"\",\"\",syoriyou!N457)","v":""}]
[{"$f":"IF(syoriyou!A458=\"\",\"\",syoriyou!A458)","v":""},{"$f":"IF(syoriyou!B458=\"\",\"\",syoriyou!B458)","v":""},{"$f":"IF(syoriyou!C458=\"\",\"\",syoriyou!C458)","v":""},{"$f":"IF(syoriyou!D458=\"\",\"\",syoriyou!D458)","v":""},{"$f":"IF(syoriyou!E458=\"\",\"\",syoriyou!E458)","v":""},{"$f":"IF(syoriyou!F458=\"\",\"\",syoriyou!F458)","v":""},{"$f":"IF(syoriyou!G458=\"\",\"\",syoriyou!G458)","v":""},{"$f":"IF(syoriyou!H458=\"\",\"\",syoriyou!H458)","v":""},{"$f":"IF(syoriyou!I458=\"\",\"\",syoriyou!I458)","v":""},{"$f":"IF(syoriyou!J458=\"\",\"\",syoriyou!N458)","v":""}]
[{"$f":"IF(syoriyou!A459=\"\",\"\",syoriyou!A459)","v":""},{"$f":"IF(syoriyou!B459=\"\",\"\",syoriyou!B459)","v":""},{"$f":"IF(syoriyou!C459=\"\",\"\",syoriyou!C459)","v":""},{"$f":"IF(syoriyou!D459=\"\",\"\",syoriyou!D459)","v":""},{"$f":"IF(syoriyou!E459=\"\",\"\",syoriyou!E459)","v":""},{"$f":"IF(syoriyou!F459=\"\",\"\",syoriyou!F459)","v":""},{"$f":"IF(syoriyou!G459=\"\",\"\",syoriyou!G459)","v":""},{"$f":"IF(syoriyou!H459=\"\",\"\",syoriyou!H459)","v":""},{"$f":"IF(syoriyou!I459=\"\",\"\",syoriyou!I459)","v":""},{"$f":"IF(syoriyou!J459=\"\",\"\",syoriyou!N459)","v":""}]
[{"$f":"IF(syoriyou!A460=\"\",\"\",syoriyou!A460)","v":""},{"$f":"IF(syoriyou!B460=\"\",\"\",syoriyou!B460)","v":""},{"$f":"IF(syoriyou!C460=\"\",\"\",syoriyou!C460)","v":""},{"$f":"IF(syoriyou!D460=\"\",\"\",syoriyou!D460)","v":""},{"$f":"IF(syoriyou!E460=\"\",\"\",syoriyou!E460)","v":""},{"$f":"IF(syoriyou!F460=\"\",\"\",syoriyou!F460)","v":""},{"$f":"IF(syoriyou!G460=\"\",\"\",syoriyou!G460)","v":""},{"$f":"IF(syoriyou!H460=\"\",\"\",syoriyou!H460)","v":""},{"$f":"IF(syoriyou!I460=\"\",\"\",syoriyou!I460)","v":""},{"$f":"IF(syoriyou!J460=\"\",\"\",syoriyou!N460)","v":""}]
[{"$f":"IF(syoriyou!A461=\"\",\"\",syoriyou!A461)","v":""},{"$f":"IF(syoriyou!B461=\"\",\"\",syoriyou!B461)","v":""},{"$f":"IF(syoriyou!C461=\"\",\"\",syoriyou!C461)","v":""},{"$f":"IF(syoriyou!D461=\"\",\"\",syoriyou!D461)","v":""},{"$f":"IF(syoriyou!E461=\"\",\"\",syoriyou!E461)","v":""},{"$f":"IF(syoriyou!F461=\"\",\"\",syoriyou!F461)","v":""},{"$f":"IF(syoriyou!G461=\"\",\"\",syoriyou!G461)","v":""},{"$f":"IF(syoriyou!H461=\"\",\"\",syoriyou!H461)","v":""},{"$f":"IF(syoriyou!I461=\"\",\"\",syoriyou!I461)","v":""},{"$f":"IF(syoriyou!J461=\"\",\"\",syoriyou!N461)","v":""}]
[{"$f":"IF(syoriyou!A462=\"\",\"\",syoriyou!A462)","v":""},{"$f":"IF(syoriyou!B462=\"\",\"\",syoriyou!B462)","v":""},{"$f":"IF(syoriyou!C462=\"\",\"\",syoriyou!C462)","v":""},{"$f":"IF(syoriyou!D462=\"\",\"\",syoriyou!D462)","v":""},{"$f":"IF(syoriyou!E462=\"\",\"\",syoriyou!E462)","v":""},{"$f":"IF(syoriyou!F462=\"\",\"\",syoriyou!F462)","v":""},{"$f":"IF(syoriyou!G462=\"\",\"\",syoriyou!G462)","v":""},{"$f":"IF(syoriyou!H462=\"\",\"\",syoriyou!H462)","v":""},{"$f":"IF(syoriyou!I462=\"\",\"\",syoriyou!I462)","v":""},{"$f":"IF(syoriyou!J462=\"\",\"\",syoriyou!N462)","v":""}]
[{"$f":"IF(syoriyou!A463=\"\",\"\",syoriyou!A463)","v":""},{"$f":"IF(syoriyou!B463=\"\",\"\",syoriyou!B463)","v":""},{"$f":"IF(syoriyou!C463=\"\",\"\",syoriyou!C463)","v":""},{"$f":"IF(syoriyou!D463=\"\",\"\",syoriyou!D463)","v":""},{"$f":"IF(syoriyou!E463=\"\",\"\",syoriyou!E463)","v":""},{"$f":"IF(syoriyou!F463=\"\",\"\",syoriyou!F463)","v":""},{"$f":"IF(syoriyou!G463=\"\",\"\",syoriyou!G463)","v":""},{"$f":"IF(syoriyou!H463=\"\",\"\",syoriyou!H463)","v":""},{"$f":"IF(syoriyou!I463=\"\",\"\",syoriyou!I463)","v":""},{"$f":"IF(syoriyou!J463=\"\",\"\",syoriyou!N463)","v":""}]
[{"$f":"IF(syoriyou!A464=\"\",\"\",syoriyou!A464)","v":""},{"$f":"IF(syoriyou!B464=\"\",\"\",syoriyou!B464)","v":""},{"$f":"IF(syoriyou!C464=\"\",\"\",syoriyou!C464)","v":""},{"$f":"IF(syoriyou!D464=\"\",\"\",syoriyou!D464)","v":""},{"$f":"IF(syoriyou!E464=\"\",\"\",syoriyou!E464)","v":""},{"$f":"IF(syoriyou!F464=\"\",\"\",syoriyou!F464)","v":""},{"$f":"IF(syoriyou!G464=\"\",\"\",syoriyou!G464)","v":""},{"$f":"IF(syoriyou!H464=\"\",\"\",syoriyou!H464)","v":""},{"$f":"IF(syoriyou!I464=\"\",\"\",syoriyou!I464)","v":""},{"$f":"IF(syoriyou!J464=\"\",\"\",syoriyou!N464)","v":""}]
[{"$f":"IF(syoriyou!A465=\"\",\"\",syoriyou!A465)","v":""},{"$f":"IF(syoriyou!B465=\"\",\"\",syoriyou!B465)","v":""},{"$f":"IF(syoriyou!C465=\"\",\"\",syoriyou!C465)","v":""},{"$f":"IF(syoriyou!D465=\"\",\"\",syoriyou!D465)","v":""},{"$f":"IF(syoriyou!E465=\"\",\"\",syoriyou!E465)","v":""},{"$f":"IF(syoriyou!F465=\"\",\"\",syoriyou!F465)","v":""},{"$f":"IF(syoriyou!G465=\"\",\"\",syoriyou!G465)","v":""},{"$f":"IF(syoriyou!H465=\"\",\"\",syoriyou!H465)","v":""},{"$f":"IF(syoriyou!I465=\"\",\"\",syoriyou!I465)","v":""},{"$f":"IF(syoriyou!J465=\"\",\"\",syoriyou!N465)","v":""}]
[{"$f":"IF(syoriyou!A466=\"\",\"\",syoriyou!A466)","v":""},{"$f":"IF(syoriyou!B466=\"\",\"\",syoriyou!B466)","v":""},{"$f":"IF(syoriyou!C466=\"\",\"\",syoriyou!C466)","v":""},{"$f":"IF(syoriyou!D466=\"\",\"\",syoriyou!D466)","v":""},{"$f":"IF(syoriyou!E466=\"\",\"\",syoriyou!E466)","v":""},{"$f":"IF(syoriyou!F466=\"\",\"\",syoriyou!F466)","v":""},{"$f":"IF(syoriyou!G466=\"\",\"\",syoriyou!G466)","v":""},{"$f":"IF(syoriyou!H466=\"\",\"\",syoriyou!H466)","v":""},{"$f":"IF(syoriyou!I466=\"\",\"\",syoriyou!I466)","v":""},{"$f":"IF(syoriyou!J466=\"\",\"\",syoriyou!N466)","v":""}]
[{"$f":"IF(syoriyou!A467=\"\",\"\",syoriyou!A467)","v":""},{"$f":"IF(syoriyou!B467=\"\",\"\",syoriyou!B467)","v":""},{"$f":"IF(syoriyou!C467=\"\",\"\",syoriyou!C467)","v":""},{"$f":"IF(syoriyou!D467=\"\",\"\",syoriyou!D467)","v":""},{"$f":"IF(syoriyou!E467=\"\",\"\",syoriyou!E467)","v":""},{"$f":"IF(syoriyou!F467=\"\",\"\",syoriyou!F467)","v":""},{"$f":"IF(syoriyou!G467=\"\",\"\",syoriyou!G467)","v":""},{"$f":"IF(syoriyou!H467=\"\",\"\",syoriyou!H467)","v":""},{"$f":"IF(syoriyou!I467=\"\",\"\",syoriyou!I467)","v":""},{"$f":"IF(syoriyou!J467=\"\",\"\",syoriyou!N467)","v":""}]
[{"$f":"IF(syoriyou!A468=\"\",\"\",syoriyou!A468)","v":""},{"$f":"IF(syoriyou!B468=\"\",\"\",syoriyou!B468)","v":""},{"$f":"IF(syoriyou!C468=\"\",\"\",syoriyou!C468)","v":""},{"$f":"IF(syoriyou!D468=\"\",\"\",syoriyou!D468)","v":""},{"$f":"IF(syoriyou!E468=\"\",\"\",syoriyou!E468)","v":""},{"$f":"IF(syoriyou!F468=\"\",\"\",syoriyou!F468)","v":""},{"$f":"IF(syoriyou!G468=\"\",\"\",syoriyou!G468)","v":""},{"$f":"IF(syoriyou!H468=\"\",\"\",syoriyou!H468)","v":""},{"$f":"IF(syoriyou!I468=\"\",\"\",syoriyou!I468)","v":""},{"$f":"IF(syoriyou!J468=\"\",\"\",syoriyou!N468)","v":""}]
[{"$f":"IF(syoriyou!A469=\"\",\"\",syoriyou!A469)","v":""},{"$f":"IF(syoriyou!B469=\"\",\"\",syoriyou!B469)","v":""},{"$f":"IF(syoriyou!C469=\"\",\"\",syoriyou!C469)","v":""},{"$f":"IF(syoriyou!D469=\"\",\"\",syoriyou!D469)","v":""},{"$f":"IF(syoriyou!E469=\"\",\"\",syoriyou!E469)","v":""},{"$f":"IF(syoriyou!F469=\"\",\"\",syoriyou!F469)","v":""},{"$f":"IF(syoriyou!G469=\"\",\"\",syoriyou!G469)","v":""},{"$f":"IF(syoriyou!H469=\"\",\"\",syoriyou!H469)","v":""},{"$f":"IF(syoriyou!I469=\"\",\"\",syoriyou!I469)","v":""},{"$f":"IF(syoriyou!J469=\"\",\"\",syoriyou!N469)","v":""}]
[{"$f":"IF(syoriyou!A470=\"\",\"\",syoriyou!A470)","v":""},{"$f":"IF(syoriyou!B470=\"\",\"\",syoriyou!B470)","v":""},{"$f":"IF(syoriyou!C470=\"\",\"\",syoriyou!C470)","v":""},{"$f":"IF(syoriyou!D470=\"\",\"\",syoriyou!D470)","v":""},{"$f":"IF(syoriyou!E470=\"\",\"\",syoriyou!E470)","v":""},{"$f":"IF(syoriyou!F470=\"\",\"\",syoriyou!F470)","v":""},{"$f":"IF(syoriyou!G470=\"\",\"\",syoriyou!G470)","v":""},{"$f":"IF(syoriyou!H470=\"\",\"\",syoriyou!H470)","v":""},{"$f":"IF(syoriyou!I470=\"\",\"\",syoriyou!I470)","v":""},{"$f":"IF(syoriyou!J470=\"\",\"\",syoriyou!N470)","v":""}]
[{"$f":"IF(syoriyou!A471=\"\",\"\",syoriyou!A471)","v":""},{"$f":"IF(syoriyou!B471=\"\",\"\",syoriyou!B471)","v":""},{"$f":"IF(syoriyou!C471=\"\",\"\",syoriyou!C471)","v":""},{"$f":"IF(syoriyou!D471=\"\",\"\",syoriyou!D471)","v":""},{"$f":"IF(syoriyou!E471=\"\",\"\",syoriyou!E471)","v":""},{"$f":"IF(syoriyou!F471=\"\",\"\",syoriyou!F471)","v":""},{"$f":"IF(syoriyou!G471=\"\",\"\",syoriyou!G471)","v":""},{"$f":"IF(syoriyou!H471=\"\",\"\",syoriyou!H471)","v":""},{"$f":"IF(syoriyou!I471=\"\",\"\",syoriyou!I471)","v":""},{"$f":"IF(syoriyou!J471=\"\",\"\",syoriyou!N471)","v":""}]
[{"$f":"IF(syoriyou!A472=\"\",\"\",syoriyou!A472)","v":""},{"$f":"IF(syoriyou!B472=\"\",\"\",syoriyou!B472)","v":""},{"$f":"IF(syoriyou!C472=\"\",\"\",syoriyou!C472)","v":""},{"$f":"IF(syoriyou!D472=\"\",\"\",syoriyou!D472)","v":""},{"$f":"IF(syoriyou!E472=\"\",\"\",syoriyou!E472)","v":""},{"$f":"IF(syoriyou!F472=\"\",\"\",syoriyou!F472)","v":""},{"$f":"IF(syoriyou!G472=\"\",\"\",syoriyou!G472)","v":""},{"$f":"IF(syoriyou!H472=\"\",\"\",syoriyou!H472)","v":""},{"$f":"IF(syoriyou!I472=\"\",\"\",syoriyou!I472)","v":""},{"$f":"IF(syoriyou!J472=\"\",\"\",syoriyou!N472)","v":""}]
[{"$f":"IF(syoriyou!A473=\"\",\"\",syoriyou!A473)","v":""},{"$f":"IF(syoriyou!B473=\"\",\"\",syoriyou!B473)","v":""},{"$f":"IF(syoriyou!C473=\"\",\"\",syoriyou!C473)","v":""},{"$f":"IF(syoriyou!D473=\"\",\"\",syoriyou!D473)","v":""},{"$f":"IF(syoriyou!E473=\"\",\"\",syoriyou!E473)","v":""},{"$f":"IF(syoriyou!F473=\"\",\"\",syoriyou!F473)","v":""},{"$f":"IF(syoriyou!G473=\"\",\"\",syoriyou!G473)","v":""},{"$f":"IF(syoriyou!H473=\"\",\"\",syoriyou!H473)","v":""},{"$f":"IF(syoriyou!I473=\"\",\"\",syoriyou!I473)","v":""},{"$f":"IF(syoriyou!J473=\"\",\"\",syoriyou!N473)","v":""}]
[{"$f":"IF(syoriyou!A474=\"\",\"\",syoriyou!A474)","v":""},{"$f":"IF(syoriyou!B474=\"\",\"\",syoriyou!B474)","v":""},{"$f":"IF(syoriyou!C474=\"\",\"\",syoriyou!C474)","v":""},{"$f":"IF(syoriyou!D474=\"\",\"\",syoriyou!D474)","v":""},{"$f":"IF(syoriyou!E474=\"\",\"\",syoriyou!E474)","v":""},{"$f":"IF(syoriyou!F474=\"\",\"\",syoriyou!F474)","v":""},{"$f":"IF(syoriyou!G474=\"\",\"\",syoriyou!G474)","v":""},{"$f":"IF(syoriyou!H474=\"\",\"\",syoriyou!H474)","v":""},{"$f":"IF(syoriyou!I474=\"\",\"\",syoriyou!I474)","v":""},{"$f":"IF(syoriyou!J474=\"\",\"\",syoriyou!N474)","v":""}]
[{"$f":"IF(syoriyou!A475=\"\",\"\",syoriyou!A475)","v":""},{"$f":"IF(syoriyou!B475=\"\",\"\",syoriyou!B475)","v":""},{"$f":"IF(syoriyou!C475=\"\",\"\",syoriyou!C475)","v":""},{"$f":"IF(syoriyou!D475=\"\",\"\",syoriyou!D475)","v":""},{"$f":"IF(syoriyou!E475=\"\",\"\",syoriyou!E475)","v":""},{"$f":"IF(syoriyou!F475=\"\",\"\",syoriyou!F475)","v":""},{"$f":"IF(syoriyou!G475=\"\",\"\",syoriyou!G475)","v":""},{"$f":"IF(syoriyou!H475=\"\",\"\",syoriyou!H475)","v":""},{"$f":"IF(syoriyou!I475=\"\",\"\",syoriyou!I475)","v":""},{"$f":"IF(syoriyou!J475=\"\",\"\",syoriyou!N475)","v":""}]
[{"$f":"IF(syoriyou!A476=\"\",\"\",syoriyou!A476)","v":""},{"$f":"IF(syoriyou!B476=\"\",\"\",syoriyou!B476)","v":""},{"$f":"IF(syoriyou!C476=\"\",\"\",syoriyou!C476)","v":""},{"$f":"IF(syoriyou!D476=\"\",\"\",syoriyou!D476)","v":""},{"$f":"IF(syoriyou!E476=\"\",\"\",syoriyou!E476)","v":""},{"$f":"IF(syoriyou!F476=\"\",\"\",syoriyou!F476)","v":""},{"$f":"IF(syoriyou!G476=\"\",\"\",syoriyou!G476)","v":""},{"$f":"IF(syoriyou!H476=\"\",\"\",syoriyou!H476)","v":""},{"$f":"IF(syoriyou!I476=\"\",\"\",syoriyou!I476)","v":""},{"$f":"IF(syoriyou!J476=\"\",\"\",syoriyou!N476)","v":""}]
[{"$f":"IF(syoriyou!A477=\"\",\"\",syoriyou!A477)","v":""},{"$f":"IF(syoriyou!B477=\"\",\"\",syoriyou!B477)","v":""},{"$f":"IF(syoriyou!C477=\"\",\"\",syoriyou!C477)","v":""},{"$f":"IF(syoriyou!D477=\"\",\"\",syoriyou!D477)","v":""},{"$f":"IF(syoriyou!E477=\"\",\"\",syoriyou!E477)","v":""},{"$f":"IF(syoriyou!F477=\"\",\"\",syoriyou!F477)","v":""},{"$f":"IF(syoriyou!G477=\"\",\"\",syoriyou!G477)","v":""},{"$f":"IF(syoriyou!H477=\"\",\"\",syoriyou!H477)","v":""},{"$f":"IF(syoriyou!I477=\"\",\"\",syoriyou!I477)","v":""},{"$f":"IF(syoriyou!J477=\"\",\"\",syoriyou!N477)","v":""}]
[{"$f":"IF(syoriyou!A478=\"\",\"\",syoriyou!A478)","v":""},{"$f":"IF(syoriyou!B478=\"\",\"\",syoriyou!B478)","v":""},{"$f":"IF(syoriyou!C478=\"\",\"\",syoriyou!C478)","v":""},{"$f":"IF(syoriyou!D478=\"\",\"\",syoriyou!D478)","v":""},{"$f":"IF(syoriyou!E478=\"\",\"\",syoriyou!E478)","v":""},{"$f":"IF(syoriyou!F478=\"\",\"\",syoriyou!F478)","v":""},{"$f":"IF(syoriyou!G478=\"\",\"\",syoriyou!G478)","v":""},{"$f":"IF(syoriyou!H478=\"\",\"\",syoriyou!H478)","v":""},{"$f":"IF(syoriyou!I478=\"\",\"\",syoriyou!I478)","v":""},{"$f":"IF(syoriyou!J478=\"\",\"\",syoriyou!N478)","v":""}]
[{"$f":"IF(syoriyou!A479=\"\",\"\",syoriyou!A479)","v":""},{"$f":"IF(syoriyou!B479=\"\",\"\",syoriyou!B479)","v":""},{"$f":"IF(syoriyou!C479=\"\",\"\",syoriyou!C479)","v":""},{"$f":"IF(syoriyou!D479=\"\",\"\",syoriyou!D479)","v":""},{"$f":"IF(syoriyou!E479=\"\",\"\",syoriyou!E479)","v":""},{"$f":"IF(syoriyou!F479=\"\",\"\",syoriyou!F479)","v":""},{"$f":"IF(syoriyou!G479=\"\",\"\",syoriyou!G479)","v":""},{"$f":"IF(syoriyou!H479=\"\",\"\",syoriyou!H479)","v":""},{"$f":"IF(syoriyou!I479=\"\",\"\",syoriyou!I479)","v":""},{"$f":"IF(syoriyou!J479=\"\",\"\",syoriyou!N479)","v":""}]
[{"$f":"IF(syoriyou!A480=\"\",\"\",syoriyou!A480)","v":""},{"$f":"IF(syoriyou!B480=\"\",\"\",syoriyou!B480)","v":""},{"$f":"IF(syoriyou!C480=\"\",\"\",syoriyou!C480)","v":""},{"$f":"IF(syoriyou!D480=\"\",\"\",syoriyou!D480)","v":""},{"$f":"IF(syoriyou!E480=\"\",\"\",syoriyou!E480)","v":""},{"$f":"IF(syoriyou!F480=\"\",\"\",syoriyou!F480)","v":""},{"$f":"IF(syoriyou!G480=\"\",\"\",syoriyou!G480)","v":""},{"$f":"IF(syoriyou!H480=\"\",\"\",syoriyou!H480)","v":""},{"$f":"IF(syoriyou!I480=\"\",\"\",syoriyou!I480)","v":""},{"$f":"IF(syoriyou!J480=\"\",\"\",syoriyou!N480)","v":""}]
[{"$f":"IF(syoriyou!A481=\"\",\"\",syoriyou!A481)","v":""},{"$f":"IF(syoriyou!B481=\"\",\"\",syoriyou!B481)","v":""},{"$f":"IF(syoriyou!C481=\"\",\"\",syoriyou!C481)","v":""},{"$f":"IF(syoriyou!D481=\"\",\"\",syoriyou!D481)","v":""},{"$f":"IF(syoriyou!E481=\"\",\"\",syoriyou!E481)","v":""},{"$f":"IF(syoriyou!F481=\"\",\"\",syoriyou!F481)","v":""},{"$f":"IF(syoriyou!G481=\"\",\"\",syoriyou!G481)","v":""},{"$f":"IF(syoriyou!H481=\"\",\"\",syoriyou!H481)","v":""},{"$f":"IF(syoriyou!I481=\"\",\"\",syoriyou!I481)","v":""},{"$f":"IF(syoriyou!J481=\"\",\"\",syoriyou!N481)","v":""}]
[{"$f":"IF(syoriyou!A482=\"\",\"\",syoriyou!A482)","v":""},{"$f":"IF(syoriyou!B482=\"\",\"\",syoriyou!B482)","v":""},{"$f":"IF(syoriyou!C482=\"\",\"\",syoriyou!C482)","v":""},{"$f":"IF(syoriyou!D482=\"\",\"\",syoriyou!D482)","v":""},{"$f":"IF(syoriyou!E482=\"\",\"\",syoriyou!E482)","v":""},{"$f":"IF(syoriyou!F482=\"\",\"\",syoriyou!F482)","v":""},{"$f":"IF(syoriyou!G482=\"\",\"\",syoriyou!G482)","v":""},{"$f":"IF(syoriyou!H482=\"\",\"\",syoriyou!H482)","v":""},{"$f":"IF(syoriyou!I482=\"\",\"\",syoriyou!I482)","v":""},{"$f":"IF(syoriyou!J482=\"\",\"\",syoriyou!N482)","v":""}]
[{"$f":"IF(syoriyou!A483=\"\",\"\",syoriyou!A483)","v":""},{"$f":"IF(syoriyou!B483=\"\",\"\",syoriyou!B483)","v":""},{"$f":"IF(syoriyou!C483=\"\",\"\",syoriyou!C483)","v":""},{"$f":"IF(syoriyou!D483=\"\",\"\",syoriyou!D483)","v":""},{"$f":"IF(syoriyou!E483=\"\",\"\",syoriyou!E483)","v":""},{"$f":"IF(syoriyou!F483=\"\",\"\",syoriyou!F483)","v":""},{"$f":"IF(syoriyou!G483=\"\",\"\",syoriyou!G483)","v":""},{"$f":"IF(syoriyou!H483=\"\",\"\",syoriyou!H483)","v":""},{"$f":"IF(syoriyou!I483=\"\",\"\",syoriyou!I483)","v":""},{"$f":"IF(syoriyou!J483=\"\",\"\",syoriyou!N483)","v":""}]
[{"$f":"IF(syoriyou!A484=\"\",\"\",syoriyou!A484)","v":""},{"$f":"IF(syoriyou!B484=\"\",\"\",syoriyou!B484)","v":""},{"$f":"IF(syoriyou!C484=\"\",\"\",syoriyou!C484)","v":""},{"$f":"IF(syoriyou!D484=\"\",\"\",syoriyou!D484)","v":""},{"$f":"IF(syoriyou!E484=\"\",\"\",syoriyou!E484)","v":""},{"$f":"IF(syoriyou!F484=\"\",\"\",syoriyou!F484)","v":""},{"$f":"IF(syoriyou!G484=\"\",\"\",syoriyou!G484)","v":""},{"$f":"IF(syoriyou!H484=\"\",\"\",syoriyou!H484)","v":""},{"$f":"IF(syoriyou!I484=\"\",\"\",syoriyou!I484)","v":""},{"$f":"IF(syoriyou!J484=\"\",\"\",syoriyou!N484)","v":""}]
[{"$f":"IF(syoriyou!A485=\"\",\"\",syoriyou!A485)","v":""},{"$f":"IF(syoriyou!B485=\"\",\"\",syoriyou!B485)","v":""},{"$f":"IF(syoriyou!C485=\"\",\"\",syoriyou!C485)","v":""},{"$f":"IF(syoriyou!D485=\"\",\"\",syoriyou!D485)","v":""},{"$f":"IF(syoriyou!E485=\"\",\"\",syoriyou!E485)","v":""},{"$f":"IF(syoriyou!F485=\"\",\"\",syoriyou!F485)","v":""},{"$f":"IF(syoriyou!G485=\"\",\"\",syoriyou!G485)","v":""},{"$f":"IF(syoriyou!H485=\"\",\"\",syoriyou!H485)","v":""},{"$f":"IF(syoriyou!I485=\"\",\"\",syoriyou!I485)","v":""},{"$f":"IF(syoriyou!J485=\"\",\"\",syoriyou!N485)","v":""}]
[{"$f":"IF(syoriyou!A486=\"\",\"\",syoriyou!A486)","v":""},{"$f":"IF(syoriyou!B486=\"\",\"\",syoriyou!B486)","v":""},{"$f":"IF(syoriyou!C486=\"\",\"\",syoriyou!C486)","v":""},{"$f":"IF(syoriyou!D486=\"\",\"\",syoriyou!D486)","v":""},{"$f":"IF(syoriyou!E486=\"\",\"\",syoriyou!E486)","v":""},{"$f":"IF(syoriyou!F486=\"\",\"\",syoriyou!F486)","v":""},{"$f":"IF(syoriyou!G486=\"\",\"\",syoriyou!G486)","v":""},{"$f":"IF(syoriyou!H486=\"\",\"\",syoriyou!H486)","v":""},{"$f":"IF(syoriyou!I486=\"\",\"\",syoriyou!I486)","v":""},{"$f":"IF(syoriyou!J486=\"\",\"\",syoriyou!N486)","v":""}]
[{"$f":"IF(syoriyou!A487=\"\",\"\",syoriyou!A487)","v":""},{"$f":"IF(syoriyou!B487=\"\",\"\",syoriyou!B487)","v":""},{"$f":"IF(syoriyou!C487=\"\",\"\",syoriyou!C487)","v":""},{"$f":"IF(syoriyou!D487=\"\",\"\",syoriyou!D487)","v":""},{"$f":"IF(syoriyou!E487=\"\",\"\",syoriyou!E487)","v":""},{"$f":"IF(syoriyou!F487=\"\",\"\",syoriyou!F487)","v":""},{"$f":"IF(syoriyou!G487=\"\",\"\",syoriyou!G487)","v":""},{"$f":"IF(syoriyou!H487=\"\",\"\",syoriyou!H487)","v":""},{"$f":"IF(syoriyou!I487=\"\",\"\",syoriyou!I487)","v":""},{"$f":"IF(syoriyou!J487=\"\",\"\",syoriyou!N487)","v":""}]
[{"$f":"IF(syoriyou!A488=\"\",\"\",syoriyou!A488)","v":""},{"$f":"IF(syoriyou!B488=\"\",\"\",syoriyou!B488)","v":""},{"$f":"IF(syoriyou!C488=\"\",\"\",syoriyou!C488)","v":""},{"$f":"IF(syoriyou!D488=\"\",\"\",syoriyou!D488)","v":""},{"$f":"IF(syoriyou!E488=\"\",\"\",syoriyou!E488)","v":""},{"$f":"IF(syoriyou!F488=\"\",\"\",syoriyou!F488)","v":""},{"$f":"IF(syoriyou!G488=\"\",\"\",syoriyou!G488)","v":""},{"$f":"IF(syoriyou!H488=\"\",\"\",syoriyou!H488)","v":""},{"$f":"IF(syoriyou!I488=\"\",\"\",syoriyou!I488)","v":""},{"$f":"IF(syoriyou!J488=\"\",\"\",syoriyou!N488)","v":""}]
[{"$f":"IF(syoriyou!A489=\"\",\"\",syoriyou!A489)","v":""},{"$f":"IF(syoriyou!B489=\"\",\"\",syoriyou!B489)","v":""},{"$f":"IF(syoriyou!C489=\"\",\"\",syoriyou!C489)","v":""},{"$f":"IF(syoriyou!D489=\"\",\"\",syoriyou!D489)","v":""},{"$f":"IF(syoriyou!E489=\"\",\"\",syoriyou!E489)","v":""},{"$f":"IF(syoriyou!F489=\"\",\"\",syoriyou!F489)","v":""},{"$f":"IF(syoriyou!G489=\"\",\"\",syoriyou!G489)","v":""},{"$f":"IF(syoriyou!H489=\"\",\"\",syoriyou!H489)","v":""},{"$f":"IF(syoriyou!I489=\"\",\"\",syoriyou!I489)","v":""},{"$f":"IF(syoriyou!J489=\"\",\"\",syoriyou!N489)","v":""}]
[{"$f":"IF(syoriyou!A490=\"\",\"\",syoriyou!A490)","v":""},{"$f":"IF(syoriyou!B490=\"\",\"\",syoriyou!B490)","v":""},{"$f":"IF(syoriyou!C490=\"\",\"\",syoriyou!C490)","v":""},{"$f":"IF(syoriyou!D490=\"\",\"\",syoriyou!D490)","v":""},{"$f":"IF(syoriyou!E490=\"\",\"\",syoriyou!E490)","v":""},{"$f":"IF(syoriyou!F490=\"\",\"\",syoriyou!F490)","v":""},{"$f":"IF(syoriyou!G490=\"\",\"\",syoriyou!G490)","v":""},{"$f":"IF(syoriyou!H490=\"\",\"\",syoriyou!H490)","v":""},{"$f":"IF(syoriyou!I490=\"\",\"\",syoriyou!I490)","v":""},{"$f":"IF(syoriyou!J490=\"\",\"\",syoriyou!N490)","v":""}]
[{"$f":"IF(syoriyou!A491=\"\",\"\",syoriyou!A491)","v":""},{"$f":"IF(syoriyou!B491=\"\",\"\",syoriyou!B491)","v":""},{"$f":"IF(syoriyou!C491=\"\",\"\",syoriyou!C491)","v":""},{"$f":"IF(syoriyou!D491=\"\",\"\",syoriyou!D491)","v":""},{"$f":"IF(syoriyou!E491=\"\",\"\",syoriyou!E491)","v":""},{"$f":"IF(syoriyou!F491=\"\",\"\",syoriyou!F491)","v":""},{"$f":"IF(syoriyou!G491=\"\",\"\",syoriyou!G491)","v":""},{"$f":"IF(syoriyou!H491=\"\",\"\",syoriyou!H491)","v":""},{"$f":"IF(syoriyou!I491=\"\",\"\",syoriyou!I491)","v":""},{"$f":"IF(syoriyou!J491=\"\",\"\",syoriyou!N491)","v":""}]
[{"$f":"IF(syoriyou!A492=\"\",\"\",syoriyou!A492)","v":""},{"$f":"IF(syoriyou!B492=\"\",\"\",syoriyou!B492)","v":""},{"$f":"IF(syoriyou!C492=\"\",\"\",syoriyou!C492)","v":""},{"$f":"IF(syoriyou!D492=\"\",\"\",syoriyou!D492)","v":""},{"$f":"IF(syoriyou!E492=\"\",\"\",syoriyou!E492)","v":""},{"$f":"IF(syoriyou!F492=\"\",\"\",syoriyou!F492)","v":""},{"$f":"IF(syoriyou!G492=\"\",\"\",syoriyou!G492)","v":""},{"$f":"IF(syoriyou!H492=\"\",\"\",syoriyou!H492)","v":""},{"$f":"IF(syoriyou!I492=\"\",\"\",syoriyou!I492)","v":""},{"$f":"IF(syoriyou!J492=\"\",\"\",syoriyou!N492)","v":""}]
[{"$f":"IF(syoriyou!A493=\"\",\"\",syoriyou!A493)","v":""},{"$f":"IF(syoriyou!B493=\"\",\"\",syoriyou!B493)","v":""},{"$f":"IF(syoriyou!C493=\"\",\"\",syoriyou!C493)","v":""},{"$f":"IF(syoriyou!D493=\"\",\"\",syoriyou!D493)","v":""},{"$f":"IF(syoriyou!E493=\"\",\"\",syoriyou!E493)","v":""},{"$f":"IF(syoriyou!F493=\"\",\"\",syoriyou!F493)","v":""},{"$f":"IF(syoriyou!G493=\"\",\"\",syoriyou!G493)","v":""},{"$f":"IF(syoriyou!H493=\"\",\"\",syoriyou!H493)","v":""},{"$f":"IF(syoriyou!I493=\"\",\"\",syoriyou!I493)","v":""},{"$f":"IF(syoriyou!J493=\"\",\"\",syoriyou!N493)","v":""}]
[{"$f":"IF(syoriyou!A494=\"\",\"\",syoriyou!A494)","v":""},{"$f":"IF(syoriyou!B494=\"\",\"\",syoriyou!B494)","v":""},{"$f":"IF(syoriyou!C494=\"\",\"\",syoriyou!C494)","v":""},{"$f":"IF(syoriyou!D494=\"\",\"\",syoriyou!D494)","v":""},{"$f":"IF(syoriyou!E494=\"\",\"\",syoriyou!E494)","v":""},{"$f":"IF(syoriyou!F494=\"\",\"\",syoriyou!F494)","v":""},{"$f":"IF(syoriyou!G494=\"\",\"\",syoriyou!G494)","v":""},{"$f":"IF(syoriyou!H494=\"\",\"\",syoriyou!H494)","v":""},{"$f":"IF(syoriyou!I494=\"\",\"\",syoriyou!I494)","v":""},{"$f":"IF(syoriyou!J494=\"\",\"\",syoriyou!N494)","v":""}]
[{"$f":"IF(syoriyou!A495=\"\",\"\",syoriyou!A495)","v":""},{"$f":"IF(syoriyou!B495=\"\",\"\",syoriyou!B495)","v":""},{"$f":"IF(syoriyou!C495=\"\",\"\",syoriyou!C495)","v":""},{"$f":"IF(syoriyou!D495=\"\",\"\",syoriyou!D495)","v":""},{"$f":"IF(syoriyou!E495=\"\",\"\",syoriyou!E495)","v":""},{"$f":"IF(syoriyou!F495=\"\",\"\",syoriyou!F495)","v":""},{"$f":"IF(syoriyou!G495=\"\",\"\",syoriyou!G495)","v":""},{"$f":"IF(syoriyou!H495=\"\",\"\",syoriyou!H495)","v":""},{"$f":"IF(syoriyou!I495=\"\",\"\",syoriyou!I495)","v":""},{"$f":"IF(syoriyou!J495=\"\",\"\",syoriyou!N495)","v":""}]
[{"$f":"IF(syoriyou!A496=\"\",\"\",syoriyou!A496)","v":""},{"$f":"IF(syoriyou!B496=\"\",\"\",syoriyou!B496)","v":""},{"$f":"IF(syoriyou!C496=\"\",\"\",syoriyou!C496)","v":""},{"$f":"IF(syoriyou!D496=\"\",\"\",syoriyou!D496)","v":""},{"$f":"IF(syoriyou!E496=\"\",\"\",syoriyou!E496)","v":""},{"$f":"IF(syoriyou!F496=\"\",\"\",syoriyou!F496)","v":""},{"$f":"IF(syoriyou!G496=\"\",\"\",syoriyou!G496)","v":""},{"$f":"IF(syoriyou!H496=\"\",\"\",syoriyou!H496)","v":""},{"$f":"IF(syoriyou!I496=\"\",\"\",syoriyou!I496)","v":""},{"$f":"IF(syoriyou!J496=\"\",\"\",syoriyou!N496)","v":""}]
[{"$f":"IF(syoriyou!A497=\"\",\"\",syoriyou!A497)","v":""},{"$f":"IF(syoriyou!B497=\"\",\"\",syoriyou!B497)","v":""},{"$f":"IF(syoriyou!C497=\"\",\"\",syoriyou!C497)","v":""},{"$f":"IF(syoriyou!D497=\"\",\"\",syoriyou!D497)","v":""},{"$f":"IF(syoriyou!E497=\"\",\"\",syoriyou!E497)","v":""},{"$f":"IF(syoriyou!F497=\"\",\"\",syoriyou!F497)","v":""},{"$f":"IF(syoriyou!G497=\"\",\"\",syoriyou!G497)","v":""},{"$f":"IF(syoriyou!H497=\"\",\"\",syoriyou!H497)","v":""},{"$f":"IF(syoriyou!I497=\"\",\"\",syoriyou!I497)","v":""},{"$f":"IF(syoriyou!J497=\"\",\"\",syoriyou!N497)","v":""}]
[{"$f":"IF(syoriyou!A498=\"\",\"\",syoriyou!A498)","v":""},{"$f":"IF(syoriyou!B498=\"\",\"\",syoriyou!B498)","v":""},{"$f":"IF(syoriyou!C498=\"\",\"\",syoriyou!C498)","v":""},{"$f":"IF(syoriyou!D498=\"\",\"\",syoriyou!D498)","v":""},{"$f":"IF(syoriyou!E498=\"\",\"\",syoriyou!E498)","v":""},{"$f":"IF(syoriyou!F498=\"\",\"\",syoriyou!F498)","v":""},{"$f":"IF(syoriyou!G498=\"\",\"\",syoriyou!G498)","v":""},{"$f":"IF(syoriyou!H498=\"\",\"\",syoriyou!H498)","v":""},{"$f":"IF(syoriyou!I498=\"\",\"\",syoriyou!I498)","v":""},{"$f":"IF(syoriyou!J498=\"\",\"\",syoriyou!N498)","v":""}]
[{"$f":"IF(syoriyou!A499=\"\",\"\",syoriyou!A499)","v":""},{"$f":"IF(syoriyou!B499=\"\",\"\",syoriyou!B499)","v":""},{"$f":"IF(syoriyou!C499=\"\",\"\",syoriyou!C499)","v":""},{"$f":"IF(syoriyou!D499=\"\",\"\",syoriyou!D499)","v":""},{"$f":"IF(syoriyou!E499=\"\",\"\",syoriyou!E499)","v":""},{"$f":"IF(syoriyou!F499=\"\",\"\",syoriyou!F499)","v":""},{"$f":"IF(syoriyou!G499=\"\",\"\",syoriyou!G499)","v":""},{"$f":"IF(syoriyou!H499=\"\",\"\",syoriyou!H499)","v":""},{"$f":"IF(syoriyou!I499=\"\",\"\",syoriyou!I499)","v":""},{"$f":"IF(syoriyou!J499=\"\",\"\",syoriyou!N499)","v":""}]
[{"$f":"IF(syoriyou!A500=\"\",\"\",syoriyou!A500)","v":""},{"$f":"IF(syoriyou!B500=\"\",\"\",syoriyou!B500)","v":""},{"$f":"IF(syoriyou!C500=\"\",\"\",syoriyou!C500)","v":""},{"$f":"IF(syoriyou!D500=\"\",\"\",syoriyou!D500)","v":""},{"$f":"IF(syoriyou!E500=\"\",\"\",syoriyou!E500)","v":""},{"$f":"IF(syoriyou!F500=\"\",\"\",syoriyou!F500)","v":""},{"$f":"IF(syoriyou!G500=\"\",\"\",syoriyou!G500)","v":""},{"$f":"IF(syoriyou!H500=\"\",\"\",syoriyou!H500)","v":""},{"$f":"IF(syoriyou!I500=\"\",\"\",syoriyou!I500)","v":""},{"$f":"IF(syoriyou!J500=\"\",\"\",syoriyou!N500)","v":""}]
[{"$f":"IF(syoriyou!A501=\"\",\"\",syoriyou!A501)","v":""},{"$f":"IF(syoriyou!B501=\"\",\"\",syoriyou!B501)","v":""},{"$f":"IF(syoriyou!C501=\"\",\"\",syoriyou!C501)","v":""},{"$f":"IF(syoriyou!D501=\"\",\"\",syoriyou!D501)","v":""},{"$f":"IF(syoriyou!E501=\"\",\"\",syoriyou!E501)","v":""},{"$f":"IF(syoriyou!F501=\"\",\"\",syoriyou!F501)","v":""},{"$f":"IF(syoriyou!G501=\"\",\"\",syoriyou!G501)","v":""},{"$f":"IF(syoriyou!H501=\"\",\"\",syoriyou!H501)","v":""},{"$f":"IF(syoriyou!I501=\"\",\"\",syoriyou!I501)","v":""},{"$f":"IF(syoriyou!J501=\"\",\"\",syoriyou!N501)","v":""}]
[{"$f":"IF(syoriyou!A502=\"\",\"\",syoriyou!A502)","v":""},{"$f":"IF(syoriyou!B502=\"\",\"\",syoriyou!B502)","v":""},{"$f":"IF(syoriyou!C502=\"\",\"\",syoriyou!C502)","v":""},{"$f":"IF(syoriyou!D502=\"\",\"\",syoriyou!D502)","v":""},{"$f":"IF(syoriyou!E502=\"\",\"\",syoriyou!E502)","v":""},{"$f":"IF(syoriyou!F502=\"\",\"\",syoriyou!F502)","v":""},{"$f":"IF(syoriyou!G502=\"\",\"\",syoriyou!G502)","v":""},{"$f":"IF(syoriyou!H502=\"\",\"\",syoriyou!H502)","v":""},{"$f":"IF(syoriyou!I502=\"\",\"\",syoriyou!I502)","v":""},{"$f":"IF(syoriyou!J502=\"\",\"\",syoriyou!N502)","v":""}]
[{"$f":"IF(syoriyou!A503=\"\",\"\",syoriyou!A503)","v":""},{"$f":"IF(syoriyou!B503=\"\",\"\",syoriyou!B503)","v":""},{"$f":"IF(syoriyou!C503=\"\",\"\",syoriyou!C503)","v":""},{"$f":"IF(syoriyou!D503=\"\",\"\",syoriyou!D503)","v":""},{"$f":"IF(syoriyou!E503=\"\",\"\",syoriyou!E503)","v":""},{"$f":"IF(syoriyou!F503=\"\",\"\",syoriyou!F503)","v":""},{"$f":"IF(syoriyou!G503=\"\",\"\",syoriyou!G503)","v":""},{"$f":"IF(syoriyou!H503=\"\",\"\",syoriyou!H503)","v":""},{"$f":"IF(syoriyou!I503=\"\",\"\",syoriyou!I503)","v":""},{"$f":"IF(syoriyou!J503=\"\",\"\",syoriyou!N503)","v":""}]
[{"$f":"IF(syoriyou!A504=\"\",\"\",syoriyou!A504)","v":""},{"$f":"IF(syoriyou!B504=\"\",\"\",syoriyou!B504)","v":""},{"$f":"IF(syoriyou!C504=\"\",\"\",syoriyou!C504)","v":""},{"$f":"IF(syoriyou!D504=\"\",\"\",syoriyou!D504)","v":""},{"$f":"IF(syoriyou!E504=\"\",\"\",syoriyou!E504)","v":""},{"$f":"IF(syoriyou!F504=\"\",\"\",syoriyou!F504)","v":""},{"$f":"IF(syoriyou!G504=\"\",\"\",syoriyou!G504)","v":""},{"$f":"IF(syoriyou!H504=\"\",\"\",syoriyou!H504)","v":""},{"$f":"IF(syoriyou!I504=\"\",\"\",syoriyou!I504)","v":""},{"$f":"IF(syoriyou!J504=\"\",\"\",syoriyou!N504)","v":""}]
[{"$f":"IF(syoriyou!A505=\"\",\"\",syoriyou!A505)","v":""},{"$f":"IF(syoriyou!B505=\"\",\"\",syoriyou!B505)","v":""},{"$f":"IF(syoriyou!C505=\"\",\"\",syoriyou!C505)","v":""},{"$f":"IF(syoriyou!D505=\"\",\"\",syoriyou!D505)","v":""},{"$f":"IF(syoriyou!E505=\"\",\"\",syoriyou!E505)","v":""},{"$f":"IF(syoriyou!F505=\"\",\"\",syoriyou!F505)","v":""},{"$f":"IF(syoriyou!G505=\"\",\"\",syoriyou!G505)","v":""},{"$f":"IF(syoriyou!H505=\"\",\"\",syoriyou!H505)","v":""},{"$f":"IF(syoriyou!I505=\"\",\"\",syoriyou!I505)","v":""},{"$f":"IF(syoriyou!J505=\"\",\"\",syoriyou!N505)","v":""}]
[{"$f":"IF(syoriyou!A506=\"\",\"\",syoriyou!A506)","v":""},{"$f":"IF(syoriyou!B506=\"\",\"\",syoriyou!B506)","v":""},{"$f":"IF(syoriyou!C506=\"\",\"\",syoriyou!C506)","v":""},{"$f":"IF(syoriyou!D506=\"\",\"\",syoriyou!D506)","v":""},{"$f":"IF(syoriyou!E506=\"\",\"\",syoriyou!E506)","v":""},{"$f":"IF(syoriyou!F506=\"\",\"\",syoriyou!F506)","v":""},{"$f":"IF(syoriyou!G506=\"\",\"\",syoriyou!G506)","v":""},{"$f":"IF(syoriyou!H506=\"\",\"\",syoriyou!H506)","v":""},{"$f":"IF(syoriyou!I506=\"\",\"\",syoriyou!I506)","v":""},{"$f":"IF(syoriyou!J506=\"\",\"\",syoriyou!N506)","v":""}]
[{"$f":"IF(syoriyou!A507=\"\",\"\",syoriyou!A507)","v":""},{"$f":"IF(syoriyou!B507=\"\",\"\",syoriyou!B507)","v":""},{"$f":"IF(syoriyou!C507=\"\",\"\",syoriyou!C507)","v":""},{"$f":"IF(syoriyou!D507=\"\",\"\",syoriyou!D507)","v":""},{"$f":"IF(syoriyou!E507=\"\",\"\",syoriyou!E507)","v":""},{"$f":"IF(syoriyou!F507=\"\",\"\",syoriyou!F507)","v":""},{"$f":"IF(syoriyou!G507=\"\",\"\",syoriyou!G507)","v":""},{"$f":"IF(syoriyou!H507=\"\",\"\",syoriyou!H507)","v":""},{"$f":"IF(syoriyou!I507=\"\",\"\",syoriyou!I507)","v":""},{"$f":"IF(syoriyou!J507=\"\",\"\",syoriyou!N507)","v":""}]
[{"$f":"IF(syoriyou!A508=\"\",\"\",syoriyou!A508)","v":""},{"$f":"IF(syoriyou!B508=\"\",\"\",syoriyou!B508)","v":""},{"$f":"IF(syoriyou!C508=\"\",\"\",syoriyou!C508)","v":""},{"$f":"IF(syoriyou!D508=\"\",\"\",syoriyou!D508)","v":""},{"$f":"IF(syoriyou!E508=\"\",\"\",syoriyou!E508)","v":""},{"$f":"IF(syoriyou!F508=\"\",\"\",syoriyou!F508)","v":""},{"$f":"IF(syoriyou!G508=\"\",\"\",syoriyou!G508)","v":""},{"$f":"IF(syoriyou!H508=\"\",\"\",syoriyou!H508)","v":""},{"$f":"IF(syoriyou!I508=\"\",\"\",syoriyou!I508)","v":""},{"$f":"IF(syoriyou!J508=\"\",\"\",syoriyou!N508)","v":""}]
[{"$f":"IF(syoriyou!A509=\"\",\"\",syoriyou!A509)","v":""},{"$f":"IF(syoriyou!B509=\"\",\"\",syoriyou!B509)","v":""},{"$f":"IF(syoriyou!C509=\"\",\"\",syoriyou!C509)","v":""},{"$f":"IF(syoriyou!D509=\"\",\"\",syoriyou!D509)","v":""},{"$f":"IF(syoriyou!E509=\"\",\"\",syoriyou!E509)","v":""},{"$f":"IF(syoriyou!F509=\"\",\"\",syoriyou!F509)","v":""},{"$f":"IF(syoriyou!G509=\"\",\"\",syoriyou!G509)","v":""},{"$f":"IF(syoriyou!H509=\"\",\"\",syoriyou!H509)","v":""},{"$f":"IF(syoriyou!I509=\"\",\"\",syoriyou!I509)","v":""},{"$f":"IF(syoriyou!J509=\"\",\"\",syoriyou!N509)","v":""}]
[{"$f":"IF(syoriyou!A510=\"\",\"\",syoriyou!A510)","v":""},{"$f":"IF(syoriyou!B510=\"\",\"\",syoriyou!B510)","v":""},{"$f":"IF(syoriyou!C510=\"\",\"\",syoriyou!C510)","v":""},{"$f":"IF(syoriyou!D510=\"\",\"\",syoriyou!D510)","v":""},{"$f":"IF(syoriyou!E510=\"\",\"\",syoriyou!E510)","v":""},{"$f":"IF(syoriyou!F510=\"\",\"\",syoriyou!F510)","v":""},{"$f":"IF(syoriyou!G510=\"\",\"\",syoriyou!G510)","v":""},{"$f":"IF(syoriyou!H510=\"\",\"\",syoriyou!H510)","v":""},{"$f":"IF(syoriyou!I510=\"\",\"\",syoriyou!I510)","v":""},{"$f":"IF(syoriyou!J510=\"\",\"\",syoriyou!N510)","v":""}]
[{"$f":"IF(syoriyou!A511=\"\",\"\",syoriyou!A511)","v":""},{"$f":"IF(syoriyou!B511=\"\",\"\",syoriyou!B511)","v":""},{"$f":"IF(syoriyou!C511=\"\",\"\",syoriyou!C511)","v":""},{"$f":"IF(syoriyou!D511=\"\",\"\",syoriyou!D511)","v":""},{"$f":"IF(syoriyou!E511=\"\",\"\",syoriyou!E511)","v":""},{"$f":"IF(syoriyou!F511=\"\",\"\",syoriyou!F511)","v":""},{"$f":"IF(syoriyou!G511=\"\",\"\",syoriyou!G511)","v":""},{"$f":"IF(syoriyou!H511=\"\",\"\",syoriyou!H511)","v":""},{"$f":"IF(syoriyou!I511=\"\",\"\",syoriyou!I511)","v":""},{"$f":"IF(syoriyou!J511=\"\",\"\",syoriyou!N511)","v":""}]
[{"$f":"IF(syoriyou!A512=\"\",\"\",syoriyou!A512)","v":""},{"$f":"IF(syoriyou!B512=\"\",\"\",syoriyou!B512)","v":""},{"$f":"IF(syoriyou!C512=\"\",\"\",syoriyou!C512)","v":""},{"$f":"IF(syoriyou!D512=\"\",\"\",syoriyou!D512)","v":""},{"$f":"IF(syoriyou!E512=\"\",\"\",syoriyou!E512)","v":""},{"$f":"IF(syoriyou!F512=\"\",\"\",syoriyou!F512)","v":""},{"$f":"IF(syoriyou!G512=\"\",\"\",syoriyou!G512)","v":""},{"$f":"IF(syoriyou!H512=\"\",\"\",syoriyou!H512)","v":""},{"$f":"IF(syoriyou!I512=\"\",\"\",syoriyou!I512)","v":""},{"$f":"IF(syoriyou!J512=\"\",\"\",syoriyou!N512)","v":""}]
[{"$f":"IF(syoriyou!A513=\"\",\"\",syoriyou!A513)","v":""},{"$f":"IF(syoriyou!B513=\"\",\"\",syoriyou!B513)","v":""},{"$f":"IF(syoriyou!C513=\"\",\"\",syoriyou!C513)","v":""},{"$f":"IF(syoriyou!D513=\"\",\"\",syoriyou!D513)","v":""},{"$f":"IF(syoriyou!E513=\"\",\"\",syoriyou!E513)","v":""},{"$f":"IF(syoriyou!F513=\"\",\"\",syoriyou!F513)","v":""},{"$f":"IF(syoriyou!G513=\"\",\"\",syoriyou!G513)","v":""},{"$f":"IF(syoriyou!H513=\"\",\"\",syoriyou!H513)","v":""},{"$f":"IF(syoriyou!I513=\"\",\"\",syoriyou!I513)","v":""},{"$f":"IF(syoriyou!J513=\"\",\"\",syoriyou!N513)","v":""}]
[{"$f":"IF(syoriyou!A514=\"\",\"\",syoriyou!A514)","v":""},{"$f":"IF(syoriyou!B514=\"\",\"\",syoriyou!B514)","v":""},{"$f":"IF(syoriyou!C514=\"\",\"\",syoriyou!C514)","v":""},{"$f":"IF(syoriyou!D514=\"\",\"\",syoriyou!D514)","v":""},{"$f":"IF(syoriyou!E514=\"\",\"\",syoriyou!E514)","v":""},{"$f":"IF(syoriyou!F514=\"\",\"\",syoriyou!F514)","v":""},{"$f":"IF(syoriyou!G514=\"\",\"\",syoriyou!G514)","v":""},{"$f":"IF(syoriyou!H514=\"\",\"\",syoriyou!H514)","v":""},{"$f":"IF(syoriyou!I514=\"\",\"\",syoriyou!I514)","v":""},{"$f":"IF(syoriyou!J514=\"\",\"\",syoriyou!N514)","v":""}]
[{"$f":"IF(syoriyou!A515=\"\",\"\",syoriyou!A515)","v":""},{"$f":"IF(syoriyou!B515=\"\",\"\",syoriyou!B515)","v":""},{"$f":"IF(syoriyou!C515=\"\",\"\",syoriyou!C515)","v":""},{"$f":"IF(syoriyou!D515=\"\",\"\",syoriyou!D515)","v":""},{"$f":"IF(syoriyou!E515=\"\",\"\",syoriyou!E515)","v":""},{"$f":"IF(syoriyou!F515=\"\",\"\",syoriyou!F515)","v":""},{"$f":"IF(syoriyou!G515=\"\",\"\",syoriyou!G515)","v":""},{"$f":"IF(syoriyou!H515=\"\",\"\",syoriyou!H515)","v":""},{"$f":"IF(syoriyou!I515=\"\",\"\",syoriyou!I515)","v":""},{"$f":"IF(syoriyou!J515=\"\",\"\",syoriyou!N515)","v":""}]
[{"$f":"IF(syoriyou!A516=\"\",\"\",syoriyou!A516)","v":""},{"$f":"IF(syoriyou!B516=\"\",\"\",syoriyou!B516)","v":""},{"$f":"IF(syoriyou!C516=\"\",\"\",syoriyou!C516)","v":""},{"$f":"IF(syoriyou!D516=\"\",\"\",syoriyou!D516)","v":""},{"$f":"IF(syoriyou!E516=\"\",\"\",syoriyou!E516)","v":""},{"$f":"IF(syoriyou!F516=\"\",\"\",syoriyou!F516)","v":""},{"$f":"IF(syoriyou!G516=\"\",\"\",syoriyou!G516)","v":""},{"$f":"IF(syoriyou!H516=\"\",\"\",syoriyou!H516)","v":""},{"$f":"IF(syoriyou!I516=\"\",\"\",syoriyou!I516)","v":""},{"$f":"IF(syoriyou!J516=\"\",\"\",syoriyou!N516)","v":""}]
[{"$f":"IF(syoriyou!A517=\"\",\"\",syoriyou!A517)","v":""},{"$f":"IF(syoriyou!B517=\"\",\"\",syoriyou!B517)","v":""},{"$f":"IF(syoriyou!C517=\"\",\"\",syoriyou!C517)","v":""},{"$f":"IF(syoriyou!D517=\"\",\"\",syoriyou!D517)","v":""},{"$f":"IF(syoriyou!E517=\"\",\"\",syoriyou!E517)","v":""},{"$f":"IF(syoriyou!F517=\"\",\"\",syoriyou!F517)","v":""},{"$f":"IF(syoriyou!G517=\"\",\"\",syoriyou!G517)","v":""},{"$f":"IF(syoriyou!H517=\"\",\"\",syoriyou!H517)","v":""},{"$f":"IF(syoriyou!I517=\"\",\"\",syoriyou!I517)","v":""},{"$f":"IF(syoriyou!J517=\"\",\"\",syoriyou!N517)","v":""}]
[{"$f":"IF(syoriyou!A518=\"\",\"\",syoriyou!A518)","v":""},{"$f":"IF(syoriyou!B518=\"\",\"\",syoriyou!B518)","v":""},{"$f":"IF(syoriyou!C518=\"\",\"\",syoriyou!C518)","v":""},{"$f":"IF(syoriyou!D518=\"\",\"\",syoriyou!D518)","v":""},{"$f":"IF(syoriyou!E518=\"\",\"\",syoriyou!E518)","v":""},{"$f":"IF(syoriyou!F518=\"\",\"\",syoriyou!F518)","v":""},{"$f":"IF(syoriyou!G518=\"\",\"\",syoriyou!G518)","v":""},{"$f":"IF(syoriyou!H518=\"\",\"\",syoriyou!H518)","v":""},{"$f":"IF(syoriyou!I518=\"\",\"\",syoriyou!I518)","v":""},{"$f":"IF(syoriyou!J518=\"\",\"\",syoriyou!N518)","v":""}]
[{"$f":"IF(syoriyou!A519=\"\",\"\",syoriyou!A519)","v":""},{"$f":"IF(syoriyou!B519=\"\",\"\",syoriyou!B519)","v":""},{"$f":"IF(syoriyou!C519=\"\",\"\",syoriyou!C519)","v":""},{"$f":"IF(syoriyou!D519=\"\",\"\",syoriyou!D519)","v":""},{"$f":"IF(syoriyou!E519=\"\",\"\",syoriyou!E519)","v":""},{"$f":"IF(syoriyou!F519=\"\",\"\",syoriyou!F519)","v":""},{"$f":"IF(syoriyou!G519=\"\",\"\",syoriyou!G519)","v":""},{"$f":"IF(syoriyou!H519=\"\",\"\",syoriyou!H519)","v":""},{"$f":"IF(syoriyou!I519=\"\",\"\",syoriyou!I519)","v":""},{"$f":"IF(syoriyou!J519=\"\",\"\",syoriyou!N519)","v":""}]
[{"$f":"IF(syoriyou!A520=\"\",\"\",syoriyou!A520)","v":""},{"$f":"IF(syoriyou!B520=\"\",\"\",syoriyou!B520)","v":""},{"$f":"IF(syoriyou!C520=\"\",\"\",syoriyou!C520)","v":""},{"$f":"IF(syoriyou!D520=\"\",\"\",syoriyou!D520)","v":""},{"$f":"IF(syoriyou!E520=\"\",\"\",syoriyou!E520)","v":""},{"$f":"IF(syoriyou!F520=\"\",\"\",syoriyou!F520)","v":""},{"$f":"IF(syoriyou!G520=\"\",\"\",syoriyou!G520)","v":""},{"$f":"IF(syoriyou!H520=\"\",\"\",syoriyou!H520)","v":""},{"$f":"IF(syoriyou!I520=\"\",\"\",syoriyou!I520)","v":""},{"$f":"IF(syoriyou!J520=\"\",\"\",syoriyou!N520)","v":""}]
[{"$f":"IF(syoriyou!A521=\"\",\"\",syoriyou!A521)","v":""},{"$f":"IF(syoriyou!B521=\"\",\"\",syoriyou!B521)","v":""},{"$f":"IF(syoriyou!C521=\"\",\"\",syoriyou!C521)","v":""},{"$f":"IF(syoriyou!D521=\"\",\"\",syoriyou!D521)","v":""},{"$f":"IF(syoriyou!E521=\"\",\"\",syoriyou!E521)","v":""},{"$f":"IF(syoriyou!F521=\"\",\"\",syoriyou!F521)","v":""},{"$f":"IF(syoriyou!G521=\"\",\"\",syoriyou!G521)","v":""},{"$f":"IF(syoriyou!H521=\"\",\"\",syoriyou!H521)","v":""},{"$f":"IF(syoriyou!I521=\"\",\"\",syoriyou!I521)","v":""},{"$f":"IF(syoriyou!J521=\"\",\"\",syoriyou!N521)","v":""}]
[{"$f":"IF(syoriyou!A522=\"\",\"\",syoriyou!A522)","v":""},{"$f":"IF(syoriyou!B522=\"\",\"\",syoriyou!B522)","v":""},{"$f":"IF(syoriyou!C522=\"\",\"\",syoriyou!C522)","v":""},{"$f":"IF(syoriyou!D522=\"\",\"\",syoriyou!D522)","v":""},{"$f":"IF(syoriyou!E522=\"\",\"\",syoriyou!E522)","v":""},{"$f":"IF(syoriyou!F522=\"\",\"\",syoriyou!F522)","v":""},{"$f":"IF(syoriyou!G522=\"\",\"\",syoriyou!G522)","v":""},{"$f":"IF(syoriyou!H522=\"\",\"\",syoriyou!H522)","v":""},{"$f":"IF(syoriyou!I522=\"\",\"\",syoriyou!I522)","v":""},{"$f":"IF(syoriyou!J522=\"\",\"\",syoriyou!N522)","v":""}]
[{"$f":"IF(syoriyou!A523=\"\",\"\",syoriyou!A523)","v":""},{"$f":"IF(syoriyou!B523=\"\",\"\",syoriyou!B523)","v":""},{"$f":"IF(syoriyou!C523=\"\",\"\",syoriyou!C523)","v":""},{"$f":"IF(syoriyou!D523=\"\",\"\",syoriyou!D523)","v":""},{"$f":"IF(syoriyou!E523=\"\",\"\",syoriyou!E523)","v":""},{"$f":"IF(syoriyou!F523=\"\",\"\",syoriyou!F523)","v":""},{"$f":"IF(syoriyou!G523=\"\",\"\",syoriyou!G523)","v":""},{"$f":"IF(syoriyou!H523=\"\",\"\",syoriyou!H523)","v":""},{"$f":"IF(syoriyou!I523=\"\",\"\",syoriyou!I523)","v":""},{"$f":"IF(syoriyou!J523=\"\",\"\",syoriyou!N523)","v":""}]
[{"$f":"IF(syoriyou!A524=\"\",\"\",syoriyou!A524)","v":""},{"$f":"IF(syoriyou!B524=\"\",\"\",syoriyou!B524)","v":""},{"$f":"IF(syoriyou!C524=\"\",\"\",syoriyou!C524)","v":""},{"$f":"IF(syoriyou!D524=\"\",\"\",syoriyou!D524)","v":""},{"$f":"IF(syoriyou!E524=\"\",\"\",syoriyou!E524)","v":""},{"$f":"IF(syoriyou!F524=\"\",\"\",syoriyou!F524)","v":""},{"$f":"IF(syoriyou!G524=\"\",\"\",syoriyou!G524)","v":""},{"$f":"IF(syoriyou!H524=\"\",\"\",syoriyou!H524)","v":""},{"$f":"IF(syoriyou!I524=\"\",\"\",syoriyou!I524)","v":""},{"$f":"IF(syoriyou!J524=\"\",\"\",syoriyou!N524)","v":""}]
[{"$f":"IF(syoriyou!A525=\"\",\"\",syoriyou!A525)","v":""},{"$f":"IF(syoriyou!B525=\"\",\"\",syoriyou!B525)","v":""},{"$f":"IF(syoriyou!C525=\"\",\"\",syoriyou!C525)","v":""},{"$f":"IF(syoriyou!D525=\"\",\"\",syoriyou!D525)","v":""},{"$f":"IF(syoriyou!E525=\"\",\"\",syoriyou!E525)","v":""},{"$f":"IF(syoriyou!F525=\"\",\"\",syoriyou!F525)","v":""},{"$f":"IF(syoriyou!G525=\"\",\"\",syoriyou!G525)","v":""},{"$f":"IF(syoriyou!H525=\"\",\"\",syoriyou!H525)","v":""},{"$f":"IF(syoriyou!I525=\"\",\"\",syoriyou!I525)","v":""},{"$f":"IF(syoriyou!J525=\"\",\"\",syoriyou!N525)","v":""}]
[{"$f":"IF(syoriyou!A526=\"\",\"\",syoriyou!A526)","v":""},{"$f":"IF(syoriyou!B526=\"\",\"\",syoriyou!B526)","v":""},{"$f":"IF(syoriyou!C526=\"\",\"\",syoriyou!C526)","v":""},{"$f":"IF(syoriyou!D526=\"\",\"\",syoriyou!D526)","v":""},{"$f":"IF(syoriyou!E526=\"\",\"\",syoriyou!E526)","v":""},{"$f":"IF(syoriyou!F526=\"\",\"\",syoriyou!F526)","v":""},{"$f":"IF(syoriyou!G526=\"\",\"\",syoriyou!G526)","v":""},{"$f":"IF(syoriyou!H526=\"\",\"\",syoriyou!H526)","v":""},{"$f":"IF(syoriyou!I526=\"\",\"\",syoriyou!I526)","v":""},{"$f":"IF(syoriyou!J526=\"\",\"\",syoriyou!N526)","v":""}]
[{"$f":"IF(syoriyou!A527=\"\",\"\",syoriyou!A527)","v":""},{"$f":"IF(syoriyou!B527=\"\",\"\",syoriyou!B527)","v":""},{"$f":"IF(syoriyou!C527=\"\",\"\",syoriyou!C527)","v":""},{"$f":"IF(syoriyou!D527=\"\",\"\",syoriyou!D527)","v":""},{"$f":"IF(syoriyou!E527=\"\",\"\",syoriyou!E527)","v":""},{"$f":"IF(syoriyou!F527=\"\",\"\",syoriyou!F527)","v":""},{"$f":"IF(syoriyou!G527=\"\",\"\",syoriyou!G527)","v":""},{"$f":"IF(syoriyou!H527=\"\",\"\",syoriyou!H527)","v":""},{"$f":"IF(syoriyou!I527=\"\",\"\",syoriyou!I527)","v":""},{"$f":"IF(syoriyou!J527=\"\",\"\",syoriyou!N527)","v":""}]
[{"$f":"IF(syoriyou!A528=\"\",\"\",syoriyou!A528)","v":""},{"$f":"IF(syoriyou!B528=\"\",\"\",syoriyou!B528)","v":""},{"$f":"IF(syoriyou!C528=\"\",\"\",syoriyou!C528)","v":""},{"$f":"IF(syoriyou!D528=\"\",\"\",syoriyou!D528)","v":""},{"$f":"IF(syoriyou!E528=\"\",\"\",syoriyou!E528)","v":""},{"$f":"IF(syoriyou!F528=\"\",\"\",syoriyou!F528)","v":""},{"$f":"IF(syoriyou!G528=\"\",\"\",syoriyou!G528)","v":""},{"$f":"IF(syoriyou!H528=\"\",\"\",syoriyou!H528)","v":""},{"$f":"IF(syoriyou!I528=\"\",\"\",syoriyou!I528)","v":""},{"$f":"IF(syoriyou!J528=\"\",\"\",syoriyou!N528)","v":""}]
[{"$f":"IF(syoriyou!A529=\"\",\"\",syoriyou!A529)","v":""},{"$f":"IF(syoriyou!B529=\"\",\"\",syoriyou!B529)","v":""},{"$f":"IF(syoriyou!C529=\"\",\"\",syoriyou!C529)","v":""},{"$f":"IF(syoriyou!D529=\"\",\"\",syoriyou!D529)","v":""},{"$f":"IF(syoriyou!E529=\"\",\"\",syoriyou!E529)","v":""},{"$f":"IF(syoriyou!F529=\"\",\"\",syoriyou!F529)","v":""},{"$f":"IF(syoriyou!G529=\"\",\"\",syoriyou!G529)","v":""},{"$f":"IF(syoriyou!H529=\"\",\"\",syoriyou!H529)","v":""},{"$f":"IF(syoriyou!I529=\"\",\"\",syoriyou!I529)","v":""},{"$f":"IF(syoriyou!J529=\"\",\"\",syoriyou!N529)","v":""}]
[{"$f":"IF(syoriyou!A530=\"\",\"\",syoriyou!A530)","v":""},{"$f":"IF(syoriyou!B530=\"\",\"\",syoriyou!B530)","v":""},{"$f":"IF(syoriyou!C530=\"\",\"\",syoriyou!C530)","v":""},{"$f":"IF(syoriyou!D530=\"\",\"\",syoriyou!D530)","v":""},{"$f":"IF(syoriyou!E530=\"\",\"\",syoriyou!E530)","v":""},{"$f":"IF(syoriyou!F530=\"\",\"\",syoriyou!F530)","v":""},{"$f":"IF(syoriyou!G530=\"\",\"\",syoriyou!G530)","v":""},{"$f":"IF(syoriyou!H530=\"\",\"\",syoriyou!H530)","v":""},{"$f":"IF(syoriyou!I530=\"\",\"\",syoriyou!I530)","v":""},{"$f":"IF(syoriyou!J530=\"\",\"\",syoriyou!N530)","v":""}]
[{"$f":"IF(syoriyou!A531=\"\",\"\",syoriyou!A531)","v":""},{"$f":"IF(syoriyou!B531=\"\",\"\",syoriyou!B531)","v":""},{"$f":"IF(syoriyou!C531=\"\",\"\",syoriyou!C531)","v":""},{"$f":"IF(syoriyou!D531=\"\",\"\",syoriyou!D531)","v":""},{"$f":"IF(syoriyou!E531=\"\",\"\",syoriyou!E531)","v":""},{"$f":"IF(syoriyou!F531=\"\",\"\",syoriyou!F531)","v":""},{"$f":"IF(syoriyou!G531=\"\",\"\",syoriyou!G531)","v":""},{"$f":"IF(syoriyou!H531=\"\",\"\",syoriyou!H531)","v":""},{"$f":"IF(syoriyou!I531=\"\",\"\",syoriyou!I531)","v":""},{"$f":"IF(syoriyou!J531=\"\",\"\",syoriyou!N531)","v":""}]
[{"$f":"IF(syoriyou!A532=\"\",\"\",syoriyou!A532)","v":""},{"$f":"IF(syoriyou!B532=\"\",\"\",syoriyou!B532)","v":""},{"$f":"IF(syoriyou!C532=\"\",\"\",syoriyou!C532)","v":""},{"$f":"IF(syoriyou!D532=\"\",\"\",syoriyou!D532)","v":""},{"$f":"IF(syoriyou!E532=\"\",\"\",syoriyou!E532)","v":""},{"$f":"IF(syoriyou!F532=\"\",\"\",syoriyou!F532)","v":""},{"$f":"IF(syoriyou!G532=\"\",\"\",syoriyou!G532)","v":""},{"$f":"IF(syoriyou!H532=\"\",\"\",syoriyou!H532)","v":""},{"$f":"IF(syoriyou!I532=\"\",\"\",syoriyou!I532)","v":""},{"$f":"IF(syoriyou!J532=\"\",\"\",syoriyou!N532)","v":""}]
[{"$f":"IF(syoriyou!A533=\"\",\"\",syoriyou!A533)","v":""},{"$f":"IF(syoriyou!B533=\"\",\"\",syoriyou!B533)","v":""},{"$f":"IF(syoriyou!C533=\"\",\"\",syoriyou!C533)","v":""},{"$f":"IF(syoriyou!D533=\"\",\"\",syoriyou!D533)","v":""},{"$f":"IF(syoriyou!E533=\"\",\"\",syoriyou!E533)","v":""},{"$f":"IF(syoriyou!F533=\"\",\"\",syoriyou!F533)","v":""},{"$f":"IF(syoriyou!G533=\"\",\"\",syoriyou!G533)","v":""},{"$f":"IF(syoriyou!H533=\"\",\"\",syoriyou!H533)","v":""},{"$f":"IF(syoriyou!I533=\"\",\"\",syoriyou!I533)","v":""},{"$f":"IF(syoriyou!J533=\"\",\"\",syoriyou!N533)","v":""}]
[{"$f":"IF(syoriyou!A534=\"\",\"\",syoriyou!A534)","v":""},{"$f":"IF(syoriyou!B534=\"\",\"\",syoriyou!B534)","v":""},{"$f":"IF(syoriyou!C534=\"\",\"\",syoriyou!C534)","v":""},{"$f":"IF(syoriyou!D534=\"\",\"\",syoriyou!D534)","v":""},{"$f":"IF(syoriyou!E534=\"\",\"\",syoriyou!E534)","v":""},{"$f":"IF(syoriyou!F534=\"\",\"\",syoriyou!F534)","v":""},{"$f":"IF(syoriyou!G534=\"\",\"\",syoriyou!G534)","v":""},{"$f":"IF(syoriyou!H534=\"\",\"\",syoriyou!H534)","v":""},{"$f":"IF(syoriyou!I534=\"\",\"\",syoriyou!I534)","v":""},{"$f":"IF(syoriyou!J534=\"\",\"\",syoriyou!N534)","v":""}]
[{"$f":"IF(syoriyou!A535=\"\",\"\",syoriyou!A535)","v":""},{"$f":"IF(syoriyou!B535=\"\",\"\",syoriyou!B535)","v":""},{"$f":"IF(syoriyou!C535=\"\",\"\",syoriyou!C535)","v":""},{"$f":"IF(syoriyou!D535=\"\",\"\",syoriyou!D535)","v":""},{"$f":"IF(syoriyou!E535=\"\",\"\",syoriyou!E535)","v":""},{"$f":"IF(syoriyou!F535=\"\",\"\",syoriyou!F535)","v":""},{"$f":"IF(syoriyou!G535=\"\",\"\",syoriyou!G535)","v":""},{"$f":"IF(syoriyou!H535=\"\",\"\",syoriyou!H535)","v":""},{"$f":"IF(syoriyou!I535=\"\",\"\",syoriyou!I535)","v":""},{"$f":"IF(syoriyou!J535=\"\",\"\",syoriyou!N535)","v":""}]
[{"$f":"IF(syoriyou!A536=\"\",\"\",syoriyou!A536)","v":""},{"$f":"IF(syoriyou!B536=\"\",\"\",syoriyou!B536)","v":""},{"$f":"IF(syoriyou!C536=\"\",\"\",syoriyou!C536)","v":""},{"$f":"IF(syoriyou!D536=\"\",\"\",syoriyou!D536)","v":""},{"$f":"IF(syoriyou!E536=\"\",\"\",syoriyou!E536)","v":""},{"$f":"IF(syoriyou!F536=\"\",\"\",syoriyou!F536)","v":""},{"$f":"IF(syoriyou!G536=\"\",\"\",syoriyou!G536)","v":""},{"$f":"IF(syoriyou!H536=\"\",\"\",syoriyou!H536)","v":""},{"$f":"IF(syoriyou!I536=\"\",\"\",syoriyou!I536)","v":""},{"$f":"IF(syoriyou!J536=\"\",\"\",syoriyou!N536)","v":""}]
[{"$f":"IF(syoriyou!A537=\"\",\"\",syoriyou!A537)","v":""},{"$f":"IF(syoriyou!B537=\"\",\"\",syoriyou!B537)","v":""},{"$f":"IF(syoriyou!C537=\"\",\"\",syoriyou!C537)","v":""},{"$f":"IF(syoriyou!D537=\"\",\"\",syoriyou!D537)","v":""},{"$f":"IF(syoriyou!E537=\"\",\"\",syoriyou!E537)","v":""},{"$f":"IF(syoriyou!F537=\"\",\"\",syoriyou!F537)","v":""},{"$f":"IF(syoriyou!G537=\"\",\"\",syoriyou!G537)","v":""},{"$f":"IF(syoriyou!H537=\"\",\"\",syoriyou!H537)","v":""},{"$f":"IF(syoriyou!I537=\"\",\"\",syoriyou!I537)","v":""},{"$f":"IF(syoriyou!J537=\"\",\"\",syoriyou!N537)","v":""}]
[{"$f":"IF(syoriyou!A538=\"\",\"\",syoriyou!A538)","v":""},{"$f":"IF(syoriyou!B538=\"\",\"\",syoriyou!B538)","v":""},{"$f":"IF(syoriyou!C538=\"\",\"\",syoriyou!C538)","v":""},{"$f":"IF(syoriyou!D538=\"\",\"\",syoriyou!D538)","v":""},{"$f":"IF(syoriyou!E538=\"\",\"\",syoriyou!E538)","v":""},{"$f":"IF(syoriyou!F538=\"\",\"\",syoriyou!F538)","v":""},{"$f":"IF(syoriyou!G538=\"\",\"\",syoriyou!G538)","v":""},{"$f":"IF(syoriyou!H538=\"\",\"\",syoriyou!H538)","v":""},{"$f":"IF(syoriyou!I538=\"\",\"\",syoriyou!I538)","v":""},{"$f":"IF(syoriyou!J538=\"\",\"\",syoriyou!N538)","v":""}]
[{"$f":"IF(syoriyou!A539=\"\",\"\",syoriyou!A539)","v":""},{"$f":"IF(syoriyou!B539=\"\",\"\",syoriyou!B539)","v":""},{"$f":"IF(syoriyou!C539=\"\",\"\",syoriyou!C539)","v":""},{"$f":"IF(syoriyou!D539=\"\",\"\",syoriyou!D539)","v":""},{"$f":"IF(syoriyou!E539=\"\",\"\",syoriyou!E539)","v":""},{"$f":"IF(syoriyou!F539=\"\",\"\",syoriyou!F539)","v":""},{"$f":"IF(syoriyou!G539=\"\",\"\",syoriyou!G539)","v":""},{"$f":"IF(syoriyou!H539=\"\",\"\",syoriyou!H539)","v":""},{"$f":"IF(syoriyou!I539=\"\",\"\",syoriyou!I539)","v":""},{"$f":"IF(syoriyou!J539=\"\",\"\",syoriyou!N539)","v":""}]
[{"$f":"IF(syoriyou!A540=\"\",\"\",syoriyou!A540)","v":""},{"$f":"IF(syoriyou!B540=\"\",\"\",syoriyou!B540)","v":""},{"$f":"IF(syoriyou!C540=\"\",\"\",syoriyou!C540)","v":""},{"$f":"IF(syoriyou!D540=\"\",\"\",syoriyou!D540)","v":""},{"$f":"IF(syoriyou!E540=\"\",\"\",syoriyou!E540)","v":""},{"$f":"IF(syoriyou!F540=\"\",\"\",syoriyou!F540)","v":""},{"$f":"IF(syoriyou!G540=\"\",\"\",syoriyou!G540)","v":""},{"$f":"IF(syoriyou!H540=\"\",\"\",syoriyou!H540)","v":""},{"$f":"IF(syoriyou!I540=\"\",\"\",syoriyou!I540)","v":""},{"$f":"IF(syoriyou!J540=\"\",\"\",syoriyou!N540)","v":""}]
[{"$f":"IF(syoriyou!A541=\"\",\"\",syoriyou!A541)","v":""},{"$f":"IF(syoriyou!B541=\"\",\"\",syoriyou!B541)","v":""},{"$f":"IF(syoriyou!C541=\"\",\"\",syoriyou!C541)","v":""},{"$f":"IF(syoriyou!D541=\"\",\"\",syoriyou!D541)","v":""},{"$f":"IF(syoriyou!E541=\"\",\"\",syoriyou!E541)","v":""},{"$f":"IF(syoriyou!F541=\"\",\"\",syoriyou!F541)","v":""},{"$f":"IF(syoriyou!G541=\"\",\"\",syoriyou!G541)","v":""},{"$f":"IF(syoriyou!H541=\"\",\"\",syoriyou!H541)","v":""},{"$f":"IF(syoriyou!I541=\"\",\"\",syoriyou!I541)","v":""},{"$f":"IF(syoriyou!J541=\"\",\"\",syoriyou!N541)","v":""}]
[{"$f":"IF(syoriyou!A542=\"\",\"\",syoriyou!A542)","v":""},{"$f":"IF(syoriyou!B542=\"\",\"\",syoriyou!B542)","v":""},{"$f":"IF(syoriyou!C542=\"\",\"\",syoriyou!C542)","v":""},{"$f":"IF(syoriyou!D542=\"\",\"\",syoriyou!D542)","v":""},{"$f":"IF(syoriyou!E542=\"\",\"\",syoriyou!E542)","v":""},{"$f":"IF(syoriyou!F542=\"\",\"\",syoriyou!F542)","v":""},{"$f":"IF(syoriyou!G542=\"\",\"\",syoriyou!G542)","v":""},{"$f":"IF(syoriyou!H542=\"\",\"\",syoriyou!H542)","v":""},{"$f":"IF(syoriyou!I542=\"\",\"\",syoriyou!I542)","v":""},{"$f":"IF(syoriyou!J542=\"\",\"\",syoriyou!N542)","v":""}]
[{"$f":"IF(syoriyou!A543=\"\",\"\",syoriyou!A543)","v":""},{"$f":"IF(syoriyou!B543=\"\",\"\",syoriyou!B543)","v":""},{"$f":"IF(syoriyou!C543=\"\",\"\",syoriyou!C543)","v":""},{"$f":"IF(syoriyou!D543=\"\",\"\",syoriyou!D543)","v":""},{"$f":"IF(syoriyou!E543=\"\",\"\",syoriyou!E543)","v":""},{"$f":"IF(syoriyou!F543=\"\",\"\",syoriyou!F543)","v":""},{"$f":"IF(syoriyou!G543=\"\",\"\",syoriyou!G543)","v":""},{"$f":"IF(syoriyou!H543=\"\",\"\",syoriyou!H543)","v":""},{"$f":"IF(syoriyou!I543=\"\",\"\",syoriyou!I543)","v":""},{"$f":"IF(syoriyou!J543=\"\",\"\",syoriyou!N543)","v":""}]
[{"$f":"IF(syoriyou!A544=\"\",\"\",syoriyou!A544)","v":""},{"$f":"IF(syoriyou!B544=\"\",\"\",syoriyou!B544)","v":""},{"$f":"IF(syoriyou!C544=\"\",\"\",syoriyou!C544)","v":""},{"$f":"IF(syoriyou!D544=\"\",\"\",syoriyou!D544)","v":""},{"$f":"IF(syoriyou!E544=\"\",\"\",syoriyou!E544)","v":""},{"$f":"IF(syoriyou!F544=\"\",\"\",syoriyou!F544)","v":""},{"$f":"IF(syoriyou!G544=\"\",\"\",syoriyou!G544)","v":""},{"$f":"IF(syoriyou!H544=\"\",\"\",syoriyou!H544)","v":""},{"$f":"IF(syoriyou!I544=\"\",\"\",syoriyou!I544)","v":""},{"$f":"IF(syoriyou!J544=\"\",\"\",syoriyou!N544)","v":""}]
[{"$f":"IF(syoriyou!A545=\"\",\"\",syoriyou!A545)","v":""},{"$f":"IF(syoriyou!B545=\"\",\"\",syoriyou!B545)","v":""},{"$f":"IF(syoriyou!C545=\"\",\"\",syoriyou!C545)","v":""},{"$f":"IF(syoriyou!D545=\"\",\"\",syoriyou!D545)","v":""},{"$f":"IF(syoriyou!E545=\"\",\"\",syoriyou!E545)","v":""},{"$f":"IF(syoriyou!F545=\"\",\"\",syoriyou!F545)","v":""},{"$f":"IF(syoriyou!G545=\"\",\"\",syoriyou!G545)","v":""},{"$f":"IF(syoriyou!H545=\"\",\"\",syoriyou!H545)","v":""},{"$f":"IF(syoriyou!I545=\"\",\"\",syoriyou!I545)","v":""},{"$f":"IF(syoriyou!J545=\"\",\"\",syoriyou!N545)","v":""}]
[{"$f":"IF(syoriyou!A546=\"\",\"\",syoriyou!A546)","v":""},{"$f":"IF(syoriyou!B546=\"\",\"\",syoriyou!B546)","v":""},{"$f":"IF(syoriyou!C546=\"\",\"\",syoriyou!C546)","v":""},{"$f":"IF(syoriyou!D546=\"\",\"\",syoriyou!D546)","v":""},{"$f":"IF(syoriyou!E546=\"\",\"\",syoriyou!E546)","v":""},{"$f":"IF(syoriyou!F546=\"\",\"\",syoriyou!F546)","v":""},{"$f":"IF(syoriyou!G546=\"\",\"\",syoriyou!G546)","v":""},{"$f":"IF(syoriyou!H546=\"\",\"\",syoriyou!H546)","v":""},{"$f":"IF(syoriyou!I546=\"\",\"\",syoriyou!I546)","v":""},{"$f":"IF(syoriyou!J546=\"\",\"\",syoriyou!N546)","v":""}]
[{"$f":"IF(syoriyou!A547=\"\",\"\",syoriyou!A547)","v":""},{"$f":"IF(syoriyou!B547=\"\",\"\",syoriyou!B547)","v":""},{"$f":"IF(syoriyou!C547=\"\",\"\",syoriyou!C547)","v":""},{"$f":"IF(syoriyou!D547=\"\",\"\",syoriyou!D547)","v":""},{"$f":"IF(syoriyou!E547=\"\",\"\",syoriyou!E547)","v":""},{"$f":"IF(syoriyou!F547=\"\",\"\",syoriyou!F547)","v":""},{"$f":"IF(syoriyou!G547=\"\",\"\",syoriyou!G547)","v":""},{"$f":"IF(syoriyou!H547=\"\",\"\",syoriyou!H547)","v":""},{"$f":"IF(syoriyou!I547=\"\",\"\",syoriyou!I547)","v":""},{"$f":"IF(syoriyou!J547=\"\",\"\",syoriyou!N547)","v":""}]
[{"$f":"IF(syoriyou!A548=\"\",\"\",syoriyou!A548)","v":""},{"$f":"IF(syoriyou!B548=\"\",\"\",syoriyou!B548)","v":""},{"$f":"IF(syoriyou!C548=\"\",\"\",syoriyou!C548)","v":""},{"$f":"IF(syoriyou!D548=\"\",\"\",syoriyou!D548)","v":""},{"$f":"IF(syoriyou!E548=\"\",\"\",syoriyou!E548)","v":""},{"$f":"IF(syoriyou!F548=\"\",\"\",syoriyou!F548)","v":""},{"$f":"IF(syoriyou!G548=\"\",\"\",syoriyou!G548)","v":""},{"$f":"IF(syoriyou!H548=\"\",\"\",syoriyou!H548)","v":""},{"$f":"IF(syoriyou!I548=\"\",\"\",syoriyou!I548)","v":""},{"$f":"IF(syoriyou!J548=\"\",\"\",syoriyou!N548)","v":""}]
[{"$f":"IF(syoriyou!A549=\"\",\"\",syoriyou!A549)","v":""},{"$f":"IF(syoriyou!B549=\"\",\"\",syoriyou!B549)","v":""},{"$f":"IF(syoriyou!C549=\"\",\"\",syoriyou!C549)","v":""},{"$f":"IF(syoriyou!D549=\"\",\"\",syoriyou!D549)","v":""},{"$f":"IF(syoriyou!E549=\"\",\"\",syoriyou!E549)","v":""},{"$f":"IF(syoriyou!F549=\"\",\"\",syoriyou!F549)","v":""},{"$f":"IF(syoriyou!G549=\"\",\"\",syoriyou!G549)","v":""},{"$f":"IF(syoriyou!H549=\"\",\"\",syoriyou!H549)","v":""},{"$f":"IF(syoriyou!I549=\"\",\"\",syoriyou!I549)","v":""},{"$f":"IF(syoriyou!J549=\"\",\"\",syoriyou!N549)","v":""}]
[{"$f":"IF(syoriyou!A550=\"\",\"\",syoriyou!A550)","v":""},{"$f":"IF(syoriyou!B550=\"\",\"\",syoriyou!B550)","v":""},{"$f":"IF(syoriyou!C550=\"\",\"\",syoriyou!C550)","v":""},{"$f":"IF(syoriyou!D550=\"\",\"\",syoriyou!D550)","v":""},{"$f":"IF(syoriyou!E550=\"\",\"\",syoriyou!E550)","v":""},{"$f":"IF(syoriyou!F550=\"\",\"\",syoriyou!F550)","v":""},{"$f":"IF(syoriyou!G550=\"\",\"\",syoriyou!G550)","v":""},{"$f":"IF(syoriyou!H550=\"\",\"\",syoriyou!H550)","v":""},{"$f":"IF(syoriyou!I550=\"\",\"\",syoriyou!I550)","v":""},{"$f":"IF(syoriyou!J550=\"\",\"\",syoriyou!N550)","v":""}]
[{"$f":"IF(syoriyou!A551=\"\",\"\",syoriyou!A551)","v":""},{"$f":"IF(syoriyou!B551=\"\",\"\",syoriyou!B551)","v":""},{"$f":"IF(syoriyou!C551=\"\",\"\",syoriyou!C551)","v":""},{"$f":"IF(syoriyou!D551=\"\",\"\",syoriyou!D551)","v":""},{"$f":"IF(syoriyou!E551=\"\",\"\",syoriyou!E551)","v":""},{"$f":"IF(syoriyou!F551=\"\",\"\",syoriyou!F551)","v":""},{"$f":"IF(syoriyou!G551=\"\",\"\",syoriyou!G551)","v":""},{"$f":"IF(syoriyou!H551=\"\",\"\",syoriyou!H551)","v":""},{"$f":"IF(syoriyou!I551=\"\",\"\",syoriyou!I551)","v":""},{"$f":"IF(syoriyou!J551=\"\",\"\",syoriyou!N551)","v":""}]
[{"$f":"IF(syoriyou!A552=\"\",\"\",syoriyou!A552)","v":""},{"$f":"IF(syoriyou!B552=\"\",\"\",syoriyou!B552)","v":""},{"$f":"IF(syoriyou!C552=\"\",\"\",syoriyou!C552)","v":""},{"$f":"IF(syoriyou!D552=\"\",\"\",syoriyou!D552)","v":""},{"$f":"IF(syoriyou!E552=\"\",\"\",syoriyou!E552)","v":""},{"$f":"IF(syoriyou!F552=\"\",\"\",syoriyou!F552)","v":""},{"$f":"IF(syoriyou!G552=\"\",\"\",syoriyou!G552)","v":""},{"$f":"IF(syoriyou!H552=\"\",\"\",syoriyou!H552)","v":""},{"$f":"IF(syoriyou!I552=\"\",\"\",syoriyou!I552)","v":""},{"$f":"IF(syoriyou!J552=\"\",\"\",syoriyou!N552)","v":""}]
[{"$f":"IF(syoriyou!A553=\"\",\"\",syoriyou!A553)","v":""},{"$f":"IF(syoriyou!B553=\"\",\"\",syoriyou!B553)","v":""},{"$f":"IF(syoriyou!C553=\"\",\"\",syoriyou!C553)","v":""},{"$f":"IF(syoriyou!D553=\"\",\"\",syoriyou!D553)","v":""},{"$f":"IF(syoriyou!E553=\"\",\"\",syoriyou!E553)","v":""},{"$f":"IF(syoriyou!F553=\"\",\"\",syoriyou!F553)","v":""},{"$f":"IF(syoriyou!G553=\"\",\"\",syoriyou!G553)","v":""},{"$f":"IF(syoriyou!H553=\"\",\"\",syoriyou!H553)","v":""},{"$f":"IF(syoriyou!I553=\"\",\"\",syoriyou!I553)","v":""},{"$f":"IF(syoriyou!J553=\"\",\"\",syoriyou!N553)","v":""}]
[{"$f":"IF(syoriyou!A554=\"\",\"\",syoriyou!A554)","v":""},{"$f":"IF(syoriyou!B554=\"\",\"\",syoriyou!B554)","v":""},{"$f":"IF(syoriyou!C554=\"\",\"\",syoriyou!C554)","v":""},{"$f":"IF(syoriyou!D554=\"\",\"\",syoriyou!D554)","v":""},{"$f":"IF(syoriyou!E554=\"\",\"\",syoriyou!E554)","v":""},{"$f":"IF(syoriyou!F554=\"\",\"\",syoriyou!F554)","v":""},{"$f":"IF(syoriyou!G554=\"\",\"\",syoriyou!G554)","v":""},{"$f":"IF(syoriyou!H554=\"\",\"\",syoriyou!H554)","v":""},{"$f":"IF(syoriyou!I554=\"\",\"\",syoriyou!I554)","v":""},{"$f":"IF(syoriyou!J554=\"\",\"\",syoriyou!N554)","v":""}]
[{"$f":"IF(syoriyou!A555=\"\",\"\",syoriyou!A555)","v":""},{"$f":"IF(syoriyou!B555=\"\",\"\",syoriyou!B555)","v":""},{"$f":"IF(syoriyou!C555=\"\",\"\",syoriyou!C555)","v":""},{"$f":"IF(syoriyou!D555=\"\",\"\",syoriyou!D555)","v":""},{"$f":"IF(syoriyou!E555=\"\",\"\",syoriyou!E555)","v":""},{"$f":"IF(syoriyou!F555=\"\",\"\",syoriyou!F555)","v":""},{"$f":"IF(syoriyou!G555=\"\",\"\",syoriyou!G555)","v":""},{"$f":"IF(syoriyou!H555=\"\",\"\",syoriyou!H555)","v":""},{"$f":"IF(syoriyou!I555=\"\",\"\",syoriyou!I555)","v":""},{"$f":"IF(syoriyou!J555=\"\",\"\",syoriyou!N555)","v":""}]
[{"$f":"IF(syoriyou!A556=\"\",\"\",syoriyou!A556)","v":""},{"$f":"IF(syoriyou!B556=\"\",\"\",syoriyou!B556)","v":""},{"$f":"IF(syoriyou!C556=\"\",\"\",syoriyou!C556)","v":""},{"$f":"IF(syoriyou!D556=\"\",\"\",syoriyou!D556)","v":""},{"$f":"IF(syoriyou!E556=\"\",\"\",syoriyou!E556)","v":""},{"$f":"IF(syoriyou!F556=\"\",\"\",syoriyou!F556)","v":""},{"$f":"IF(syoriyou!G556=\"\",\"\",syoriyou!G556)","v":""},{"$f":"IF(syoriyou!H556=\"\",\"\",syoriyou!H556)","v":""},{"$f":"IF(syoriyou!I556=\"\",\"\",syoriyou!I556)","v":""},{"$f":"IF(syoriyou!J556=\"\",\"\",syoriyou!N556)","v":""}]
[{"$f":"IF(syoriyou!A557=\"\",\"\",syoriyou!A557)","v":""},{"$f":"IF(syoriyou!B557=\"\",\"\",syoriyou!B557)","v":""},{"$f":"IF(syoriyou!C557=\"\",\"\",syoriyou!C557)","v":""},{"$f":"IF(syoriyou!D557=\"\",\"\",syoriyou!D557)","v":""},{"$f":"IF(syoriyou!E557=\"\",\"\",syoriyou!E557)","v":""},{"$f":"IF(syoriyou!F557=\"\",\"\",syoriyou!F557)","v":""},{"$f":"IF(syoriyou!G557=\"\",\"\",syoriyou!G557)","v":""},{"$f":"IF(syoriyou!H557=\"\",\"\",syoriyou!H557)","v":""},{"$f":"IF(syoriyou!I557=\"\",\"\",syoriyou!I557)","v":""},{"$f":"IF(syoriyou!J557=\"\",\"\",syoriyou!N557)","v":""}]
[{"$f":"IF(syoriyou!A558=\"\",\"\",syoriyou!A558)","v":""},{"$f":"IF(syoriyou!B558=\"\",\"\",syoriyou!B558)","v":""},{"$f":"IF(syoriyou!C558=\"\",\"\",syoriyou!C558)","v":""},{"$f":"IF(syoriyou!D558=\"\",\"\",syoriyou!D558)","v":""},{"$f":"IF(syoriyou!E558=\"\",\"\",syoriyou!E558)","v":""},{"$f":"IF(syoriyou!F558=\"\",\"\",syoriyou!F558)","v":""},{"$f":"IF(syoriyou!G558=\"\",\"\",syoriyou!G558)","v":""},{"$f":"IF(syoriyou!H558=\"\",\"\",syoriyou!H558)","v":""},{"$f":"IF(syoriyou!I558=\"\",\"\",syoriyou!I558)","v":""},{"$f":"IF(syoriyou!J558=\"\",\"\",syoriyou!N558)","v":""}]
[{"$f":"IF(syoriyou!A559=\"\",\"\",syoriyou!A559)","v":""},{"$f":"IF(syoriyou!B559=\"\",\"\",syoriyou!B559)","v":""},{"$f":"IF(syoriyou!C559=\"\",\"\",syoriyou!C559)","v":""},{"$f":"IF(syoriyou!D559=\"\",\"\",syoriyou!D559)","v":""},{"$f":"IF(syoriyou!E559=\"\",\"\",syoriyou!E559)","v":""},{"$f":"IF(syoriyou!F559=\"\",\"\",syoriyou!F559)","v":""},{"$f":"IF(syoriyou!G559=\"\",\"\",syoriyou!G559)","v":""},{"$f":"IF(syoriyou!H559=\"\",\"\",syoriyou!H559)","v":""},{"$f":"IF(syoriyou!I559=\"\",\"\",syoriyou!I559)","v":""},{"$f":"IF(syoriyou!J559=\"\",\"\",syoriyou!N559)","v":""}]
[{"$f":"IF(syoriyou!A560=\"\",\"\",syoriyou!A560)","v":""},{"$f":"IF(syoriyou!B560=\"\",\"\",syoriyou!B560)","v":""},{"$f":"IF(syoriyou!C560=\"\",\"\",syoriyou!C560)","v":""},{"$f":"IF(syoriyou!D560=\"\",\"\",syoriyou!D560)","v":""},{"$f":"IF(syoriyou!E560=\"\",\"\",syoriyou!E560)","v":""},{"$f":"IF(syoriyou!F560=\"\",\"\",syoriyou!F560)","v":""},{"$f":"IF(syoriyou!G560=\"\",\"\",syoriyou!G560)","v":""},{"$f":"IF(syoriyou!H560=\"\",\"\",syoriyou!H560)","v":""},{"$f":"IF(syoriyou!I560=\"\",\"\",syoriyou!I560)","v":""},{"$f":"IF(syoriyou!J560=\"\",\"\",syoriyou!N560)","v":""}]
[{"$f":"IF(syoriyou!A561=\"\",\"\",syoriyou!A561)","v":""},{"$f":"IF(syoriyou!B561=\"\",\"\",syoriyou!B561)","v":""},{"$f":"IF(syoriyou!C561=\"\",\"\",syoriyou!C561)","v":""},{"$f":"IF(syoriyou!D561=\"\",\"\",syoriyou!D561)","v":""},{"$f":"IF(syoriyou!E561=\"\",\"\",syoriyou!E561)","v":""},{"$f":"IF(syoriyou!F561=\"\",\"\",syoriyou!F561)","v":""},{"$f":"IF(syoriyou!G561=\"\",\"\",syoriyou!G561)","v":""},{"$f":"IF(syoriyou!H561=\"\",\"\",syoriyou!H561)","v":""},{"$f":"IF(syoriyou!I561=\"\",\"\",syoriyou!I561)","v":""},{"$f":"IF(syoriyou!J561=\"\",\"\",syoriyou!N561)","v":""}]
[{"$f":"IF(syoriyou!A562=\"\",\"\",syoriyou!A562)","v":""},{"$f":"IF(syoriyou!B562=\"\",\"\",syoriyou!B562)","v":""},{"$f":"IF(syoriyou!C562=\"\",\"\",syoriyou!C562)","v":""},{"$f":"IF(syoriyou!D562=\"\",\"\",syoriyou!D562)","v":""},{"$f":"IF(syoriyou!E562=\"\",\"\",syoriyou!E562)","v":""},{"$f":"IF(syoriyou!F562=\"\",\"\",syoriyou!F562)","v":""},{"$f":"IF(syoriyou!G562=\"\",\"\",syoriyou!G562)","v":""},{"$f":"IF(syoriyou!H562=\"\",\"\",syoriyou!H562)","v":""},{"$f":"IF(syoriyou!I562=\"\",\"\",syoriyou!I562)","v":""},{"$f":"IF(syoriyou!J562=\"\",\"\",syoriyou!N562)","v":""}]
[{"$f":"IF(syoriyou!A563=\"\",\"\",syoriyou!A563)","v":""},{"$f":"IF(syoriyou!B563=\"\",\"\",syoriyou!B563)","v":""},{"$f":"IF(syoriyou!C563=\"\",\"\",syoriyou!C563)","v":""},{"$f":"IF(syoriyou!D563=\"\",\"\",syoriyou!D563)","v":""},{"$f":"IF(syoriyou!E563=\"\",\"\",syoriyou!E563)","v":""},{"$f":"IF(syoriyou!F563=\"\",\"\",syoriyou!F563)","v":""},{"$f":"IF(syoriyou!G563=\"\",\"\",syoriyou!G563)","v":""},{"$f":"IF(syoriyou!H563=\"\",\"\",syoriyou!H563)","v":""},{"$f":"IF(syoriyou!I563=\"\",\"\",syoriyou!I563)","v":""},{"$f":"IF(syoriyou!J563=\"\",\"\",syoriyou!N563)","v":""}]
[{"$f":"IF(syoriyou!A564=\"\",\"\",syoriyou!A564)","v":""},{"$f":"IF(syoriyou!B564=\"\",\"\",syoriyou!B564)","v":""},{"$f":"IF(syoriyou!C564=\"\",\"\",syoriyou!C564)","v":""},{"$f":"IF(syoriyou!D564=\"\",\"\",syoriyou!D564)","v":""},{"$f":"IF(syoriyou!E564=\"\",\"\",syoriyou!E564)","v":""},{"$f":"IF(syoriyou!F564=\"\",\"\",syoriyou!F564)","v":""},{"$f":"IF(syoriyou!G564=\"\",\"\",syoriyou!G564)","v":""},{"$f":"IF(syoriyou!H564=\"\",\"\",syoriyou!H564)","v":""},{"$f":"IF(syoriyou!I564=\"\",\"\",syoriyou!I564)","v":""},{"$f":"IF(syoriyou!J564=\"\",\"\",syoriyou!N564)","v":""}]
[{"$f":"IF(syoriyou!A565=\"\",\"\",syoriyou!A565)","v":""},{"$f":"IF(syoriyou!B565=\"\",\"\",syoriyou!B565)","v":""},{"$f":"IF(syoriyou!C565=\"\",\"\",syoriyou!C565)","v":""},{"$f":"IF(syoriyou!D565=\"\",\"\",syoriyou!D565)","v":""},{"$f":"IF(syoriyou!E565=\"\",\"\",syoriyou!E565)","v":""},{"$f":"IF(syoriyou!F565=\"\",\"\",syoriyou!F565)","v":""},{"$f":"IF(syoriyou!G565=\"\",\"\",syoriyou!G565)","v":""},{"$f":"IF(syoriyou!H565=\"\",\"\",syoriyou!H565)","v":""},{"$f":"IF(syoriyou!I565=\"\",\"\",syoriyou!I565)","v":""},{"$f":"IF(syoriyou!J565=\"\",\"\",syoriyou!N565)","v":""}]
[{"$f":"IF(syoriyou!A566=\"\",\"\",syoriyou!A566)","v":""},{"$f":"IF(syoriyou!B566=\"\",\"\",syoriyou!B566)","v":""},{"$f":"IF(syoriyou!C566=\"\",\"\",syoriyou!C566)","v":""},{"$f":"IF(syoriyou!D566=\"\",\"\",syoriyou!D566)","v":""},{"$f":"IF(syoriyou!E566=\"\",\"\",syoriyou!E566)","v":""},{"$f":"IF(syoriyou!F566=\"\",\"\",syoriyou!F566)","v":""},{"$f":"IF(syoriyou!G566=\"\",\"\",syoriyou!G566)","v":""},{"$f":"IF(syoriyou!H566=\"\",\"\",syoriyou!H566)","v":""},{"$f":"IF(syoriyou!I566=\"\",\"\",syoriyou!I566)","v":""},{"$f":"IF(syoriyou!J566=\"\",\"\",syoriyou!N566)","v":""}]
[{"$f":"IF(syoriyou!A567=\"\",\"\",syoriyou!A567)","v":""},{"$f":"IF(syoriyou!B567=\"\",\"\",syoriyou!B567)","v":""},{"$f":"IF(syoriyou!C567=\"\",\"\",syoriyou!C567)","v":""},{"$f":"IF(syoriyou!D567=\"\",\"\",syoriyou!D567)","v":""},{"$f":"IF(syoriyou!E567=\"\",\"\",syoriyou!E567)","v":""},{"$f":"IF(syoriyou!F567=\"\",\"\",syoriyou!F567)","v":""},{"$f":"IF(syoriyou!G567=\"\",\"\",syoriyou!G567)","v":""},{"$f":"IF(syoriyou!H567=\"\",\"\",syoriyou!H567)","v":""},{"$f":"IF(syoriyou!I567=\"\",\"\",syoriyou!I567)","v":""},{"$f":"IF(syoriyou!J567=\"\",\"\",syoriyou!N567)","v":""}]
[{"$f":"IF(syoriyou!A568=\"\",\"\",syoriyou!A568)","v":""},{"$f":"IF(syoriyou!B568=\"\",\"\",syoriyou!B568)","v":""},{"$f":"IF(syoriyou!C568=\"\",\"\",syoriyou!C568)","v":""},{"$f":"IF(syoriyou!D568=\"\",\"\",syoriyou!D568)","v":""},{"$f":"IF(syoriyou!E568=\"\",\"\",syoriyou!E568)","v":""},{"$f":"IF(syoriyou!F568=\"\",\"\",syoriyou!F568)","v":""},{"$f":"IF(syoriyou!G568=\"\",\"\",syoriyou!G568)","v":""},{"$f":"IF(syoriyou!H568=\"\",\"\",syoriyou!H568)","v":""},{"$f":"IF(syoriyou!I568=\"\",\"\",syoriyou!I568)","v":""},{"$f":"IF(syoriyou!J568=\"\",\"\",syoriyou!N568)","v":""}]
[{"$f":"IF(syoriyou!A569=\"\",\"\",syoriyou!A569)","v":""},{"$f":"IF(syoriyou!B569=\"\",\"\",syoriyou!B569)","v":""},{"$f":"IF(syoriyou!C569=\"\",\"\",syoriyou!C569)","v":""},{"$f":"IF(syoriyou!D569=\"\",\"\",syoriyou!D569)","v":""},{"$f":"IF(syoriyou!E569=\"\",\"\",syoriyou!E569)","v":""},{"$f":"IF(syoriyou!F569=\"\",\"\",syoriyou!F569)","v":""},{"$f":"IF(syoriyou!G569=\"\",\"\",syoriyou!G569)","v":""},{"$f":"IF(syoriyou!H569=\"\",\"\",syoriyou!H569)","v":""},{"$f":"IF(syoriyou!I569=\"\",\"\",syoriyou!I569)","v":""},{"$f":"IF(syoriyou!J569=\"\",\"\",syoriyou!N569)","v":""}]
[{"$f":"IF(syoriyou!A570=\"\",\"\",syoriyou!A570)","v":""},{"$f":"IF(syoriyou!B570=\"\",\"\",syoriyou!B570)","v":""},{"$f":"IF(syoriyou!C570=\"\",\"\",syoriyou!C570)","v":""},{"$f":"IF(syoriyou!D570=\"\",\"\",syoriyou!D570)","v":""},{"$f":"IF(syoriyou!E570=\"\",\"\",syoriyou!E570)","v":""},{"$f":"IF(syoriyou!F570=\"\",\"\",syoriyou!F570)","v":""},{"$f":"IF(syoriyou!G570=\"\",\"\",syoriyou!G570)","v":""},{"$f":"IF(syoriyou!H570=\"\",\"\",syoriyou!H570)","v":""},{"$f":"IF(syoriyou!I570=\"\",\"\",syoriyou!I570)","v":""},{"$f":"IF(syoriyou!J570=\"\",\"\",syoriyou!N570)","v":""}]
[{"$f":"IF(syoriyou!A571=\"\",\"\",syoriyou!A571)","v":""},{"$f":"IF(syoriyou!B571=\"\",\"\",syoriyou!B571)","v":""},{"$f":"IF(syoriyou!C571=\"\",\"\",syoriyou!C571)","v":""},{"$f":"IF(syoriyou!D571=\"\",\"\",syoriyou!D571)","v":""},{"$f":"IF(syoriyou!E571=\"\",\"\",syoriyou!E571)","v":""},{"$f":"IF(syoriyou!F571=\"\",\"\",syoriyou!F571)","v":""},{"$f":"IF(syoriyou!G571=\"\",\"\",syoriyou!G571)","v":""},{"$f":"IF(syoriyou!H571=\"\",\"\",syoriyou!H571)","v":""},{"$f":"IF(syoriyou!I571=\"\",\"\",syoriyou!I571)","v":""},{"$f":"IF(syoriyou!J571=\"\",\"\",syoriyou!N571)","v":""}]
[{"$f":"IF(syoriyou!A572=\"\",\"\",syoriyou!A572)","v":""},{"$f":"IF(syoriyou!B572=\"\",\"\",syoriyou!B572)","v":""},{"$f":"IF(syoriyou!C572=\"\",\"\",syoriyou!C572)","v":""},{"$f":"IF(syoriyou!D572=\"\",\"\",syoriyou!D572)","v":""},{"$f":"IF(syoriyou!E572=\"\",\"\",syoriyou!E572)","v":""},{"$f":"IF(syoriyou!F572=\"\",\"\",syoriyou!F572)","v":""},{"$f":"IF(syoriyou!G572=\"\",\"\",syoriyou!G572)","v":""},{"$f":"IF(syoriyou!H572=\"\",\"\",syoriyou!H572)","v":""},{"$f":"IF(syoriyou!I572=\"\",\"\",syoriyou!I572)","v":""},{"$f":"IF(syoriyou!J572=\"\",\"\",syoriyou!N572)","v":""}]
[{"$f":"IF(syoriyou!A573=\"\",\"\",syoriyou!A573)","v":""},{"$f":"IF(syoriyou!B573=\"\",\"\",syoriyou!B573)","v":""},{"$f":"IF(syoriyou!C573=\"\",\"\",syoriyou!C573)","v":""},{"$f":"IF(syoriyou!D573=\"\",\"\",syoriyou!D573)","v":""},{"$f":"IF(syoriyou!E573=\"\",\"\",syoriyou!E573)","v":""},{"$f":"IF(syoriyou!F573=\"\",\"\",syoriyou!F573)","v":""},{"$f":"IF(syoriyou!G573=\"\",\"\",syoriyou!G573)","v":""},{"$f":"IF(syoriyou!H573=\"\",\"\",syoriyou!H573)","v":""},{"$f":"IF(syoriyou!I573=\"\",\"\",syoriyou!I573)","v":""},{"$f":"IF(syoriyou!J573=\"\",\"\",syoriyou!N573)","v":""}]
[{"$f":"IF(syoriyou!A574=\"\",\"\",syoriyou!A574)","v":""},{"$f":"IF(syoriyou!B574=\"\",\"\",syoriyou!B574)","v":""},{"$f":"IF(syoriyou!C574=\"\",\"\",syoriyou!C574)","v":""},{"$f":"IF(syoriyou!D574=\"\",\"\",syoriyou!D574)","v":""},{"$f":"IF(syoriyou!E574=\"\",\"\",syoriyou!E574)","v":""},{"$f":"IF(syoriyou!F574=\"\",\"\",syoriyou!F574)","v":""},{"$f":"IF(syoriyou!G574=\"\",\"\",syoriyou!G574)","v":""},{"$f":"IF(syoriyou!H574=\"\",\"\",syoriyou!H574)","v":""},{"$f":"IF(syoriyou!I574=\"\",\"\",syoriyou!I574)","v":""},{"$f":"IF(syoriyou!J574=\"\",\"\",syoriyou!N574)","v":""}]
[{"$f":"IF(syoriyou!A575=\"\",\"\",syoriyou!A575)","v":""},{"$f":"IF(syoriyou!B575=\"\",\"\",syoriyou!B575)","v":""},{"$f":"IF(syoriyou!C575=\"\",\"\",syoriyou!C575)","v":""},{"$f":"IF(syoriyou!D575=\"\",\"\",syoriyou!D575)","v":""},{"$f":"IF(syoriyou!E575=\"\",\"\",syoriyou!E575)","v":""},{"$f":"IF(syoriyou!F575=\"\",\"\",syoriyou!F575)","v":""},{"$f":"IF(syoriyou!G575=\"\",\"\",syoriyou!G575)","v":""},{"$f":"IF(syoriyou!H575=\"\",\"\",syoriyou!H575)","v":""},{"$f":"IF(syoriyou!I575=\"\",\"\",syoriyou!I575)","v":""},{"$f":"IF(syoriyou!J575=\"\",\"\",syoriyou!N575)","v":""}]
[{"$f":"IF(syoriyou!A576=\"\",\"\",syoriyou!A576)","v":""},{"$f":"IF(syoriyou!B576=\"\",\"\",syoriyou!B576)","v":""},{"$f":"IF(syoriyou!C576=\"\",\"\",syoriyou!C576)","v":""},{"$f":"IF(syoriyou!D576=\"\",\"\",syoriyou!D576)","v":""},{"$f":"IF(syoriyou!E576=\"\",\"\",syoriyou!E576)","v":""},{"$f":"IF(syoriyou!F576=\"\",\"\",syoriyou!F576)","v":""},{"$f":"IF(syoriyou!G576=\"\",\"\",syoriyou!G576)","v":""},{"$f":"IF(syoriyou!H576=\"\",\"\",syoriyou!H576)","v":""},{"$f":"IF(syoriyou!I576=\"\",\"\",syoriyou!I576)","v":""},{"$f":"IF(syoriyou!J576=\"\",\"\",syoriyou!N576)","v":""}]
[{"$f":"IF(syoriyou!A577=\"\",\"\",syoriyou!A577)","v":""},{"$f":"IF(syoriyou!B577=\"\",\"\",syoriyou!B577)","v":""},{"$f":"IF(syoriyou!C577=\"\",\"\",syoriyou!C577)","v":""},{"$f":"IF(syoriyou!D577=\"\",\"\",syoriyou!D577)","v":""},{"$f":"IF(syoriyou!E577=\"\",\"\",syoriyou!E577)","v":""},{"$f":"IF(syoriyou!F577=\"\",\"\",syoriyou!F577)","v":""},{"$f":"IF(syoriyou!G577=\"\",\"\",syoriyou!G577)","v":""},{"$f":"IF(syoriyou!H577=\"\",\"\",syoriyou!H577)","v":""},{"$f":"IF(syoriyou!I577=\"\",\"\",syoriyou!I577)","v":""},{"$f":"IF(syoriyou!J577=\"\",\"\",syoriyou!N577)","v":""}]
[{"$f":"IF(syoriyou!A578=\"\",\"\",syoriyou!A578)","v":""},{"$f":"IF(syoriyou!B578=\"\",\"\",syoriyou!B578)","v":""},{"$f":"IF(syoriyou!C578=\"\",\"\",syoriyou!C578)","v":""},{"$f":"IF(syoriyou!D578=\"\",\"\",syoriyou!D578)","v":""},{"$f":"IF(syoriyou!E578=\"\",\"\",syoriyou!E578)","v":""},{"$f":"IF(syoriyou!F578=\"\",\"\",syoriyou!F578)","v":""},{"$f":"IF(syoriyou!G578=\"\",\"\",syoriyou!G578)","v":""},{"$f":"IF(syoriyou!H578=\"\",\"\",syoriyou!H578)","v":""},{"$f":"IF(syoriyou!I578=\"\",\"\",syoriyou!I578)","v":""},{"$f":"IF(syoriyou!J578=\"\",\"\",syoriyou!N578)","v":""}]
[{"$f":"IF(syoriyou!A579=\"\",\"\",syoriyou!A579)","v":""},{"$f":"IF(syoriyou!B579=\"\",\"\",syoriyou!B579)","v":""},{"$f":"IF(syoriyou!C579=\"\",\"\",syoriyou!C579)","v":""},{"$f":"IF(syoriyou!D579=\"\",\"\",syoriyou!D579)","v":""},{"$f":"IF(syoriyou!E579=\"\",\"\",syoriyou!E579)","v":""},{"$f":"IF(syoriyou!F579=\"\",\"\",syoriyou!F579)","v":""},{"$f":"IF(syoriyou!G579=\"\",\"\",syoriyou!G579)","v":""},{"$f":"IF(syoriyou!H579=\"\",\"\",syoriyou!H579)","v":""},{"$f":"IF(syoriyou!I579=\"\",\"\",syoriyou!I579)","v":""},{"$f":"IF(syoriyou!J579=\"\",\"\",syoriyou!N579)","v":""}]
[{"$f":"IF(syoriyou!A580=\"\",\"\",syoriyou!A580)","v":""},{"$f":"IF(syoriyou!B580=\"\",\"\",syoriyou!B580)","v":""},{"$f":"IF(syoriyou!C580=\"\",\"\",syoriyou!C580)","v":""},{"$f":"IF(syoriyou!D580=\"\",\"\",syoriyou!D580)","v":""},{"$f":"IF(syoriyou!E580=\"\",\"\",syoriyou!E580)","v":""},{"$f":"IF(syoriyou!F580=\"\",\"\",syoriyou!F580)","v":""},{"$f":"IF(syoriyou!G580=\"\",\"\",syoriyou!G580)","v":""},{"$f":"IF(syoriyou!H580=\"\",\"\",syoriyou!H580)","v":""},{"$f":"IF(syoriyou!I580=\"\",\"\",syoriyou!I580)","v":""},{"$f":"IF(syoriyou!J580=\"\",\"\",syoriyou!N580)","v":""}]
[{"$f":"IF(syoriyou!A581=\"\",\"\",syoriyou!A581)","v":""},{"$f":"IF(syoriyou!B581=\"\",\"\",syoriyou!B581)","v":""},{"$f":"IF(syoriyou!C581=\"\",\"\",syoriyou!C581)","v":""},{"$f":"IF(syoriyou!D581=\"\",\"\",syoriyou!D581)","v":""},{"$f":"IF(syoriyou!E581=\"\",\"\",syoriyou!E581)","v":""},{"$f":"IF(syoriyou!F581=\"\",\"\",syoriyou!F581)","v":""},{"$f":"IF(syoriyou!G581=\"\",\"\",syoriyou!G581)","v":""},{"$f":"IF(syoriyou!H581=\"\",\"\",syoriyou!H581)","v":""},{"$f":"IF(syoriyou!I581=\"\",\"\",syoriyou!I581)","v":""},{"$f":"IF(syoriyou!J581=\"\",\"\",syoriyou!N581)","v":""}]
[{"$f":"IF(syoriyou!A582=\"\",\"\",syoriyou!A582)","v":""},{"$f":"IF(syoriyou!B582=\"\",\"\",syoriyou!B582)","v":""},{"$f":"IF(syoriyou!C582=\"\",\"\",syoriyou!C582)","v":""},{"$f":"IF(syoriyou!D582=\"\",\"\",syoriyou!D582)","v":""},{"$f":"IF(syoriyou!E582=\"\",\"\",syoriyou!E582)","v":""},{"$f":"IF(syoriyou!F582=\"\",\"\",syoriyou!F582)","v":""},{"$f":"IF(syoriyou!G582=\"\",\"\",syoriyou!G582)","v":""},{"$f":"IF(syoriyou!H582=\"\",\"\",syoriyou!H582)","v":""},{"$f":"IF(syoriyou!I582=\"\",\"\",syoriyou!I582)","v":""},{"$f":"IF(syoriyou!J582=\"\",\"\",syoriyou!N582)","v":""}]
[{"$f":"IF(syoriyou!A583=\"\",\"\",syoriyou!A583)","v":""},{"$f":"IF(syoriyou!B583=\"\",\"\",syoriyou!B583)","v":""},{"$f":"IF(syoriyou!C583=\"\",\"\",syoriyou!C583)","v":""},{"$f":"IF(syoriyou!D583=\"\",\"\",syoriyou!D583)","v":""},{"$f":"IF(syoriyou!E583=\"\",\"\",syoriyou!E583)","v":""},{"$f":"IF(syoriyou!F583=\"\",\"\",syoriyou!F583)","v":""},{"$f":"IF(syoriyou!G583=\"\",\"\",syoriyou!G583)","v":""},{"$f":"IF(syoriyou!H583=\"\",\"\",syoriyou!H583)","v":""},{"$f":"IF(syoriyou!I583=\"\",\"\",syoriyou!I583)","v":""},{"$f":"IF(syoriyou!J583=\"\",\"\",syoriyou!N583)","v":""}]
[{"$f":"IF(syoriyou!A584=\"\",\"\",syoriyou!A584)","v":""},{"$f":"IF(syoriyou!B584=\"\",\"\",syoriyou!B584)","v":""},{"$f":"IF(syoriyou!C584=\"\",\"\",syoriyou!C584)","v":""},{"$f":"IF(syoriyou!D584=\"\",\"\",syoriyou!D584)","v":""},{"$f":"IF(syoriyou!E584=\"\",\"\",syoriyou!E584)","v":""},{"$f":"IF(syoriyou!F584=\"\",\"\",syoriyou!F584)","v":""},{"$f":"IF(syoriyou!G584=\"\",\"\",syoriyou!G584)","v":""},{"$f":"IF(syoriyou!H584=\"\",\"\",syoriyou!H584)","v":""},{"$f":"IF(syoriyou!I584=\"\",\"\",syoriyou!I584)","v":""},{"$f":"IF(syoriyou!J584=\"\",\"\",syoriyou!N584)","v":""}]
[{"$f":"IF(syoriyou!A585=\"\",\"\",syoriyou!A585)","v":""},{"$f":"IF(syoriyou!B585=\"\",\"\",syoriyou!B585)","v":""},{"$f":"IF(syoriyou!C585=\"\",\"\",syoriyou!C585)","v":""},{"$f":"IF(syoriyou!D585=\"\",\"\",syoriyou!D585)","v":""},{"$f":"IF(syoriyou!E585=\"\",\"\",syoriyou!E585)","v":""},{"$f":"IF(syoriyou!F585=\"\",\"\",syoriyou!F585)","v":""},{"$f":"IF(syoriyou!G585=\"\",\"\",syoriyou!G585)","v":""},{"$f":"IF(syoriyou!H585=\"\",\"\",syoriyou!H585)","v":""},{"$f":"IF(syoriyou!I585=\"\",\"\",syoriyou!I585)","v":""},{"$f":"IF(syoriyou!J585=\"\",\"\",syoriyou!N585)","v":""}]
[{"$f":"IF(syoriyou!A586=\"\",\"\",syoriyou!A586)","v":""},{"$f":"IF(syoriyou!B586=\"\",\"\",syoriyou!B586)","v":""},{"$f":"IF(syoriyou!C586=\"\",\"\",syoriyou!C586)","v":""},{"$f":"IF(syoriyou!D586=\"\",\"\",syoriyou!D586)","v":""},{"$f":"IF(syoriyou!E586=\"\",\"\",syoriyou!E586)","v":""},{"$f":"IF(syoriyou!F586=\"\",\"\",syoriyou!F586)","v":""},{"$f":"IF(syoriyou!G586=\"\",\"\",syoriyou!G586)","v":""},{"$f":"IF(syoriyou!H586=\"\",\"\",syoriyou!H586)","v":""},{"$f":"IF(syoriyou!I586=\"\",\"\",syoriyou!I586)","v":""},{"$f":"IF(syoriyou!J586=\"\",\"\",syoriyou!N586)","v":""}]
[{"$f":"IF(syoriyou!A587=\"\",\"\",syoriyou!A587)","v":""},{"$f":"IF(syoriyou!B587=\"\",\"\",syoriyou!B587)","v":""},{"$f":"IF(syoriyou!C587=\"\",\"\",syoriyou!C587)","v":""},{"$f":"IF(syoriyou!D587=\"\",\"\",syoriyou!D587)","v":""},{"$f":"IF(syoriyou!E587=\"\",\"\",syoriyou!E587)","v":""},{"$f":"IF(syoriyou!F587=\"\",\"\",syoriyou!F587)","v":""},{"$f":"IF(syoriyou!G587=\"\",\"\",syoriyou!G587)","v":""},{"$f":"IF(syoriyou!H587=\"\",\"\",syoriyou!H587)","v":""},{"$f":"IF(syoriyou!I587=\"\",\"\",syoriyou!I587)","v":""},{"$f":"IF(syoriyou!J587=\"\",\"\",syoriyou!N587)","v":""}]
[{"$f":"IF(syoriyou!A588=\"\",\"\",syoriyou!A588)","v":""},{"$f":"IF(syoriyou!B588=\"\",\"\",syoriyou!B588)","v":""},{"$f":"IF(syoriyou!C588=\"\",\"\",syoriyou!C588)","v":""},{"$f":"IF(syoriyou!D588=\"\",\"\",syoriyou!D588)","v":""},{"$f":"IF(syoriyou!E588=\"\",\"\",syoriyou!E588)","v":""},{"$f":"IF(syoriyou!F588=\"\",\"\",syoriyou!F588)","v":""},{"$f":"IF(syoriyou!G588=\"\",\"\",syoriyou!G588)","v":""},{"$f":"IF(syoriyou!H588=\"\",\"\",syoriyou!H588)","v":""},{"$f":"IF(syoriyou!I588=\"\",\"\",syoriyou!I588)","v":""},{"$f":"IF(syoriyou!J588=\"\",\"\",syoriyou!N588)","v":""}]
[{"$f":"IF(syoriyou!A589=\"\",\"\",syoriyou!A589)","v":""},{"$f":"IF(syoriyou!B589=\"\",\"\",syoriyou!B589)","v":""},{"$f":"IF(syoriyou!C589=\"\",\"\",syoriyou!C589)","v":""},{"$f":"IF(syoriyou!D589=\"\",\"\",syoriyou!D589)","v":""},{"$f":"IF(syoriyou!E589=\"\",\"\",syoriyou!E589)","v":""},{"$f":"IF(syoriyou!F589=\"\",\"\",syoriyou!F589)","v":""},{"$f":"IF(syoriyou!G589=\"\",\"\",syoriyou!G589)","v":""},{"$f":"IF(syoriyou!H589=\"\",\"\",syoriyou!H589)","v":""},{"$f":"IF(syoriyou!I589=\"\",\"\",syoriyou!I589)","v":""},{"$f":"IF(syoriyou!J589=\"\",\"\",syoriyou!N589)","v":""}]
[{"$f":"IF(syoriyou!A590=\"\",\"\",syoriyou!A590)","v":""},{"$f":"IF(syoriyou!B590=\"\",\"\",syoriyou!B590)","v":""},{"$f":"IF(syoriyou!C590=\"\",\"\",syoriyou!C590)","v":""},{"$f":"IF(syoriyou!D590=\"\",\"\",syoriyou!D590)","v":""},{"$f":"IF(syoriyou!E590=\"\",\"\",syoriyou!E590)","v":""},{"$f":"IF(syoriyou!F590=\"\",\"\",syoriyou!F590)","v":""},{"$f":"IF(syoriyou!G590=\"\",\"\",syoriyou!G590)","v":""},{"$f":"IF(syoriyou!H590=\"\",\"\",syoriyou!H590)","v":""},{"$f":"IF(syoriyou!I590=\"\",\"\",syoriyou!I590)","v":""},{"$f":"IF(syoriyou!J590=\"\",\"\",syoriyou!N590)","v":""}]
[{"$f":"IF(syoriyou!A591=\"\",\"\",syoriyou!A591)","v":""},{"$f":"IF(syoriyou!B591=\"\",\"\",syoriyou!B591)","v":""},{"$f":"IF(syoriyou!C591=\"\",\"\",syoriyou!C591)","v":""},{"$f":"IF(syoriyou!D591=\"\",\"\",syoriyou!D591)","v":""},{"$f":"IF(syoriyou!E591=\"\",\"\",syoriyou!E591)","v":""},{"$f":"IF(syoriyou!F591=\"\",\"\",syoriyou!F591)","v":""},{"$f":"IF(syoriyou!G591=\"\",\"\",syoriyou!G591)","v":""},{"$f":"IF(syoriyou!H591=\"\",\"\",syoriyou!H591)","v":""},{"$f":"IF(syoriyou!I591=\"\",\"\",syoriyou!I591)","v":""},{"$f":"IF(syoriyou!J591=\"\",\"\",syoriyou!N591)","v":""}]
[{"$f":"IF(syoriyou!A592=\"\",\"\",syoriyou!A592)","v":""},{"$f":"IF(syoriyou!B592=\"\",\"\",syoriyou!B592)","v":""},{"$f":"IF(syoriyou!C592=\"\",\"\",syoriyou!C592)","v":""},{"$f":"IF(syoriyou!D592=\"\",\"\",syoriyou!D592)","v":""},{"$f":"IF(syoriyou!E592=\"\",\"\",syoriyou!E592)","v":""},{"$f":"IF(syoriyou!F592=\"\",\"\",syoriyou!F592)","v":""},{"$f":"IF(syoriyou!G592=\"\",\"\",syoriyou!G592)","v":""},{"$f":"IF(syoriyou!H592=\"\",\"\",syoriyou!H592)","v":""},{"$f":"IF(syoriyou!I592=\"\",\"\",syoriyou!I592)","v":""},{"$f":"IF(syoriyou!J592=\"\",\"\",syoriyou!N592)","v":""}]
[{"$f":"IF(syoriyou!A593=\"\",\"\",syoriyou!A593)","v":""},{"$f":"IF(syoriyou!B593=\"\",\"\",syoriyou!B593)","v":""},{"$f":"IF(syoriyou!C593=\"\",\"\",syoriyou!C593)","v":""},{"$f":"IF(syoriyou!D593=\"\",\"\",syoriyou!D593)","v":""},{"$f":"IF(syoriyou!E593=\"\",\"\",syoriyou!E593)","v":""},{"$f":"IF(syoriyou!F593=\"\",\"\",syoriyou!F593)","v":""},{"$f":"IF(syoriyou!G593=\"\",\"\",syoriyou!G593)","v":""},{"$f":"IF(syoriyou!H593=\"\",\"\",syoriyou!H593)","v":""},{"$f":"IF(syoriyou!I593=\"\",\"\",syoriyou!I593)","v":""},{"$f":"IF(syoriyou!J593=\"\",\"\",syoriyou!N593)","v":""}]
[{"$f":"IF(syoriyou!A594=\"\",\"\",syoriyou!A594)","v":""},{"$f":"IF(syoriyou!B594=\"\",\"\",syoriyou!B594)","v":""},{"$f":"IF(syoriyou!C594=\"\",\"\",syoriyou!C594)","v":""},{"$f":"IF(syoriyou!D594=\"\",\"\",syoriyou!D594)","v":""},{"$f":"IF(syoriyou!E594=\"\",\"\",syoriyou!E594)","v":""},{"$f":"IF(syoriyou!F594=\"\",\"\",syoriyou!F594)","v":""},{"$f":"IF(syoriyou!G594=\"\",\"\",syoriyou!G594)","v":""},{"$f":"IF(syoriyou!H594=\"\",\"\",syoriyou!H594)","v":""},{"$f":"IF(syoriyou!I594=\"\",\"\",syoriyou!I594)","v":""},{"$f":"IF(syoriyou!J594=\"\",\"\",syoriyou!N594)","v":""}]
[{"$f":"IF(syoriyou!A595=\"\",\"\",syoriyou!A595)","v":""},{"$f":"IF(syoriyou!B595=\"\",\"\",syoriyou!B595)","v":""},{"$f":"IF(syoriyou!C595=\"\",\"\",syoriyou!C595)","v":""},{"$f":"IF(syoriyou!D595=\"\",\"\",syoriyou!D595)","v":""},{"$f":"IF(syoriyou!E595=\"\",\"\",syoriyou!E595)","v":""},{"$f":"IF(syoriyou!F595=\"\",\"\",syoriyou!F595)","v":""},{"$f":"IF(syoriyou!G595=\"\",\"\",syoriyou!G595)","v":""},{"$f":"IF(syoriyou!H595=\"\",\"\",syoriyou!H595)","v":""},{"$f":"IF(syoriyou!I595=\"\",\"\",syoriyou!I595)","v":""},{"$f":"IF(syoriyou!J595=\"\",\"\",syoriyou!N595)","v":""}]
[{"$f":"IF(syoriyou!A596=\"\",\"\",syoriyou!A596)","v":""},{"$f":"IF(syoriyou!B596=\"\",\"\",syoriyou!B596)","v":""},{"$f":"IF(syoriyou!C596=\"\",\"\",syoriyou!C596)","v":""},{"$f":"IF(syoriyou!D596=\"\",\"\",syoriyou!D596)","v":""},{"$f":"IF(syoriyou!E596=\"\",\"\",syoriyou!E596)","v":""},{"$f":"IF(syoriyou!F596=\"\",\"\",syoriyou!F596)","v":""},{"$f":"IF(syoriyou!G596=\"\",\"\",syoriyou!G596)","v":""},{"$f":"IF(syoriyou!H596=\"\",\"\",syoriyou!H596)","v":""},{"$f":"IF(syoriyou!I596=\"\",\"\",syoriyou!I596)","v":""},{"$f":"IF(syoriyou!J596=\"\",\"\",syoriyou!N596)","v":""}]
[{"$f":"IF(syoriyou!A597=\"\",\"\",syoriyou!A597)","v":""},{"$f":"IF(syoriyou!B597=\"\",\"\",syoriyou!B597)","v":""},{"$f":"IF(syoriyou!C597=\"\",\"\",syoriyou!C597)","v":""},{"$f":"IF(syoriyou!D597=\"\",\"\",syoriyou!D597)","v":""},{"$f":"IF(syoriyou!E597=\"\",\"\",syoriyou!E597)","v":""},{"$f":"IF(syoriyou!F597=\"\",\"\",syoriyou!F597)","v":""},{"$f":"IF(syoriyou!G597=\"\",\"\",syoriyou!G597)","v":""},{"$f":"IF(syoriyou!H597=\"\",\"\",syoriyou!H597)","v":""},{"$f":"IF(syoriyou!I597=\"\",\"\",syoriyou!I597)","v":""},{"$f":"IF(syoriyou!J597=\"\",\"\",syoriyou!N597)","v":""}]
[{"$f":"IF(syoriyou!A598=\"\",\"\",syoriyou!A598)","v":""},{"$f":"IF(syoriyou!B598=\"\",\"\",syoriyou!B598)","v":""},{"$f":"IF(syoriyou!C598=\"\",\"\",syoriyou!C598)","v":""},{"$f":"IF(syoriyou!D598=\"\",\"\",syoriyou!D598)","v":""},{"$f":"IF(syoriyou!E598=\"\",\"\",syoriyou!E598)","v":""},{"$f":"IF(syoriyou!F598=\"\",\"\",syoriyou!F598)","v":""},{"$f":"IF(syoriyou!G598=\"\",\"\",syoriyou!G598)","v":""},{"$f":"IF(syoriyou!H598=\"\",\"\",syoriyou!H598)","v":""},{"$f":"IF(syoriyou!I598=\"\",\"\",syoriyou!I598)","v":""},{"$f":"IF(syoriyou!J598=\"\",\"\",syoriyou!N598)","v":""}]
[{"$f":"IF(syoriyou!A599=\"\",\"\",syoriyou!A599)","v":""},{"$f":"IF(syoriyou!B599=\"\",\"\",syoriyou!B599)","v":""},{"$f":"IF(syoriyou!C599=\"\",\"\",syoriyou!C599)","v":""},{"$f":"IF(syoriyou!D599=\"\",\"\",syoriyou!D599)","v":""},{"$f":"IF(syoriyou!E599=\"\",\"\",syoriyou!E599)","v":""},{"$f":"IF(syoriyou!F599=\"\",\"\",syoriyou!F599)","v":""},{"$f":"IF(syoriyou!G599=\"\",\"\",syoriyou!G599)","v":""},{"$f":"IF(syoriyou!H599=\"\",\"\",syoriyou!H599)","v":""},{"$f":"IF(syoriyou!I599=\"\",\"\",syoriyou!I599)","v":""},{"$f":"IF(syoriyou!J599=\"\",\"\",syoriyou!N599)","v":""}]
[{"$f":"IF(syoriyou!A600=\"\",\"\",syoriyou!A600)","v":""},{"$f":"IF(syoriyou!B600=\"\",\"\",syoriyou!B600)","v":""},{"$f":"IF(syoriyou!C600=\"\",\"\",syoriyou!C600)","v":""},{"$f":"IF(syoriyou!D600=\"\",\"\",syoriyou!D600)","v":""},{"$f":"IF(syoriyou!E600=\"\",\"\",syoriyou!E600)","v":""},{"$f":"IF(syoriyou!F600=\"\",\"\",syoriyou!F600)","v":""},{"$f":"IF(syoriyou!G600=\"\",\"\",syoriyou!G600)","v":""},{"$f":"IF(syoriyou!H600=\"\",\"\",syoriyou!H600)","v":""},{"$f":"IF(syoriyou!I600=\"\",\"\",syoriyou!I600)","v":""},{"$f":"IF(syoriyou!J600=\"\",\"\",syoriyou!N600)","v":""}]
[{"$f":"IF(syoriyou!A601=\"\",\"\",syoriyou!A601)","v":""},{"$f":"IF(syoriyou!B601=\"\",\"\",syoriyou!B601)","v":""},{"$f":"IF(syoriyou!C601=\"\",\"\",syoriyou!C601)","v":""},{"$f":"IF(syoriyou!D601=\"\",\"\",syoriyou!D601)","v":""},{"$f":"IF(syoriyou!E601=\"\",\"\",syoriyou!E601)","v":""},{"$f":"IF(syoriyou!F601=\"\",\"\",syoriyou!F601)","v":""},{"$f":"IF(syoriyou!G601=\"\",\"\",syoriyou!G601)","v":""},{"$f":"IF(syoriyou!H601=\"\",\"\",syoriyou!H601)","v":""},{"$f":"IF(syoriyou!I601=\"\",\"\",syoriyou!I601)","v":""},{"$f":"IF(syoriyou!J601=\"\",\"\",syoriyou!N601)","v":""}]
[{"$f":"IF(syoriyou!A602=\"\",\"\",syoriyou!A602)","v":""},{"$f":"IF(syoriyou!B602=\"\",\"\",syoriyou!B602)","v":""},{"$f":"IF(syoriyou!C602=\"\",\"\",syoriyou!C602)","v":""},{"$f":"IF(syoriyou!D602=\"\",\"\",syoriyou!D602)","v":""},{"$f":"IF(syoriyou!E602=\"\",\"\",syoriyou!E602)","v":""},{"$f":"IF(syoriyou!F602=\"\",\"\",syoriyou!F602)","v":""},{"$f":"IF(syoriyou!G602=\"\",\"\",syoriyou!G602)","v":""},{"$f":"IF(syoriyou!H602=\"\",\"\",syoriyou!H602)","v":""},{"$f":"IF(syoriyou!I602=\"\",\"\",syoriyou!I602)","v":""},{"$f":"IF(syoriyou!J602=\"\",\"\",syoriyou!N602)","v":""}]
[{"$f":"IF(syoriyou!A603=\"\",\"\",syoriyou!A603)","v":""},{"$f":"IF(syoriyou!B603=\"\",\"\",syoriyou!B603)","v":""},{"$f":"IF(syoriyou!C603=\"\",\"\",syoriyou!C603)","v":""},{"$f":"IF(syoriyou!D603=\"\",\"\",syoriyou!D603)","v":""},{"$f":"IF(syoriyou!E603=\"\",\"\",syoriyou!E603)","v":""},{"$f":"IF(syoriyou!F603=\"\",\"\",syoriyou!F603)","v":""},{"$f":"IF(syoriyou!G603=\"\",\"\",syoriyou!G603)","v":""},{"$f":"IF(syoriyou!H603=\"\",\"\",syoriyou!H603)","v":""},{"$f":"IF(syoriyou!I603=\"\",\"\",syoriyou!I603)","v":""},{"$f":"IF(syoriyou!J603=\"\",\"\",syoriyou!N603)","v":""}]
[{"$f":"IF(syoriyou!A604=\"\",\"\",syoriyou!A604)","v":""},{"$f":"IF(syoriyou!B604=\"\",\"\",syoriyou!B604)","v":""},{"$f":"IF(syoriyou!C604=\"\",\"\",syoriyou!C604)","v":""},{"$f":"IF(syoriyou!D604=\"\",\"\",syoriyou!D604)","v":""},{"$f":"IF(syoriyou!E604=\"\",\"\",syoriyou!E604)","v":""},{"$f":"IF(syoriyou!F604=\"\",\"\",syoriyou!F604)","v":""},{"$f":"IF(syoriyou!G604=\"\",\"\",syoriyou!G604)","v":""},{"$f":"IF(syoriyou!H604=\"\",\"\",syoriyou!H604)","v":""},{"$f":"IF(syoriyou!I604=\"\",\"\",syoriyou!I604)","v":""},{"$f":"IF(syoriyou!J604=\"\",\"\",syoriyou!N604)","v":""}]
[{"$f":"IF(syoriyou!A605=\"\",\"\",syoriyou!A605)","v":""},{"$f":"IF(syoriyou!B605=\"\",\"\",syoriyou!B605)","v":""},{"$f":"IF(syoriyou!C605=\"\",\"\",syoriyou!C605)","v":""},{"$f":"IF(syoriyou!D605=\"\",\"\",syoriyou!D605)","v":""},{"$f":"IF(syoriyou!E605=\"\",\"\",syoriyou!E605)","v":""},{"$f":"IF(syoriyou!F605=\"\",\"\",syoriyou!F605)","v":""},{"$f":"IF(syoriyou!G605=\"\",\"\",syoriyou!G605)","v":""},{"$f":"IF(syoriyou!H605=\"\",\"\",syoriyou!H605)","v":""},{"$f":"IF(syoriyou!I605=\"\",\"\",syoriyou!I605)","v":""},{"$f":"IF(syoriyou!J605=\"\",\"\",syoriyou!N605)","v":""}]
[{"$f":"IF(syoriyou!A606=\"\",\"\",syoriyou!A606)","v":""},{"$f":"IF(syoriyou!B606=\"\",\"\",syoriyou!B606)","v":""},{"$f":"IF(syoriyou!C606=\"\",\"\",syoriyou!C606)","v":""},{"$f":"IF(syoriyou!D606=\"\",\"\",syoriyou!D606)","v":""},{"$f":"IF(syoriyou!E606=\"\",\"\",syoriyou!E606)","v":""},{"$f":"IF(syoriyou!F606=\"\",\"\",syoriyou!F606)","v":""},{"$f":"IF(syoriyou!G606=\"\",\"\",syoriyou!G606)","v":""},{"$f":"IF(syoriyou!H606=\"\",\"\",syoriyou!H606)","v":""},{"$f":"IF(syoriyou!I606=\"\",\"\",syoriyou!I606)","v":""},{"$f":"IF(syoriyou!J606=\"\",\"\",syoriyou!N606)","v":""}]
[{"$f":"IF(syoriyou!A607=\"\",\"\",syoriyou!A607)","v":""},{"$f":"IF(syoriyou!B607=\"\",\"\",syoriyou!B607)","v":""},{"$f":"IF(syoriyou!C607=\"\",\"\",syoriyou!C607)","v":""},{"$f":"IF(syoriyou!D607=\"\",\"\",syoriyou!D607)","v":""},{"$f":"IF(syoriyou!E607=\"\",\"\",syoriyou!E607)","v":""},{"$f":"IF(syoriyou!F607=\"\",\"\",syoriyou!F607)","v":""},{"$f":"IF(syoriyou!G607=\"\",\"\",syoriyou!G607)","v":""},{"$f":"IF(syoriyou!H607=\"\",\"\",syoriyou!H607)","v":""},{"$f":"IF(syoriyou!I607=\"\",\"\",syoriyou!I607)","v":""},{"$f":"IF(syoriyou!J607=\"\",\"\",syoriyou!N607)","v":""}]
[{"$f":"IF(syoriyou!A608=\"\",\"\",syoriyou!A608)","v":""},{"$f":"IF(syoriyou!B608=\"\",\"\",syoriyou!B608)","v":""},{"$f":"IF(syoriyou!C608=\"\",\"\",syoriyou!C608)","v":""},{"$f":"IF(syoriyou!D608=\"\",\"\",syoriyou!D608)","v":""},{"$f":"IF(syoriyou!E608=\"\",\"\",syoriyou!E608)","v":""},{"$f":"IF(syoriyou!F608=\"\",\"\",syoriyou!F608)","v":""},{"$f":"IF(syoriyou!G608=\"\",\"\",syoriyou!G608)","v":""},{"$f":"IF(syoriyou!H608=\"\",\"\",syoriyou!H608)","v":""},{"$f":"IF(syoriyou!I608=\"\",\"\",syoriyou!I608)","v":""},{"$f":"IF(syoriyou!J608=\"\",\"\",syoriyou!N608)","v":""}]
[{"$f":"IF(syoriyou!A609=\"\",\"\",syoriyou!A609)","v":""},{"$f":"IF(syoriyou!B609=\"\",\"\",syoriyou!B609)","v":""},{"$f":"IF(syoriyou!C609=\"\",\"\",syoriyou!C609)","v":""},{"$f":"IF(syoriyou!D609=\"\",\"\",syoriyou!D609)","v":""},{"$f":"IF(syoriyou!E609=\"\",\"\",syoriyou!E609)","v":""},{"$f":"IF(syoriyou!F609=\"\",\"\",syoriyou!F609)","v":""},{"$f":"IF(syoriyou!G609=\"\",\"\",syoriyou!G609)","v":""},{"$f":"IF(syoriyou!H609=\"\",\"\",syoriyou!H609)","v":""},{"$f":"IF(syoriyou!I609=\"\",\"\",syoriyou!I609)","v":""},{"$f":"IF(syoriyou!J609=\"\",\"\",syoriyou!N609)","v":""}]
[{"$f":"IF(syoriyou!A610=\"\",\"\",syoriyou!A610)","v":""},{"$f":"IF(syoriyou!B610=\"\",\"\",syoriyou!B610)","v":""},{"$f":"IF(syoriyou!C610=\"\",\"\",syoriyou!C610)","v":""},{"$f":"IF(syoriyou!D610=\"\",\"\",syoriyou!D610)","v":""},{"$f":"IF(syoriyou!E610=\"\",\"\",syoriyou!E610)","v":""},{"$f":"IF(syoriyou!F610=\"\",\"\",syoriyou!F610)","v":""},{"$f":"IF(syoriyou!G610=\"\",\"\",syoriyou!G610)","v":""},{"$f":"IF(syoriyou!H610=\"\",\"\",syoriyou!H610)","v":""},{"$f":"IF(syoriyou!I610=\"\",\"\",syoriyou!I610)","v":""},{"$f":"IF(syoriyou!J610=\"\",\"\",syoriyou!N610)","v":""}]
[{"$f":"IF(syoriyou!A611=\"\",\"\",syoriyou!A611)","v":""},{"$f":"IF(syoriyou!B611=\"\",\"\",syoriyou!B611)","v":""},{"$f":"IF(syoriyou!C611=\"\",\"\",syoriyou!C611)","v":""},{"$f":"IF(syoriyou!D611=\"\",\"\",syoriyou!D611)","v":""},{"$f":"IF(syoriyou!E611=\"\",\"\",syoriyou!E611)","v":""},{"$f":"IF(syoriyou!F611=\"\",\"\",syoriyou!F611)","v":""},{"$f":"IF(syoriyou!G611=\"\",\"\",syoriyou!G611)","v":""},{"$f":"IF(syoriyou!H611=\"\",\"\",syoriyou!H611)","v":""},{"$f":"IF(syoriyou!I611=\"\",\"\",syoriyou!I611)","v":""},{"$f":"IF(syoriyou!J611=\"\",\"\",syoriyou!N611)","v":""}]
[{"$f":"IF(syoriyou!A612=\"\",\"\",syoriyou!A612)","v":""},{"$f":"IF(syoriyou!B612=\"\",\"\",syoriyou!B612)","v":""},{"$f":"IF(syoriyou!C612=\"\",\"\",syoriyou!C612)","v":""},{"$f":"IF(syoriyou!D612=\"\",\"\",syoriyou!D612)","v":""},{"$f":"IF(syoriyou!E612=\"\",\"\",syoriyou!E612)","v":""},{"$f":"IF(syoriyou!F612=\"\",\"\",syoriyou!F612)","v":""},{"$f":"IF(syoriyou!G612=\"\",\"\",syoriyou!G612)","v":""},{"$f":"IF(syoriyou!H612=\"\",\"\",syoriyou!H612)","v":""},{"$f":"IF(syoriyou!I612=\"\",\"\",syoriyou!I612)","v":""},{"$f":"IF(syoriyou!J612=\"\",\"\",syoriyou!N612)","v":""}]
[{"$f":"IF(syoriyou!A613=\"\",\"\",syoriyou!A613)","v":""},{"$f":"IF(syoriyou!B613=\"\",\"\",syoriyou!B613)","v":""},{"$f":"IF(syoriyou!C613=\"\",\"\",syoriyou!C613)","v":""},{"$f":"IF(syoriyou!D613=\"\",\"\",syoriyou!D613)","v":""},{"$f":"IF(syoriyou!E613=\"\",\"\",syoriyou!E613)","v":""},{"$f":"IF(syoriyou!F613=\"\",\"\",syoriyou!F613)","v":""},{"$f":"IF(syoriyou!G613=\"\",\"\",syoriyou!G613)","v":""},{"$f":"IF(syoriyou!H613=\"\",\"\",syoriyou!H613)","v":""},{"$f":"IF(syoriyou!I613=\"\",\"\",syoriyou!I613)","v":""},{"$f":"IF(syoriyou!J613=\"\",\"\",syoriyou!N613)","v":""}]
[{"$f":"IF(syoriyou!A614=\"\",\"\",syoriyou!A614)","v":""},{"$f":"IF(syoriyou!B614=\"\",\"\",syoriyou!B614)","v":""},{"$f":"IF(syoriyou!C614=\"\",\"\",syoriyou!C614)","v":""},{"$f":"IF(syoriyou!D614=\"\",\"\",syoriyou!D614)","v":""},{"$f":"IF(syoriyou!E614=\"\",\"\",syoriyou!E614)","v":""},{"$f":"IF(syoriyou!F614=\"\",\"\",syoriyou!F614)","v":""},{"$f":"IF(syoriyou!G614=\"\",\"\",syoriyou!G614)","v":""},{"$f":"IF(syoriyou!H614=\"\",\"\",syoriyou!H614)","v":""},{"$f":"IF(syoriyou!I614=\"\",\"\",syoriyou!I614)","v":""},{"$f":"IF(syoriyou!J614=\"\",\"\",syoriyou!N614)","v":""}]
[{"$f":"IF(syoriyou!A615=\"\",\"\",syoriyou!A615)","v":""},{"$f":"IF(syoriyou!B615=\"\",\"\",syoriyou!B615)","v":""},{"$f":"IF(syoriyou!C615=\"\",\"\",syoriyou!C615)","v":""},{"$f":"IF(syoriyou!D615=\"\",\"\",syoriyou!D615)","v":""},{"$f":"IF(syoriyou!E615=\"\",\"\",syoriyou!E615)","v":""},{"$f":"IF(syoriyou!F615=\"\",\"\",syoriyou!F615)","v":""},{"$f":"IF(syoriyou!G615=\"\",\"\",syoriyou!G615)","v":""},{"$f":"IF(syoriyou!H615=\"\",\"\",syoriyou!H615)","v":""},{"$f":"IF(syoriyou!I615=\"\",\"\",syoriyou!I615)","v":""},{"$f":"IF(syoriyou!J615=\"\",\"\",syoriyou!N615)","v":""}]
[{"$f":"IF(syoriyou!A616=\"\",\"\",syoriyou!A616)","v":""},{"$f":"IF(syoriyou!B616=\"\",\"\",syoriyou!B616)","v":""},{"$f":"IF(syoriyou!C616=\"\",\"\",syoriyou!C616)","v":""},{"$f":"IF(syoriyou!D616=\"\",\"\",syoriyou!D616)","v":""},{"$f":"IF(syoriyou!E616=\"\",\"\",syoriyou!E616)","v":""},{"$f":"IF(syoriyou!F616=\"\",\"\",syoriyou!F616)","v":""},{"$f":"IF(syoriyou!G616=\"\",\"\",syoriyou!G616)","v":""},{"$f":"IF(syoriyou!H616=\"\",\"\",syoriyou!H616)","v":""},{"$f":"IF(syoriyou!I616=\"\",\"\",syoriyou!I616)","v":""},{"$f":"IF(syoriyou!J616=\"\",\"\",syoriyou!N616)","v":""}]
[{"$f":"IF(syoriyou!A617=\"\",\"\",syoriyou!A617)","v":""},{"$f":"IF(syoriyou!B617=\"\",\"\",syoriyou!B617)","v":""},{"$f":"IF(syoriyou!C617=\"\",\"\",syoriyou!C617)","v":""},{"$f":"IF(syoriyou!D617=\"\",\"\",syoriyou!D617)","v":""},{"$f":"IF(syoriyou!E617=\"\",\"\",syoriyou!E617)","v":""},{"$f":"IF(syoriyou!F617=\"\",\"\",syoriyou!F617)","v":""},{"$f":"IF(syoriyou!G617=\"\",\"\",syoriyou!G617)","v":""},{"$f":"IF(syoriyou!H617=\"\",\"\",syoriyou!H617)","v":""},{"$f":"IF(syoriyou!I617=\"\",\"\",syoriyou!I617)","v":""},{"$f":"IF(syoriyou!J617=\"\",\"\",syoriyou!N617)","v":""}]
[{"$f":"IF(syoriyou!A618=\"\",\"\",syoriyou!A618)","v":""},{"$f":"IF(syoriyou!B618=\"\",\"\",syoriyou!B618)","v":""},{"$f":"IF(syoriyou!C618=\"\",\"\",syoriyou!C618)","v":""},{"$f":"IF(syoriyou!D618=\"\",\"\",syoriyou!D618)","v":""},{"$f":"IF(syoriyou!E618=\"\",\"\",syoriyou!E618)","v":""},{"$f":"IF(syoriyou!F618=\"\",\"\",syoriyou!F618)","v":""},{"$f":"IF(syoriyou!G618=\"\",\"\",syoriyou!G618)","v":""},{"$f":"IF(syoriyou!H618=\"\",\"\",syoriyou!H618)","v":""},{"$f":"IF(syoriyou!I618=\"\",\"\",syoriyou!I618)","v":""},{"$f":"IF(syoriyou!J618=\"\",\"\",syoriyou!N618)","v":""}]
[{"$f":"IF(syoriyou!A619=\"\",\"\",syoriyou!A619)","v":""},{"$f":"IF(syoriyou!B619=\"\",\"\",syoriyou!B619)","v":""},{"$f":"IF(syoriyou!C619=\"\",\"\",syoriyou!C619)","v":""},{"$f":"IF(syoriyou!D619=\"\",\"\",syoriyou!D619)","v":""},{"$f":"IF(syoriyou!E619=\"\",\"\",syoriyou!E619)","v":""},{"$f":"IF(syoriyou!F619=\"\",\"\",syoriyou!F619)","v":""},{"$f":"IF(syoriyou!G619=\"\",\"\",syoriyou!G619)","v":""},{"$f":"IF(syoriyou!H619=\"\",\"\",syoriyou!H619)","v":""},{"$f":"IF(syoriyou!I619=\"\",\"\",syoriyou!I619)","v":""},{"$f":"IF(syoriyou!J619=\"\",\"\",syoriyou!N619)","v":""}]
[{"$f":"IF(syoriyou!A620=\"\",\"\",syoriyou!A620)","v":""},{"$f":"IF(syoriyou!B620=\"\",\"\",syoriyou!B620)","v":""},{"$f":"IF(syoriyou!C620=\"\",\"\",syoriyou!C620)","v":""},{"$f":"IF(syoriyou!D620=\"\",\"\",syoriyou!D620)","v":""},{"$f":"IF(syoriyou!E620=\"\",\"\",syoriyou!E620)","v":""},{"$f":"IF(syoriyou!F620=\"\",\"\",syoriyou!F620)","v":""},{"$f":"IF(syoriyou!G620=\"\",\"\",syoriyou!G620)","v":""},{"$f":"IF(syoriyou!H620=\"\",\"\",syoriyou!H620)","v":""},{"$f":"IF(syoriyou!I620=\"\",\"\",syoriyou!I620)","v":""},{"$f":"IF(syoriyou!J620=\"\",\"\",syoriyou!N620)","v":""}]
[{"$f":"IF(syoriyou!A621=\"\",\"\",syoriyou!A621)","v":""},{"$f":"IF(syoriyou!B621=\"\",\"\",syoriyou!B621)","v":""},{"$f":"IF(syoriyou!C621=\"\",\"\",syoriyou!C621)","v":""},{"$f":"IF(syoriyou!D621=\"\",\"\",syoriyou!D621)","v":""},{"$f":"IF(syoriyou!E621=\"\",\"\",syoriyou!E621)","v":""},{"$f":"IF(syoriyou!F621=\"\",\"\",syoriyou!F621)","v":""},{"$f":"IF(syoriyou!G621=\"\",\"\",syoriyou!G621)","v":""},{"$f":"IF(syoriyou!H621=\"\",\"\",syoriyou!H621)","v":""},{"$f":"IF(syoriyou!I621=\"\",\"\",syoriyou!I621)","v":""},{"$f":"IF(syoriyou!J621=\"\",\"\",syoriyou!N621)","v":""}]
[{"$f":"IF(syoriyou!A622=\"\",\"\",syoriyou!A622)","v":""},{"$f":"IF(syoriyou!B622=\"\",\"\",syoriyou!B622)","v":""},{"$f":"IF(syoriyou!C622=\"\",\"\",syoriyou!C622)","v":""},{"$f":"IF(syoriyou!D622=\"\",\"\",syoriyou!D622)","v":""},{"$f":"IF(syoriyou!E622=\"\",\"\",syoriyou!E622)","v":""},{"$f":"IF(syoriyou!F622=\"\",\"\",syoriyou!F622)","v":""},{"$f":"IF(syoriyou!G622=\"\",\"\",syoriyou!G622)","v":""},{"$f":"IF(syoriyou!H622=\"\",\"\",syoriyou!H622)","v":""},{"$f":"IF(syoriyou!I622=\"\",\"\",syoriyou!I622)","v":""},{"$f":"IF(syoriyou!J622=\"\",\"\",syoriyou!N622)","v":""}]
[{"$f":"IF(syoriyou!A623=\"\",\"\",syoriyou!A623)","v":""},{"$f":"IF(syoriyou!B623=\"\",\"\",syoriyou!B623)","v":""},{"$f":"IF(syoriyou!C623=\"\",\"\",syoriyou!C623)","v":""},{"$f":"IF(syoriyou!D623=\"\",\"\",syoriyou!D623)","v":""},{"$f":"IF(syoriyou!E623=\"\",\"\",syoriyou!E623)","v":""},{"$f":"IF(syoriyou!F623=\"\",\"\",syoriyou!F623)","v":""},{"$f":"IF(syoriyou!G623=\"\",\"\",syoriyou!G623)","v":""},{"$f":"IF(syoriyou!H623=\"\",\"\",syoriyou!H623)","v":""},{"$f":"IF(syoriyou!I623=\"\",\"\",syoriyou!I623)","v":""},{"$f":"IF(syoriyou!J623=\"\",\"\",syoriyou!N623)","v":""}]
[{"$f":"IF(syoriyou!A624=\"\",\"\",syoriyou!A624)","v":""},{"$f":"IF(syoriyou!B624=\"\",\"\",syoriyou!B624)","v":""},{"$f":"IF(syoriyou!C624=\"\",\"\",syoriyou!C624)","v":""},{"$f":"IF(syoriyou!D624=\"\",\"\",syoriyou!D624)","v":""},{"$f":"IF(syoriyou!E624=\"\",\"\",syoriyou!E624)","v":""},{"$f":"IF(syoriyou!F624=\"\",\"\",syoriyou!F624)","v":""},{"$f":"IF(syoriyou!G624=\"\",\"\",syoriyou!G624)","v":""},{"$f":"IF(syoriyou!H624=\"\",\"\",syoriyou!H624)","v":""},{"$f":"IF(syoriyou!I624=\"\",\"\",syoriyou!I624)","v":""},{"$f":"IF(syoriyou!J624=\"\",\"\",syoriyou!N624)","v":""}]
[{"$f":"IF(syoriyou!A625=\"\",\"\",syoriyou!A625)","v":""},{"$f":"IF(syoriyou!B625=\"\",\"\",syoriyou!B625)","v":""},{"$f":"IF(syoriyou!C625=\"\",\"\",syoriyou!C625)","v":""},{"$f":"IF(syoriyou!D625=\"\",\"\",syoriyou!D625)","v":""},{"$f":"IF(syoriyou!E625=\"\",\"\",syoriyou!E625)","v":""},{"$f":"IF(syoriyou!F625=\"\",\"\",syoriyou!F625)","v":""},{"$f":"IF(syoriyou!G625=\"\",\"\",syoriyou!G625)","v":""},{"$f":"IF(syoriyou!H625=\"\",\"\",syoriyou!H625)","v":""},{"$f":"IF(syoriyou!I625=\"\",\"\",syoriyou!I625)","v":""},{"$f":"IF(syoriyou!J625=\"\",\"\",syoriyou!N625)","v":""}]
[{"$f":"IF(syoriyou!A626=\"\",\"\",syoriyou!A626)","v":""},{"$f":"IF(syoriyou!B626=\"\",\"\",syoriyou!B626)","v":""},{"$f":"IF(syoriyou!C626=\"\",\"\",syoriyou!C626)","v":""},{"$f":"IF(syoriyou!D626=\"\",\"\",syoriyou!D626)","v":""},{"$f":"IF(syoriyou!E626=\"\",\"\",syoriyou!E626)","v":""},{"$f":"IF(syoriyou!F626=\"\",\"\",syoriyou!F626)","v":""},{"$f":"IF(syoriyou!G626=\"\",\"\",syoriyou!G626)","v":""},{"$f":"IF(syoriyou!H626=\"\",\"\",syoriyou!H626)","v":""},{"$f":"IF(syoriyou!I626=\"\",\"\",syoriyou!I626)","v":""},{"$f":"IF(syoriyou!J626=\"\",\"\",syoriyou!N626)","v":""}]
[{"$f":"IF(syoriyou!A627=\"\",\"\",syoriyou!A627)","v":""},{"$f":"IF(syoriyou!B627=\"\",\"\",syoriyou!B627)","v":""},{"$f":"IF(syoriyou!C627=\"\",\"\",syoriyou!C627)","v":""},{"$f":"IF(syoriyou!D627=\"\",\"\",syoriyou!D627)","v":""},{"$f":"IF(syoriyou!E627=\"\",\"\",syoriyou!E627)","v":""},{"$f":"IF(syoriyou!F627=\"\",\"\",syoriyou!F627)","v":""},{"$f":"IF(syoriyou!G627=\"\",\"\",syoriyou!G627)","v":""},{"$f":"IF(syoriyou!H627=\"\",\"\",syoriyou!H627)","v":""},{"$f":"IF(syoriyou!I627=\"\",\"\",syoriyou!I627)","v":""},{"$f":"IF(syoriyou!J627=\"\",\"\",syoriyou!N627)","v":""}]
[{"$f":"IF(syoriyou!A628=\"\",\"\",syoriyou!A628)","v":""},{"$f":"IF(syoriyou!B628=\"\",\"\",syoriyou!B628)","v":""},{"$f":"IF(syoriyou!C628=\"\",\"\",syoriyou!C628)","v":""},{"$f":"IF(syoriyou!D628=\"\",\"\",syoriyou!D628)","v":""},{"$f":"IF(syoriyou!E628=\"\",\"\",syoriyou!E628)","v":""},{"$f":"IF(syoriyou!F628=\"\",\"\",syoriyou!F628)","v":""},{"$f":"IF(syoriyou!G628=\"\",\"\",syoriyou!G628)","v":""},{"$f":"IF(syoriyou!H628=\"\",\"\",syoriyou!H628)","v":""},{"$f":"IF(syoriyou!I628=\"\",\"\",syoriyou!I628)","v":""},{"$f":"IF(syoriyou!J628=\"\",\"\",syoriyou!N628)","v":""}]
[{"$f":"IF(syoriyou!A629=\"\",\"\",syoriyou!A629)","v":""},{"$f":"IF(syoriyou!B629=\"\",\"\",syoriyou!B629)","v":""},{"$f":"IF(syoriyou!C629=\"\",\"\",syoriyou!C629)","v":""},{"$f":"IF(syoriyou!D629=\"\",\"\",syoriyou!D629)","v":""},{"$f":"IF(syoriyou!E629=\"\",\"\",syoriyou!E629)","v":""},{"$f":"IF(syoriyou!F629=\"\",\"\",syoriyou!F629)","v":""},{"$f":"IF(syoriyou!G629=\"\",\"\",syoriyou!G629)","v":""},{"$f":"IF(syoriyou!H629=\"\",\"\",syoriyou!H629)","v":""},{"$f":"IF(syoriyou!I629=\"\",\"\",syoriyou!I629)","v":""},{"$f":"IF(syoriyou!J629=\"\",\"\",syoriyou!N629)","v":""}]
[{"$f":"IF(syoriyou!A630=\"\",\"\",syoriyou!A630)","v":""},{"$f":"IF(syoriyou!B630=\"\",\"\",syoriyou!B630)","v":""},{"$f":"IF(syoriyou!C630=\"\",\"\",syoriyou!C630)","v":""},{"$f":"IF(syoriyou!D630=\"\",\"\",syoriyou!D630)","v":""},{"$f":"IF(syoriyou!E630=\"\",\"\",syoriyou!E630)","v":""},{"$f":"IF(syoriyou!F630=\"\",\"\",syoriyou!F630)","v":""},{"$f":"IF(syoriyou!G630=\"\",\"\",syoriyou!G630)","v":""},{"$f":"IF(syoriyou!H630=\"\",\"\",syoriyou!H630)","v":""},{"$f":"IF(syoriyou!I630=\"\",\"\",syoriyou!I630)","v":""},{"$f":"IF(syoriyou!J630=\"\",\"\",syoriyou!N630)","v":""}]
[{"$f":"IF(syoriyou!A631=\"\",\"\",syoriyou!A631)","v":""},{"$f":"IF(syoriyou!B631=\"\",\"\",syoriyou!B631)","v":""},{"$f":"IF(syoriyou!C631=\"\",\"\",syoriyou!C631)","v":""},{"$f":"IF(syoriyou!D631=\"\",\"\",syoriyou!D631)","v":""},{"$f":"IF(syoriyou!E631=\"\",\"\",syoriyou!E631)","v":""},{"$f":"IF(syoriyou!F631=\"\",\"\",syoriyou!F631)","v":""},{"$f":"IF(syoriyou!G631=\"\",\"\",syoriyou!G631)","v":""},{"$f":"IF(syoriyou!H631=\"\",\"\",syoriyou!H631)","v":""},{"$f":"IF(syoriyou!I631=\"\",\"\",syoriyou!I631)","v":""},{"$f":"IF(syoriyou!J631=\"\",\"\",syoriyou!N631)","v":""}]
[{"$f":"IF(syoriyou!A632=\"\",\"\",syoriyou!A632)","v":""},{"$f":"IF(syoriyou!B632=\"\",\"\",syoriyou!B632)","v":""},{"$f":"IF(syoriyou!C632=\"\",\"\",syoriyou!C632)","v":""},{"$f":"IF(syoriyou!D632=\"\",\"\",syoriyou!D632)","v":""},{"$f":"IF(syoriyou!E632=\"\",\"\",syoriyou!E632)","v":""},{"$f":"IF(syoriyou!F632=\"\",\"\",syoriyou!F632)","v":""},{"$f":"IF(syoriyou!G632=\"\",\"\",syoriyou!G632)","v":""},{"$f":"IF(syoriyou!H632=\"\",\"\",syoriyou!H632)","v":""},{"$f":"IF(syoriyou!I632=\"\",\"\",syoriyou!I632)","v":""},{"$f":"IF(syoriyou!J632=\"\",\"\",syoriyou!N632)","v":""}]
[{"$f":"IF(syoriyou!A633=\"\",\"\",syoriyou!A633)","v":""},{"$f":"IF(syoriyou!B633=\"\",\"\",syoriyou!B633)","v":""},{"$f":"IF(syoriyou!C633=\"\",\"\",syoriyou!C633)","v":""},{"$f":"IF(syoriyou!D633=\"\",\"\",syoriyou!D633)","v":""},{"$f":"IF(syoriyou!E633=\"\",\"\",syoriyou!E633)","v":""},{"$f":"IF(syoriyou!F633=\"\",\"\",syoriyou!F633)","v":""},{"$f":"IF(syoriyou!G633=\"\",\"\",syoriyou!G633)","v":""},{"$f":"IF(syoriyou!H633=\"\",\"\",syoriyou!H633)","v":""},{"$f":"IF(syoriyou!I633=\"\",\"\",syoriyou!I633)","v":""},{"$f":"IF(syoriyou!J633=\"\",\"\",syoriyou!N633)","v":""}]
[{"$f":"IF(syoriyou!A634=\"\",\"\",syoriyou!A634)","v":""},{"$f":"IF(syoriyou!B634=\"\",\"\",syoriyou!B634)","v":""},{"$f":"IF(syoriyou!C634=\"\",\"\",syoriyou!C634)","v":""},{"$f":"IF(syoriyou!D634=\"\",\"\",syoriyou!D634)","v":""},{"$f":"IF(syoriyou!E634=\"\",\"\",syoriyou!E634)","v":""},{"$f":"IF(syoriyou!F634=\"\",\"\",syoriyou!F634)","v":""},{"$f":"IF(syoriyou!G634=\"\",\"\",syoriyou!G634)","v":""},{"$f":"IF(syoriyou!H634=\"\",\"\",syoriyou!H634)","v":""},{"$f":"IF(syoriyou!I634=\"\",\"\",syoriyou!I634)","v":""},{"$f":"IF(syoriyou!J634=\"\",\"\",syoriyou!N634)","v":""}]
[{"$f":"IF(syoriyou!A635=\"\",\"\",syoriyou!A635)","v":""},{"$f":"IF(syoriyou!B635=\"\",\"\",syoriyou!B635)","v":""},{"$f":"IF(syoriyou!C635=\"\",\"\",syoriyou!C635)","v":""},{"$f":"IF(syoriyou!D635=\"\",\"\",syoriyou!D635)","v":""},{"$f":"IF(syoriyou!E635=\"\",\"\",syoriyou!E635)","v":""},{"$f":"IF(syoriyou!F635=\"\",\"\",syoriyou!F635)","v":""},{"$f":"IF(syoriyou!G635=\"\",\"\",syoriyou!G635)","v":""},{"$f":"IF(syoriyou!H635=\"\",\"\",syoriyou!H635)","v":""},{"$f":"IF(syoriyou!I635=\"\",\"\",syoriyou!I635)","v":""},{"$f":"IF(syoriyou!J635=\"\",\"\",syoriyou!N635)","v":""}]
[{"$f":"IF(syoriyou!A636=\"\",\"\",syoriyou!A636)","v":""},{"$f":"IF(syoriyou!B636=\"\",\"\",syoriyou!B636)","v":""},{"$f":"IF(syoriyou!C636=\"\",\"\",syoriyou!C636)","v":""},{"$f":"IF(syoriyou!D636=\"\",\"\",syoriyou!D636)","v":""},{"$f":"IF(syoriyou!E636=\"\",\"\",syoriyou!E636)","v":""},{"$f":"IF(syoriyou!F636=\"\",\"\",syoriyou!F636)","v":""},{"$f":"IF(syoriyou!G636=\"\",\"\",syoriyou!G636)","v":""},{"$f":"IF(syoriyou!H636=\"\",\"\",syoriyou!H636)","v":""},{"$f":"IF(syoriyou!I636=\"\",\"\",syoriyou!I636)","v":""},{"$f":"IF(syoriyou!J636=\"\",\"\",syoriyou!N636)","v":""}]
[{"$f":"IF(syoriyou!A637=\"\",\"\",syoriyou!A637)","v":""},{"$f":"IF(syoriyou!B637=\"\",\"\",syoriyou!B637)","v":""},{"$f":"IF(syoriyou!C637=\"\",\"\",syoriyou!C637)","v":""},{"$f":"IF(syoriyou!D637=\"\",\"\",syoriyou!D637)","v":""},{"$f":"IF(syoriyou!E637=\"\",\"\",syoriyou!E637)","v":""},{"$f":"IF(syoriyou!F637=\"\",\"\",syoriyou!F637)","v":""},{"$f":"IF(syoriyou!G637=\"\",\"\",syoriyou!G637)","v":""},{"$f":"IF(syoriyou!H637=\"\",\"\",syoriyou!H637)","v":""},{"$f":"IF(syoriyou!I637=\"\",\"\",syoriyou!I637)","v":""},{"$f":"IF(syoriyou!J637=\"\",\"\",syoriyou!N637)","v":""}]
[{"$f":"IF(syoriyou!A638=\"\",\"\",syoriyou!A638)","v":""},{"$f":"IF(syoriyou!B638=\"\",\"\",syoriyou!B638)","v":""},{"$f":"IF(syoriyou!C638=\"\",\"\",syoriyou!C638)","v":""},{"$f":"IF(syoriyou!D638=\"\",\"\",syoriyou!D638)","v":""},{"$f":"IF(syoriyou!E638=\"\",\"\",syoriyou!E638)","v":""},{"$f":"IF(syoriyou!F638=\"\",\"\",syoriyou!F638)","v":""},{"$f":"IF(syoriyou!G638=\"\",\"\",syoriyou!G638)","v":""},{"$f":"IF(syoriyou!H638=\"\",\"\",syoriyou!H638)","v":""},{"$f":"IF(syoriyou!I638=\"\",\"\",syoriyou!I638)","v":""},{"$f":"IF(syoriyou!J638=\"\",\"\",syoriyou!N638)","v":""}]
[{"$f":"IF(syoriyou!A639=\"\",\"\",syoriyou!A639)","v":""},{"$f":"IF(syoriyou!B639=\"\",\"\",syoriyou!B639)","v":""},{"$f":"IF(syoriyou!C639=\"\",\"\",syoriyou!C639)","v":""},{"$f":"IF(syoriyou!D639=\"\",\"\",syoriyou!D639)","v":""},{"$f":"IF(syoriyou!E639=\"\",\"\",syoriyou!E639)","v":""},{"$f":"IF(syoriyou!F639=\"\",\"\",syoriyou!F639)","v":""},{"$f":"IF(syoriyou!G639=\"\",\"\",syoriyou!G639)","v":""},{"$f":"IF(syoriyou!H639=\"\",\"\",syoriyou!H639)","v":""},{"$f":"IF(syoriyou!I639=\"\",\"\",syoriyou!I639)","v":""},{"$f":"IF(syoriyou!J639=\"\",\"\",syoriyou!N639)","v":""}]
[{"$f":"IF(syoriyou!A640=\"\",\"\",syoriyou!A640)","v":""},{"$f":"IF(syoriyou!B640=\"\",\"\",syoriyou!B640)","v":""},{"$f":"IF(syoriyou!C640=\"\",\"\",syoriyou!C640)","v":""},{"$f":"IF(syoriyou!D640=\"\",\"\",syoriyou!D640)","v":""},{"$f":"IF(syoriyou!E640=\"\",\"\",syoriyou!E640)","v":""},{"$f":"IF(syoriyou!F640=\"\",\"\",syoriyou!F640)","v":""},{"$f":"IF(syoriyou!G640=\"\",\"\",syoriyou!G640)","v":""},{"$f":"IF(syoriyou!H640=\"\",\"\",syoriyou!H640)","v":""},{"$f":"IF(syoriyou!I640=\"\",\"\",syoriyou!I640)","v":""},{"$f":"IF(syoriyou!J640=\"\",\"\",syoriyou!N640)","v":""}]
[{"$f":"IF(syoriyou!A641=\"\",\"\",syoriyou!A641)","v":""},{"$f":"IF(syoriyou!B641=\"\",\"\",syoriyou!B641)","v":""},{"$f":"IF(syoriyou!C641=\"\",\"\",syoriyou!C641)","v":""},{"$f":"IF(syoriyou!D641=\"\",\"\",syoriyou!D641)","v":""},{"$f":"IF(syoriyou!E641=\"\",\"\",syoriyou!E641)","v":""},{"$f":"IF(syoriyou!F641=\"\",\"\",syoriyou!F641)","v":""},{"$f":"IF(syoriyou!G641=\"\",\"\",syoriyou!G641)","v":""},{"$f":"IF(syoriyou!H641=\"\",\"\",syoriyou!H641)","v":""},{"$f":"IF(syoriyou!I641=\"\",\"\",syoriyou!I641)","v":""},{"$f":"IF(syoriyou!J641=\"\",\"\",syoriyou!N641)","v":""}]
[{"$f":"IF(syoriyou!A642=\"\",\"\",syoriyou!A642)","v":""},{"$f":"IF(syoriyou!B642=\"\",\"\",syoriyou!B642)","v":""},{"$f":"IF(syoriyou!C642=\"\",\"\",syoriyou!C642)","v":""},{"$f":"IF(syoriyou!D642=\"\",\"\",syoriyou!D642)","v":""},{"$f":"IF(syoriyou!E642=\"\",\"\",syoriyou!E642)","v":""},{"$f":"IF(syoriyou!F642=\"\",\"\",syoriyou!F642)","v":""},{"$f":"IF(syoriyou!G642=\"\",\"\",syoriyou!G642)","v":""},{"$f":"IF(syoriyou!H642=\"\",\"\",syoriyou!H642)","v":""},{"$f":"IF(syoriyou!I642=\"\",\"\",syoriyou!I642)","v":""},{"$f":"IF(syoriyou!J642=\"\",\"\",syoriyou!N642)","v":""}]
[{"$f":"IF(syoriyou!A643=\"\",\"\",syoriyou!A643)","v":""},{"$f":"IF(syoriyou!B643=\"\",\"\",syoriyou!B643)","v":""},{"$f":"IF(syoriyou!C643=\"\",\"\",syoriyou!C643)","v":""},{"$f":"IF(syoriyou!D643=\"\",\"\",syoriyou!D643)","v":""},{"$f":"IF(syoriyou!E643=\"\",\"\",syoriyou!E643)","v":""},{"$f":"IF(syoriyou!F643=\"\",\"\",syoriyou!F643)","v":""},{"$f":"IF(syoriyou!G643=\"\",\"\",syoriyou!G643)","v":""},{"$f":"IF(syoriyou!H643=\"\",\"\",syoriyou!H643)","v":""},{"$f":"IF(syoriyou!I643=\"\",\"\",syoriyou!I643)","v":""},{"$f":"IF(syoriyou!J643=\"\",\"\",syoriyou!N643)","v":""}]
[{"$f":"IF(syoriyou!A644=\"\",\"\",syoriyou!A644)","v":""},{"$f":"IF(syoriyou!B644=\"\",\"\",syoriyou!B644)","v":""},{"$f":"IF(syoriyou!C644=\"\",\"\",syoriyou!C644)","v":""},{"$f":"IF(syoriyou!D644=\"\",\"\",syoriyou!D644)","v":""},{"$f":"IF(syoriyou!E644=\"\",\"\",syoriyou!E644)","v":""},{"$f":"IF(syoriyou!F644=\"\",\"\",syoriyou!F644)","v":""},{"$f":"IF(syoriyou!G644=\"\",\"\",syoriyou!G644)","v":""},{"$f":"IF(syoriyou!H644=\"\",\"\",syoriyou!H644)","v":""},{"$f":"IF(syoriyou!I644=\"\",\"\",syoriyou!I644)","v":""},{"$f":"IF(syoriyou!J644=\"\",\"\",syoriyou!N644)","v":""}]
[{"$f":"IF(syoriyou!A645=\"\",\"\",syoriyou!A645)","v":""},{"$f":"IF(syoriyou!B645=\"\",\"\",syoriyou!B645)","v":""},{"$f":"IF(syoriyou!C645=\"\",\"\",syoriyou!C645)","v":""},{"$f":"IF(syoriyou!D645=\"\",\"\",syoriyou!D645)","v":""},{"$f":"IF(syoriyou!E645=\"\",\"\",syoriyou!E645)","v":""},{"$f":"IF(syoriyou!F645=\"\",\"\",syoriyou!F645)","v":""},{"$f":"IF(syoriyou!G645=\"\",\"\",syoriyou!G645)","v":""},{"$f":"IF(syoriyou!H645=\"\",\"\",syoriyou!H645)","v":""},{"$f":"IF(syoriyou!I645=\"\",\"\",syoriyou!I645)","v":""},{"$f":"IF(syoriyou!J645=\"\",\"\",syoriyou!N645)","v":""}]
[{"$f":"IF(syoriyou!A646=\"\",\"\",syoriyou!A646)","v":""},{"$f":"IF(syoriyou!B646=\"\",\"\",syoriyou!B646)","v":""},{"$f":"IF(syoriyou!C646=\"\",\"\",syoriyou!C646)","v":""},{"$f":"IF(syoriyou!D646=\"\",\"\",syoriyou!D646)","v":""},{"$f":"IF(syoriyou!E646=\"\",\"\",syoriyou!E646)","v":""},{"$f":"IF(syoriyou!F646=\"\",\"\",syoriyou!F646)","v":""},{"$f":"IF(syoriyou!G646=\"\",\"\",syoriyou!G646)","v":""},{"$f":"IF(syoriyou!H646=\"\",\"\",syoriyou!H646)","v":""},{"$f":"IF(syoriyou!I646=\"\",\"\",syoriyou!I646)","v":""},{"$f":"IF(syoriyou!J646=\"\",\"\",syoriyou!N646)","v":""}]
[{"$f":"IF(syoriyou!A647=\"\",\"\",syoriyou!A647)","v":""},{"$f":"IF(syoriyou!B647=\"\",\"\",syoriyou!B647)","v":""},{"$f":"IF(syoriyou!C647=\"\",\"\",syoriyou!C647)","v":""},{"$f":"IF(syoriyou!D647=\"\",\"\",syoriyou!D647)","v":""},{"$f":"IF(syoriyou!E647=\"\",\"\",syoriyou!E647)","v":""},{"$f":"IF(syoriyou!F647=\"\",\"\",syoriyou!F647)","v":""},{"$f":"IF(syoriyou!G647=\"\",\"\",syoriyou!G647)","v":""},{"$f":"IF(syoriyou!H647=\"\",\"\",syoriyou!H647)","v":""},{"$f":"IF(syoriyou!I647=\"\",\"\",syoriyou!I647)","v":""},{"$f":"IF(syoriyou!J647=\"\",\"\",syoriyou!N647)","v":""}]
[{"$f":"IF(syoriyou!A648=\"\",\"\",syoriyou!A648)","v":""},{"$f":"IF(syoriyou!B648=\"\",\"\",syoriyou!B648)","v":""},{"$f":"IF(syoriyou!C648=\"\",\"\",syoriyou!C648)","v":""},{"$f":"IF(syoriyou!D648=\"\",\"\",syoriyou!D648)","v":""},{"$f":"IF(syoriyou!E648=\"\",\"\",syoriyou!E648)","v":""},{"$f":"IF(syoriyou!F648=\"\",\"\",syoriyou!F648)","v":""},{"$f":"IF(syoriyou!G648=\"\",\"\",syoriyou!G648)","v":""},{"$f":"IF(syoriyou!H648=\"\",\"\",syoriyou!H648)","v":""},{"$f":"IF(syoriyou!I648=\"\",\"\",syoriyou!I648)","v":""},{"$f":"IF(syoriyou!J648=\"\",\"\",syoriyou!N648)","v":""}]
[{"$f":"IF(syoriyou!A649=\"\",\"\",syoriyou!A649)","v":""},{"$f":"IF(syoriyou!B649=\"\",\"\",syoriyou!B649)","v":""},{"$f":"IF(syoriyou!C649=\"\",\"\",syoriyou!C649)","v":""},{"$f":"IF(syoriyou!D649=\"\",\"\",syoriyou!D649)","v":""},{"$f":"IF(syoriyou!E649=\"\",\"\",syoriyou!E649)","v":""},{"$f":"IF(syoriyou!F649=\"\",\"\",syoriyou!F649)","v":""},{"$f":"IF(syoriyou!G649=\"\",\"\",syoriyou!G649)","v":""},{"$f":"IF(syoriyou!H649=\"\",\"\",syoriyou!H649)","v":""},{"$f":"IF(syoriyou!I649=\"\",\"\",syoriyou!I649)","v":""},{"$f":"IF(syoriyou!J649=\"\",\"\",syoriyou!N649)","v":""}]
[{"$f":"IF(syoriyou!A650=\"\",\"\",syoriyou!A650)","v":""},{"$f":"IF(syoriyou!B650=\"\",\"\",syoriyou!B650)","v":""},{"$f":"IF(syoriyou!C650=\"\",\"\",syoriyou!C650)","v":""},{"$f":"IF(syoriyou!D650=\"\",\"\",syoriyou!D650)","v":""},{"$f":"IF(syoriyou!E650=\"\",\"\",syoriyou!E650)","v":""},{"$f":"IF(syoriyou!F650=\"\",\"\",syoriyou!F650)","v":""},{"$f":"IF(syoriyou!G650=\"\",\"\",syoriyou!G650)","v":""},{"$f":"IF(syoriyou!H650=\"\",\"\",syoriyou!H650)","v":""},{"$f":"IF(syoriyou!I650=\"\",\"\",syoriyou!I650)","v":""},{"$f":"IF(syoriyou!J650=\"\",\"\",syoriyou!N650)","v":""}]
[{"$f":"IF(syoriyou!A651=\"\",\"\",syoriyou!A651)","v":""},{"$f":"IF(syoriyou!B651=\"\",\"\",syoriyou!B651)","v":""},{"$f":"IF(syoriyou!C651=\"\",\"\",syoriyou!C651)","v":""},{"$f":"IF(syoriyou!D651=\"\",\"\",syoriyou!D651)","v":""},{"$f":"IF(syoriyou!E651=\"\",\"\",syoriyou!E651)","v":""},{"$f":"IF(syoriyou!F651=\"\",\"\",syoriyou!F651)","v":""},{"$f":"IF(syoriyou!G651=\"\",\"\",syoriyou!G651)","v":""},{"$f":"IF(syoriyou!H651=\"\",\"\",syoriyou!H651)","v":""},{"$f":"IF(syoriyou!I651=\"\",\"\",syoriyou!I651)","v":""},{"$f":"IF(syoriyou!J651=\"\",\"\",syoriyou!N651)","v":""}]
[{"$f":"IF(syoriyou!A652=\"\",\"\",syoriyou!A652)","v":""},{"$f":"IF(syoriyou!B652=\"\",\"\",syoriyou!B652)","v":""},{"$f":"IF(syoriyou!C652=\"\",\"\",syoriyou!C652)","v":""},{"$f":"IF(syoriyou!D652=\"\",\"\",syoriyou!D652)","v":""},{"$f":"IF(syoriyou!E652=\"\",\"\",syoriyou!E652)","v":""},{"$f":"IF(syoriyou!F652=\"\",\"\",syoriyou!F652)","v":""},{"$f":"IF(syoriyou!G652=\"\",\"\",syoriyou!G652)","v":""},{"$f":"IF(syoriyou!H652=\"\",\"\",syoriyou!H652)","v":""},{"$f":"IF(syoriyou!I652=\"\",\"\",syoriyou!I652)","v":""},{"$f":"IF(syoriyou!J652=\"\",\"\",syoriyou!N652)","v":""}]
[{"$f":"IF(syoriyou!A653=\"\",\"\",syoriyou!A653)","v":""},{"$f":"IF(syoriyou!B653=\"\",\"\",syoriyou!B653)","v":""},{"$f":"IF(syoriyou!C653=\"\",\"\",syoriyou!C653)","v":""},{"$f":"IF(syoriyou!D653=\"\",\"\",syoriyou!D653)","v":""},{"$f":"IF(syoriyou!E653=\"\",\"\",syoriyou!E653)","v":""},{"$f":"IF(syoriyou!F653=\"\",\"\",syoriyou!F653)","v":""},{"$f":"IF(syoriyou!G653=\"\",\"\",syoriyou!G653)","v":""},{"$f":"IF(syoriyou!H653=\"\",\"\",syoriyou!H653)","v":""},{"$f":"IF(syoriyou!I653=\"\",\"\",syoriyou!I653)","v":""},{"$f":"IF(syoriyou!J653=\"\",\"\",syoriyou!N653)","v":""}]
[{"$f":"IF(syoriyou!A654=\"\",\"\",syoriyou!A654)","v":""},{"$f":"IF(syoriyou!B654=\"\",\"\",syoriyou!B654)","v":""},{"$f":"IF(syoriyou!C654=\"\",\"\",syoriyou!C654)","v":""},{"$f":"IF(syoriyou!D654=\"\",\"\",syoriyou!D654)","v":""},{"$f":"IF(syoriyou!E654=\"\",\"\",syoriyou!E654)","v":""},{"$f":"IF(syoriyou!F654=\"\",\"\",syoriyou!F654)","v":""},{"$f":"IF(syoriyou!G654=\"\",\"\",syoriyou!G654)","v":""},{"$f":"IF(syoriyou!H654=\"\",\"\",syoriyou!H654)","v":""},{"$f":"IF(syoriyou!I654=\"\",\"\",syoriyou!I654)","v":""},{"$f":"IF(syoriyou!J654=\"\",\"\",syoriyou!N654)","v":""}]
[{"$f":"IF(syoriyou!A655=\"\",\"\",syoriyou!A655)","v":""},{"$f":"IF(syoriyou!B655=\"\",\"\",syoriyou!B655)","v":""},{"$f":"IF(syoriyou!C655=\"\",\"\",syoriyou!C655)","v":""},{"$f":"IF(syoriyou!D655=\"\",\"\",syoriyou!D655)","v":""},{"$f":"IF(syoriyou!E655=\"\",\"\",syoriyou!E655)","v":""},{"$f":"IF(syoriyou!F655=\"\",\"\",syoriyou!F655)","v":""},{"$f":"IF(syoriyou!G655=\"\",\"\",syoriyou!G655)","v":""},{"$f":"IF(syoriyou!H655=\"\",\"\",syoriyou!H655)","v":""},{"$f":"IF(syoriyou!I655=\"\",\"\",syoriyou!I655)","v":""},{"$f":"IF(syoriyou!J655=\"\",\"\",syoriyou!N655)","v":""}]
[{"$f":"IF(syoriyou!A656=\"\",\"\",syoriyou!A656)","v":""},{"$f":"IF(syoriyou!B656=\"\",\"\",syoriyou!B656)","v":""},{"$f":"IF(syoriyou!C656=\"\",\"\",syoriyou!C656)","v":""},{"$f":"IF(syoriyou!D656=\"\",\"\",syoriyou!D656)","v":""},{"$f":"IF(syoriyou!E656=\"\",\"\",syoriyou!E656)","v":""},{"$f":"IF(syoriyou!F656=\"\",\"\",syoriyou!F656)","v":""},{"$f":"IF(syoriyou!G656=\"\",\"\",syoriyou!G656)","v":""},{"$f":"IF(syoriyou!H656=\"\",\"\",syoriyou!H656)","v":""},{"$f":"IF(syoriyou!I656=\"\",\"\",syoriyou!I656)","v":""},{"$f":"IF(syoriyou!J656=\"\",\"\",syoriyou!N656)","v":""}]
[{"$f":"IF(syoriyou!A657=\"\",\"\",syoriyou!A657)","v":""},{"$f":"IF(syoriyou!B657=\"\",\"\",syoriyou!B657)","v":""},{"$f":"IF(syoriyou!C657=\"\",\"\",syoriyou!C657)","v":""},{"$f":"IF(syoriyou!D657=\"\",\"\",syoriyou!D657)","v":""},{"$f":"IF(syoriyou!E657=\"\",\"\",syoriyou!E657)","v":""},{"$f":"IF(syoriyou!F657=\"\",\"\",syoriyou!F657)","v":""},{"$f":"IF(syoriyou!G657=\"\",\"\",syoriyou!G657)","v":""},{"$f":"IF(syoriyou!H657=\"\",\"\",syoriyou!H657)","v":""},{"$f":"IF(syoriyou!I657=\"\",\"\",syoriyou!I657)","v":""},{"$f":"IF(syoriyou!J657=\"\",\"\",syoriyou!N657)","v":""}]
[{"$f":"IF(syoriyou!A658=\"\",\"\",syoriyou!A658)","v":""},{"$f":"IF(syoriyou!B658=\"\",\"\",syoriyou!B658)","v":""},{"$f":"IF(syoriyou!C658=\"\",\"\",syoriyou!C658)","v":""},{"$f":"IF(syoriyou!D658=\"\",\"\",syoriyou!D658)","v":""},{"$f":"IF(syoriyou!E658=\"\",\"\",syoriyou!E658)","v":""},{"$f":"IF(syoriyou!F658=\"\",\"\",syoriyou!F658)","v":""},{"$f":"IF(syoriyou!G658=\"\",\"\",syoriyou!G658)","v":""},{"$f":"IF(syoriyou!H658=\"\",\"\",syoriyou!H658)","v":""},{"$f":"IF(syoriyou!I658=\"\",\"\",syoriyou!I658)","v":""},{"$f":"IF(syoriyou!J658=\"\",\"\",syoriyou!N658)","v":""}]
[{"$f":"IF(syoriyou!A659=\"\",\"\",syoriyou!A659)","v":""},{"$f":"IF(syoriyou!B659=\"\",\"\",syoriyou!B659)","v":""},{"$f":"IF(syoriyou!C659=\"\",\"\",syoriyou!C659)","v":""},{"$f":"IF(syoriyou!D659=\"\",\"\",syoriyou!D659)","v":""},{"$f":"IF(syoriyou!E659=\"\",\"\",syoriyou!E659)","v":""},{"$f":"IF(syoriyou!F659=\"\",\"\",syoriyou!F659)","v":""},{"$f":"IF(syoriyou!G659=\"\",\"\",syoriyou!G659)","v":""},{"$f":"IF(syoriyou!H659=\"\",\"\",syoriyou!H659)","v":""},{"$f":"IF(syoriyou!I659=\"\",\"\",syoriyou!I659)","v":""},{"$f":"IF(syoriyou!J659=\"\",\"\",syoriyou!N659)","v":""}]
[{"$f":"IF(syoriyou!A660=\"\",\"\",syoriyou!A660)","v":""},{"$f":"IF(syoriyou!B660=\"\",\"\",syoriyou!B660)","v":""},{"$f":"IF(syoriyou!C660=\"\",\"\",syoriyou!C660)","v":""},{"$f":"IF(syoriyou!D660=\"\",\"\",syoriyou!D660)","v":""},{"$f":"IF(syoriyou!E660=\"\",\"\",syoriyou!E660)","v":""},{"$f":"IF(syoriyou!F660=\"\",\"\",syoriyou!F660)","v":""},{"$f":"IF(syoriyou!G660=\"\",\"\",syoriyou!G660)","v":""},{"$f":"IF(syoriyou!H660=\"\",\"\",syoriyou!H660)","v":""},{"$f":"IF(syoriyou!I660=\"\",\"\",syoriyou!I660)","v":""},{"$f":"IF(syoriyou!J660=\"\",\"\",syoriyou!N660)","v":""}]
[{"$f":"IF(syoriyou!A661=\"\",\"\",syoriyou!A661)","v":""},{"$f":"IF(syoriyou!B661=\"\",\"\",syoriyou!B661)","v":""},{"$f":"IF(syoriyou!C661=\"\",\"\",syoriyou!C661)","v":""},{"$f":"IF(syoriyou!D661=\"\",\"\",syoriyou!D661)","v":""},{"$f":"IF(syoriyou!E661=\"\",\"\",syoriyou!E661)","v":""},{"$f":"IF(syoriyou!F661=\"\",\"\",syoriyou!F661)","v":""},{"$f":"IF(syoriyou!G661=\"\",\"\",syoriyou!G661)","v":""},{"$f":"IF(syoriyou!H661=\"\",\"\",syoriyou!H661)","v":""},{"$f":"IF(syoriyou!I661=\"\",\"\",syoriyou!I661)","v":""},{"$f":"IF(syoriyou!J661=\"\",\"\",syoriyou!N661)","v":""}]
[{"$f":"IF(syoriyou!A662=\"\",\"\",syoriyou!A662)","v":""},{"$f":"IF(syoriyou!B662=\"\",\"\",syoriyou!B662)","v":""},{"$f":"IF(syoriyou!C662=\"\",\"\",syoriyou!C662)","v":""},{"$f":"IF(syoriyou!D662=\"\",\"\",syoriyou!D662)","v":""},{"$f":"IF(syoriyou!E662=\"\",\"\",syoriyou!E662)","v":""},{"$f":"IF(syoriyou!F662=\"\",\"\",syoriyou!F662)","v":""},{"$f":"IF(syoriyou!G662=\"\",\"\",syoriyou!G662)","v":""},{"$f":"IF(syoriyou!H662=\"\",\"\",syoriyou!H662)","v":""},{"$f":"IF(syoriyou!I662=\"\",\"\",syoriyou!I662)","v":""},{"$f":"IF(syoriyou!J662=\"\",\"\",syoriyou!N662)","v":""}]
[{"$f":"IF(syoriyou!A663=\"\",\"\",syoriyou!A663)","v":""},{"$f":"IF(syoriyou!B663=\"\",\"\",syoriyou!B663)","v":""},{"$f":"IF(syoriyou!C663=\"\",\"\",syoriyou!C663)","v":""},{"$f":"IF(syoriyou!D663=\"\",\"\",syoriyou!D663)","v":""},{"$f":"IF(syoriyou!E663=\"\",\"\",syoriyou!E663)","v":""},{"$f":"IF(syoriyou!F663=\"\",\"\",syoriyou!F663)","v":""},{"$f":"IF(syoriyou!G663=\"\",\"\",syoriyou!G663)","v":""},{"$f":"IF(syoriyou!H663=\"\",\"\",syoriyou!H663)","v":""},{"$f":"IF(syoriyou!I663=\"\",\"\",syoriyou!I663)","v":""},{"$f":"IF(syoriyou!J663=\"\",\"\",syoriyou!N663)","v":""}]
[{"$f":"IF(syoriyou!A664=\"\",\"\",syoriyou!A664)","v":""},{"$f":"IF(syoriyou!B664=\"\",\"\",syoriyou!B664)","v":""},{"$f":"IF(syoriyou!C664=\"\",\"\",syoriyou!C664)","v":""},{"$f":"IF(syoriyou!D664=\"\",\"\",syoriyou!D664)","v":""},{"$f":"IF(syoriyou!E664=\"\",\"\",syoriyou!E664)","v":""},{"$f":"IF(syoriyou!F664=\"\",\"\",syoriyou!F664)","v":""},{"$f":"IF(syoriyou!G664=\"\",\"\",syoriyou!G664)","v":""},{"$f":"IF(syoriyou!H664=\"\",\"\",syoriyou!H664)","v":""},{"$f":"IF(syoriyou!I664=\"\",\"\",syoriyou!I664)","v":""},{"$f":"IF(syoriyou!J664=\"\",\"\",syoriyou!N664)","v":""}]
[{"$f":"IF(syoriyou!A665=\"\",\"\",syoriyou!A665)","v":""},{"$f":"IF(syoriyou!B665=\"\",\"\",syoriyou!B665)","v":""},{"$f":"IF(syoriyou!C665=\"\",\"\",syoriyou!C665)","v":""},{"$f":"IF(syoriyou!D665=\"\",\"\",syoriyou!D665)","v":""},{"$f":"IF(syoriyou!E665=\"\",\"\",syoriyou!E665)","v":""},{"$f":"IF(syoriyou!F665=\"\",\"\",syoriyou!F665)","v":""},{"$f":"IF(syoriyou!G665=\"\",\"\",syoriyou!G665)","v":""},{"$f":"IF(syoriyou!H665=\"\",\"\",syoriyou!H665)","v":""},{"$f":"IF(syoriyou!I665=\"\",\"\",syoriyou!I665)","v":""},{"$f":"IF(syoriyou!J665=\"\",\"\",syoriyou!N665)","v":""}]
[{"$f":"IF(syoriyou!A666=\"\",\"\",syoriyou!A666)","v":""},{"$f":"IF(syoriyou!B666=\"\",\"\",syoriyou!B666)","v":""},{"$f":"IF(syoriyou!C666=\"\",\"\",syoriyou!C666)","v":""},{"$f":"IF(syoriyou!D666=\"\",\"\",syoriyou!D666)","v":""},{"$f":"IF(syoriyou!E666=\"\",\"\",syoriyou!E666)","v":""},{"$f":"IF(syoriyou!F666=\"\",\"\",syoriyou!F666)","v":""},{"$f":"IF(syoriyou!G666=\"\",\"\",syoriyou!G666)","v":""},{"$f":"IF(syoriyou!H666=\"\",\"\",syoriyou!H666)","v":""},{"$f":"IF(syoriyou!I666=\"\",\"\",syoriyou!I666)","v":""},{"$f":"IF(syoriyou!J666=\"\",\"\",syoriyou!N666)","v":""}]
[{"$f":"IF(syoriyou!A667=\"\",\"\",syoriyou!A667)","v":""},{"$f":"IF(syoriyou!B667=\"\",\"\",syoriyou!B667)","v":""},{"$f":"IF(syoriyou!C667=\"\",\"\",syoriyou!C667)","v":""},{"$f":"IF(syoriyou!D667=\"\",\"\",syoriyou!D667)","v":""},{"$f":"IF(syoriyou!E667=\"\",\"\",syoriyou!E667)","v":""},{"$f":"IF(syoriyou!F667=\"\",\"\",syoriyou!F667)","v":""},{"$f":"IF(syoriyou!G667=\"\",\"\",syoriyou!G667)","v":""},{"$f":"IF(syoriyou!H667=\"\",\"\",syoriyou!H667)","v":""},{"$f":"IF(syoriyou!I667=\"\",\"\",syoriyou!I667)","v":""},{"$f":"IF(syoriyou!J667=\"\",\"\",syoriyou!N667)","v":""}]
[{"$f":"IF(syoriyou!A668=\"\",\"\",syoriyou!A668)","v":""},{"$f":"IF(syoriyou!B668=\"\",\"\",syoriyou!B668)","v":""},{"$f":"IF(syoriyou!C668=\"\",\"\",syoriyou!C668)","v":""},{"$f":"IF(syoriyou!D668=\"\",\"\",syoriyou!D668)","v":""},{"$f":"IF(syoriyou!E668=\"\",\"\",syoriyou!E668)","v":""},{"$f":"IF(syoriyou!F668=\"\",\"\",syoriyou!F668)","v":""},{"$f":"IF(syoriyou!G668=\"\",\"\",syoriyou!G668)","v":""},{"$f":"IF(syoriyou!H668=\"\",\"\",syoriyou!H668)","v":""},{"$f":"IF(syoriyou!I668=\"\",\"\",syoriyou!I668)","v":""},{"$f":"IF(syoriyou!J668=\"\",\"\",syoriyou!N668)","v":""}]
[{"$f":"IF(syoriyou!A669=\"\",\"\",syoriyou!A669)","v":""},{"$f":"IF(syoriyou!B669=\"\",\"\",syoriyou!B669)","v":""},{"$f":"IF(syoriyou!C669=\"\",\"\",syoriyou!C669)","v":""},{"$f":"IF(syoriyou!D669=\"\",\"\",syoriyou!D669)","v":""},{"$f":"IF(syoriyou!E669=\"\",\"\",syoriyou!E669)","v":""},{"$f":"IF(syoriyou!F669=\"\",\"\",syoriyou!F669)","v":""},{"$f":"IF(syoriyou!G669=\"\",\"\",syoriyou!G669)","v":""},{"$f":"IF(syoriyou!H669=\"\",\"\",syoriyou!H669)","v":""},{"$f":"IF(syoriyou!I669=\"\",\"\",syoriyou!I669)","v":""},{"$f":"IF(syoriyou!J669=\"\",\"\",syoriyou!N669)","v":""}]
[{"$f":"IF(syoriyou!A670=\"\",\"\",syoriyou!A670)","v":""},{"$f":"IF(syoriyou!B670=\"\",\"\",syoriyou!B670)","v":""},{"$f":"IF(syoriyou!C670=\"\",\"\",syoriyou!C670)","v":""},{"$f":"IF(syoriyou!D670=\"\",\"\",syoriyou!D670)","v":""},{"$f":"IF(syoriyou!E670=\"\",\"\",syoriyou!E670)","v":""},{"$f":"IF(syoriyou!F670=\"\",\"\",syoriyou!F670)","v":""},{"$f":"IF(syoriyou!G670=\"\",\"\",syoriyou!G670)","v":""},{"$f":"IF(syoriyou!H670=\"\",\"\",syoriyou!H670)","v":""},{"$f":"IF(syoriyou!I670=\"\",\"\",syoriyou!I670)","v":""},{"$f":"IF(syoriyou!J670=\"\",\"\",syoriyou!N670)","v":""}]
[{"$f":"IF(syoriyou!A671=\"\",\"\",syoriyou!A671)","v":""},{"$f":"IF(syoriyou!B671=\"\",\"\",syoriyou!B671)","v":""},{"$f":"IF(syoriyou!C671=\"\",\"\",syoriyou!C671)","v":""},{"$f":"IF(syoriyou!D671=\"\",\"\",syoriyou!D671)","v":""},{"$f":"IF(syoriyou!E671=\"\",\"\",syoriyou!E671)","v":""},{"$f":"IF(syoriyou!F671=\"\",\"\",syoriyou!F671)","v":""},{"$f":"IF(syoriyou!G671=\"\",\"\",syoriyou!G671)","v":""},{"$f":"IF(syoriyou!H671=\"\",\"\",syoriyou!H671)","v":""},{"$f":"IF(syoriyou!I671=\"\",\"\",syoriyou!I671)","v":""},{"$f":"IF(syoriyou!J671=\"\",\"\",syoriyou!N671)","v":""}]
[{"$f":"IF(syoriyou!A672=\"\",\"\",syoriyou!A672)","v":""},{"$f":"IF(syoriyou!B672=\"\",\"\",syoriyou!B672)","v":""},{"$f":"IF(syoriyou!C672=\"\",\"\",syoriyou!C672)","v":""},{"$f":"IF(syoriyou!D672=\"\",\"\",syoriyou!D672)","v":""},{"$f":"IF(syoriyou!E672=\"\",\"\",syoriyou!E672)","v":""},{"$f":"IF(syoriyou!F672=\"\",\"\",syoriyou!F672)","v":""},{"$f":"IF(syoriyou!G672=\"\",\"\",syoriyou!G672)","v":""},{"$f":"IF(syoriyou!H672=\"\",\"\",syoriyou!H672)","v":""},{"$f":"IF(syoriyou!I672=\"\",\"\",syoriyou!I672)","v":""},{"$f":"IF(syoriyou!J672=\"\",\"\",syoriyou!N672)","v":""}]
[{"$f":"IF(syoriyou!A673=\"\",\"\",syoriyou!A673)","v":""},{"$f":"IF(syoriyou!B673=\"\",\"\",syoriyou!B673)","v":""},{"$f":"IF(syoriyou!C673=\"\",\"\",syoriyou!C673)","v":""},{"$f":"IF(syoriyou!D673=\"\",\"\",syoriyou!D673)","v":""},{"$f":"IF(syoriyou!E673=\"\",\"\",syoriyou!E673)","v":""},{"$f":"IF(syoriyou!F673=\"\",\"\",syoriyou!F673)","v":""},{"$f":"IF(syoriyou!G673=\"\",\"\",syoriyou!G673)","v":""},{"$f":"IF(syoriyou!H673=\"\",\"\",syoriyou!H673)","v":""},{"$f":"IF(syoriyou!I673=\"\",\"\",syoriyou!I673)","v":""},{"$f":"IF(syoriyou!J673=\"\",\"\",syoriyou!N673)","v":""}]
[{"$f":"IF(syoriyou!A674=\"\",\"\",syoriyou!A674)","v":""},{"$f":"IF(syoriyou!B674=\"\",\"\",syoriyou!B674)","v":""},{"$f":"IF(syoriyou!C674=\"\",\"\",syoriyou!C674)","v":""},{"$f":"IF(syoriyou!D674=\"\",\"\",syoriyou!D674)","v":""},{"$f":"IF(syoriyou!E674=\"\",\"\",syoriyou!E674)","v":""},{"$f":"IF(syoriyou!F674=\"\",\"\",syoriyou!F674)","v":""},{"$f":"IF(syoriyou!G674=\"\",\"\",syoriyou!G674)","v":""},{"$f":"IF(syoriyou!H674=\"\",\"\",syoriyou!H674)","v":""},{"$f":"IF(syoriyou!I674=\"\",\"\",syoriyou!I674)","v":""},{"$f":"IF(syoriyou!J674=\"\",\"\",syoriyou!N674)","v":""}]
[{"$f":"IF(syoriyou!A675=\"\",\"\",syoriyou!A675)","v":""},{"$f":"IF(syoriyou!B675=\"\",\"\",syoriyou!B675)","v":""},{"$f":"IF(syoriyou!C675=\"\",\"\",syoriyou!C675)","v":""},{"$f":"IF(syoriyou!D675=\"\",\"\",syoriyou!D675)","v":""},{"$f":"IF(syoriyou!E675=\"\",\"\",syoriyou!E675)","v":""},{"$f":"IF(syoriyou!F675=\"\",\"\",syoriyou!F675)","v":""},{"$f":"IF(syoriyou!G675=\"\",\"\",syoriyou!G675)","v":""},{"$f":"IF(syoriyou!H675=\"\",\"\",syoriyou!H675)","v":""},{"$f":"IF(syoriyou!I675=\"\",\"\",syoriyou!I675)","v":""},{"$f":"IF(syoriyou!J675=\"\",\"\",syoriyou!N675)","v":""}]
[{"$f":"IF(syoriyou!A676=\"\",\"\",syoriyou!A676)","v":""},{"$f":"IF(syoriyou!B676=\"\",\"\",syoriyou!B676)","v":""},{"$f":"IF(syoriyou!C676=\"\",\"\",syoriyou!C676)","v":""},{"$f":"IF(syoriyou!D676=\"\",\"\",syoriyou!D676)","v":""},{"$f":"IF(syoriyou!E676=\"\",\"\",syoriyou!E676)","v":""},{"$f":"IF(syoriyou!F676=\"\",\"\",syoriyou!F676)","v":""},{"$f":"IF(syoriyou!G676=\"\",\"\",syoriyou!G676)","v":""},{"$f":"IF(syoriyou!H676=\"\",\"\",syoriyou!H676)","v":""},{"$f":"IF(syoriyou!I676=\"\",\"\",syoriyou!I676)","v":""},{"$f":"IF(syoriyou!J676=\"\",\"\",syoriyou!N676)","v":""}]
[{"$f":"IF(syoriyou!A677=\"\",\"\",syoriyou!A677)","v":""},{"$f":"IF(syoriyou!B677=\"\",\"\",syoriyou!B677)","v":""},{"$f":"IF(syoriyou!C677=\"\",\"\",syoriyou!C677)","v":""},{"$f":"IF(syoriyou!D677=\"\",\"\",syoriyou!D677)","v":""},{"$f":"IF(syoriyou!E677=\"\",\"\",syoriyou!E677)","v":""},{"$f":"IF(syoriyou!F677=\"\",\"\",syoriyou!F677)","v":""},{"$f":"IF(syoriyou!G677=\"\",\"\",syoriyou!G677)","v":""},{"$f":"IF(syoriyou!H677=\"\",\"\",syoriyou!H677)","v":""},{"$f":"IF(syoriyou!I677=\"\",\"\",syoriyou!I677)","v":""},{"$f":"IF(syoriyou!J677=\"\",\"\",syoriyou!N677)","v":""}]
[{"$f":"IF(syoriyou!A678=\"\",\"\",syoriyou!A678)","v":""},{"$f":"IF(syoriyou!B678=\"\",\"\",syoriyou!B678)","v":""},{"$f":"IF(syoriyou!C678=\"\",\"\",syoriyou!C678)","v":""},{"$f":"IF(syoriyou!D678=\"\",\"\",syoriyou!D678)","v":""},{"$f":"IF(syoriyou!E678=\"\",\"\",syoriyou!E678)","v":""},{"$f":"IF(syoriyou!F678=\"\",\"\",syoriyou!F678)","v":""},{"$f":"IF(syoriyou!G678=\"\",\"\",syoriyou!G678)","v":""},{"$f":"IF(syoriyou!H678=\"\",\"\",syoriyou!H678)","v":""},{"$f":"IF(syoriyou!I678=\"\",\"\",syoriyou!I678)","v":""},{"$f":"IF(syoriyou!J678=\"\",\"\",syoriyou!N678)","v":""}]
[{"$f":"IF(syoriyou!A679=\"\",\"\",syoriyou!A679)","v":""},{"$f":"IF(syoriyou!B679=\"\",\"\",syoriyou!B679)","v":""},{"$f":"IF(syoriyou!C679=\"\",\"\",syoriyou!C679)","v":""},{"$f":"IF(syoriyou!D679=\"\",\"\",syoriyou!D679)","v":""},{"$f":"IF(syoriyou!E679=\"\",\"\",syoriyou!E679)","v":""},{"$f":"IF(syoriyou!F679=\"\",\"\",syoriyou!F679)","v":""},{"$f":"IF(syoriyou!G679=\"\",\"\",syoriyou!G679)","v":""},{"$f":"IF(syoriyou!H679=\"\",\"\",syoriyou!H679)","v":""},{"$f":"IF(syoriyou!I679=\"\",\"\",syoriyou!I679)","v":""},{"$f":"IF(syoriyou!J679=\"\",\"\",syoriyou!N679)","v":""}]
[{"$f":"IF(syoriyou!A680=\"\",\"\",syoriyou!A680)","v":""},{"$f":"IF(syoriyou!B680=\"\",\"\",syoriyou!B680)","v":""},{"$f":"IF(syoriyou!C680=\"\",\"\",syoriyou!C680)","v":""},{"$f":"IF(syoriyou!D680=\"\",\"\",syoriyou!D680)","v":""},{"$f":"IF(syoriyou!E680=\"\",\"\",syoriyou!E680)","v":""},{"$f":"IF(syoriyou!F680=\"\",\"\",syoriyou!F680)","v":""},{"$f":"IF(syoriyou!G680=\"\",\"\",syoriyou!G680)","v":""},{"$f":"IF(syoriyou!H680=\"\",\"\",syoriyou!H680)","v":""},{"$f":"IF(syoriyou!I680=\"\",\"\",syoriyou!I680)","v":""},{"$f":"IF(syoriyou!J680=\"\",\"\",syoriyou!N680)","v":""}]
[{"$f":"IF(syoriyou!A681=\"\",\"\",syoriyou!A681)","v":""},{"$f":"IF(syoriyou!B681=\"\",\"\",syoriyou!B681)","v":""},{"$f":"IF(syoriyou!C681=\"\",\"\",syoriyou!C681)","v":""},{"$f":"IF(syoriyou!D681=\"\",\"\",syoriyou!D681)","v":""},{"$f":"IF(syoriyou!E681=\"\",\"\",syoriyou!E681)","v":""},{"$f":"IF(syoriyou!F681=\"\",\"\",syoriyou!F681)","v":""},{"$f":"IF(syoriyou!G681=\"\",\"\",syoriyou!G681)","v":""},{"$f":"IF(syoriyou!H681=\"\",\"\",syoriyou!H681)","v":""},{"$f":"IF(syoriyou!I681=\"\",\"\",syoriyou!I681)","v":""},{"$f":"IF(syoriyou!J681=\"\",\"\",syoriyou!N681)","v":""}]
[{"$f":"IF(syoriyou!A682=\"\",\"\",syoriyou!A682)","v":""},{"$f":"IF(syoriyou!B682=\"\",\"\",syoriyou!B682)","v":""},{"$f":"IF(syoriyou!C682=\"\",\"\",syoriyou!C682)","v":""},{"$f":"IF(syoriyou!D682=\"\",\"\",syoriyou!D682)","v":""},{"$f":"IF(syoriyou!E682=\"\",\"\",syoriyou!E682)","v":""},{"$f":"IF(syoriyou!F682=\"\",\"\",syoriyou!F682)","v":""},{"$f":"IF(syoriyou!G682=\"\",\"\",syoriyou!G682)","v":""},{"$f":"IF(syoriyou!H682=\"\",\"\",syoriyou!H682)","v":""},{"$f":"IF(syoriyou!I682=\"\",\"\",syoriyou!I682)","v":""},{"$f":"IF(syoriyou!J682=\"\",\"\",syoriyou!N682)","v":""}]
[{"$f":"IF(syoriyou!A683=\"\",\"\",syoriyou!A683)","v":""},{"$f":"IF(syoriyou!B683=\"\",\"\",syoriyou!B683)","v":""},{"$f":"IF(syoriyou!C683=\"\",\"\",syoriyou!C683)","v":""},{"$f":"IF(syoriyou!D683=\"\",\"\",syoriyou!D683)","v":""},{"$f":"IF(syoriyou!E683=\"\",\"\",syoriyou!E683)","v":""},{"$f":"IF(syoriyou!F683=\"\",\"\",syoriyou!F683)","v":""},{"$f":"IF(syoriyou!G683=\"\",\"\",syoriyou!G683)","v":""},{"$f":"IF(syoriyou!H683=\"\",\"\",syoriyou!H683)","v":""},{"$f":"IF(syoriyou!I683=\"\",\"\",syoriyou!I683)","v":""},{"$f":"IF(syoriyou!J683=\"\",\"\",syoriyou!N683)","v":""}]
[{"$f":"IF(syoriyou!A684=\"\",\"\",syoriyou!A684)","v":""},{"$f":"IF(syoriyou!B684=\"\",\"\",syoriyou!B684)","v":""},{"$f":"IF(syoriyou!C684=\"\",\"\",syoriyou!C684)","v":""},{"$f":"IF(syoriyou!D684=\"\",\"\",syoriyou!D684)","v":""},{"$f":"IF(syoriyou!E684=\"\",\"\",syoriyou!E684)","v":""},{"$f":"IF(syoriyou!F684=\"\",\"\",syoriyou!F684)","v":""},{"$f":"IF(syoriyou!G684=\"\",\"\",syoriyou!G684)","v":""},{"$f":"IF(syoriyou!H684=\"\",\"\",syoriyou!H684)","v":""},{"$f":"IF(syoriyou!I684=\"\",\"\",syoriyou!I684)","v":""},{"$f":"IF(syoriyou!J684=\"\",\"\",syoriyou!N684)","v":""}]
[{"$f":"IF(syoriyou!A685=\"\",\"\",syoriyou!A685)","v":""},{"$f":"IF(syoriyou!B685=\"\",\"\",syoriyou!B685)","v":""},{"$f":"IF(syoriyou!C685=\"\",\"\",syoriyou!C685)","v":""},{"$f":"IF(syoriyou!D685=\"\",\"\",syoriyou!D685)","v":""},{"$f":"IF(syoriyou!E685=\"\",\"\",syoriyou!E685)","v":""},{"$f":"IF(syoriyou!F685=\"\",\"\",syoriyou!F685)","v":""},{"$f":"IF(syoriyou!G685=\"\",\"\",syoriyou!G685)","v":""},{"$f":"IF(syoriyou!H685=\"\",\"\",syoriyou!H685)","v":""},{"$f":"IF(syoriyou!I685=\"\",\"\",syoriyou!I685)","v":""},{"$f":"IF(syoriyou!J685=\"\",\"\",syoriyou!N685)","v":""}]
[{"$f":"IF(syoriyou!A686=\"\",\"\",syoriyou!A686)","v":""},{"$f":"IF(syoriyou!B686=\"\",\"\",syoriyou!B686)","v":""},{"$f":"IF(syoriyou!C686=\"\",\"\",syoriyou!C686)","v":""},{"$f":"IF(syoriyou!D686=\"\",\"\",syoriyou!D686)","v":""},{"$f":"IF(syoriyou!E686=\"\",\"\",syoriyou!E686)","v":""},{"$f":"IF(syoriyou!F686=\"\",\"\",syoriyou!F686)","v":""},{"$f":"IF(syoriyou!G686=\"\",\"\",syoriyou!G686)","v":""},{"$f":"IF(syoriyou!H686=\"\",\"\",syoriyou!H686)","v":""},{"$f":"IF(syoriyou!I686=\"\",\"\",syoriyou!I686)","v":""},{"$f":"IF(syoriyou!J686=\"\",\"\",syoriyou!N686)","v":""}]
[{"$f":"IF(syoriyou!A687=\"\",\"\",syoriyou!A687)","v":""},{"$f":"IF(syoriyou!B687=\"\",\"\",syoriyou!B687)","v":""},{"$f":"IF(syoriyou!C687=\"\",\"\",syoriyou!C687)","v":""},{"$f":"IF(syoriyou!D687=\"\",\"\",syoriyou!D687)","v":""},{"$f":"IF(syoriyou!E687=\"\",\"\",syoriyou!E687)","v":""},{"$f":"IF(syoriyou!F687=\"\",\"\",syoriyou!F687)","v":""},{"$f":"IF(syoriyou!G687=\"\",\"\",syoriyou!G687)","v":""},{"$f":"IF(syoriyou!H687=\"\",\"\",syoriyou!H687)","v":""},{"$f":"IF(syoriyou!I687=\"\",\"\",syoriyou!I687)","v":""},{"$f":"IF(syoriyou!J687=\"\",\"\",syoriyou!N687)","v":""}]
[{"$f":"IF(syoriyou!A688=\"\",\"\",syoriyou!A688)","v":""},{"$f":"IF(syoriyou!B688=\"\",\"\",syoriyou!B688)","v":""},{"$f":"IF(syoriyou!C688=\"\",\"\",syoriyou!C688)","v":""},{"$f":"IF(syoriyou!D688=\"\",\"\",syoriyou!D688)","v":""},{"$f":"IF(syoriyou!E688=\"\",\"\",syoriyou!E688)","v":""},{"$f":"IF(syoriyou!F688=\"\",\"\",syoriyou!F688)","v":""},{"$f":"IF(syoriyou!G688=\"\",\"\",syoriyou!G688)","v":""},{"$f":"IF(syoriyou!H688=\"\",\"\",syoriyou!H688)","v":""},{"$f":"IF(syoriyou!I688=\"\",\"\",syoriyou!I688)","v":""},{"$f":"IF(syoriyou!J688=\"\",\"\",syoriyou!N688)","v":""}]
[{"$f":"IF(syoriyou!A689=\"\",\"\",syoriyou!A689)","v":""},{"$f":"IF(syoriyou!B689=\"\",\"\",syoriyou!B689)","v":""},{"$f":"IF(syoriyou!C689=\"\",\"\",syoriyou!C689)","v":""},{"$f":"IF(syoriyou!D689=\"\",\"\",syoriyou!D689)","v":""},{"$f":"IF(syoriyou!E689=\"\",\"\",syoriyou!E689)","v":""},{"$f":"IF(syoriyou!F689=\"\",\"\",syoriyou!F689)","v":""},{"$f":"IF(syoriyou!G689=\"\",\"\",syoriyou!G689)","v":""},{"$f":"IF(syoriyou!H689=\"\",\"\",syoriyou!H689)","v":""},{"$f":"IF(syoriyou!I689=\"\",\"\",syoriyou!I689)","v":""},{"$f":"IF(syoriyou!J689=\"\",\"\",syoriyou!N689)","v":""}]
[{"$f":"IF(syoriyou!A690=\"\",\"\",syoriyou!A690)","v":""},{"$f":"IF(syoriyou!B690=\"\",\"\",syoriyou!B690)","v":""},{"$f":"IF(syoriyou!C690=\"\",\"\",syoriyou!C690)","v":""},{"$f":"IF(syoriyou!D690=\"\",\"\",syoriyou!D690)","v":""},{"$f":"IF(syoriyou!E690=\"\",\"\",syoriyou!E690)","v":""},{"$f":"IF(syoriyou!F690=\"\",\"\",syoriyou!F690)","v":""},{"$f":"IF(syoriyou!G690=\"\",\"\",syoriyou!G690)","v":""},{"$f":"IF(syoriyou!H690=\"\",\"\",syoriyou!H690)","v":""},{"$f":"IF(syoriyou!I690=\"\",\"\",syoriyou!I690)","v":""},{"$f":"IF(syoriyou!J690=\"\",\"\",syoriyou!N690)","v":""}]
[{"$f":"IF(syoriyou!A691=\"\",\"\",syoriyou!A691)","v":""},{"$f":"IF(syoriyou!B691=\"\",\"\",syoriyou!B691)","v":""},{"$f":"IF(syoriyou!C691=\"\",\"\",syoriyou!C691)","v":""},{"$f":"IF(syoriyou!D691=\"\",\"\",syoriyou!D691)","v":""},{"$f":"IF(syoriyou!E691=\"\",\"\",syoriyou!E691)","v":""},{"$f":"IF(syoriyou!F691=\"\",\"\",syoriyou!F691)","v":""},{"$f":"IF(syoriyou!G691=\"\",\"\",syoriyou!G691)","v":""},{"$f":"IF(syoriyou!H691=\"\",\"\",syoriyou!H691)","v":""},{"$f":"IF(syoriyou!I691=\"\",\"\",syoriyou!I691)","v":""},{"$f":"IF(syoriyou!J691=\"\",\"\",syoriyou!N691)","v":""}]
[{"$f":"IF(syoriyou!A692=\"\",\"\",syoriyou!A692)","v":""},{"$f":"IF(syoriyou!B692=\"\",\"\",syoriyou!B692)","v":""},{"$f":"IF(syoriyou!C692=\"\",\"\",syoriyou!C692)","v":""},{"$f":"IF(syoriyou!D692=\"\",\"\",syoriyou!D692)","v":""},{"$f":"IF(syoriyou!E692=\"\",\"\",syoriyou!E692)","v":""},{"$f":"IF(syoriyou!F692=\"\",\"\",syoriyou!F692)","v":""},{"$f":"IF(syoriyou!G692=\"\",\"\",syoriyou!G692)","v":""},{"$f":"IF(syoriyou!H692=\"\",\"\",syoriyou!H692)","v":""},{"$f":"IF(syoriyou!I692=\"\",\"\",syoriyou!I692)","v":""},{"$f":"IF(syoriyou!J692=\"\",\"\",syoriyou!N692)","v":""}]
[{"$f":"IF(syoriyou!A693=\"\",\"\",syoriyou!A693)","v":""},{"$f":"IF(syoriyou!B693=\"\",\"\",syoriyou!B693)","v":""},{"$f":"IF(syoriyou!C693=\"\",\"\",syoriyou!C693)","v":""},{"$f":"IF(syoriyou!D693=\"\",\"\",syoriyou!D693)","v":""},{"$f":"IF(syoriyou!E693=\"\",\"\",syoriyou!E693)","v":""},{"$f":"IF(syoriyou!F693=\"\",\"\",syoriyou!F693)","v":""},{"$f":"IF(syoriyou!G693=\"\",\"\",syoriyou!G693)","v":""},{"$f":"IF(syoriyou!H693=\"\",\"\",syoriyou!H693)","v":""},{"$f":"IF(syoriyou!I693=\"\",\"\",syoriyou!I693)","v":""},{"$f":"IF(syoriyou!J693=\"\",\"\",syoriyou!N693)","v":""}]
[{"$f":"IF(syoriyou!A694=\"\",\"\",syoriyou!A694)","v":""},{"$f":"IF(syoriyou!B694=\"\",\"\",syoriyou!B694)","v":""},{"$f":"IF(syoriyou!C694=\"\",\"\",syoriyou!C694)","v":""},{"$f":"IF(syoriyou!D694=\"\",\"\",syoriyou!D694)","v":""},{"$f":"IF(syoriyou!E694=\"\",\"\",syoriyou!E694)","v":""},{"$f":"IF(syoriyou!F694=\"\",\"\",syoriyou!F694)","v":""},{"$f":"IF(syoriyou!G694=\"\",\"\",syoriyou!G694)","v":""},{"$f":"IF(syoriyou!H694=\"\",\"\",syoriyou!H694)","v":""},{"$f":"IF(syoriyou!I694=\"\",\"\",syoriyou!I694)","v":""},{"$f":"IF(syoriyou!J694=\"\",\"\",syoriyou!N694)","v":""}]
[{"$f":"IF(syoriyou!A695=\"\",\"\",syoriyou!A695)","v":""},{"$f":"IF(syoriyou!B695=\"\",\"\",syoriyou!B695)","v":""},{"$f":"IF(syoriyou!C695=\"\",\"\",syoriyou!C695)","v":""},{"$f":"IF(syoriyou!D695=\"\",\"\",syoriyou!D695)","v":""},{"$f":"IF(syoriyou!E695=\"\",\"\",syoriyou!E695)","v":""},{"$f":"IF(syoriyou!F695=\"\",\"\",syoriyou!F695)","v":""},{"$f":"IF(syoriyou!G695=\"\",\"\",syoriyou!G695)","v":""},{"$f":"IF(syoriyou!H695=\"\",\"\",syoriyou!H695)","v":""},{"$f":"IF(syoriyou!I695=\"\",\"\",syoriyou!I695)","v":""},{"$f":"IF(syoriyou!J695=\"\",\"\",syoriyou!N695)","v":""}]
[{"$f":"IF(syoriyou!A696=\"\",\"\",syoriyou!A696)","v":""},{"$f":"IF(syoriyou!B696=\"\",\"\",syoriyou!B696)","v":""},{"$f":"IF(syoriyou!C696=\"\",\"\",syoriyou!C696)","v":""},{"$f":"IF(syoriyou!D696=\"\",\"\",syoriyou!D696)","v":""},{"$f":"IF(syoriyou!E696=\"\",\"\",syoriyou!E696)","v":""},{"$f":"IF(syoriyou!F696=\"\",\"\",syoriyou!F696)","v":""},{"$f":"IF(syoriyou!G696=\"\",\"\",syoriyou!G696)","v":""},{"$f":"IF(syoriyou!H696=\"\",\"\",syoriyou!H696)","v":""},{"$f":"IF(syoriyou!I696=\"\",\"\",syoriyou!I696)","v":""},{"$f":"IF(syoriyou!J696=\"\",\"\",syoriyou!N696)","v":""}]
[{"$f":"IF(syoriyou!A697=\"\",\"\",syoriyou!A697)","v":""},{"$f":"IF(syoriyou!B697=\"\",\"\",syoriyou!B697)","v":""},{"$f":"IF(syoriyou!C697=\"\",\"\",syoriyou!C697)","v":""},{"$f":"IF(syoriyou!D697=\"\",\"\",syoriyou!D697)","v":""},{"$f":"IF(syoriyou!E697=\"\",\"\",syoriyou!E697)","v":""},{"$f":"IF(syoriyou!F697=\"\",\"\",syoriyou!F697)","v":""},{"$f":"IF(syoriyou!G697=\"\",\"\",syoriyou!G697)","v":""},{"$f":"IF(syoriyou!H697=\"\",\"\",syoriyou!H697)","v":""},{"$f":"IF(syoriyou!I697=\"\",\"\",syoriyou!I697)","v":""},{"$f":"IF(syoriyou!J697=\"\",\"\",syoriyou!N697)","v":""}]
[{"$f":"IF(syoriyou!A698=\"\",\"\",syoriyou!A698)","v":""},{"$f":"IF(syoriyou!B698=\"\",\"\",syoriyou!B698)","v":""},{"$f":"IF(syoriyou!C698=\"\",\"\",syoriyou!C698)","v":""},{"$f":"IF(syoriyou!D698=\"\",\"\",syoriyou!D698)","v":""},{"$f":"IF(syoriyou!E698=\"\",\"\",syoriyou!E698)","v":""},{"$f":"IF(syoriyou!F698=\"\",\"\",syoriyou!F698)","v":""},{"$f":"IF(syoriyou!G698=\"\",\"\",syoriyou!G698)","v":""},{"$f":"IF(syoriyou!H698=\"\",\"\",syoriyou!H698)","v":""},{"$f":"IF(syoriyou!I698=\"\",\"\",syoriyou!I698)","v":""},{"$f":"IF(syoriyou!J698=\"\",\"\",syoriyou!N698)","v":""}]
[{"$f":"IF(syoriyou!A699=\"\",\"\",syoriyou!A699)","v":""},{"$f":"IF(syoriyou!B699=\"\",\"\",syoriyou!B699)","v":""},{"$f":"IF(syoriyou!C699=\"\",\"\",syoriyou!C699)","v":""},{"$f":"IF(syoriyou!D699=\"\",\"\",syoriyou!D699)","v":""},{"$f":"IF(syoriyou!E699=\"\",\"\",syoriyou!E699)","v":""},{"$f":"IF(syoriyou!F699=\"\",\"\",syoriyou!F699)","v":""},{"$f":"IF(syoriyou!G699=\"\",\"\",syoriyou!G699)","v":""},{"$f":"IF(syoriyou!H699=\"\",\"\",syoriyou!H699)","v":""},{"$f":"IF(syoriyou!I699=\"\",\"\",syoriyou!I699)","v":""},{"$f":"IF(syoriyou!J699=\"\",\"\",syoriyou!N699)","v":""}]
[{"$f":"IF(syoriyou!A700=\"\",\"\",syoriyou!A700)","v":""},{"$f":"IF(syoriyou!B700=\"\",\"\",syoriyou!B700)","v":""},{"$f":"IF(syoriyou!C700=\"\",\"\",syoriyou!C700)","v":""},{"$f":"IF(syoriyou!D700=\"\",\"\",syoriyou!D700)","v":""},{"$f":"IF(syoriyou!E700=\"\",\"\",syoriyou!E700)","v":""},{"$f":"IF(syoriyou!F700=\"\",\"\",syoriyou!F700)","v":""},{"$f":"IF(syoriyou!G700=\"\",\"\",syoriyou!G700)","v":""},{"$f":"IF(syoriyou!H700=\"\",\"\",syoriyou!H700)","v":""},{"$f":"IF(syoriyou!I700=\"\",\"\",syoriyou!I700)","v":""},{"$f":"IF(syoriyou!J700=\"\",\"\",syoriyou!N700)","v":""}]
[{"$f":"IF(syoriyou!A701=\"\",\"\",syoriyou!A701)","v":""},{"$f":"IF(syoriyou!B701=\"\",\"\",syoriyou!B701)","v":""},{"$f":"IF(syoriyou!C701=\"\",\"\",syoriyou!C701)","v":""},{"$f":"IF(syoriyou!D701=\"\",\"\",syoriyou!D701)","v":""},{"$f":"IF(syoriyou!E701=\"\",\"\",syoriyou!E701)","v":""},{"$f":"IF(syoriyou!F701=\"\",\"\",syoriyou!F701)","v":""},{"$f":"IF(syoriyou!G701=\"\",\"\",syoriyou!G701)","v":""},{"$f":"IF(syoriyou!H701=\"\",\"\",syoriyou!H701)","v":""},{"$f":"IF(syoriyou!I701=\"\",\"\",syoriyou!I701)","v":""},{"$f":"IF(syoriyou!J701=\"\",\"\",syoriyou!N701)","v":""}]
[{"$f":"IF(syoriyou!A702=\"\",\"\",syoriyou!A702)","v":""},{"$f":"IF(syoriyou!B702=\"\",\"\",syoriyou!B702)","v":""},{"$f":"IF(syoriyou!C702=\"\",\"\",syoriyou!C702)","v":""},{"$f":"IF(syoriyou!D702=\"\",\"\",syoriyou!D702)","v":""},{"$f":"IF(syoriyou!E702=\"\",\"\",syoriyou!E702)","v":""},{"$f":"IF(syoriyou!F702=\"\",\"\",syoriyou!F702)","v":""},{"$f":"IF(syoriyou!G702=\"\",\"\",syoriyou!G702)","v":""},{"$f":"IF(syoriyou!H702=\"\",\"\",syoriyou!H702)","v":""},{"$f":"IF(syoriyou!I702=\"\",\"\",syoriyou!I702)","v":""},{"$f":"IF(syoriyou!J702=\"\",\"\",syoriyou!N702)","v":""}]
[{"$f":"IF(syoriyou!A703=\"\",\"\",syoriyou!A703)","v":""},{"$f":"IF(syoriyou!B703=\"\",\"\",syoriyou!B703)","v":""},{"$f":"IF(syoriyou!C703=\"\",\"\",syoriyou!C703)","v":""},{"$f":"IF(syoriyou!D703=\"\",\"\",syoriyou!D703)","v":""},{"$f":"IF(syoriyou!E703=\"\",\"\",syoriyou!E703)","v":""},{"$f":"IF(syoriyou!F703=\"\",\"\",syoriyou!F703)","v":""},{"$f":"IF(syoriyou!G703=\"\",\"\",syoriyou!G703)","v":""},{"$f":"IF(syoriyou!H703=\"\",\"\",syoriyou!H703)","v":""},{"$f":"IF(syoriyou!I703=\"\",\"\",syoriyou!I703)","v":""},{"$f":"IF(syoriyou!J703=\"\",\"\",syoriyou!N703)","v":""}]
[{"$f":"IF(syoriyou!A704=\"\",\"\",syoriyou!A704)","v":""},{"$f":"IF(syoriyou!B704=\"\",\"\",syoriyou!B704)","v":""},{"$f":"IF(syoriyou!C704=\"\",\"\",syoriyou!C704)","v":""},{"$f":"IF(syoriyou!D704=\"\",\"\",syoriyou!D704)","v":""},{"$f":"IF(syoriyou!E704=\"\",\"\",syoriyou!E704)","v":""},{"$f":"IF(syoriyou!F704=\"\",\"\",syoriyou!F704)","v":""},{"$f":"IF(syoriyou!G704=\"\",\"\",syoriyou!G704)","v":""},{"$f":"IF(syoriyou!H704=\"\",\"\",syoriyou!H704)","v":""},{"$f":"IF(syoriyou!I704=\"\",\"\",syoriyou!I704)","v":""},{"$f":"IF(syoriyou!J704=\"\",\"\",syoriyou!N704)","v":""}]
[{"$f":"IF(syoriyou!A705=\"\",\"\",syoriyou!A705)","v":""},{"$f":"IF(syoriyou!B705=\"\",\"\",syoriyou!B705)","v":""},{"$f":"IF(syoriyou!C705=\"\",\"\",syoriyou!C705)","v":""},{"$f":"IF(syoriyou!D705=\"\",\"\",syoriyou!D705)","v":""},{"$f":"IF(syoriyou!E705=\"\",\"\",syoriyou!E705)","v":""},{"$f":"IF(syoriyou!F705=\"\",\"\",syoriyou!F705)","v":""},{"$f":"IF(syoriyou!G705=\"\",\"\",syoriyou!G705)","v":""},{"$f":"IF(syoriyou!H705=\"\",\"\",syoriyou!H705)","v":""},{"$f":"IF(syoriyou!I705=\"\",\"\",syoriyou!I705)","v":""},{"$f":"IF(syoriyou!J705=\"\",\"\",syoriyou!N705)","v":""}]
[{"$f":"IF(syoriyou!A706=\"\",\"\",syoriyou!A706)","v":""},{"$f":"IF(syoriyou!B706=\"\",\"\",syoriyou!B706)","v":""},{"$f":"IF(syoriyou!C706=\"\",\"\",syoriyou!C706)","v":""},{"$f":"IF(syoriyou!D706=\"\",\"\",syoriyou!D706)","v":""},{"$f":"IF(syoriyou!E706=\"\",\"\",syoriyou!E706)","v":""},{"$f":"IF(syoriyou!F706=\"\",\"\",syoriyou!F706)","v":""},{"$f":"IF(syoriyou!G706=\"\",\"\",syoriyou!G706)","v":""},{"$f":"IF(syoriyou!H706=\"\",\"\",syoriyou!H706)","v":""},{"$f":"IF(syoriyou!I706=\"\",\"\",syoriyou!I706)","v":""},{"$f":"IF(syoriyou!J706=\"\",\"\",syoriyou!N706)","v":""}]
[{"$f":"IF(syoriyou!A707=\"\",\"\",syoriyou!A707)","v":""},{"$f":"IF(syoriyou!B707=\"\",\"\",syoriyou!B707)","v":""},{"$f":"IF(syoriyou!C707=\"\",\"\",syoriyou!C707)","v":""},{"$f":"IF(syoriyou!D707=\"\",\"\",syoriyou!D707)","v":""},{"$f":"IF(syoriyou!E707=\"\",\"\",syoriyou!E707)","v":""},{"$f":"IF(syoriyou!F707=\"\",\"\",syoriyou!F707)","v":""},{"$f":"IF(syoriyou!G707=\"\",\"\",syoriyou!G707)","v":""},{"$f":"IF(syoriyou!H707=\"\",\"\",syoriyou!H707)","v":""},{"$f":"IF(syoriyou!I707=\"\",\"\",syoriyou!I707)","v":""},{"$f":"IF(syoriyou!J707=\"\",\"\",syoriyou!N707)","v":""}]
[{"$f":"IF(syoriyou!A708=\"\",\"\",syoriyou!A708)","v":""},{"$f":"IF(syoriyou!B708=\"\",\"\",syoriyou!B708)","v":""},{"$f":"IF(syoriyou!C708=\"\",\"\",syoriyou!C708)","v":""},{"$f":"IF(syoriyou!D708=\"\",\"\",syoriyou!D708)","v":""},{"$f":"IF(syoriyou!E708=\"\",\"\",syoriyou!E708)","v":""},{"$f":"IF(syoriyou!F708=\"\",\"\",syoriyou!F708)","v":""},{"$f":"IF(syoriyou!G708=\"\",\"\",syoriyou!G708)","v":""},{"$f":"IF(syoriyou!H708=\"\",\"\",syoriyou!H708)","v":""},{"$f":"IF(syoriyou!I708=\"\",\"\",syoriyou!I708)","v":""},{"$f":"IF(syoriyou!J708=\"\",\"\",syoriyou!N708)","v":""}]
[{"$f":"IF(syoriyou!A709=\"\",\"\",syoriyou!A709)","v":""},{"$f":"IF(syoriyou!B709=\"\",\"\",syoriyou!B709)","v":""},{"$f":"IF(syoriyou!C709=\"\",\"\",syoriyou!C709)","v":""},{"$f":"IF(syoriyou!D709=\"\",\"\",syoriyou!D709)","v":""},{"$f":"IF(syoriyou!E709=\"\",\"\",syoriyou!E709)","v":""},{"$f":"IF(syoriyou!F709=\"\",\"\",syoriyou!F709)","v":""},{"$f":"IF(syoriyou!G709=\"\",\"\",syoriyou!G709)","v":""},{"$f":"IF(syoriyou!H709=\"\",\"\",syoriyou!H709)","v":""},{"$f":"IF(syoriyou!I709=\"\",\"\",syoriyou!I709)","v":""},{"$f":"IF(syoriyou!J709=\"\",\"\",syoriyou!N709)","v":""}]
[{"$f":"IF(syoriyou!A710=\"\",\"\",syoriyou!A710)","v":""},{"$f":"IF(syoriyou!B710=\"\",\"\",syoriyou!B710)","v":""},{"$f":"IF(syoriyou!C710=\"\",\"\",syoriyou!C710)","v":""},{"$f":"IF(syoriyou!D710=\"\",\"\",syoriyou!D710)","v":""},{"$f":"IF(syoriyou!E710=\"\",\"\",syoriyou!E710)","v":""},{"$f":"IF(syoriyou!F710=\"\",\"\",syoriyou!F710)","v":""},{"$f":"IF(syoriyou!G710=\"\",\"\",syoriyou!G710)","v":""},{"$f":"IF(syoriyou!H710=\"\",\"\",syoriyou!H710)","v":""},{"$f":"IF(syoriyou!I710=\"\",\"\",syoriyou!I710)","v":""},{"$f":"IF(syoriyou!J710=\"\",\"\",syoriyou!N710)","v":""}]
[{"$f":"IF(syoriyou!A711=\"\",\"\",syoriyou!A711)","v":""},{"$f":"IF(syoriyou!B711=\"\",\"\",syoriyou!B711)","v":""},{"$f":"IF(syoriyou!C711=\"\",\"\",syoriyou!C711)","v":""},{"$f":"IF(syoriyou!D711=\"\",\"\",syoriyou!D711)","v":""},{"$f":"IF(syoriyou!E711=\"\",\"\",syoriyou!E711)","v":""},{"$f":"IF(syoriyou!F711=\"\",\"\",syoriyou!F711)","v":""},{"$f":"IF(syoriyou!G711=\"\",\"\",syoriyou!G711)","v":""},{"$f":"IF(syoriyou!H711=\"\",\"\",syoriyou!H711)","v":""},{"$f":"IF(syoriyou!I711=\"\",\"\",syoriyou!I711)","v":""},{"$f":"IF(syoriyou!J711=\"\",\"\",syoriyou!N711)","v":""}]
[{"$f":"IF(syoriyou!A712=\"\",\"\",syoriyou!A712)","v":""},{"$f":"IF(syoriyou!B712=\"\",\"\",syoriyou!B712)","v":""},{"$f":"IF(syoriyou!C712=\"\",\"\",syoriyou!C712)","v":""},{"$f":"IF(syoriyou!D712=\"\",\"\",syoriyou!D712)","v":""},{"$f":"IF(syoriyou!E712=\"\",\"\",syoriyou!E712)","v":""},{"$f":"IF(syoriyou!F712=\"\",\"\",syoriyou!F712)","v":""},{"$f":"IF(syoriyou!G712=\"\",\"\",syoriyou!G712)","v":""},{"$f":"IF(syoriyou!H712=\"\",\"\",syoriyou!H712)","v":""},{"$f":"IF(syoriyou!I712=\"\",\"\",syoriyou!I712)","v":""},{"$f":"IF(syoriyou!J712=\"\",\"\",syoriyou!N712)","v":""}]
[{"$f":"IF(syoriyou!A713=\"\",\"\",syoriyou!A713)","v":""},{"$f":"IF(syoriyou!B713=\"\",\"\",syoriyou!B713)","v":""},{"$f":"IF(syoriyou!C713=\"\",\"\",syoriyou!C713)","v":""},{"$f":"IF(syoriyou!D713=\"\",\"\",syoriyou!D713)","v":""},{"$f":"IF(syoriyou!E713=\"\",\"\",syoriyou!E713)","v":""},{"$f":"IF(syoriyou!F713=\"\",\"\",syoriyou!F713)","v":""},{"$f":"IF(syoriyou!G713=\"\",\"\",syoriyou!G713)","v":""},{"$f":"IF(syoriyou!H713=\"\",\"\",syoriyou!H713)","v":""},{"$f":"IF(syoriyou!I713=\"\",\"\",syoriyou!I713)","v":""},{"$f":"IF(syoriyou!J713=\"\",\"\",syoriyou!N713)","v":""}]
[{"$f":"IF(syoriyou!A714=\"\",\"\",syoriyou!A714)","v":""},{"$f":"IF(syoriyou!B714=\"\",\"\",syoriyou!B714)","v":""},{"$f":"IF(syoriyou!C714=\"\",\"\",syoriyou!C714)","v":""},{"$f":"IF(syoriyou!D714=\"\",\"\",syoriyou!D714)","v":""},{"$f":"IF(syoriyou!E714=\"\",\"\",syoriyou!E714)","v":""},{"$f":"IF(syoriyou!F714=\"\",\"\",syoriyou!F714)","v":""},{"$f":"IF(syoriyou!G714=\"\",\"\",syoriyou!G714)","v":""},{"$f":"IF(syoriyou!H714=\"\",\"\",syoriyou!H714)","v":""},{"$f":"IF(syoriyou!I714=\"\",\"\",syoriyou!I714)","v":""},{"$f":"IF(syoriyou!J714=\"\",\"\",syoriyou!N714)","v":""}]
[{"$f":"IF(syoriyou!A715=\"\",\"\",syoriyou!A715)","v":""},{"$f":"IF(syoriyou!B715=\"\",\"\",syoriyou!B715)","v":""},{"$f":"IF(syoriyou!C715=\"\",\"\",syoriyou!C715)","v":""},{"$f":"IF(syoriyou!D715=\"\",\"\",syoriyou!D715)","v":""},{"$f":"IF(syoriyou!E715=\"\",\"\",syoriyou!E715)","v":""},{"$f":"IF(syoriyou!F715=\"\",\"\",syoriyou!F715)","v":""},{"$f":"IF(syoriyou!G715=\"\",\"\",syoriyou!G715)","v":""},{"$f":"IF(syoriyou!H715=\"\",\"\",syoriyou!H715)","v":""},{"$f":"IF(syoriyou!I715=\"\",\"\",syoriyou!I715)","v":""},{"$f":"IF(syoriyou!J715=\"\",\"\",syoriyou!N715)","v":""}]
[{"$f":"IF(syoriyou!A716=\"\",\"\",syoriyou!A716)","v":""},{"$f":"IF(syoriyou!B716=\"\",\"\",syoriyou!B716)","v":""},{"$f":"IF(syoriyou!C716=\"\",\"\",syoriyou!C716)","v":""},{"$f":"IF(syoriyou!D716=\"\",\"\",syoriyou!D716)","v":""},{"$f":"IF(syoriyou!E716=\"\",\"\",syoriyou!E716)","v":""},{"$f":"IF(syoriyou!F716=\"\",\"\",syoriyou!F716)","v":""},{"$f":"IF(syoriyou!G716=\"\",\"\",syoriyou!G716)","v":""},{"$f":"IF(syoriyou!H716=\"\",\"\",syoriyou!H716)","v":""},{"$f":"IF(syoriyou!I716=\"\",\"\",syoriyou!I716)","v":""},{"$f":"IF(syoriyou!J716=\"\",\"\",syoriyou!N716)","v":""}]
[{"$f":"IF(syoriyou!A717=\"\",\"\",syoriyou!A717)","v":""},{"$f":"IF(syoriyou!B717=\"\",\"\",syoriyou!B717)","v":""},{"$f":"IF(syoriyou!C717=\"\",\"\",syoriyou!C717)","v":""},{"$f":"IF(syoriyou!D717=\"\",\"\",syoriyou!D717)","v":""},{"$f":"IF(syoriyou!E717=\"\",\"\",syoriyou!E717)","v":""},{"$f":"IF(syoriyou!F717=\"\",\"\",syoriyou!F717)","v":""},{"$f":"IF(syoriyou!G717=\"\",\"\",syoriyou!G717)","v":""},{"$f":"IF(syoriyou!H717=\"\",\"\",syoriyou!H717)","v":""},{"$f":"IF(syoriyou!I717=\"\",\"\",syoriyou!I717)","v":""},{"$f":"IF(syoriyou!J717=\"\",\"\",syoriyou!N717)","v":""}]
[{"$f":"IF(syoriyou!A718=\"\",\"\",syoriyou!A718)","v":""},{"$f":"IF(syoriyou!B718=\"\",\"\",syoriyou!B718)","v":""},{"$f":"IF(syoriyou!C718=\"\",\"\",syoriyou!C718)","v":""},{"$f":"IF(syoriyou!D718=\"\",\"\",syoriyou!D718)","v":""},{"$f":"IF(syoriyou!E718=\"\",\"\",syoriyou!E718)","v":""},{"$f":"IF(syoriyou!F718=\"\",\"\",syoriyou!F718)","v":""},{"$f":"IF(syoriyou!G718=\"\",\"\",syoriyou!G718)","v":""},{"$f":"IF(syoriyou!H718=\"\",\"\",syoriyou!H718)","v":""},{"$f":"IF(syoriyou!I718=\"\",\"\",syoriyou!I718)","v":""},{"$f":"IF(syoriyou!J718=\"\",\"\",syoriyou!N718)","v":""}]
[{"$f":"IF(syoriyou!A719=\"\",\"\",syoriyou!A719)","v":""},{"$f":"IF(syoriyou!B719=\"\",\"\",syoriyou!B719)","v":""},{"$f":"IF(syoriyou!C719=\"\",\"\",syoriyou!C719)","v":""},{"$f":"IF(syoriyou!D719=\"\",\"\",syoriyou!D719)","v":""},{"$f":"IF(syoriyou!E719=\"\",\"\",syoriyou!E719)","v":""},{"$f":"IF(syoriyou!F719=\"\",\"\",syoriyou!F719)","v":""},{"$f":"IF(syoriyou!G719=\"\",\"\",syoriyou!G719)","v":""},{"$f":"IF(syoriyou!H719=\"\",\"\",syoriyou!H719)","v":""},{"$f":"IF(syoriyou!I719=\"\",\"\",syoriyou!I719)","v":""},{"$f":"IF(syoriyou!J719=\"\",\"\",syoriyou!N719)","v":""}]
[{"$f":"IF(syoriyou!A720=\"\",\"\",syoriyou!A720)","v":""},{"$f":"IF(syoriyou!B720=\"\",\"\",syoriyou!B720)","v":""},{"$f":"IF(syoriyou!C720=\"\",\"\",syoriyou!C720)","v":""},{"$f":"IF(syoriyou!D720=\"\",\"\",syoriyou!D720)","v":""},{"$f":"IF(syoriyou!E720=\"\",\"\",syoriyou!E720)","v":""},{"$f":"IF(syoriyou!F720=\"\",\"\",syoriyou!F720)","v":""},{"$f":"IF(syoriyou!G720=\"\",\"\",syoriyou!G720)","v":""},{"$f":"IF(syoriyou!H720=\"\",\"\",syoriyou!H720)","v":""},{"$f":"IF(syoriyou!I720=\"\",\"\",syoriyou!I720)","v":""},{"$f":"IF(syoriyou!J720=\"\",\"\",syoriyou!N720)","v":""}]
[{"$f":"IF(syoriyou!A721=\"\",\"\",syoriyou!A721)","v":""},{"$f":"IF(syoriyou!B721=\"\",\"\",syoriyou!B721)","v":""},{"$f":"IF(syoriyou!C721=\"\",\"\",syoriyou!C721)","v":""},{"$f":"IF(syoriyou!D721=\"\",\"\",syoriyou!D721)","v":""},{"$f":"IF(syoriyou!E721=\"\",\"\",syoriyou!E721)","v":""},{"$f":"IF(syoriyou!F721=\"\",\"\",syoriyou!F721)","v":""},{"$f":"IF(syoriyou!G721=\"\",\"\",syoriyou!G721)","v":""},{"$f":"IF(syoriyou!H721=\"\",\"\",syoriyou!H721)","v":""},{"$f":"IF(syoriyou!I721=\"\",\"\",syoriyou!I721)","v":""},{"$f":"IF(syoriyou!J721=\"\",\"\",syoriyou!N721)","v":""}]
[{"$f":"IF(syoriyou!A722=\"\",\"\",syoriyou!A722)","v":""},{"$f":"IF(syoriyou!B722=\"\",\"\",syoriyou!B722)","v":""},{"$f":"IF(syoriyou!C722=\"\",\"\",syoriyou!C722)","v":""},{"$f":"IF(syoriyou!D722=\"\",\"\",syoriyou!D722)","v":""},{"$f":"IF(syoriyou!E722=\"\",\"\",syoriyou!E722)","v":""},{"$f":"IF(syoriyou!F722=\"\",\"\",syoriyou!F722)","v":""},{"$f":"IF(syoriyou!G722=\"\",\"\",syoriyou!G722)","v":""},{"$f":"IF(syoriyou!H722=\"\",\"\",syoriyou!H722)","v":""},{"$f":"IF(syoriyou!I722=\"\",\"\",syoriyou!I722)","v":""},{"$f":"IF(syoriyou!J722=\"\",\"\",syoriyou!N722)","v":""}]
[{"$f":"IF(syoriyou!A723=\"\",\"\",syoriyou!A723)","v":""},{"$f":"IF(syoriyou!B723=\"\",\"\",syoriyou!B723)","v":""},{"$f":"IF(syoriyou!C723=\"\",\"\",syoriyou!C723)","v":""},{"$f":"IF(syoriyou!D723=\"\",\"\",syoriyou!D723)","v":""},{"$f":"IF(syoriyou!E723=\"\",\"\",syoriyou!E723)","v":""},{"$f":"IF(syoriyou!F723=\"\",\"\",syoriyou!F723)","v":""},{"$f":"IF(syoriyou!G723=\"\",\"\",syoriyou!G723)","v":""},{"$f":"IF(syoriyou!H723=\"\",\"\",syoriyou!H723)","v":""},{"$f":"IF(syoriyou!I723=\"\",\"\",syoriyou!I723)","v":""},{"$f":"IF(syoriyou!J723=\"\",\"\",syoriyou!N723)","v":""}]
[{"$f":"IF(syoriyou!A724=\"\",\"\",syoriyou!A724)","v":""},{"$f":"IF(syoriyou!B724=\"\",\"\",syoriyou!B724)","v":""},{"$f":"IF(syoriyou!C724=\"\",\"\",syoriyou!C724)","v":""},{"$f":"IF(syoriyou!D724=\"\",\"\",syoriyou!D724)","v":""},{"$f":"IF(syoriyou!E724=\"\",\"\",syoriyou!E724)","v":""},{"$f":"IF(syoriyou!F724=\"\",\"\",syoriyou!F724)","v":""},{"$f":"IF(syoriyou!G724=\"\",\"\",syoriyou!G724)","v":""},{"$f":"IF(syoriyou!H724=\"\",\"\",syoriyou!H724)","v":""},{"$f":"IF(syoriyou!I724=\"\",\"\",syoriyou!I724)","v":""},{"$f":"IF(syoriyou!J724=\"\",\"\",syoriyou!N724)","v":""}]
[{"$f":"IF(syoriyou!A725=\"\",\"\",syoriyou!A725)","v":""},{"$f":"IF(syoriyou!B725=\"\",\"\",syoriyou!B725)","v":""},{"$f":"IF(syoriyou!C725=\"\",\"\",syoriyou!C725)","v":""},{"$f":"IF(syoriyou!D725=\"\",\"\",syoriyou!D725)","v":""},{"$f":"IF(syoriyou!E725=\"\",\"\",syoriyou!E725)","v":""},{"$f":"IF(syoriyou!F725=\"\",\"\",syoriyou!F725)","v":""},{"$f":"IF(syoriyou!G725=\"\",\"\",syoriyou!G725)","v":""},{"$f":"IF(syoriyou!H725=\"\",\"\",syoriyou!H725)","v":""},{"$f":"IF(syoriyou!I725=\"\",\"\",syoriyou!I725)","v":""},{"$f":"IF(syoriyou!J725=\"\",\"\",syoriyou!N725)","v":""}]
[{"$f":"IF(syoriyou!A726=\"\",\"\",syoriyou!A726)","v":""},{"$f":"IF(syoriyou!B726=\"\",\"\",syoriyou!B726)","v":""},{"$f":"IF(syoriyou!C726=\"\",\"\",syoriyou!C726)","v":""},{"$f":"IF(syoriyou!D726=\"\",\"\",syoriyou!D726)","v":""},{"$f":"IF(syoriyou!E726=\"\",\"\",syoriyou!E726)","v":""},{"$f":"IF(syoriyou!F726=\"\",\"\",syoriyou!F726)","v":""},{"$f":"IF(syoriyou!G726=\"\",\"\",syoriyou!G726)","v":""},{"$f":"IF(syoriyou!H726=\"\",\"\",syoriyou!H726)","v":""},{"$f":"IF(syoriyou!I726=\"\",\"\",syoriyou!I726)","v":""},{"$f":"IF(syoriyou!J726=\"\",\"\",syoriyou!N726)","v":""}]
[{"$f":"IF(syoriyou!A727=\"\",\"\",syoriyou!A727)","v":""},{"$f":"IF(syoriyou!B727=\"\",\"\",syoriyou!B727)","v":""},{"$f":"IF(syoriyou!C727=\"\",\"\",syoriyou!C727)","v":""},{"$f":"IF(syoriyou!D727=\"\",\"\",syoriyou!D727)","v":""},{"$f":"IF(syoriyou!E727=\"\",\"\",syoriyou!E727)","v":""},{"$f":"IF(syoriyou!F727=\"\",\"\",syoriyou!F727)","v":""},{"$f":"IF(syoriyou!G727=\"\",\"\",syoriyou!G727)","v":""},{"$f":"IF(syoriyou!H727=\"\",\"\",syoriyou!H727)","v":""},{"$f":"IF(syoriyou!I727=\"\",\"\",syoriyou!I727)","v":""},{"$f":"IF(syoriyou!J727=\"\",\"\",syoriyou!N727)","v":""}]
[{"$f":"IF(syoriyou!A728=\"\",\"\",syoriyou!A728)","v":""},{"$f":"IF(syoriyou!B728=\"\",\"\",syoriyou!B728)","v":""},{"$f":"IF(syoriyou!C728=\"\",\"\",syoriyou!C728)","v":""},{"$f":"IF(syoriyou!D728=\"\",\"\",syoriyou!D728)","v":""},{"$f":"IF(syoriyou!E728=\"\",\"\",syoriyou!E728)","v":""},{"$f":"IF(syoriyou!F728=\"\",\"\",syoriyou!F728)","v":""},{"$f":"IF(syoriyou!G728=\"\",\"\",syoriyou!G728)","v":""},{"$f":"IF(syoriyou!H728=\"\",\"\",syoriyou!H728)","v":""},{"$f":"IF(syoriyou!I728=\"\",\"\",syoriyou!I728)","v":""},{"$f":"IF(syoriyou!J728=\"\",\"\",syoriyou!N728)","v":""}]
[{"$f":"IF(syoriyou!A729=\"\",\"\",syoriyou!A729)","v":""},{"$f":"IF(syoriyou!B729=\"\",\"\",syoriyou!B729)","v":""},{"$f":"IF(syoriyou!C729=\"\",\"\",syoriyou!C729)","v":""},{"$f":"IF(syoriyou!D729=\"\",\"\",syoriyou!D729)","v":""},{"$f":"IF(syoriyou!E729=\"\",\"\",syoriyou!E729)","v":""},{"$f":"IF(syoriyou!F729=\"\",\"\",syoriyou!F729)","v":""},{"$f":"IF(syoriyou!G729=\"\",\"\",syoriyou!G729)","v":""},{"$f":"IF(syoriyou!H729=\"\",\"\",syoriyou!H729)","v":""},{"$f":"IF(syoriyou!I729=\"\",\"\",syoriyou!I729)","v":""},{"$f":"IF(syoriyou!J729=\"\",\"\",syoriyou!N729)","v":""}]
[{"$f":"IF(syoriyou!A730=\"\",\"\",syoriyou!A730)","v":""},{"$f":"IF(syoriyou!B730=\"\",\"\",syoriyou!B730)","v":""},{"$f":"IF(syoriyou!C730=\"\",\"\",syoriyou!C730)","v":""},{"$f":"IF(syoriyou!D730=\"\",\"\",syoriyou!D730)","v":""},{"$f":"IF(syoriyou!E730=\"\",\"\",syoriyou!E730)","v":""},{"$f":"IF(syoriyou!F730=\"\",\"\",syoriyou!F730)","v":""},{"$f":"IF(syoriyou!G730=\"\",\"\",syoriyou!G730)","v":""},{"$f":"IF(syoriyou!H730=\"\",\"\",syoriyou!H730)","v":""},{"$f":"IF(syoriyou!I730=\"\",\"\",syoriyou!I730)","v":""},{"$f":"IF(syoriyou!J730=\"\",\"\",syoriyou!N730)","v":""}]
[{"$f":"IF(syoriyou!A731=\"\",\"\",syoriyou!A731)","v":""},{"$f":"IF(syoriyou!B731=\"\",\"\",syoriyou!B731)","v":""},{"$f":"IF(syoriyou!C731=\"\",\"\",syoriyou!C731)","v":""},{"$f":"IF(syoriyou!D731=\"\",\"\",syoriyou!D731)","v":""},{"$f":"IF(syoriyou!E731=\"\",\"\",syoriyou!E731)","v":""},{"$f":"IF(syoriyou!F731=\"\",\"\",syoriyou!F731)","v":""},{"$f":"IF(syoriyou!G731=\"\",\"\",syoriyou!G731)","v":""},{"$f":"IF(syoriyou!H731=\"\",\"\",syoriyou!H731)","v":""},{"$f":"IF(syoriyou!I731=\"\",\"\",syoriyou!I731)","v":""},{"$f":"IF(syoriyou!J731=\"\",\"\",syoriyou!N731)","v":""}]
[{"$f":"IF(syoriyou!A732=\"\",\"\",syoriyou!A732)","v":""},{"$f":"IF(syoriyou!B732=\"\",\"\",syoriyou!B732)","v":""},{"$f":"IF(syoriyou!C732=\"\",\"\",syoriyou!C732)","v":""},{"$f":"IF(syoriyou!D732=\"\",\"\",syoriyou!D732)","v":""},{"$f":"IF(syoriyou!E732=\"\",\"\",syoriyou!E732)","v":""},{"$f":"IF(syoriyou!F732=\"\",\"\",syoriyou!F732)","v":""},{"$f":"IF(syoriyou!G732=\"\",\"\",syoriyou!G732)","v":""},{"$f":"IF(syoriyou!H732=\"\",\"\",syoriyou!H732)","v":""},{"$f":"IF(syoriyou!I732=\"\",\"\",syoriyou!I732)","v":""},{"$f":"IF(syoriyou!J732=\"\",\"\",syoriyou!N732)","v":""}]
[{"$f":"IF(syoriyou!A733=\"\",\"\",syoriyou!A733)","v":""},{"$f":"IF(syoriyou!B733=\"\",\"\",syoriyou!B733)","v":""},{"$f":"IF(syoriyou!C733=\"\",\"\",syoriyou!C733)","v":""},{"$f":"IF(syoriyou!D733=\"\",\"\",syoriyou!D733)","v":""},{"$f":"IF(syoriyou!E733=\"\",\"\",syoriyou!E733)","v":""},{"$f":"IF(syoriyou!F733=\"\",\"\",syoriyou!F733)","v":""},{"$f":"IF(syoriyou!G733=\"\",\"\",syoriyou!G733)","v":""},{"$f":"IF(syoriyou!H733=\"\",\"\",syoriyou!H733)","v":""},{"$f":"IF(syoriyou!I733=\"\",\"\",syoriyou!I733)","v":""},{"$f":"IF(syoriyou!J733=\"\",\"\",syoriyou!N733)","v":""}]
[{"$f":"IF(syoriyou!A734=\"\",\"\",syoriyou!A734)","v":""},{"$f":"IF(syoriyou!B734=\"\",\"\",syoriyou!B734)","v":""},{"$f":"IF(syoriyou!C734=\"\",\"\",syoriyou!C734)","v":""},{"$f":"IF(syoriyou!D734=\"\",\"\",syoriyou!D734)","v":""},{"$f":"IF(syoriyou!E734=\"\",\"\",syoriyou!E734)","v":""},{"$f":"IF(syoriyou!F734=\"\",\"\",syoriyou!F734)","v":""},{"$f":"IF(syoriyou!G734=\"\",\"\",syoriyou!G734)","v":""},{"$f":"IF(syoriyou!H734=\"\",\"\",syoriyou!H734)","v":""},{"$f":"IF(syoriyou!I734=\"\",\"\",syoriyou!I734)","v":""},{"$f":"IF(syoriyou!J734=\"\",\"\",syoriyou!N734)","v":""}]
[{"$f":"IF(syoriyou!A735=\"\",\"\",syoriyou!A735)","v":""},{"$f":"IF(syoriyou!B735=\"\",\"\",syoriyou!B735)","v":""},{"$f":"IF(syoriyou!C735=\"\",\"\",syoriyou!C735)","v":""},{"$f":"IF(syoriyou!D735=\"\",\"\",syoriyou!D735)","v":""},{"$f":"IF(syoriyou!E735=\"\",\"\",syoriyou!E735)","v":""},{"$f":"IF(syoriyou!F735=\"\",\"\",syoriyou!F735)","v":""},{"$f":"IF(syoriyou!G735=\"\",\"\",syoriyou!G735)","v":""},{"$f":"IF(syoriyou!H735=\"\",\"\",syoriyou!H735)","v":""},{"$f":"IF(syoriyou!I735=\"\",\"\",syoriyou!I735)","v":""},{"$f":"IF(syoriyou!J735=\"\",\"\",syoriyou!N735)","v":""}]
[{"$f":"IF(syoriyou!A736=\"\",\"\",syoriyou!A736)","v":""},{"$f":"IF(syoriyou!B736=\"\",\"\",syoriyou!B736)","v":""},{"$f":"IF(syoriyou!C736=\"\",\"\",syoriyou!C736)","v":""},{"$f":"IF(syoriyou!D736=\"\",\"\",syoriyou!D736)","v":""},{"$f":"IF(syoriyou!E736=\"\",\"\",syoriyou!E736)","v":""},{"$f":"IF(syoriyou!F736=\"\",\"\",syoriyou!F736)","v":""},{"$f":"IF(syoriyou!G736=\"\",\"\",syoriyou!G736)","v":""},{"$f":"IF(syoriyou!H736=\"\",\"\",syoriyou!H736)","v":""},{"$f":"IF(syoriyou!I736=\"\",\"\",syoriyou!I736)","v":""},{"$f":"IF(syoriyou!J736=\"\",\"\",syoriyou!N736)","v":""}]
[{"$f":"IF(syoriyou!A737=\"\",\"\",syoriyou!A737)","v":""},{"$f":"IF(syoriyou!B737=\"\",\"\",syoriyou!B737)","v":""},{"$f":"IF(syoriyou!C737=\"\",\"\",syoriyou!C737)","v":""},{"$f":"IF(syoriyou!D737=\"\",\"\",syoriyou!D737)","v":""},{"$f":"IF(syoriyou!E737=\"\",\"\",syoriyou!E737)","v":""},{"$f":"IF(syoriyou!F737=\"\",\"\",syoriyou!F737)","v":""},{"$f":"IF(syoriyou!G737=\"\",\"\",syoriyou!G737)","v":""},{"$f":"IF(syoriyou!H737=\"\",\"\",syoriyou!H737)","v":""},{"$f":"IF(syoriyou!I737=\"\",\"\",syoriyou!I737)","v":""},{"$f":"IF(syoriyou!J737=\"\",\"\",syoriyou!N737)","v":""}]
[{"$f":"IF(syoriyou!A738=\"\",\"\",syoriyou!A738)","v":""},{"$f":"IF(syoriyou!B738=\"\",\"\",syoriyou!B738)","v":""},{"$f":"IF(syoriyou!C738=\"\",\"\",syoriyou!C738)","v":""},{"$f":"IF(syoriyou!D738=\"\",\"\",syoriyou!D738)","v":""},{"$f":"IF(syoriyou!E738=\"\",\"\",syoriyou!E738)","v":""},{"$f":"IF(syoriyou!F738=\"\",\"\",syoriyou!F738)","v":""},{"$f":"IF(syoriyou!G738=\"\",\"\",syoriyou!G738)","v":""},{"$f":"IF(syoriyou!H738=\"\",\"\",syoriyou!H738)","v":""},{"$f":"IF(syoriyou!I738=\"\",\"\",syoriyou!I738)","v":""},{"$f":"IF(syoriyou!J738=\"\",\"\",syoriyou!N738)","v":""}]
[{"$f":"IF(syoriyou!A739=\"\",\"\",syoriyou!A739)","v":""},{"$f":"IF(syoriyou!B739=\"\",\"\",syoriyou!B739)","v":""},{"$f":"IF(syoriyou!C739=\"\",\"\",syoriyou!C739)","v":""},{"$f":"IF(syoriyou!D739=\"\",\"\",syoriyou!D739)","v":""},{"$f":"IF(syoriyou!E739=\"\",\"\",syoriyou!E739)","v":""},{"$f":"IF(syoriyou!F739=\"\",\"\",syoriyou!F739)","v":""},{"$f":"IF(syoriyou!G739=\"\",\"\",syoriyou!G739)","v":""},{"$f":"IF(syoriyou!H739=\"\",\"\",syoriyou!H739)","v":""},{"$f":"IF(syoriyou!I739=\"\",\"\",syoriyou!I739)","v":""},{"$f":"IF(syoriyou!J739=\"\",\"\",syoriyou!N739)","v":""}]
[{"$f":"IF(syoriyou!A740=\"\",\"\",syoriyou!A740)","v":""},{"$f":"IF(syoriyou!B740=\"\",\"\",syoriyou!B740)","v":""},{"$f":"IF(syoriyou!C740=\"\",\"\",syoriyou!C740)","v":""},{"$f":"IF(syoriyou!D740=\"\",\"\",syoriyou!D740)","v":""},{"$f":"IF(syoriyou!E740=\"\",\"\",syoriyou!E740)","v":""},{"$f":"IF(syoriyou!F740=\"\",\"\",syoriyou!F740)","v":""},{"$f":"IF(syoriyou!G740=\"\",\"\",syoriyou!G740)","v":""},{"$f":"IF(syoriyou!H740=\"\",\"\",syoriyou!H740)","v":""},{"$f":"IF(syoriyou!I740=\"\",\"\",syoriyou!I740)","v":""},{"$f":"IF(syoriyou!J740=\"\",\"\",syoriyou!N740)","v":""}]
[{"$f":"IF(syoriyou!A741=\"\",\"\",syoriyou!A741)","v":""},{"$f":"IF(syoriyou!B741=\"\",\"\",syoriyou!B741)","v":""},{"$f":"IF(syoriyou!C741=\"\",\"\",syoriyou!C741)","v":""},{"$f":"IF(syoriyou!D741=\"\",\"\",syoriyou!D741)","v":""},{"$f":"IF(syoriyou!E741=\"\",\"\",syoriyou!E741)","v":""},{"$f":"IF(syoriyou!F741=\"\",\"\",syoriyou!F741)","v":""},{"$f":"IF(syoriyou!G741=\"\",\"\",syoriyou!G741)","v":""},{"$f":"IF(syoriyou!H741=\"\",\"\",syoriyou!H741)","v":""},{"$f":"IF(syoriyou!I741=\"\",\"\",syoriyou!I741)","v":""},{"$f":"IF(syoriyou!J741=\"\",\"\",syoriyou!N741)","v":""}]
[{"$f":"IF(syoriyou!A742=\"\",\"\",syoriyou!A742)","v":""},{"$f":"IF(syoriyou!B742=\"\",\"\",syoriyou!B742)","v":""},{"$f":"IF(syoriyou!C742=\"\",\"\",syoriyou!C742)","v":""},{"$f":"IF(syoriyou!D742=\"\",\"\",syoriyou!D742)","v":""},{"$f":"IF(syoriyou!E742=\"\",\"\",syoriyou!E742)","v":""},{"$f":"IF(syoriyou!F742=\"\",\"\",syoriyou!F742)","v":""},{"$f":"IF(syoriyou!G742=\"\",\"\",syoriyou!G742)","v":""},{"$f":"IF(syoriyou!H742=\"\",\"\",syoriyou!H742)","v":""},{"$f":"IF(syoriyou!I742=\"\",\"\",syoriyou!I742)","v":""},{"$f":"IF(syoriyou!J742=\"\",\"\",syoriyou!N742)","v":""}]
[{"$f":"IF(syoriyou!A743=\"\",\"\",syoriyou!A743)","v":""},{"$f":"IF(syoriyou!B743=\"\",\"\",syoriyou!B743)","v":""},{"$f":"IF(syoriyou!C743=\"\",\"\",syoriyou!C743)","v":""},{"$f":"IF(syoriyou!D743=\"\",\"\",syoriyou!D743)","v":""},{"$f":"IF(syoriyou!E743=\"\",\"\",syoriyou!E743)","v":""},{"$f":"IF(syoriyou!F743=\"\",\"\",syoriyou!F743)","v":""},{"$f":"IF(syoriyou!G743=\"\",\"\",syoriyou!G743)","v":""},{"$f":"IF(syoriyou!H743=\"\",\"\",syoriyou!H743)","v":""},{"$f":"IF(syoriyou!I743=\"\",\"\",syoriyou!I743)","v":""},{"$f":"IF(syoriyou!J743=\"\",\"\",syoriyou!N743)","v":""}]
[{"$f":"IF(syoriyou!A744=\"\",\"\",syoriyou!A744)","v":""},{"$f":"IF(syoriyou!B744=\"\",\"\",syoriyou!B744)","v":""},{"$f":"IF(syoriyou!C744=\"\",\"\",syoriyou!C744)","v":""},{"$f":"IF(syoriyou!D744=\"\",\"\",syoriyou!D744)","v":""},{"$f":"IF(syoriyou!E744=\"\",\"\",syoriyou!E744)","v":""},{"$f":"IF(syoriyou!F744=\"\",\"\",syoriyou!F744)","v":""},{"$f":"IF(syoriyou!G744=\"\",\"\",syoriyou!G744)","v":""},{"$f":"IF(syoriyou!H744=\"\",\"\",syoriyou!H744)","v":""},{"$f":"IF(syoriyou!I744=\"\",\"\",syoriyou!I744)","v":""},{"$f":"IF(syoriyou!J744=\"\",\"\",syoriyou!N744)","v":""}]
[{"$f":"IF(syoriyou!A745=\"\",\"\",syoriyou!A745)","v":""},{"$f":"IF(syoriyou!B745=\"\",\"\",syoriyou!B745)","v":""},{"$f":"IF(syoriyou!C745=\"\",\"\",syoriyou!C745)","v":""},{"$f":"IF(syoriyou!D745=\"\",\"\",syoriyou!D745)","v":""},{"$f":"IF(syoriyou!E745=\"\",\"\",syoriyou!E745)","v":""},{"$f":"IF(syoriyou!F745=\"\",\"\",syoriyou!F745)","v":""},{"$f":"IF(syoriyou!G745=\"\",\"\",syoriyou!G745)","v":""},{"$f":"IF(syoriyou!H745=\"\",\"\",syoriyou!H745)","v":""},{"$f":"IF(syoriyou!I745=\"\",\"\",syoriyou!I745)","v":""},{"$f":"IF(syoriyou!J745=\"\",\"\",syoriyou!N745)","v":""}]
[{"$f":"IF(syoriyou!A746=\"\",\"\",syoriyou!A746)","v":""},{"$f":"IF(syoriyou!B746=\"\",\"\",syoriyou!B746)","v":""},{"$f":"IF(syoriyou!C746=\"\",\"\",syoriyou!C746)","v":""},{"$f":"IF(syoriyou!D746=\"\",\"\",syoriyou!D746)","v":""},{"$f":"IF(syoriyou!E746=\"\",\"\",syoriyou!E746)","v":""},{"$f":"IF(syoriyou!F746=\"\",\"\",syoriyou!F746)","v":""},{"$f":"IF(syoriyou!G746=\"\",\"\",syoriyou!G746)","v":""},{"$f":"IF(syoriyou!H746=\"\",\"\",syoriyou!H746)","v":""},{"$f":"IF(syoriyou!I746=\"\",\"\",syoriyou!I746)","v":""},{"$f":"IF(syoriyou!J746=\"\",\"\",syoriyou!N746)","v":""}]
[{"$f":"IF(syoriyou!A747=\"\",\"\",syoriyou!A747)","v":""},{"$f":"IF(syoriyou!B747=\"\",\"\",syoriyou!B747)","v":""},{"$f":"IF(syoriyou!C747=\"\",\"\",syoriyou!C747)","v":""},{"$f":"IF(syoriyou!D747=\"\",\"\",syoriyou!D747)","v":""},{"$f":"IF(syoriyou!E747=\"\",\"\",syoriyou!E747)","v":""},{"$f":"IF(syoriyou!F747=\"\",\"\",syoriyou!F747)","v":""},{"$f":"IF(syoriyou!G747=\"\",\"\",syoriyou!G747)","v":""},{"$f":"IF(syoriyou!H747=\"\",\"\",syoriyou!H747)","v":""},{"$f":"IF(syoriyou!I747=\"\",\"\",syoriyou!I747)","v":""},{"$f":"IF(syoriyou!J747=\"\",\"\",syoriyou!N747)","v":""}]
[{"$f":"IF(syoriyou!A748=\"\",\"\",syoriyou!A748)","v":""},{"$f":"IF(syoriyou!B748=\"\",\"\",syoriyou!B748)","v":""},{"$f":"IF(syoriyou!C748=\"\",\"\",syoriyou!C748)","v":""},{"$f":"IF(syoriyou!D748=\"\",\"\",syoriyou!D748)","v":""},{"$f":"IF(syoriyou!E748=\"\",\"\",syoriyou!E748)","v":""},{"$f":"IF(syoriyou!F748=\"\",\"\",syoriyou!F748)","v":""},{"$f":"IF(syoriyou!G748=\"\",\"\",syoriyou!G748)","v":""},{"$f":"IF(syoriyou!H748=\"\",\"\",syoriyou!H748)","v":""},{"$f":"IF(syoriyou!I748=\"\",\"\",syoriyou!I748)","v":""},{"$f":"IF(syoriyou!J748=\"\",\"\",syoriyou!N748)","v":""}]
[{"$f":"IF(syoriyou!A749=\"\",\"\",syoriyou!A749)","v":""},{"$f":"IF(syoriyou!B749=\"\",\"\",syoriyou!B749)","v":""},{"$f":"IF(syoriyou!C749=\"\",\"\",syoriyou!C749)","v":""},{"$f":"IF(syoriyou!D749=\"\",\"\",syoriyou!D749)","v":""},{"$f":"IF(syoriyou!E749=\"\",\"\",syoriyou!E749)","v":""},{"$f":"IF(syoriyou!F749=\"\",\"\",syoriyou!F749)","v":""},{"$f":"IF(syoriyou!G749=\"\",\"\",syoriyou!G749)","v":""},{"$f":"IF(syoriyou!H749=\"\",\"\",syoriyou!H749)","v":""},{"$f":"IF(syoriyou!I749=\"\",\"\",syoriyou!I749)","v":""},{"$f":"IF(syoriyou!J749=\"\",\"\",syoriyou!N749)","v":""}]
[{"$f":"IF(syoriyou!A750=\"\",\"\",syoriyou!A750)","v":""},{"$f":"IF(syoriyou!B750=\"\",\"\",syoriyou!B750)","v":""},{"$f":"IF(syoriyou!C750=\"\",\"\",syoriyou!C750)","v":""},{"$f":"IF(syoriyou!D750=\"\",\"\",syoriyou!D750)","v":""},{"$f":"IF(syoriyou!E750=\"\",\"\",syoriyou!E750)","v":""},{"$f":"IF(syoriyou!F750=\"\",\"\",syoriyou!F750)","v":""},{"$f":"IF(syoriyou!G750=\"\",\"\",syoriyou!G750)","v":""},{"$f":"IF(syoriyou!H750=\"\",\"\",syoriyou!H750)","v":""},{"$f":"IF(syoriyou!I750=\"\",\"\",syoriyou!I750)","v":""},{"$f":"IF(syoriyou!J750=\"\",\"\",syoriyou!N750)","v":""}]
[{"$f":"IF(syoriyou!A751=\"\",\"\",syoriyou!A751)","v":""},{"$f":"IF(syoriyou!B751=\"\",\"\",syoriyou!B751)","v":""},{"$f":"IF(syoriyou!C751=\"\",\"\",syoriyou!C751)","v":""},{"$f":"IF(syoriyou!D751=\"\",\"\",syoriyou!D751)","v":""},{"$f":"IF(syoriyou!E751=\"\",\"\",syoriyou!E751)","v":""},{"$f":"IF(syoriyou!F751=\"\",\"\",syoriyou!F751)","v":""},{"$f":"IF(syoriyou!G751=\"\",\"\",syoriyou!G751)","v":""},{"$f":"IF(syoriyou!H751=\"\",\"\",syoriyou!H751)","v":""},{"$f":"IF(syoriyou!I751=\"\",\"\",syoriyou!I751)","v":""},{"$f":"IF(syoriyou!J751=\"\",\"\",syoriyou!N751)","v":""}]
[{"$f":"IF(syoriyou!A752=\"\",\"\",syoriyou!A752)","v":""},{"$f":"IF(syoriyou!B752=\"\",\"\",syoriyou!B752)","v":""},{"$f":"IF(syoriyou!C752=\"\",\"\",syoriyou!C752)","v":""},{"$f":"IF(syoriyou!D752=\"\",\"\",syoriyou!D752)","v":""},{"$f":"IF(syoriyou!E752=\"\",\"\",syoriyou!E752)","v":""},{"$f":"IF(syoriyou!F752=\"\",\"\",syoriyou!F752)","v":""},{"$f":"IF(syoriyou!G752=\"\",\"\",syoriyou!G752)","v":""},{"$f":"IF(syoriyou!H752=\"\",\"\",syoriyou!H752)","v":""},{"$f":"IF(syoriyou!I752=\"\",\"\",syoriyou!I752)","v":""},{"$f":"IF(syoriyou!J752=\"\",\"\",syoriyou!N752)","v":""}]
[{"$f":"IF(syoriyou!A753=\"\",\"\",syoriyou!A753)","v":""},{"$f":"IF(syoriyou!B753=\"\",\"\",syoriyou!B753)","v":""},{"$f":"IF(syoriyou!C753=\"\",\"\",syoriyou!C753)","v":""},{"$f":"IF(syoriyou!D753=\"\",\"\",syoriyou!D753)","v":""},{"$f":"IF(syoriyou!E753=\"\",\"\",syoriyou!E753)","v":""},{"$f":"IF(syoriyou!F753=\"\",\"\",syoriyou!F753)","v":""},{"$f":"IF(syoriyou!G753=\"\",\"\",syoriyou!G753)","v":""},{"$f":"IF(syoriyou!H753=\"\",\"\",syoriyou!H753)","v":""},{"$f":"IF(syoriyou!I753=\"\",\"\",syoriyou!I753)","v":""},{"$f":"IF(syoriyou!J753=\"\",\"\",syoriyou!N753)","v":""}]
[{"$f":"IF(syoriyou!A754=\"\",\"\",syoriyou!A754)","v":""},{"$f":"IF(syoriyou!B754=\"\",\"\",syoriyou!B754)","v":""},{"$f":"IF(syoriyou!C754=\"\",\"\",syoriyou!C754)","v":""},{"$f":"IF(syoriyou!D754=\"\",\"\",syoriyou!D754)","v":""},{"$f":"IF(syoriyou!E754=\"\",\"\",syoriyou!E754)","v":""},{"$f":"IF(syoriyou!F754=\"\",\"\",syoriyou!F754)","v":""},{"$f":"IF(syoriyou!G754=\"\",\"\",syoriyou!G754)","v":""},{"$f":"IF(syoriyou!H754=\"\",\"\",syoriyou!H754)","v":""},{"$f":"IF(syoriyou!I754=\"\",\"\",syoriyou!I754)","v":""},{"$f":"IF(syoriyou!J754=\"\",\"\",syoriyou!N754)","v":""}]
[{"$f":"IF(syoriyou!A755=\"\",\"\",syoriyou!A755)","v":""},{"$f":"IF(syoriyou!B755=\"\",\"\",syoriyou!B755)","v":""},{"$f":"IF(syoriyou!C755=\"\",\"\",syoriyou!C755)","v":""},{"$f":"IF(syoriyou!D755=\"\",\"\",syoriyou!D755)","v":""},{"$f":"IF(syoriyou!E755=\"\",\"\",syoriyou!E755)","v":""},{"$f":"IF(syoriyou!F755=\"\",\"\",syoriyou!F755)","v":""},{"$f":"IF(syoriyou!G755=\"\",\"\",syoriyou!G755)","v":""},{"$f":"IF(syoriyou!H755=\"\",\"\",syoriyou!H755)","v":""},{"$f":"IF(syoriyou!I755=\"\",\"\",syoriyou!I755)","v":""},{"$f":"IF(syoriyou!J755=\"\",\"\",syoriyou!N755)","v":""}]
[{"$f":"IF(syoriyou!A756=\"\",\"\",syoriyou!A756)","v":""},{"$f":"IF(syoriyou!B756=\"\",\"\",syoriyou!B756)","v":""},{"$f":"IF(syoriyou!C756=\"\",\"\",syoriyou!C756)","v":""},{"$f":"IF(syoriyou!D756=\"\",\"\",syoriyou!D756)","v":""},{"$f":"IF(syoriyou!E756=\"\",\"\",syoriyou!E756)","v":""},{"$f":"IF(syoriyou!F756=\"\",\"\",syoriyou!F756)","v":""},{"$f":"IF(syoriyou!G756=\"\",\"\",syoriyou!G756)","v":""},{"$f":"IF(syoriyou!H756=\"\",\"\",syoriyou!H756)","v":""},{"$f":"IF(syoriyou!I756=\"\",\"\",syoriyou!I756)","v":""},{"$f":"IF(syoriyou!J756=\"\",\"\",syoriyou!N756)","v":""}]
[{"$f":"IF(syoriyou!A757=\"\",\"\",syoriyou!A757)","v":""},{"$f":"IF(syoriyou!B757=\"\",\"\",syoriyou!B757)","v":""},{"$f":"IF(syoriyou!C757=\"\",\"\",syoriyou!C757)","v":""},{"$f":"IF(syoriyou!D757=\"\",\"\",syoriyou!D757)","v":""},{"$f":"IF(syoriyou!E757=\"\",\"\",syoriyou!E757)","v":""},{"$f":"IF(syoriyou!F757=\"\",\"\",syoriyou!F757)","v":""},{"$f":"IF(syoriyou!G757=\"\",\"\",syoriyou!G757)","v":""},{"$f":"IF(syoriyou!H757=\"\",\"\",syoriyou!H757)","v":""},{"$f":"IF(syoriyou!I757=\"\",\"\",syoriyou!I757)","v":""},{"$f":"IF(syoriyou!J757=\"\",\"\",syoriyou!N757)","v":""}]
[{"$f":"IF(syoriyou!A758=\"\",\"\",syoriyou!A758)","v":""},{"$f":"IF(syoriyou!B758=\"\",\"\",syoriyou!B758)","v":""},{"$f":"IF(syoriyou!C758=\"\",\"\",syoriyou!C758)","v":""},{"$f":"IF(syoriyou!D758=\"\",\"\",syoriyou!D758)","v":""},{"$f":"IF(syoriyou!E758=\"\",\"\",syoriyou!E758)","v":""},{"$f":"IF(syoriyou!F758=\"\",\"\",syoriyou!F758)","v":""},{"$f":"IF(syoriyou!G758=\"\",\"\",syoriyou!G758)","v":""},{"$f":"IF(syoriyou!H758=\"\",\"\",syoriyou!H758)","v":""},{"$f":"IF(syoriyou!I758=\"\",\"\",syoriyou!I758)","v":""},{"$f":"IF(syoriyou!J758=\"\",\"\",syoriyou!N758)","v":""}]
[{"$f":"IF(syoriyou!A759=\"\",\"\",syoriyou!A759)","v":""},{"$f":"IF(syoriyou!B759=\"\",\"\",syoriyou!B759)","v":""},{"$f":"IF(syoriyou!C759=\"\",\"\",syoriyou!C759)","v":""},{"$f":"IF(syoriyou!D759=\"\",\"\",syoriyou!D759)","v":""},{"$f":"IF(syoriyou!E759=\"\",\"\",syoriyou!E759)","v":""},{"$f":"IF(syoriyou!F759=\"\",\"\",syoriyou!F759)","v":""},{"$f":"IF(syoriyou!G759=\"\",\"\",syoriyou!G759)","v":""},{"$f":"IF(syoriyou!H759=\"\",\"\",syoriyou!H759)","v":""},{"$f":"IF(syoriyou!I759=\"\",\"\",syoriyou!I759)","v":""},{"$f":"IF(syoriyou!J759=\"\",\"\",syoriyou!N759)","v":""}]
[{"$f":"IF(syoriyou!A760=\"\",\"\",syoriyou!A760)","v":""},{"$f":"IF(syoriyou!B760=\"\",\"\",syoriyou!B760)","v":""},{"$f":"IF(syoriyou!C760=\"\",\"\",syoriyou!C760)","v":""},{"$f":"IF(syoriyou!D760=\"\",\"\",syoriyou!D760)","v":""},{"$f":"IF(syoriyou!E760=\"\",\"\",syoriyou!E760)","v":""},{"$f":"IF(syoriyou!F760=\"\",\"\",syoriyou!F760)","v":""},{"$f":"IF(syoriyou!G760=\"\",\"\",syoriyou!G760)","v":""},{"$f":"IF(syoriyou!H760=\"\",\"\",syoriyou!H760)","v":""},{"$f":"IF(syoriyou!I760=\"\",\"\",syoriyou!I760)","v":""},{"$f":"IF(syoriyou!J760=\"\",\"\",syoriyou!N760)","v":""}]
[{"$f":"IF(syoriyou!A761=\"\",\"\",syoriyou!A761)","v":""},{"$f":"IF(syoriyou!B761=\"\",\"\",syoriyou!B761)","v":""},{"$f":"IF(syoriyou!C761=\"\",\"\",syoriyou!C761)","v":""},{"$f":"IF(syoriyou!D761=\"\",\"\",syoriyou!D761)","v":""},{"$f":"IF(syoriyou!E761=\"\",\"\",syoriyou!E761)","v":""},{"$f":"IF(syoriyou!F761=\"\",\"\",syoriyou!F761)","v":""},{"$f":"IF(syoriyou!G761=\"\",\"\",syoriyou!G761)","v":""},{"$f":"IF(syoriyou!H761=\"\",\"\",syoriyou!H761)","v":""},{"$f":"IF(syoriyou!I761=\"\",\"\",syoriyou!I761)","v":""},{"$f":"IF(syoriyou!J761=\"\",\"\",syoriyou!N761)","v":""}]
[{"$f":"IF(syoriyou!A762=\"\",\"\",syoriyou!A762)","v":""},{"$f":"IF(syoriyou!B762=\"\",\"\",syoriyou!B762)","v":""},{"$f":"IF(syoriyou!C762=\"\",\"\",syoriyou!C762)","v":""},{"$f":"IF(syoriyou!D762=\"\",\"\",syoriyou!D762)","v":""},{"$f":"IF(syoriyou!E762=\"\",\"\",syoriyou!E762)","v":""},{"$f":"IF(syoriyou!F762=\"\",\"\",syoriyou!F762)","v":""},{"$f":"IF(syoriyou!G762=\"\",\"\",syoriyou!G762)","v":""},{"$f":"IF(syoriyou!H762=\"\",\"\",syoriyou!H762)","v":""},{"$f":"IF(syoriyou!I762=\"\",\"\",syoriyou!I762)","v":""},{"$f":"IF(syoriyou!J762=\"\",\"\",syoriyou!N762)","v":""}]
[{"$f":"IF(syoriyou!A763=\"\",\"\",syoriyou!A763)","v":""},{"$f":"IF(syoriyou!B763=\"\",\"\",syoriyou!B763)","v":""},{"$f":"IF(syoriyou!C763=\"\",\"\",syoriyou!C763)","v":""},{"$f":"IF(syoriyou!D763=\"\",\"\",syoriyou!D763)","v":""},{"$f":"IF(syoriyou!E763=\"\",\"\",syoriyou!E763)","v":""},{"$f":"IF(syoriyou!F763=\"\",\"\",syoriyou!F763)","v":""},{"$f":"IF(syoriyou!G763=\"\",\"\",syoriyou!G763)","v":""},{"$f":"IF(syoriyou!H763=\"\",\"\",syoriyou!H763)","v":""},{"$f":"IF(syoriyou!I763=\"\",\"\",syoriyou!I763)","v":""},{"$f":"IF(syoriyou!J763=\"\",\"\",syoriyou!N763)","v":""}]
[{"$f":"IF(syoriyou!A764=\"\",\"\",syoriyou!A764)","v":""},{"$f":"IF(syoriyou!B764=\"\",\"\",syoriyou!B764)","v":""},{"$f":"IF(syoriyou!C764=\"\",\"\",syoriyou!C764)","v":""},{"$f":"IF(syoriyou!D764=\"\",\"\",syoriyou!D764)","v":""},{"$f":"IF(syoriyou!E764=\"\",\"\",syoriyou!E764)","v":""},{"$f":"IF(syoriyou!F764=\"\",\"\",syoriyou!F764)","v":""},{"$f":"IF(syoriyou!G764=\"\",\"\",syoriyou!G764)","v":""},{"$f":"IF(syoriyou!H764=\"\",\"\",syoriyou!H764)","v":""},{"$f":"IF(syoriyou!I764=\"\",\"\",syoriyou!I764)","v":""},{"$f":"IF(syoriyou!J764=\"\",\"\",syoriyou!N764)","v":""}]
[{"$f":"IF(syoriyou!A765=\"\",\"\",syoriyou!A765)","v":""},{"$f":"IF(syoriyou!B765=\"\",\"\",syoriyou!B765)","v":""},{"$f":"IF(syoriyou!C765=\"\",\"\",syoriyou!C765)","v":""},{"$f":"IF(syoriyou!D765=\"\",\"\",syoriyou!D765)","v":""},{"$f":"IF(syoriyou!E765=\"\",\"\",syoriyou!E765)","v":""},{"$f":"IF(syoriyou!F765=\"\",\"\",syoriyou!F765)","v":""},{"$f":"IF(syoriyou!G765=\"\",\"\",syoriyou!G765)","v":""},{"$f":"IF(syoriyou!H765=\"\",\"\",syoriyou!H765)","v":""},{"$f":"IF(syoriyou!I765=\"\",\"\",syoriyou!I765)","v":""},{"$f":"IF(syoriyou!J765=\"\",\"\",syoriyou!N765)","v":""}]
[{"$f":"IF(syoriyou!A766=\"\",\"\",syoriyou!A766)","v":""},{"$f":"IF(syoriyou!B766=\"\",\"\",syoriyou!B766)","v":""},{"$f":"IF(syoriyou!C766=\"\",\"\",syoriyou!C766)","v":""},{"$f":"IF(syoriyou!D766=\"\",\"\",syoriyou!D766)","v":""},{"$f":"IF(syoriyou!E766=\"\",\"\",syoriyou!E766)","v":""},{"$f":"IF(syoriyou!F766=\"\",\"\",syoriyou!F766)","v":""},{"$f":"IF(syoriyou!G766=\"\",\"\",syoriyou!G766)","v":""},{"$f":"IF(syoriyou!H766=\"\",\"\",syoriyou!H766)","v":""},{"$f":"IF(syoriyou!I766=\"\",\"\",syoriyou!I766)","v":""},{"$f":"IF(syoriyou!J766=\"\",\"\",syoriyou!N766)","v":""}]
[{"$f":"IF(syoriyou!A767=\"\",\"\",syoriyou!A767)","v":""},{"$f":"IF(syoriyou!B767=\"\",\"\",syoriyou!B767)","v":""},{"$f":"IF(syoriyou!C767=\"\",\"\",syoriyou!C767)","v":""},{"$f":"IF(syoriyou!D767=\"\",\"\",syoriyou!D767)","v":""},{"$f":"IF(syoriyou!E767=\"\",\"\",syoriyou!E767)","v":""},{"$f":"IF(syoriyou!F767=\"\",\"\",syoriyou!F767)","v":""},{"$f":"IF(syoriyou!G767=\"\",\"\",syoriyou!G767)","v":""},{"$f":"IF(syoriyou!H767=\"\",\"\",syoriyou!H767)","v":""},{"$f":"IF(syoriyou!I767=\"\",\"\",syoriyou!I767)","v":""},{"$f":"IF(syoriyou!J767=\"\",\"\",syoriyou!N767)","v":""}]
[{"$f":"IF(syoriyou!A768=\"\",\"\",syoriyou!A768)","v":""},{"$f":"IF(syoriyou!B768=\"\",\"\",syoriyou!B768)","v":""},{"$f":"IF(syoriyou!C768=\"\",\"\",syoriyou!C768)","v":""},{"$f":"IF(syoriyou!D768=\"\",\"\",syoriyou!D768)","v":""},{"$f":"IF(syoriyou!E768=\"\",\"\",syoriyou!E768)","v":""},{"$f":"IF(syoriyou!F768=\"\",\"\",syoriyou!F768)","v":""},{"$f":"IF(syoriyou!G768=\"\",\"\",syoriyou!G768)","v":""},{"$f":"IF(syoriyou!H768=\"\",\"\",syoriyou!H768)","v":""},{"$f":"IF(syoriyou!I768=\"\",\"\",syoriyou!I768)","v":""},{"$f":"IF(syoriyou!J768=\"\",\"\",syoriyou!N768)","v":""}]
[{"$f":"IF(syoriyou!A769=\"\",\"\",syoriyou!A769)","v":""},{"$f":"IF(syoriyou!B769=\"\",\"\",syoriyou!B769)","v":""},{"$f":"IF(syoriyou!C769=\"\",\"\",syoriyou!C769)","v":""},{"$f":"IF(syoriyou!D769=\"\",\"\",syoriyou!D769)","v":""},{"$f":"IF(syoriyou!E769=\"\",\"\",syoriyou!E769)","v":""},{"$f":"IF(syoriyou!F769=\"\",\"\",syoriyou!F769)","v":""},{"$f":"IF(syoriyou!G769=\"\",\"\",syoriyou!G769)","v":""},{"$f":"IF(syoriyou!H769=\"\",\"\",syoriyou!H769)","v":""},{"$f":"IF(syoriyou!I769=\"\",\"\",syoriyou!I769)","v":""},{"$f":"IF(syoriyou!J769=\"\",\"\",syoriyou!N769)","v":""}]
[{"$f":"IF(syoriyou!A770=\"\",\"\",syoriyou!A770)","v":""},{"$f":"IF(syoriyou!B770=\"\",\"\",syoriyou!B770)","v":""},{"$f":"IF(syoriyou!C770=\"\",\"\",syoriyou!C770)","v":""},{"$f":"IF(syoriyou!D770=\"\",\"\",syoriyou!D770)","v":""},{"$f":"IF(syoriyou!E770=\"\",\"\",syoriyou!E770)","v":""},{"$f":"IF(syoriyou!F770=\"\",\"\",syoriyou!F770)","v":""},{"$f":"IF(syoriyou!G770=\"\",\"\",syoriyou!G770)","v":""},{"$f":"IF(syoriyou!H770=\"\",\"\",syoriyou!H770)","v":""},{"$f":"IF(syoriyou!I770=\"\",\"\",syoriyou!I770)","v":""},{"$f":"IF(syoriyou!J770=\"\",\"\",syoriyou!N770)","v":""}]
[{"$f":"IF(syoriyou!A771=\"\",\"\",syoriyou!A771)","v":""},{"$f":"IF(syoriyou!B771=\"\",\"\",syoriyou!B771)","v":""},{"$f":"IF(syoriyou!C771=\"\",\"\",syoriyou!C771)","v":""},{"$f":"IF(syoriyou!D771=\"\",\"\",syoriyou!D771)","v":""},{"$f":"IF(syoriyou!E771=\"\",\"\",syoriyou!E771)","v":""},{"$f":"IF(syoriyou!F771=\"\",\"\",syoriyou!F771)","v":""},{"$f":"IF(syoriyou!G771=\"\",\"\",syoriyou!G771)","v":""},{"$f":"IF(syoriyou!H771=\"\",\"\",syoriyou!H771)","v":""},{"$f":"IF(syoriyou!I771=\"\",\"\",syoriyou!I771)","v":""},{"$f":"IF(syoriyou!J771=\"\",\"\",syoriyou!N771)","v":""}]
[{"$f":"IF(syoriyou!A772=\"\",\"\",syoriyou!A772)","v":""},{"$f":"IF(syoriyou!B772=\"\",\"\",syoriyou!B772)","v":""},{"$f":"IF(syoriyou!C772=\"\",\"\",syoriyou!C772)","v":""},{"$f":"IF(syoriyou!D772=\"\",\"\",syoriyou!D772)","v":""},{"$f":"IF(syoriyou!E772=\"\",\"\",syoriyou!E772)","v":""},{"$f":"IF(syoriyou!F772=\"\",\"\",syoriyou!F772)","v":""},{"$f":"IF(syoriyou!G772=\"\",\"\",syoriyou!G772)","v":""},{"$f":"IF(syoriyou!H772=\"\",\"\",syoriyou!H772)","v":""},{"$f":"IF(syoriyou!I772=\"\",\"\",syoriyou!I772)","v":""},{"$f":"IF(syoriyou!J772=\"\",\"\",syoriyou!N772)","v":""}]
[{"$f":"IF(syoriyou!A773=\"\",\"\",syoriyou!A773)","v":""},{"$f":"IF(syoriyou!B773=\"\",\"\",syoriyou!B773)","v":""},{"$f":"IF(syoriyou!C773=\"\",\"\",syoriyou!C773)","v":""},{"$f":"IF(syoriyou!D773=\"\",\"\",syoriyou!D773)","v":""},{"$f":"IF(syoriyou!E773=\"\",\"\",syoriyou!E773)","v":""},{"$f":"IF(syoriyou!F773=\"\",\"\",syoriyou!F773)","v":""},{"$f":"IF(syoriyou!G773=\"\",\"\",syoriyou!G773)","v":""},{"$f":"IF(syoriyou!H773=\"\",\"\",syoriyou!H773)","v":""},{"$f":"IF(syoriyou!I773=\"\",\"\",syoriyou!I773)","v":""},{"$f":"IF(syoriyou!J773=\"\",\"\",syoriyou!N773)","v":""}]
[{"$f":"IF(syoriyou!A774=\"\",\"\",syoriyou!A774)","v":""},{"$f":"IF(syoriyou!B774=\"\",\"\",syoriyou!B774)","v":""},{"$f":"IF(syoriyou!C774=\"\",\"\",syoriyou!C774)","v":""},{"$f":"IF(syoriyou!D774=\"\",\"\",syoriyou!D774)","v":""},{"$f":"IF(syoriyou!E774=\"\",\"\",syoriyou!E774)","v":""},{"$f":"IF(syoriyou!F774=\"\",\"\",syoriyou!F774)","v":""},{"$f":"IF(syoriyou!G774=\"\",\"\",syoriyou!G774)","v":""},{"$f":"IF(syoriyou!H774=\"\",\"\",syoriyou!H774)","v":""},{"$f":"IF(syoriyou!I774=\"\",\"\",syoriyou!I774)","v":""},{"$f":"IF(syoriyou!J774=\"\",\"\",syoriyou!N774)","v":""}]
[{"$f":"IF(syoriyou!A775=\"\",\"\",syoriyou!A775)","v":""},{"$f":"IF(syoriyou!B775=\"\",\"\",syoriyou!B775)","v":""},{"$f":"IF(syoriyou!C775=\"\",\"\",syoriyou!C775)","v":""},{"$f":"IF(syoriyou!D775=\"\",\"\",syoriyou!D775)","v":""},{"$f":"IF(syoriyou!E775=\"\",\"\",syoriyou!E775)","v":""},{"$f":"IF(syoriyou!F775=\"\",\"\",syoriyou!F775)","v":""},{"$f":"IF(syoriyou!G775=\"\",\"\",syoriyou!G775)","v":""},{"$f":"IF(syoriyou!H775=\"\",\"\",syoriyou!H775)","v":""},{"$f":"IF(syoriyou!I775=\"\",\"\",syoriyou!I775)","v":""},{"$f":"IF(syoriyou!J775=\"\",\"\",syoriyou!N775)","v":""}]
[{"$f":"IF(syoriyou!A776=\"\",\"\",syoriyou!A776)","v":""},{"$f":"IF(syoriyou!B776=\"\",\"\",syoriyou!B776)","v":""},{"$f":"IF(syoriyou!C776=\"\",\"\",syoriyou!C776)","v":""},{"$f":"IF(syoriyou!D776=\"\",\"\",syoriyou!D776)","v":""},{"$f":"IF(syoriyou!E776=\"\",\"\",syoriyou!E776)","v":""},{"$f":"IF(syoriyou!F776=\"\",\"\",syoriyou!F776)","v":""},{"$f":"IF(syoriyou!G776=\"\",\"\",syoriyou!G776)","v":""},{"$f":"IF(syoriyou!H776=\"\",\"\",syoriyou!H776)","v":""},{"$f":"IF(syoriyou!I776=\"\",\"\",syoriyou!I776)","v":""},{"$f":"IF(syoriyou!J776=\"\",\"\",syoriyou!N776)","v":""}]
[{"$f":"IF(syoriyou!A777=\"\",\"\",syoriyou!A777)","v":""},{"$f":"IF(syoriyou!B777=\"\",\"\",syoriyou!B777)","v":""},{"$f":"IF(syoriyou!C777=\"\",\"\",syoriyou!C777)","v":""},{"$f":"IF(syoriyou!D777=\"\",\"\",syoriyou!D777)","v":""},{"$f":"IF(syoriyou!E777=\"\",\"\",syoriyou!E777)","v":""},{"$f":"IF(syoriyou!F777=\"\",\"\",syoriyou!F777)","v":""},{"$f":"IF(syoriyou!G777=\"\",\"\",syoriyou!G777)","v":""},{"$f":"IF(syoriyou!H777=\"\",\"\",syoriyou!H777)","v":""},{"$f":"IF(syoriyou!I777=\"\",\"\",syoriyou!I777)","v":""},{"$f":"IF(syoriyou!J777=\"\",\"\",syoriyou!N777)","v":""}]
[{"$f":"IF(syoriyou!A778=\"\",\"\",syoriyou!A778)","v":""},{"$f":"IF(syoriyou!B778=\"\",\"\",syoriyou!B778)","v":""},{"$f":"IF(syoriyou!C778=\"\",\"\",syoriyou!C778)","v":""},{"$f":"IF(syoriyou!D778=\"\",\"\",syoriyou!D778)","v":""},{"$f":"IF(syoriyou!E778=\"\",\"\",syoriyou!E778)","v":""},{"$f":"IF(syoriyou!F778=\"\",\"\",syoriyou!F778)","v":""},{"$f":"IF(syoriyou!G778=\"\",\"\",syoriyou!G778)","v":""},{"$f":"IF(syoriyou!H778=\"\",\"\",syoriyou!H778)","v":""},{"$f":"IF(syoriyou!I778=\"\",\"\",syoriyou!I778)","v":""},{"$f":"IF(syoriyou!J778=\"\",\"\",syoriyou!N778)","v":""}]
[{"$f":"IF(syoriyou!A779=\"\",\"\",syoriyou!A779)","v":""},{"$f":"IF(syoriyou!B779=\"\",\"\",syoriyou!B779)","v":""},{"$f":"IF(syoriyou!C779=\"\",\"\",syoriyou!C779)","v":""},{"$f":"IF(syoriyou!D779=\"\",\"\",syoriyou!D779)","v":""},{"$f":"IF(syoriyou!E779=\"\",\"\",syoriyou!E779)","v":""},{"$f":"IF(syoriyou!F779=\"\",\"\",syoriyou!F779)","v":""},{"$f":"IF(syoriyou!G779=\"\",\"\",syoriyou!G779)","v":""},{"$f":"IF(syoriyou!H779=\"\",\"\",syoriyou!H779)","v":""},{"$f":"IF(syoriyou!I779=\"\",\"\",syoriyou!I779)","v":""},{"$f":"IF(syoriyou!J779=\"\",\"\",syoriyou!N779)","v":""}]
[{"$f":"IF(syoriyou!A780=\"\",\"\",syoriyou!A780)","v":""},{"$f":"IF(syoriyou!B780=\"\",\"\",syoriyou!B780)","v":""},{"$f":"IF(syoriyou!C780=\"\",\"\",syoriyou!C780)","v":""},{"$f":"IF(syoriyou!D780=\"\",\"\",syoriyou!D780)","v":""},{"$f":"IF(syoriyou!E780=\"\",\"\",syoriyou!E780)","v":""},{"$f":"IF(syoriyou!F780=\"\",\"\",syoriyou!F780)","v":""},{"$f":"IF(syoriyou!G780=\"\",\"\",syoriyou!G780)","v":""},{"$f":"IF(syoriyou!H780=\"\",\"\",syoriyou!H780)","v":""},{"$f":"IF(syoriyou!I780=\"\",\"\",syoriyou!I780)","v":""},{"$f":"IF(syoriyou!J780=\"\",\"\",syoriyou!N780)","v":""}]
[{"$f":"IF(syoriyou!A781=\"\",\"\",syoriyou!A781)","v":""},{"$f":"IF(syoriyou!B781=\"\",\"\",syoriyou!B781)","v":""},{"$f":"IF(syoriyou!C781=\"\",\"\",syoriyou!C781)","v":""},{"$f":"IF(syoriyou!D781=\"\",\"\",syoriyou!D781)","v":""},{"$f":"IF(syoriyou!E781=\"\",\"\",syoriyou!E781)","v":""},{"$f":"IF(syoriyou!F781=\"\",\"\",syoriyou!F781)","v":""},{"$f":"IF(syoriyou!G781=\"\",\"\",syoriyou!G781)","v":""},{"$f":"IF(syoriyou!H781=\"\",\"\",syoriyou!H781)","v":""},{"$f":"IF(syoriyou!I781=\"\",\"\",syoriyou!I781)","v":""},{"$f":"IF(syoriyou!J781=\"\",\"\",syoriyou!N781)","v":""}]
[{"$f":"IF(syoriyou!A782=\"\",\"\",syoriyou!A782)","v":""},{"$f":"IF(syoriyou!B782=\"\",\"\",syoriyou!B782)","v":""},{"$f":"IF(syoriyou!C782=\"\",\"\",syoriyou!C782)","v":""},{"$f":"IF(syoriyou!D782=\"\",\"\",syoriyou!D782)","v":""},{"$f":"IF(syoriyou!E782=\"\",\"\",syoriyou!E782)","v":""},{"$f":"IF(syoriyou!F782=\"\",\"\",syoriyou!F782)","v":""},{"$f":"IF(syoriyou!G782=\"\",\"\",syoriyou!G782)","v":""},{"$f":"IF(syoriyou!H782=\"\",\"\",syoriyou!H782)","v":""},{"$f":"IF(syoriyou!I782=\"\",\"\",syoriyou!I782)","v":""},{"$f":"IF(syoriyou!J782=\"\",\"\",syoriyou!N782)","v":""}]
[{"$f":"IF(syoriyou!A783=\"\",\"\",syoriyou!A783)","v":""},{"$f":"IF(syoriyou!B783=\"\",\"\",syoriyou!B783)","v":""},{"$f":"IF(syoriyou!C783=\"\",\"\",syoriyou!C783)","v":""},{"$f":"IF(syoriyou!D783=\"\",\"\",syoriyou!D783)","v":""},{"$f":"IF(syoriyou!E783=\"\",\"\",syoriyou!E783)","v":""},{"$f":"IF(syoriyou!F783=\"\",\"\",syoriyou!F783)","v":""},{"$f":"IF(syoriyou!G783=\"\",\"\",syoriyou!G783)","v":""},{"$f":"IF(syoriyou!H783=\"\",\"\",syoriyou!H783)","v":""},{"$f":"IF(syoriyou!I783=\"\",\"\",syoriyou!I783)","v":""},{"$f":"IF(syoriyou!J783=\"\",\"\",syoriyou!N783)","v":""}]
[{"$f":"IF(syoriyou!A784=\"\",\"\",syoriyou!A784)","v":""},{"$f":"IF(syoriyou!B784=\"\",\"\",syoriyou!B784)","v":""},{"$f":"IF(syoriyou!C784=\"\",\"\",syoriyou!C784)","v":""},{"$f":"IF(syoriyou!D784=\"\",\"\",syoriyou!D784)","v":""},{"$f":"IF(syoriyou!E784=\"\",\"\",syoriyou!E784)","v":""},{"$f":"IF(syoriyou!F784=\"\",\"\",syoriyou!F784)","v":""},{"$f":"IF(syoriyou!G784=\"\",\"\",syoriyou!G784)","v":""},{"$f":"IF(syoriyou!H784=\"\",\"\",syoriyou!H784)","v":""},{"$f":"IF(syoriyou!I784=\"\",\"\",syoriyou!I784)","v":""},{"$f":"IF(syoriyou!J784=\"\",\"\",syoriyou!N784)","v":""}]
[{"$f":"IF(syoriyou!A785=\"\",\"\",syoriyou!A785)","v":""},{"$f":"IF(syoriyou!B785=\"\",\"\",syoriyou!B785)","v":""},{"$f":"IF(syoriyou!C785=\"\",\"\",syoriyou!C785)","v":""},{"$f":"IF(syoriyou!D785=\"\",\"\",syoriyou!D785)","v":""},{"$f":"IF(syoriyou!E785=\"\",\"\",syoriyou!E785)","v":""},{"$f":"IF(syoriyou!F785=\"\",\"\",syoriyou!F785)","v":""},{"$f":"IF(syoriyou!G785=\"\",\"\",syoriyou!G785)","v":""},{"$f":"IF(syoriyou!H785=\"\",\"\",syoriyou!H785)","v":""},{"$f":"IF(syoriyou!I785=\"\",\"\",syoriyou!I785)","v":""},{"$f":"IF(syoriyou!J785=\"\",\"\",syoriyou!N785)","v":""}]
[{"$f":"IF(syoriyou!A786=\"\",\"\",syoriyou!A786)","v":""},{"$f":"IF(syoriyou!B786=\"\",\"\",syoriyou!B786)","v":""},{"$f":"IF(syoriyou!C786=\"\",\"\",syoriyou!C786)","v":""},{"$f":"IF(syoriyou!D786=\"\",\"\",syoriyou!D786)","v":""},{"$f":"IF(syoriyou!E786=\"\",\"\",syoriyou!E786)","v":""},{"$f":"IF(syoriyou!F786=\"\",\"\",syoriyou!F786)","v":""},{"$f":"IF(syoriyou!G786=\"\",\"\",syoriyou!G786)","v":""},{"$f":"IF(syoriyou!H786=\"\",\"\",syoriyou!H786)","v":""},{"$f":"IF(syoriyou!I786=\"\",\"\",syoriyou!I786)","v":""},{"$f":"IF(syoriyou!J786=\"\",\"\",syoriyou!N786)","v":""}]
[{"$f":"IF(syoriyou!A787=\"\",\"\",syoriyou!A787)","v":""},{"$f":"IF(syoriyou!B787=\"\",\"\",syoriyou!B787)","v":""},{"$f":"IF(syoriyou!C787=\"\",\"\",syoriyou!C787)","v":""},{"$f":"IF(syoriyou!D787=\"\",\"\",syoriyou!D787)","v":""},{"$f":"IF(syoriyou!E787=\"\",\"\",syoriyou!E787)","v":""},{"$f":"IF(syoriyou!F787=\"\",\"\",syoriyou!F787)","v":""},{"$f":"IF(syoriyou!G787=\"\",\"\",syoriyou!G787)","v":""},{"$f":"IF(syoriyou!H787=\"\",\"\",syoriyou!H787)","v":""},{"$f":"IF(syoriyou!I787=\"\",\"\",syoriyou!I787)","v":""},{"$f":"IF(syoriyou!J787=\"\",\"\",syoriyou!N787)","v":""}]
[{"$f":"IF(syoriyou!A788=\"\",\"\",syoriyou!A788)","v":""},{"$f":"IF(syoriyou!B788=\"\",\"\",syoriyou!B788)","v":""},{"$f":"IF(syoriyou!C788=\"\",\"\",syoriyou!C788)","v":""},{"$f":"IF(syoriyou!D788=\"\",\"\",syoriyou!D788)","v":""},{"$f":"IF(syoriyou!E788=\"\",\"\",syoriyou!E788)","v":""},{"$f":"IF(syoriyou!F788=\"\",\"\",syoriyou!F788)","v":""},{"$f":"IF(syoriyou!G788=\"\",\"\",syoriyou!G788)","v":""},{"$f":"IF(syoriyou!H788=\"\",\"\",syoriyou!H788)","v":""},{"$f":"IF(syoriyou!I788=\"\",\"\",syoriyou!I788)","v":""},{"$f":"IF(syoriyou!J788=\"\",\"\",syoriyou!N788)","v":""}]
[{"$f":"IF(syoriyou!A789=\"\",\"\",syoriyou!A789)","v":""},{"$f":"IF(syoriyou!B789=\"\",\"\",syoriyou!B789)","v":""},{"$f":"IF(syoriyou!C789=\"\",\"\",syoriyou!C789)","v":""},{"$f":"IF(syoriyou!D789=\"\",\"\",syoriyou!D789)","v":""},{"$f":"IF(syoriyou!E789=\"\",\"\",syoriyou!E789)","v":""},{"$f":"IF(syoriyou!F789=\"\",\"\",syoriyou!F789)","v":""},{"$f":"IF(syoriyou!G789=\"\",\"\",syoriyou!G789)","v":""},{"$f":"IF(syoriyou!H789=\"\",\"\",syoriyou!H789)","v":""},{"$f":"IF(syoriyou!I789=\"\",\"\",syoriyou!I789)","v":""},{"$f":"IF(syoriyou!J789=\"\",\"\",syoriyou!N789)","v":""}]
[{"$f":"IF(syoriyou!A790=\"\",\"\",syoriyou!A790)","v":""},{"$f":"IF(syoriyou!B790=\"\",\"\",syoriyou!B790)","v":""},{"$f":"IF(syoriyou!C790=\"\",\"\",syoriyou!C790)","v":""},{"$f":"IF(syoriyou!D790=\"\",\"\",syoriyou!D790)","v":""},{"$f":"IF(syoriyou!E790=\"\",\"\",syoriyou!E790)","v":""},{"$f":"IF(syoriyou!F790=\"\",\"\",syoriyou!F790)","v":""},{"$f":"IF(syoriyou!G790=\"\",\"\",syoriyou!G790)","v":""},{"$f":"IF(syoriyou!H790=\"\",\"\",syoriyou!H790)","v":""},{"$f":"IF(syoriyou!I790=\"\",\"\",syoriyou!I790)","v":""},{"$f":"IF(syoriyou!J790=\"\",\"\",syoriyou!N790)","v":""}]
[{"$f":"IF(syoriyou!A791=\"\",\"\",syoriyou!A791)","v":""},{"$f":"IF(syoriyou!B791=\"\",\"\",syoriyou!B791)","v":""},{"$f":"IF(syoriyou!C791=\"\",\"\",syoriyou!C791)","v":""},{"$f":"IF(syoriyou!D791=\"\",\"\",syoriyou!D791)","v":""},{"$f":"IF(syoriyou!E791=\"\",\"\",syoriyou!E791)","v":""},{"$f":"IF(syoriyou!F791=\"\",\"\",syoriyou!F791)","v":""},{"$f":"IF(syoriyou!G791=\"\",\"\",syoriyou!G791)","v":""},{"$f":"IF(syoriyou!H791=\"\",\"\",syoriyou!H791)","v":""},{"$f":"IF(syoriyou!I791=\"\",\"\",syoriyou!I791)","v":""},{"$f":"IF(syoriyou!J791=\"\",\"\",syoriyou!N791)","v":""}]
[{"$f":"IF(syoriyou!A792=\"\",\"\",syoriyou!A792)","v":""},{"$f":"IF(syoriyou!B792=\"\",\"\",syoriyou!B792)","v":""},{"$f":"IF(syoriyou!C792=\"\",\"\",syoriyou!C792)","v":""},{"$f":"IF(syoriyou!D792=\"\",\"\",syoriyou!D792)","v":""},{"$f":"IF(syoriyou!E792=\"\",\"\",syoriyou!E792)","v":""},{"$f":"IF(syoriyou!F792=\"\",\"\",syoriyou!F792)","v":""},{"$f":"IF(syoriyou!G792=\"\",\"\",syoriyou!G792)","v":""},{"$f":"IF(syoriyou!H792=\"\",\"\",syoriyou!H792)","v":""},{"$f":"IF(syoriyou!I792=\"\",\"\",syoriyou!I792)","v":""},{"$f":"IF(syoriyou!J792=\"\",\"\",syoriyou!N792)","v":""}]
[{"$f":"IF(syoriyou!A793=\"\",\"\",syoriyou!A793)","v":""},{"$f":"IF(syoriyou!B793=\"\",\"\",syoriyou!B793)","v":""},{"$f":"IF(syoriyou!C793=\"\",\"\",syoriyou!C793)","v":""},{"$f":"IF(syoriyou!D793=\"\",\"\",syoriyou!D793)","v":""},{"$f":"IF(syoriyou!E793=\"\",\"\",syoriyou!E793)","v":""},{"$f":"IF(syoriyou!F793=\"\",\"\",syoriyou!F793)","v":""},{"$f":"IF(syoriyou!G793=\"\",\"\",syoriyou!G793)","v":""},{"$f":"IF(syoriyou!H793=\"\",\"\",syoriyou!H793)","v":""},{"$f":"IF(syoriyou!I793=\"\",\"\",syoriyou!I793)","v":""},{"$f":"IF(syoriyou!J793=\"\",\"\",syoriyou!N793)","v":""}]
[{"$f":"IF(syoriyou!A794=\"\",\"\",syoriyou!A794)","v":""},{"$f":"IF(syoriyou!B794=\"\",\"\",syoriyou!B794)","v":""},{"$f":"IF(syoriyou!C794=\"\",\"\",syoriyou!C794)","v":""},{"$f":"IF(syoriyou!D794=\"\",\"\",syoriyou!D794)","v":""},{"$f":"IF(syoriyou!E794=\"\",\"\",syoriyou!E794)","v":""},{"$f":"IF(syoriyou!F794=\"\",\"\",syoriyou!F794)","v":""},{"$f":"IF(syoriyou!G794=\"\",\"\",syoriyou!G794)","v":""},{"$f":"IF(syoriyou!H794=\"\",\"\",syoriyou!H794)","v":""},{"$f":"IF(syoriyou!I794=\"\",\"\",syoriyou!I794)","v":""},{"$f":"IF(syoriyou!J794=\"\",\"\",syoriyou!N794)","v":""}]
[{"$f":"IF(syoriyou!A795=\"\",\"\",syoriyou!A795)","v":""},{"$f":"IF(syoriyou!B795=\"\",\"\",syoriyou!B795)","v":""},{"$f":"IF(syoriyou!C795=\"\",\"\",syoriyou!C795)","v":""},{"$f":"IF(syoriyou!D795=\"\",\"\",syoriyou!D795)","v":""},{"$f":"IF(syoriyou!E795=\"\",\"\",syoriyou!E795)","v":""},{"$f":"IF(syoriyou!F795=\"\",\"\",syoriyou!F795)","v":""},{"$f":"IF(syoriyou!G795=\"\",\"\",syoriyou!G795)","v":""},{"$f":"IF(syoriyou!H795=\"\",\"\",syoriyou!H795)","v":""},{"$f":"IF(syoriyou!I795=\"\",\"\",syoriyou!I795)","v":""},{"$f":"IF(syoriyou!J795=\"\",\"\",syoriyou!N795)","v":""}]
[{"$f":"IF(syoriyou!A796=\"\",\"\",syoriyou!A796)","v":""},{"$f":"IF(syoriyou!B796=\"\",\"\",syoriyou!B796)","v":""},{"$f":"IF(syoriyou!C796=\"\",\"\",syoriyou!C796)","v":""},{"$f":"IF(syoriyou!D796=\"\",\"\",syoriyou!D796)","v":""},{"$f":"IF(syoriyou!E796=\"\",\"\",syoriyou!E796)","v":""},{"$f":"IF(syoriyou!F796=\"\",\"\",syoriyou!F796)","v":""},{"$f":"IF(syoriyou!G796=\"\",\"\",syoriyou!G796)","v":""},{"$f":"IF(syoriyou!H796=\"\",\"\",syoriyou!H796)","v":""},{"$f":"IF(syoriyou!I796=\"\",\"\",syoriyou!I796)","v":""},{"$f":"IF(syoriyou!J796=\"\",\"\",syoriyou!N796)","v":""}]
[{"$f":"IF(syoriyou!A797=\"\",\"\",syoriyou!A797)","v":""},{"$f":"IF(syoriyou!B797=\"\",\"\",syoriyou!B797)","v":""},{"$f":"IF(syoriyou!C797=\"\",\"\",syoriyou!C797)","v":""},{"$f":"IF(syoriyou!D797=\"\",\"\",syoriyou!D797)","v":""},{"$f":"IF(syoriyou!E797=\"\",\"\",syoriyou!E797)","v":""},{"$f":"IF(syoriyou!F797=\"\",\"\",syoriyou!F797)","v":""},{"$f":"IF(syoriyou!G797=\"\",\"\",syoriyou!G797)","v":""},{"$f":"IF(syoriyou!H797=\"\",\"\",syoriyou!H797)","v":""},{"$f":"IF(syoriyou!I797=\"\",\"\",syoriyou!I797)","v":""},{"$f":"IF(syoriyou!J797=\"\",\"\",syoriyou!N797)","v":""}]
[{"$f":"IF(syoriyou!A798=\"\",\"\",syoriyou!A798)","v":""},{"$f":"IF(syoriyou!B798=\"\",\"\",syoriyou!B798)","v":""},{"$f":"IF(syoriyou!C798=\"\",\"\",syoriyou!C798)","v":""},{"$f":"IF(syoriyou!D798=\"\",\"\",syoriyou!D798)","v":""},{"$f":"IF(syoriyou!E798=\"\",\"\",syoriyou!E798)","v":""},{"$f":"IF(syoriyou!F798=\"\",\"\",syoriyou!F798)","v":""},{"$f":"IF(syoriyou!G798=\"\",\"\",syoriyou!G798)","v":""},{"$f":"IF(syoriyou!H798=\"\",\"\",syoriyou!H798)","v":""},{"$f":"IF(syoriyou!I798=\"\",\"\",syoriyou!I798)","v":""},{"$f":"IF(syoriyou!J798=\"\",\"\",syoriyou!N798)","v":""}]
[{"$f":"IF(syoriyou!A799=\"\",\"\",syoriyou!A799)","v":""},{"$f":"IF(syoriyou!B799=\"\",\"\",syoriyou!B799)","v":""},{"$f":"IF(syoriyou!C799=\"\",\"\",syoriyou!C799)","v":""},{"$f":"IF(syoriyou!D799=\"\",\"\",syoriyou!D799)","v":""},{"$f":"IF(syoriyou!E799=\"\",\"\",syoriyou!E799)","v":""},{"$f":"IF(syoriyou!F799=\"\",\"\",syoriyou!F799)","v":""},{"$f":"IF(syoriyou!G799=\"\",\"\",syoriyou!G799)","v":""},{"$f":"IF(syoriyou!H799=\"\",\"\",syoriyou!H799)","v":""},{"$f":"IF(syoriyou!I799=\"\",\"\",syoriyou!I799)","v":""},{"$f":"IF(syoriyou!J799=\"\",\"\",syoriyou!N799)","v":""}]
[{"$f":"IF(syoriyou!A800=\"\",\"\",syoriyou!A800)","v":""},{"$f":"IF(syoriyou!B800=\"\",\"\",syoriyou!B800)","v":""},{"$f":"IF(syoriyou!C800=\"\",\"\",syoriyou!C800)","v":""},{"$f":"IF(syoriyou!D800=\"\",\"\",syoriyou!D800)","v":""},{"$f":"IF(syoriyou!E800=\"\",\"\",syoriyou!E800)","v":""},{"$f":"IF(syoriyou!F800=\"\",\"\",syoriyou!F800)","v":""},{"$f":"IF(syoriyou!G800=\"\",\"\",syoriyou!G800)","v":""},{"$f":"IF(syoriyou!H800=\"\",\"\",syoriyou!H800)","v":""},{"$f":"IF(syoriyou!I800=\"\",\"\",syoriyou!I800)","v":""},{"$f":"IF(syoriyou!J800=\"\",\"\",syoriyou!N800)","v":""}]
[{"$f":"IF(syoriyou!A801=\"\",\"\",syoriyou!A801)","v":""},{"$f":"IF(syoriyou!B801=\"\",\"\",syoriyou!B801)","v":""},{"$f":"IF(syoriyou!C801=\"\",\"\",syoriyou!C801)","v":""},{"$f":"IF(syoriyou!D801=\"\",\"\",syoriyou!D801)","v":""},{"$f":"IF(syoriyou!E801=\"\",\"\",syoriyou!E801)","v":""},{"$f":"IF(syoriyou!F801=\"\",\"\",syoriyou!F801)","v":""},{"$f":"IF(syoriyou!G801=\"\",\"\",syoriyou!G801)","v":""},{"$f":"IF(syoriyou!H801=\"\",\"\",syoriyou!H801)","v":""},{"$f":"IF(syoriyou!I801=\"\",\"\",syoriyou!I801)","v":""},{"$f":"IF(syoriyou!J801=\"\",\"\",syoriyou!N801)","v":""}]
[{"$f":"IF(syoriyou!A802=\"\",\"\",syoriyou!A802)","v":""},{"$f":"IF(syoriyou!B802=\"\",\"\",syoriyou!B802)","v":""},{"$f":"IF(syoriyou!C802=\"\",\"\",syoriyou!C802)","v":""},{"$f":"IF(syoriyou!D802=\"\",\"\",syoriyou!D802)","v":""},{"$f":"IF(syoriyou!E802=\"\",\"\",syoriyou!E802)","v":""},{"$f":"IF(syoriyou!F802=\"\",\"\",syoriyou!F802)","v":""},{"$f":"IF(syoriyou!G802=\"\",\"\",syoriyou!G802)","v":""},{"$f":"IF(syoriyou!H802=\"\",\"\",syoriyou!H802)","v":""},{"$f":"IF(syoriyou!I802=\"\",\"\",syoriyou!I802)","v":""},{"$f":"IF(syoriyou!J802=\"\",\"\",syoriyou!N802)","v":""}]
[{"$f":"IF(syoriyou!A803=\"\",\"\",syoriyou!A803)","v":""},{"$f":"IF(syoriyou!B803=\"\",\"\",syoriyou!B803)","v":""},{"$f":"IF(syoriyou!C803=\"\",\"\",syoriyou!C803)","v":""},{"$f":"IF(syoriyou!D803=\"\",\"\",syoriyou!D803)","v":""},{"$f":"IF(syoriyou!E803=\"\",\"\",syoriyou!E803)","v":""},{"$f":"IF(syoriyou!F803=\"\",\"\",syoriyou!F803)","v":""},{"$f":"IF(syoriyou!G803=\"\",\"\",syoriyou!G803)","v":""},{"$f":"IF(syoriyou!H803=\"\",\"\",syoriyou!H803)","v":""},{"$f":"IF(syoriyou!I803=\"\",\"\",syoriyou!I803)","v":""},{"$f":"IF(syoriyou!J803=\"\",\"\",syoriyou!N803)","v":""}]
[{"$f":"IF(syoriyou!A804=\"\",\"\",syoriyou!A804)","v":""},{"$f":"IF(syoriyou!B804=\"\",\"\",syoriyou!B804)","v":""},{"$f":"IF(syoriyou!C804=\"\",\"\",syoriyou!C804)","v":""},{"$f":"IF(syoriyou!D804=\"\",\"\",syoriyou!D804)","v":""},{"$f":"IF(syoriyou!E804=\"\",\"\",syoriyou!E804)","v":""},{"$f":"IF(syoriyou!F804=\"\",\"\",syoriyou!F804)","v":""},{"$f":"IF(syoriyou!G804=\"\",\"\",syoriyou!G804)","v":""},{"$f":"IF(syoriyou!H804=\"\",\"\",syoriyou!H804)","v":""},{"$f":"IF(syoriyou!I804=\"\",\"\",syoriyou!I804)","v":""},{"$f":"IF(syoriyou!J804=\"\",\"\",syoriyou!N804)","v":""}]
[{"$f":"IF(syoriyou!A805=\"\",\"\",syoriyou!A805)","v":""},{"$f":"IF(syoriyou!B805=\"\",\"\",syoriyou!B805)","v":""},{"$f":"IF(syoriyou!C805=\"\",\"\",syoriyou!C805)","v":""},{"$f":"IF(syoriyou!D805=\"\",\"\",syoriyou!D805)","v":""},{"$f":"IF(syoriyou!E805=\"\",\"\",syoriyou!E805)","v":""},{"$f":"IF(syoriyou!F805=\"\",\"\",syoriyou!F805)","v":""},{"$f":"IF(syoriyou!G805=\"\",\"\",syoriyou!G805)","v":""},{"$f":"IF(syoriyou!H805=\"\",\"\",syoriyou!H805)","v":""},{"$f":"IF(syoriyou!I805=\"\",\"\",syoriyou!I805)","v":""},{"$f":"IF(syoriyou!J805=\"\",\"\",syoriyou!N805)","v":""}]
[{"$f":"IF(syoriyou!A806=\"\",\"\",syoriyou!A806)","v":""},{"$f":"IF(syoriyou!B806=\"\",\"\",syoriyou!B806)","v":""},{"$f":"IF(syoriyou!C806=\"\",\"\",syoriyou!C806)","v":""},{"$f":"IF(syoriyou!D806=\"\",\"\",syoriyou!D806)","v":""},{"$f":"IF(syoriyou!E806=\"\",\"\",syoriyou!E806)","v":""},{"$f":"IF(syoriyou!F806=\"\",\"\",syoriyou!F806)","v":""},{"$f":"IF(syoriyou!G806=\"\",\"\",syoriyou!G806)","v":""},{"$f":"IF(syoriyou!H806=\"\",\"\",syoriyou!H806)","v":""},{"$f":"IF(syoriyou!I806=\"\",\"\",syoriyou!I806)","v":""},{"$f":"IF(syoriyou!J806=\"\",\"\",syoriyou!N806)","v":""}]
[{"$f":"IF(syoriyou!A807=\"\",\"\",syoriyou!A807)","v":""},{"$f":"IF(syoriyou!B807=\"\",\"\",syoriyou!B807)","v":""},{"$f":"IF(syoriyou!C807=\"\",\"\",syoriyou!C807)","v":""},{"$f":"IF(syoriyou!D807=\"\",\"\",syoriyou!D807)","v":""},{"$f":"IF(syoriyou!E807=\"\",\"\",syoriyou!E807)","v":""},{"$f":"IF(syoriyou!F807=\"\",\"\",syoriyou!F807)","v":""},{"$f":"IF(syoriyou!G807=\"\",\"\",syoriyou!G807)","v":""},{"$f":"IF(syoriyou!H807=\"\",\"\",syoriyou!H807)","v":""},{"$f":"IF(syoriyou!I807=\"\",\"\",syoriyou!I807)","v":""},{"$f":"IF(syoriyou!J807=\"\",\"\",syoriyou!N807)","v":""}]
[{"$f":"IF(syoriyou!A808=\"\",\"\",syoriyou!A808)","v":""},{"$f":"IF(syoriyou!B808=\"\",\"\",syoriyou!B808)","v":""},{"$f":"IF(syoriyou!C808=\"\",\"\",syoriyou!C808)","v":""},{"$f":"IF(syoriyou!D808=\"\",\"\",syoriyou!D808)","v":""},{"$f":"IF(syoriyou!E808=\"\",\"\",syoriyou!E808)","v":""},{"$f":"IF(syoriyou!F808=\"\",\"\",syoriyou!F808)","v":""},{"$f":"IF(syoriyou!G808=\"\",\"\",syoriyou!G808)","v":""},{"$f":"IF(syoriyou!H808=\"\",\"\",syoriyou!H808)","v":""},{"$f":"IF(syoriyou!I808=\"\",\"\",syoriyou!I808)","v":""},{"$f":"IF(syoriyou!J808=\"\",\"\",syoriyou!N808)","v":""}]
[{"$f":"IF(syoriyou!A809=\"\",\"\",syoriyou!A809)","v":""},{"$f":"IF(syoriyou!B809=\"\",\"\",syoriyou!B809)","v":""},{"$f":"IF(syoriyou!C809=\"\",\"\",syoriyou!C809)","v":""},{"$f":"IF(syoriyou!D809=\"\",\"\",syoriyou!D809)","v":""},{"$f":"IF(syoriyou!E809=\"\",\"\",syoriyou!E809)","v":""},{"$f":"IF(syoriyou!F809=\"\",\"\",syoriyou!F809)","v":""},{"$f":"IF(syoriyou!G809=\"\",\"\",syoriyou!G809)","v":""},{"$f":"IF(syoriyou!H809=\"\",\"\",syoriyou!H809)","v":""},{"$f":"IF(syoriyou!I809=\"\",\"\",syoriyou!I809)","v":""},{"$f":"IF(syoriyou!J809=\"\",\"\",syoriyou!N809)","v":""}]
[{"$f":"IF(syoriyou!A810=\"\",\"\",syoriyou!A810)","v":""},{"$f":"IF(syoriyou!B810=\"\",\"\",syoriyou!B810)","v":""},{"$f":"IF(syoriyou!C810=\"\",\"\",syoriyou!C810)","v":""},{"$f":"IF(syoriyou!D810=\"\",\"\",syoriyou!D810)","v":""},{"$f":"IF(syoriyou!E810=\"\",\"\",syoriyou!E810)","v":""},{"$f":"IF(syoriyou!F810=\"\",\"\",syoriyou!F810)","v":""},{"$f":"IF(syoriyou!G810=\"\",\"\",syoriyou!G810)","v":""},{"$f":"IF(syoriyou!H810=\"\",\"\",syoriyou!H810)","v":""},{"$f":"IF(syoriyou!I810=\"\",\"\",syoriyou!I810)","v":""},{"$f":"IF(syoriyou!J810=\"\",\"\",syoriyou!N810)","v":""}]
[{"$f":"IF(syoriyou!A811=\"\",\"\",syoriyou!A811)","v":""},{"$f":"IF(syoriyou!B811=\"\",\"\",syoriyou!B811)","v":""},{"$f":"IF(syoriyou!C811=\"\",\"\",syoriyou!C811)","v":""},{"$f":"IF(syoriyou!D811=\"\",\"\",syoriyou!D811)","v":""},{"$f":"IF(syoriyou!E811=\"\",\"\",syoriyou!E811)","v":""},{"$f":"IF(syoriyou!F811=\"\",\"\",syoriyou!F811)","v":""},{"$f":"IF(syoriyou!G811=\"\",\"\",syoriyou!G811)","v":""},{"$f":"IF(syoriyou!H811=\"\",\"\",syoriyou!H811)","v":""},{"$f":"IF(syoriyou!I811=\"\",\"\",syoriyou!I811)","v":""},{"$f":"IF(syoriyou!J811=\"\",\"\",syoriyou!N811)","v":""}]
[{"$f":"IF(syoriyou!A812=\"\",\"\",syoriyou!A812)","v":""},{"$f":"IF(syoriyou!B812=\"\",\"\",syoriyou!B812)","v":""},{"$f":"IF(syoriyou!C812=\"\",\"\",syoriyou!C812)","v":""},{"$f":"IF(syoriyou!D812=\"\",\"\",syoriyou!D812)","v":""},{"$f":"IF(syoriyou!E812=\"\",\"\",syoriyou!E812)","v":""},{"$f":"IF(syoriyou!F812=\"\",\"\",syoriyou!F812)","v":""},{"$f":"IF(syoriyou!G812=\"\",\"\",syoriyou!G812)","v":""},{"$f":"IF(syoriyou!H812=\"\",\"\",syoriyou!H812)","v":""},{"$f":"IF(syoriyou!I812=\"\",\"\",syoriyou!I812)","v":""},{"$f":"IF(syoriyou!J812=\"\",\"\",syoriyou!N812)","v":""}]
[{"$f":"IF(syoriyou!A813=\"\",\"\",syoriyou!A813)","v":""},{"$f":"IF(syoriyou!B813=\"\",\"\",syoriyou!B813)","v":""},{"$f":"IF(syoriyou!C813=\"\",\"\",syoriyou!C813)","v":""},{"$f":"IF(syoriyou!D813=\"\",\"\",syoriyou!D813)","v":""},{"$f":"IF(syoriyou!E813=\"\",\"\",syoriyou!E813)","v":""},{"$f":"IF(syoriyou!F813=\"\",\"\",syoriyou!F813)","v":""},{"$f":"IF(syoriyou!G813=\"\",\"\",syoriyou!G813)","v":""},{"$f":"IF(syoriyou!H813=\"\",\"\",syoriyou!H813)","v":""},{"$f":"IF(syoriyou!I813=\"\",\"\",syoriyou!I813)","v":""},{"$f":"IF(syoriyou!J813=\"\",\"\",syoriyou!N813)","v":""}]
[{"$f":"IF(syoriyou!A814=\"\",\"\",syoriyou!A814)","v":""},{"$f":"IF(syoriyou!B814=\"\",\"\",syoriyou!B814)","v":""},{"$f":"IF(syoriyou!C814=\"\",\"\",syoriyou!C814)","v":""},{"$f":"IF(syoriyou!D814=\"\",\"\",syoriyou!D814)","v":""},{"$f":"IF(syoriyou!E814=\"\",\"\",syoriyou!E814)","v":""},{"$f":"IF(syoriyou!F814=\"\",\"\",syoriyou!F814)","v":""},{"$f":"IF(syoriyou!G814=\"\",\"\",syoriyou!G814)","v":""},{"$f":"IF(syoriyou!H814=\"\",\"\",syoriyou!H814)","v":""},{"$f":"IF(syoriyou!I814=\"\",\"\",syoriyou!I814)","v":""},{"$f":"IF(syoriyou!J814=\"\",\"\",syoriyou!N814)","v":""}]
[{"$f":"IF(syoriyou!A815=\"\",\"\",syoriyou!A815)","v":""},{"$f":"IF(syoriyou!B815=\"\",\"\",syoriyou!B815)","v":""},{"$f":"IF(syoriyou!C815=\"\",\"\",syoriyou!C815)","v":""},{"$f":"IF(syoriyou!D815=\"\",\"\",syoriyou!D815)","v":""},{"$f":"IF(syoriyou!E815=\"\",\"\",syoriyou!E815)","v":""},{"$f":"IF(syoriyou!F815=\"\",\"\",syoriyou!F815)","v":""},{"$f":"IF(syoriyou!G815=\"\",\"\",syoriyou!G815)","v":""},{"$f":"IF(syoriyou!H815=\"\",\"\",syoriyou!H815)","v":""},{"$f":"IF(syoriyou!I815=\"\",\"\",syoriyou!I815)","v":""},{"$f":"IF(syoriyou!J815=\"\",\"\",syoriyou!N815)","v":""}]
[{"$f":"IF(syoriyou!A816=\"\",\"\",syoriyou!A816)","v":""},{"$f":"IF(syoriyou!B816=\"\",\"\",syoriyou!B816)","v":""},{"$f":"IF(syoriyou!C816=\"\",\"\",syoriyou!C816)","v":""},{"$f":"IF(syoriyou!D816=\"\",\"\",syoriyou!D816)","v":""},{"$f":"IF(syoriyou!E816=\"\",\"\",syoriyou!E816)","v":""},{"$f":"IF(syoriyou!F816=\"\",\"\",syoriyou!F816)","v":""},{"$f":"IF(syoriyou!G816=\"\",\"\",syoriyou!G816)","v":""},{"$f":"IF(syoriyou!H816=\"\",\"\",syoriyou!H816)","v":""},{"$f":"IF(syoriyou!I816=\"\",\"\",syoriyou!I816)","v":""},{"$f":"IF(syoriyou!J816=\"\",\"\",syoriyou!N816)","v":""}]
[{"$f":"IF(syoriyou!A817=\"\",\"\",syoriyou!A817)","v":""},{"$f":"IF(syoriyou!B817=\"\",\"\",syoriyou!B817)","v":""},{"$f":"IF(syoriyou!C817=\"\",\"\",syoriyou!C817)","v":""},{"$f":"IF(syoriyou!D817=\"\",\"\",syoriyou!D817)","v":""},{"$f":"IF(syoriyou!E817=\"\",\"\",syoriyou!E817)","v":""},{"$f":"IF(syoriyou!F817=\"\",\"\",syoriyou!F817)","v":""},{"$f":"IF(syoriyou!G817=\"\",\"\",syoriyou!G817)","v":""},{"$f":"IF(syoriyou!H817=\"\",\"\",syoriyou!H817)","v":""},{"$f":"IF(syoriyou!I817=\"\",\"\",syoriyou!I817)","v":""},{"$f":"IF(syoriyou!J817=\"\",\"\",syoriyou!N817)","v":""}]
[{"$f":"IF(syoriyou!A818=\"\",\"\",syoriyou!A818)","v":""},{"$f":"IF(syoriyou!B818=\"\",\"\",syoriyou!B818)","v":""},{"$f":"IF(syoriyou!C818=\"\",\"\",syoriyou!C818)","v":""},{"$f":"IF(syoriyou!D818=\"\",\"\",syoriyou!D818)","v":""},{"$f":"IF(syoriyou!E818=\"\",\"\",syoriyou!E818)","v":""},{"$f":"IF(syoriyou!F818=\"\",\"\",syoriyou!F818)","v":""},{"$f":"IF(syoriyou!G818=\"\",\"\",syoriyou!G818)","v":""},{"$f":"IF(syoriyou!H818=\"\",\"\",syoriyou!H818)","v":""},{"$f":"IF(syoriyou!I818=\"\",\"\",syoriyou!I818)","v":""},{"$f":"IF(syoriyou!J818=\"\",\"\",syoriyou!N818)","v":""}]
[{"$f":"IF(syoriyou!A819=\"\",\"\",syoriyou!A819)","v":""},{"$f":"IF(syoriyou!B819=\"\",\"\",syoriyou!B819)","v":""},{"$f":"IF(syoriyou!C819=\"\",\"\",syoriyou!C819)","v":""},{"$f":"IF(syoriyou!D819=\"\",\"\",syoriyou!D819)","v":""},{"$f":"IF(syoriyou!E819=\"\",\"\",syoriyou!E819)","v":""},{"$f":"IF(syoriyou!F819=\"\",\"\",syoriyou!F819)","v":""},{"$f":"IF(syoriyou!G819=\"\",\"\",syoriyou!G819)","v":""},{"$f":"IF(syoriyou!H819=\"\",\"\",syoriyou!H819)","v":""},{"$f":"IF(syoriyou!I819=\"\",\"\",syoriyou!I819)","v":""},{"$f":"IF(syoriyou!J819=\"\",\"\",syoriyou!N819)","v":""}]
[{"$f":"IF(syoriyou!A820=\"\",\"\",syoriyou!A820)","v":""},{"$f":"IF(syoriyou!B820=\"\",\"\",syoriyou!B820)","v":""},{"$f":"IF(syoriyou!C820=\"\",\"\",syoriyou!C820)","v":""},{"$f":"IF(syoriyou!D820=\"\",\"\",syoriyou!D820)","v":""},{"$f":"IF(syoriyou!E820=\"\",\"\",syoriyou!E820)","v":""},{"$f":"IF(syoriyou!F820=\"\",\"\",syoriyou!F820)","v":""},{"$f":"IF(syoriyou!G820=\"\",\"\",syoriyou!G820)","v":""},{"$f":"IF(syoriyou!H820=\"\",\"\",syoriyou!H820)","v":""},{"$f":"IF(syoriyou!I820=\"\",\"\",syoriyou!I820)","v":""},{"$f":"IF(syoriyou!J820=\"\",\"\",syoriyou!N820)","v":""}]
[{"$f":"IF(syoriyou!A821=\"\",\"\",syoriyou!A821)","v":""},{"$f":"IF(syoriyou!B821=\"\",\"\",syoriyou!B821)","v":""},{"$f":"IF(syoriyou!C821=\"\",\"\",syoriyou!C821)","v":""},{"$f":"IF(syoriyou!D821=\"\",\"\",syoriyou!D821)","v":""},{"$f":"IF(syoriyou!E821=\"\",\"\",syoriyou!E821)","v":""},{"$f":"IF(syoriyou!F821=\"\",\"\",syoriyou!F821)","v":""},{"$f":"IF(syoriyou!G821=\"\",\"\",syoriyou!G821)","v":""},{"$f":"IF(syoriyou!H821=\"\",\"\",syoriyou!H821)","v":""},{"$f":"IF(syoriyou!I821=\"\",\"\",syoriyou!I821)","v":""},{"$f":"IF(syoriyou!J821=\"\",\"\",syoriyou!N821)","v":""}]
[{"$f":"IF(syoriyou!A822=\"\",\"\",syoriyou!A822)","v":""},{"$f":"IF(syoriyou!B822=\"\",\"\",syoriyou!B822)","v":""},{"$f":"IF(syoriyou!C822=\"\",\"\",syoriyou!C822)","v":""},{"$f":"IF(syoriyou!D822=\"\",\"\",syoriyou!D822)","v":""},{"$f":"IF(syoriyou!E822=\"\",\"\",syoriyou!E822)","v":""},{"$f":"IF(syoriyou!F822=\"\",\"\",syoriyou!F822)","v":""},{"$f":"IF(syoriyou!G822=\"\",\"\",syoriyou!G822)","v":""},{"$f":"IF(syoriyou!H822=\"\",\"\",syoriyou!H822)","v":""},{"$f":"IF(syoriyou!I822=\"\",\"\",syoriyou!I822)","v":""},{"$f":"IF(syoriyou!J822=\"\",\"\",syoriyou!N822)","v":""}]
[{"$f":"IF(syoriyou!A823=\"\",\"\",syoriyou!A823)","v":""},{"$f":"IF(syoriyou!B823=\"\",\"\",syoriyou!B823)","v":""},{"$f":"IF(syoriyou!C823=\"\",\"\",syoriyou!C823)","v":""},{"$f":"IF(syoriyou!D823=\"\",\"\",syoriyou!D823)","v":""},{"$f":"IF(syoriyou!E823=\"\",\"\",syoriyou!E823)","v":""},{"$f":"IF(syoriyou!F823=\"\",\"\",syoriyou!F823)","v":""},{"$f":"IF(syoriyou!G823=\"\",\"\",syoriyou!G823)","v":""},{"$f":"IF(syoriyou!H823=\"\",\"\",syoriyou!H823)","v":""},{"$f":"IF(syoriyou!I823=\"\",\"\",syoriyou!I823)","v":""},{"$f":"IF(syoriyou!J823=\"\",\"\",syoriyou!N823)","v":""}]
[{"$f":"IF(syoriyou!A824=\"\",\"\",syoriyou!A824)","v":""},{"$f":"IF(syoriyou!B824=\"\",\"\",syoriyou!B824)","v":""},{"$f":"IF(syoriyou!C824=\"\",\"\",syoriyou!C824)","v":""},{"$f":"IF(syoriyou!D824=\"\",\"\",syoriyou!D824)","v":""},{"$f":"IF(syoriyou!E824=\"\",\"\",syoriyou!E824)","v":""},{"$f":"IF(syoriyou!F824=\"\",\"\",syoriyou!F824)","v":""},{"$f":"IF(syoriyou!G824=\"\",\"\",syoriyou!G824)","v":""},{"$f":"IF(syoriyou!H824=\"\",\"\",syoriyou!H824)","v":""},{"$f":"IF(syoriyou!I824=\"\",\"\",syoriyou!I824)","v":""},{"$f":"IF(syoriyou!J824=\"\",\"\",syoriyou!N824)","v":""}]
[{"$f":"IF(syoriyou!A825=\"\",\"\",syoriyou!A825)","v":""},{"$f":"IF(syoriyou!B825=\"\",\"\",syoriyou!B825)","v":""},{"$f":"IF(syoriyou!C825=\"\",\"\",syoriyou!C825)","v":""},{"$f":"IF(syoriyou!D825=\"\",\"\",syoriyou!D825)","v":""},{"$f":"IF(syoriyou!E825=\"\",\"\",syoriyou!E825)","v":""},{"$f":"IF(syoriyou!F825=\"\",\"\",syoriyou!F825)","v":""},{"$f":"IF(syoriyou!G825=\"\",\"\",syoriyou!G825)","v":""},{"$f":"IF(syoriyou!H825=\"\",\"\",syoriyou!H825)","v":""},{"$f":"IF(syoriyou!I825=\"\",\"\",syoriyou!I825)","v":""},{"$f":"IF(syoriyou!J825=\"\",\"\",syoriyou!N825)","v":""}]
[{"$f":"IF(syoriyou!A826=\"\",\"\",syoriyou!A826)","v":""},{"$f":"IF(syoriyou!B826=\"\",\"\",syoriyou!B826)","v":""},{"$f":"IF(syoriyou!C826=\"\",\"\",syoriyou!C826)","v":""},{"$f":"IF(syoriyou!D826=\"\",\"\",syoriyou!D826)","v":""},{"$f":"IF(syoriyou!E826=\"\",\"\",syoriyou!E826)","v":""},{"$f":"IF(syoriyou!F826=\"\",\"\",syoriyou!F826)","v":""},{"$f":"IF(syoriyou!G826=\"\",\"\",syoriyou!G826)","v":""},{"$f":"IF(syoriyou!H826=\"\",\"\",syoriyou!H826)","v":""},{"$f":"IF(syoriyou!I826=\"\",\"\",syoriyou!I826)","v":""},{"$f":"IF(syoriyou!J826=\"\",\"\",syoriyou!N826)","v":""}]
[{"$f":"IF(syoriyou!A827=\"\",\"\",syoriyou!A827)","v":""},{"$f":"IF(syoriyou!B827=\"\",\"\",syoriyou!B827)","v":""},{"$f":"IF(syoriyou!C827=\"\",\"\",syoriyou!C827)","v":""},{"$f":"IF(syoriyou!D827=\"\",\"\",syoriyou!D827)","v":""},{"$f":"IF(syoriyou!E827=\"\",\"\",syoriyou!E827)","v":""},{"$f":"IF(syoriyou!F827=\"\",\"\",syoriyou!F827)","v":""},{"$f":"IF(syoriyou!G827=\"\",\"\",syoriyou!G827)","v":""},{"$f":"IF(syoriyou!H827=\"\",\"\",syoriyou!H827)","v":""},{"$f":"IF(syoriyou!I827=\"\",\"\",syoriyou!I827)","v":""},{"$f":"IF(syoriyou!J827=\"\",\"\",syoriyou!N827)","v":""}]
[{"$f":"IF(syoriyou!A828=\"\",\"\",syoriyou!A828)","v":""},{"$f":"IF(syoriyou!B828=\"\",\"\",syoriyou!B828)","v":""},{"$f":"IF(syoriyou!C828=\"\",\"\",syoriyou!C828)","v":""},{"$f":"IF(syoriyou!D828=\"\",\"\",syoriyou!D828)","v":""},{"$f":"IF(syoriyou!E828=\"\",\"\",syoriyou!E828)","v":""},{"$f":"IF(syoriyou!F828=\"\",\"\",syoriyou!F828)","v":""},{"$f":"IF(syoriyou!G828=\"\",\"\",syoriyou!G828)","v":""},{"$f":"IF(syoriyou!H828=\"\",\"\",syoriyou!H828)","v":""},{"$f":"IF(syoriyou!I828=\"\",\"\",syoriyou!I828)","v":""},{"$f":"IF(syoriyou!J828=\"\",\"\",syoriyou!N828)","v":""}]
[{"$f":"IF(syoriyou!A829=\"\",\"\",syoriyou!A829)","v":""},{"$f":"IF(syoriyou!B829=\"\",\"\",syoriyou!B829)","v":""},{"$f":"IF(syoriyou!C829=\"\",\"\",syoriyou!C829)","v":""},{"$f":"IF(syoriyou!D829=\"\",\"\",syoriyou!D829)","v":""},{"$f":"IF(syoriyou!E829=\"\",\"\",syoriyou!E829)","v":""},{"$f":"IF(syoriyou!F829=\"\",\"\",syoriyou!F829)","v":""},{"$f":"IF(syoriyou!G829=\"\",\"\",syoriyou!G829)","v":""},{"$f":"IF(syoriyou!H829=\"\",\"\",syoriyou!H829)","v":""},{"$f":"IF(syoriyou!I829=\"\",\"\",syoriyou!I829)","v":""},{"$f":"IF(syoriyou!J829=\"\",\"\",syoriyou!N829)","v":""}]
[{"$f":"IF(syoriyou!A830=\"\",\"\",syoriyou!A830)","v":""},{"$f":"IF(syoriyou!B830=\"\",\"\",syoriyou!B830)","v":""},{"$f":"IF(syoriyou!C830=\"\",\"\",syoriyou!C830)","v":""},{"$f":"IF(syoriyou!D830=\"\",\"\",syoriyou!D830)","v":""},{"$f":"IF(syoriyou!E830=\"\",\"\",syoriyou!E830)","v":""},{"$f":"IF(syoriyou!F830=\"\",\"\",syoriyou!F830)","v":""},{"$f":"IF(syoriyou!G830=\"\",\"\",syoriyou!G830)","v":""},{"$f":"IF(syoriyou!H830=\"\",\"\",syoriyou!H830)","v":""},{"$f":"IF(syoriyou!I830=\"\",\"\",syoriyou!I830)","v":""},{"$f":"IF(syoriyou!J830=\"\",\"\",syoriyou!N830)","v":""}]
[{"$f":"IF(syoriyou!A831=\"\",\"\",syoriyou!A831)","v":""},{"$f":"IF(syoriyou!B831=\"\",\"\",syoriyou!B831)","v":""},{"$f":"IF(syoriyou!C831=\"\",\"\",syoriyou!C831)","v":""},{"$f":"IF(syoriyou!D831=\"\",\"\",syoriyou!D831)","v":""},{"$f":"IF(syoriyou!E831=\"\",\"\",syoriyou!E831)","v":""},{"$f":"IF(syoriyou!F831=\"\",\"\",syoriyou!F831)","v":""},{"$f":"IF(syoriyou!G831=\"\",\"\",syoriyou!G831)","v":""},{"$f":"IF(syoriyou!H831=\"\",\"\",syoriyou!H831)","v":""},{"$f":"IF(syoriyou!I831=\"\",\"\",syoriyou!I831)","v":""},{"$f":"IF(syoriyou!J831=\"\",\"\",syoriyou!N831)","v":""}]
[{"$f":"IF(syoriyou!A832=\"\",\"\",syoriyou!A832)","v":""},{"$f":"IF(syoriyou!B832=\"\",\"\",syoriyou!B832)","v":""},{"$f":"IF(syoriyou!C832=\"\",\"\",syoriyou!C832)","v":""},{"$f":"IF(syoriyou!D832=\"\",\"\",syoriyou!D832)","v":""},{"$f":"IF(syoriyou!E832=\"\",\"\",syoriyou!E832)","v":""},{"$f":"IF(syoriyou!F832=\"\",\"\",syoriyou!F832)","v":""},{"$f":"IF(syoriyou!G832=\"\",\"\",syoriyou!G832)","v":""},{"$f":"IF(syoriyou!H832=\"\",\"\",syoriyou!H832)","v":""},{"$f":"IF(syoriyou!I832=\"\",\"\",syoriyou!I832)","v":""},{"$f":"IF(syoriyou!J832=\"\",\"\",syoriyou!N832)","v":""}]
[{"$f":"IF(syoriyou!A833=\"\",\"\",syoriyou!A833)","v":""},{"$f":"IF(syoriyou!B833=\"\",\"\",syoriyou!B833)","v":""},{"$f":"IF(syoriyou!C833=\"\",\"\",syoriyou!C833)","v":""},{"$f":"IF(syoriyou!D833=\"\",\"\",syoriyou!D833)","v":""},{"$f":"IF(syoriyou!E833=\"\",\"\",syoriyou!E833)","v":""},{"$f":"IF(syoriyou!F833=\"\",\"\",syoriyou!F833)","v":""},{"$f":"IF(syoriyou!G833=\"\",\"\",syoriyou!G833)","v":""},{"$f":"IF(syoriyou!H833=\"\",\"\",syoriyou!H833)","v":""},{"$f":"IF(syoriyou!I833=\"\",\"\",syoriyou!I833)","v":""},{"$f":"IF(syoriyou!J833=\"\",\"\",syoriyou!N833)","v":""}]
[{"$f":"IF(syoriyou!A834=\"\",\"\",syoriyou!A834)","v":""},{"$f":"IF(syoriyou!B834=\"\",\"\",syoriyou!B834)","v":""},{"$f":"IF(syoriyou!C834=\"\",\"\",syoriyou!C834)","v":""},{"$f":"IF(syoriyou!D834=\"\",\"\",syoriyou!D834)","v":""},{"$f":"IF(syoriyou!E834=\"\",\"\",syoriyou!E834)","v":""},{"$f":"IF(syoriyou!F834=\"\",\"\",syoriyou!F834)","v":""},{"$f":"IF(syoriyou!G834=\"\",\"\",syoriyou!G834)","v":""},{"$f":"IF(syoriyou!H834=\"\",\"\",syoriyou!H834)","v":""},{"$f":"IF(syoriyou!I834=\"\",\"\",syoriyou!I834)","v":""},{"$f":"IF(syoriyou!J834=\"\",\"\",syoriyou!N834)","v":""}]
[{"$f":"IF(syoriyou!A835=\"\",\"\",syoriyou!A835)","v":""},{"$f":"IF(syoriyou!B835=\"\",\"\",syoriyou!B835)","v":""},{"$f":"IF(syoriyou!C835=\"\",\"\",syoriyou!C835)","v":""},{"$f":"IF(syoriyou!D835=\"\",\"\",syoriyou!D835)","v":""},{"$f":"IF(syoriyou!E835=\"\",\"\",syoriyou!E835)","v":""},{"$f":"IF(syoriyou!F835=\"\",\"\",syoriyou!F835)","v":""},{"$f":"IF(syoriyou!G835=\"\",\"\",syoriyou!G835)","v":""},{"$f":"IF(syoriyou!H835=\"\",\"\",syoriyou!H835)","v":""},{"$f":"IF(syoriyou!I835=\"\",\"\",syoriyou!I835)","v":""},{"$f":"IF(syoriyou!J835=\"\",\"\",syoriyou!N835)","v":""}]
[{"$f":"IF(syoriyou!A836=\"\",\"\",syoriyou!A836)","v":""},{"$f":"IF(syoriyou!B836=\"\",\"\",syoriyou!B836)","v":""},{"$f":"IF(syoriyou!C836=\"\",\"\",syoriyou!C836)","v":""},{"$f":"IF(syoriyou!D836=\"\",\"\",syoriyou!D836)","v":""},{"$f":"IF(syoriyou!E836=\"\",\"\",syoriyou!E836)","v":""},{"$f":"IF(syoriyou!F836=\"\",\"\",syoriyou!F836)","v":""},{"$f":"IF(syoriyou!G836=\"\",\"\",syoriyou!G836)","v":""},{"$f":"IF(syoriyou!H836=\"\",\"\",syoriyou!H836)","v":""},{"$f":"IF(syoriyou!I836=\"\",\"\",syoriyou!I836)","v":""},{"$f":"IF(syoriyou!J836=\"\",\"\",syoriyou!N836)","v":""}]
[{"$f":"IF(syoriyou!A837=\"\",\"\",syoriyou!A837)","v":""},{"$f":"IF(syoriyou!B837=\"\",\"\",syoriyou!B837)","v":""},{"$f":"IF(syoriyou!C837=\"\",\"\",syoriyou!C837)","v":""},{"$f":"IF(syoriyou!D837=\"\",\"\",syoriyou!D837)","v":""},{"$f":"IF(syoriyou!E837=\"\",\"\",syoriyou!E837)","v":""},{"$f":"IF(syoriyou!F837=\"\",\"\",syoriyou!F837)","v":""},{"$f":"IF(syoriyou!G837=\"\",\"\",syoriyou!G837)","v":""},{"$f":"IF(syoriyou!H837=\"\",\"\",syoriyou!H837)","v":""},{"$f":"IF(syoriyou!I837=\"\",\"\",syoriyou!I837)","v":""},{"$f":"IF(syoriyou!J837=\"\",\"\",syoriyou!N837)","v":""}]
[{"$f":"IF(syoriyou!A838=\"\",\"\",syoriyou!A838)","v":""},{"$f":"IF(syoriyou!B838=\"\",\"\",syoriyou!B838)","v":""},{"$f":"IF(syoriyou!C838=\"\",\"\",syoriyou!C838)","v":""},{"$f":"IF(syoriyou!D838=\"\",\"\",syoriyou!D838)","v":""},{"$f":"IF(syoriyou!E838=\"\",\"\",syoriyou!E838)","v":""},{"$f":"IF(syoriyou!F838=\"\",\"\",syoriyou!F838)","v":""},{"$f":"IF(syoriyou!G838=\"\",\"\",syoriyou!G838)","v":""},{"$f":"IF(syoriyou!H838=\"\",\"\",syoriyou!H838)","v":""},{"$f":"IF(syoriyou!I838=\"\",\"\",syoriyou!I838)","v":""},{"$f":"IF(syoriyou!J838=\"\",\"\",syoriyou!N838)","v":""}]
[{"$f":"IF(syoriyou!A839=\"\",\"\",syoriyou!A839)","v":""},{"$f":"IF(syoriyou!B839=\"\",\"\",syoriyou!B839)","v":""},{"$f":"IF(syoriyou!C839=\"\",\"\",syoriyou!C839)","v":""},{"$f":"IF(syoriyou!D839=\"\",\"\",syoriyou!D839)","v":""},{"$f":"IF(syoriyou!E839=\"\",\"\",syoriyou!E839)","v":""},{"$f":"IF(syoriyou!F839=\"\",\"\",syoriyou!F839)","v":""},{"$f":"IF(syoriyou!G839=\"\",\"\",syoriyou!G839)","v":""},{"$f":"IF(syoriyou!H839=\"\",\"\",syoriyou!H839)","v":""},{"$f":"IF(syoriyou!I839=\"\",\"\",syoriyou!I839)","v":""},{"$f":"IF(syoriyou!J839=\"\",\"\",syoriyou!N839)","v":""}]
[{"$f":"IF(syoriyou!A840=\"\",\"\",syoriyou!A840)","v":""},{"$f":"IF(syoriyou!B840=\"\",\"\",syoriyou!B840)","v":""},{"$f":"IF(syoriyou!C840=\"\",\"\",syoriyou!C840)","v":""},{"$f":"IF(syoriyou!D840=\"\",\"\",syoriyou!D840)","v":""},{"$f":"IF(syoriyou!E840=\"\",\"\",syoriyou!E840)","v":""},{"$f":"IF(syoriyou!F840=\"\",\"\",syoriyou!F840)","v":""},{"$f":"IF(syoriyou!G840=\"\",\"\",syoriyou!G840)","v":""},{"$f":"IF(syoriyou!H840=\"\",\"\",syoriyou!H840)","v":""},{"$f":"IF(syoriyou!I840=\"\",\"\",syoriyou!I840)","v":""},{"$f":"IF(syoriyou!J840=\"\",\"\",syoriyou!N840)","v":""}]
[{"$f":"IF(syoriyou!A841=\"\",\"\",syoriyou!A841)","v":""},{"$f":"IF(syoriyou!B841=\"\",\"\",syoriyou!B841)","v":""},{"$f":"IF(syoriyou!C841=\"\",\"\",syoriyou!C841)","v":""},{"$f":"IF(syoriyou!D841=\"\",\"\",syoriyou!D841)","v":""},{"$f":"IF(syoriyou!E841=\"\",\"\",syoriyou!E841)","v":""},{"$f":"IF(syoriyou!F841=\"\",\"\",syoriyou!F841)","v":""},{"$f":"IF(syoriyou!G841=\"\",\"\",syoriyou!G841)","v":""},{"$f":"IF(syoriyou!H841=\"\",\"\",syoriyou!H841)","v":""},{"$f":"IF(syoriyou!I841=\"\",\"\",syoriyou!I841)","v":""},{"$f":"IF(syoriyou!J841=\"\",\"\",syoriyou!N841)","v":""}]
[{"$f":"IF(syoriyou!A842=\"\",\"\",syoriyou!A842)","v":""},{"$f":"IF(syoriyou!B842=\"\",\"\",syoriyou!B842)","v":""},{"$f":"IF(syoriyou!C842=\"\",\"\",syoriyou!C842)","v":""},{"$f":"IF(syoriyou!D842=\"\",\"\",syoriyou!D842)","v":""},{"$f":"IF(syoriyou!E842=\"\",\"\",syoriyou!E842)","v":""},{"$f":"IF(syoriyou!F842=\"\",\"\",syoriyou!F842)","v":""},{"$f":"IF(syoriyou!G842=\"\",\"\",syoriyou!G842)","v":""},{"$f":"IF(syoriyou!H842=\"\",\"\",syoriyou!H842)","v":""},{"$f":"IF(syoriyou!I842=\"\",\"\",syoriyou!I842)","v":""},{"$f":"IF(syoriyou!J842=\"\",\"\",syoriyou!N842)","v":""}]
[{"$f":"IF(syoriyou!A843=\"\",\"\",syoriyou!A843)","v":""},{"$f":"IF(syoriyou!B843=\"\",\"\",syoriyou!B843)","v":""},{"$f":"IF(syoriyou!C843=\"\",\"\",syoriyou!C843)","v":""},{"$f":"IF(syoriyou!D843=\"\",\"\",syoriyou!D843)","v":""},{"$f":"IF(syoriyou!E843=\"\",\"\",syoriyou!E843)","v":""},{"$f":"IF(syoriyou!F843=\"\",\"\",syoriyou!F843)","v":""},{"$f":"IF(syoriyou!G843=\"\",\"\",syoriyou!G843)","v":""},{"$f":"IF(syoriyou!H843=\"\",\"\",syoriyou!H843)","v":""},{"$f":"IF(syoriyou!I843=\"\",\"\",syoriyou!I843)","v":""},{"$f":"IF(syoriyou!J843=\"\",\"\",syoriyou!N843)","v":""}]
[{"$f":"IF(syoriyou!A844=\"\",\"\",syoriyou!A844)","v":""},{"$f":"IF(syoriyou!B844=\"\",\"\",syoriyou!B844)","v":""},{"$f":"IF(syoriyou!C844=\"\",\"\",syoriyou!C844)","v":""},{"$f":"IF(syoriyou!D844=\"\",\"\",syoriyou!D844)","v":""},{"$f":"IF(syoriyou!E844=\"\",\"\",syoriyou!E844)","v":""},{"$f":"IF(syoriyou!F844=\"\",\"\",syoriyou!F844)","v":""},{"$f":"IF(syoriyou!G844=\"\",\"\",syoriyou!G844)","v":""},{"$f":"IF(syoriyou!H844=\"\",\"\",syoriyou!H844)","v":""},{"$f":"IF(syoriyou!I844=\"\",\"\",syoriyou!I844)","v":""},{"$f":"IF(syoriyou!J844=\"\",\"\",syoriyou!N844)","v":""}]
[{"$f":"IF(syoriyou!A845=\"\",\"\",syoriyou!A845)","v":""},{"$f":"IF(syoriyou!B845=\"\",\"\",syoriyou!B845)","v":""},{"$f":"IF(syoriyou!C845=\"\",\"\",syoriyou!C845)","v":""},{"$f":"IF(syoriyou!D845=\"\",\"\",syoriyou!D845)","v":""},{"$f":"IF(syoriyou!E845=\"\",\"\",syoriyou!E845)","v":""},{"$f":"IF(syoriyou!F845=\"\",\"\",syoriyou!F845)","v":""},{"$f":"IF(syoriyou!G845=\"\",\"\",syoriyou!G845)","v":""},{"$f":"IF(syoriyou!H845=\"\",\"\",syoriyou!H845)","v":""},{"$f":"IF(syoriyou!I845=\"\",\"\",syoriyou!I845)","v":""},{"$f":"IF(syoriyou!J845=\"\",\"\",syoriyou!N845)","v":""}]
[{"$f":"IF(syoriyou!A846=\"\",\"\",syoriyou!A846)","v":""},{"$f":"IF(syoriyou!B846=\"\",\"\",syoriyou!B846)","v":""},{"$f":"IF(syoriyou!C846=\"\",\"\",syoriyou!C846)","v":""},{"$f":"IF(syoriyou!D846=\"\",\"\",syoriyou!D846)","v":""},{"$f":"IF(syoriyou!E846=\"\",\"\",syoriyou!E846)","v":""},{"$f":"IF(syoriyou!F846=\"\",\"\",syoriyou!F846)","v":""},{"$f":"IF(syoriyou!G846=\"\",\"\",syoriyou!G846)","v":""},{"$f":"IF(syoriyou!H846=\"\",\"\",syoriyou!H846)","v":""},{"$f":"IF(syoriyou!I846=\"\",\"\",syoriyou!I846)","v":""},{"$f":"IF(syoriyou!J846=\"\",\"\",syoriyou!N846)","v":""}]
[{"$f":"IF(syoriyou!A847=\"\",\"\",syoriyou!A847)","v":""},{"$f":"IF(syoriyou!B847=\"\",\"\",syoriyou!B847)","v":""},{"$f":"IF(syoriyou!C847=\"\",\"\",syoriyou!C847)","v":""},{"$f":"IF(syoriyou!D847=\"\",\"\",syoriyou!D847)","v":""},{"$f":"IF(syoriyou!E847=\"\",\"\",syoriyou!E847)","v":""},{"$f":"IF(syoriyou!F847=\"\",\"\",syoriyou!F847)","v":""},{"$f":"IF(syoriyou!G847=\"\",\"\",syoriyou!G847)","v":""},{"$f":"IF(syoriyou!H847=\"\",\"\",syoriyou!H847)","v":""},{"$f":"IF(syoriyou!I847=\"\",\"\",syoriyou!I847)","v":""},{"$f":"IF(syoriyou!J847=\"\",\"\",syoriyou!N847)","v":""}]
[{"$f":"IF(syoriyou!A848=\"\",\"\",syoriyou!A848)","v":""},{"$f":"IF(syoriyou!B848=\"\",\"\",syoriyou!B848)","v":""},{"$f":"IF(syoriyou!C848=\"\",\"\",syoriyou!C848)","v":""},{"$f":"IF(syoriyou!D848=\"\",\"\",syoriyou!D848)","v":""},{"$f":"IF(syoriyou!E848=\"\",\"\",syoriyou!E848)","v":""},{"$f":"IF(syoriyou!F848=\"\",\"\",syoriyou!F848)","v":""},{"$f":"IF(syoriyou!G848=\"\",\"\",syoriyou!G848)","v":""},{"$f":"IF(syoriyou!H848=\"\",\"\",syoriyou!H848)","v":""},{"$f":"IF(syoriyou!I848=\"\",\"\",syoriyou!I848)","v":""},{"$f":"IF(syoriyou!J848=\"\",\"\",syoriyou!N848)","v":""}]
[{"$f":"IF(syoriyou!A849=\"\",\"\",syoriyou!A849)","v":""},{"$f":"IF(syoriyou!B849=\"\",\"\",syoriyou!B849)","v":""},{"$f":"IF(syoriyou!C849=\"\",\"\",syoriyou!C849)","v":""},{"$f":"IF(syoriyou!D849=\"\",\"\",syoriyou!D849)","v":""},{"$f":"IF(syoriyou!E849=\"\",\"\",syoriyou!E849)","v":""},{"$f":"IF(syoriyou!F849=\"\",\"\",syoriyou!F849)","v":""},{"$f":"IF(syoriyou!G849=\"\",\"\",syoriyou!G849)","v":""},{"$f":"IF(syoriyou!H849=\"\",\"\",syoriyou!H849)","v":""},{"$f":"IF(syoriyou!I849=\"\",\"\",syoriyou!I849)","v":""},{"$f":"IF(syoriyou!J849=\"\",\"\",syoriyou!N849)","v":""}]
[{"$f":"IF(syoriyou!A850=\"\",\"\",syoriyou!A850)","v":""},{"$f":"IF(syoriyou!B850=\"\",\"\",syoriyou!B850)","v":""},{"$f":"IF(syoriyou!C850=\"\",\"\",syoriyou!C850)","v":""},{"$f":"IF(syoriyou!D850=\"\",\"\",syoriyou!D850)","v":""},{"$f":"IF(syoriyou!E850=\"\",\"\",syoriyou!E850)","v":""},{"$f":"IF(syoriyou!F850=\"\",\"\",syoriyou!F850)","v":""},{"$f":"IF(syoriyou!G850=\"\",\"\",syoriyou!G850)","v":""},{"$f":"IF(syoriyou!H850=\"\",\"\",syoriyou!H850)","v":""},{"$f":"IF(syoriyou!I850=\"\",\"\",syoriyou!I850)","v":""},{"$f":"IF(syoriyou!J850=\"\",\"\",syoriyou!N850)","v":""}]
[{"$f":"IF(syoriyou!A851=\"\",\"\",syoriyou!A851)","v":""},{"$f":"IF(syoriyou!B851=\"\",\"\",syoriyou!B851)","v":""},{"$f":"IF(syoriyou!C851=\"\",\"\",syoriyou!C851)","v":""},{"$f":"IF(syoriyou!D851=\"\",\"\",syoriyou!D851)","v":""},{"$f":"IF(syoriyou!E851=\"\",\"\",syoriyou!E851)","v":""},{"$f":"IF(syoriyou!F851=\"\",\"\",syoriyou!F851)","v":""},{"$f":"IF(syoriyou!G851=\"\",\"\",syoriyou!G851)","v":""},{"$f":"IF(syoriyou!H851=\"\",\"\",syoriyou!H851)","v":""},{"$f":"IF(syoriyou!I851=\"\",\"\",syoriyou!I851)","v":""},{"$f":"IF(syoriyou!J851=\"\",\"\",syoriyou!N851)","v":""}]
[{"$f":"IF(syoriyou!A852=\"\",\"\",syoriyou!A852)","v":""},{"$f":"IF(syoriyou!B852=\"\",\"\",syoriyou!B852)","v":""},{"$f":"IF(syoriyou!C852=\"\",\"\",syoriyou!C852)","v":""},{"$f":"IF(syoriyou!D852=\"\",\"\",syoriyou!D852)","v":""},{"$f":"IF(syoriyou!E852=\"\",\"\",syoriyou!E852)","v":""},{"$f":"IF(syoriyou!F852=\"\",\"\",syoriyou!F852)","v":""},{"$f":"IF(syoriyou!G852=\"\",\"\",syoriyou!G852)","v":""},{"$f":"IF(syoriyou!H852=\"\",\"\",syoriyou!H852)","v":""},{"$f":"IF(syoriyou!I852=\"\",\"\",syoriyou!I852)","v":""},{"$f":"IF(syoriyou!J852=\"\",\"\",syoriyou!N852)","v":""}]
[{"$f":"IF(syoriyou!A853=\"\",\"\",syoriyou!A853)","v":""},{"$f":"IF(syoriyou!B853=\"\",\"\",syoriyou!B853)","v":""},{"$f":"IF(syoriyou!C853=\"\",\"\",syoriyou!C853)","v":""},{"$f":"IF(syoriyou!D853=\"\",\"\",syoriyou!D853)","v":""},{"$f":"IF(syoriyou!E853=\"\",\"\",syoriyou!E853)","v":""},{"$f":"IF(syoriyou!F853=\"\",\"\",syoriyou!F853)","v":""},{"$f":"IF(syoriyou!G853=\"\",\"\",syoriyou!G853)","v":""},{"$f":"IF(syoriyou!H853=\"\",\"\",syoriyou!H853)","v":""},{"$f":"IF(syoriyou!I853=\"\",\"\",syoriyou!I853)","v":""},{"$f":"IF(syoriyou!J853=\"\",\"\",syoriyou!N853)","v":""}]
[{"$f":"IF(syoriyou!A854=\"\",\"\",syoriyou!A854)","v":""},{"$f":"IF(syoriyou!B854=\"\",\"\",syoriyou!B854)","v":""},{"$f":"IF(syoriyou!C854=\"\",\"\",syoriyou!C854)","v":""},{"$f":"IF(syoriyou!D854=\"\",\"\",syoriyou!D854)","v":""},{"$f":"IF(syoriyou!E854=\"\",\"\",syoriyou!E854)","v":""},{"$f":"IF(syoriyou!F854=\"\",\"\",syoriyou!F854)","v":""},{"$f":"IF(syoriyou!G854=\"\",\"\",syoriyou!G854)","v":""},{"$f":"IF(syoriyou!H854=\"\",\"\",syoriyou!H854)","v":""},{"$f":"IF(syoriyou!I854=\"\",\"\",syoriyou!I854)","v":""},{"$f":"IF(syoriyou!J854=\"\",\"\",syoriyou!N854)","v":""}]
[{"$f":"IF(syoriyou!A855=\"\",\"\",syoriyou!A855)","v":""},{"$f":"IF(syoriyou!B855=\"\",\"\",syoriyou!B855)","v":""},{"$f":"IF(syoriyou!C855=\"\",\"\",syoriyou!C855)","v":""},{"$f":"IF(syoriyou!D855=\"\",\"\",syoriyou!D855)","v":""},{"$f":"IF(syoriyou!E855=\"\",\"\",syoriyou!E855)","v":""},{"$f":"IF(syoriyou!F855=\"\",\"\",syoriyou!F855)","v":""},{"$f":"IF(syoriyou!G855=\"\",\"\",syoriyou!G855)","v":""},{"$f":"IF(syoriyou!H855=\"\",\"\",syoriyou!H855)","v":""},{"$f":"IF(syoriyou!I855=\"\",\"\",syoriyou!I855)","v":""},{"$f":"IF(syoriyou!J855=\"\",\"\",syoriyou!N855)","v":""}]
[{"$f":"IF(syoriyou!A856=\"\",\"\",syoriyou!A856)","v":""},{"$f":"IF(syoriyou!B856=\"\",\"\",syoriyou!B856)","v":""},{"$f":"IF(syoriyou!C856=\"\",\"\",syoriyou!C856)","v":""},{"$f":"IF(syoriyou!D856=\"\",\"\",syoriyou!D856)","v":""},{"$f":"IF(syoriyou!E856=\"\",\"\",syoriyou!E856)","v":""},{"$f":"IF(syoriyou!F856=\"\",\"\",syoriyou!F856)","v":""},{"$f":"IF(syoriyou!G856=\"\",\"\",syoriyou!G856)","v":""},{"$f":"IF(syoriyou!H856=\"\",\"\",syoriyou!H856)","v":""},{"$f":"IF(syoriyou!I856=\"\",\"\",syoriyou!I856)","v":""},{"$f":"IF(syoriyou!J856=\"\",\"\",syoriyou!N856)","v":""}]
[{"$f":"IF(syoriyou!A857=\"\",\"\",syoriyou!A857)","v":""},{"$f":"IF(syoriyou!B857=\"\",\"\",syoriyou!B857)","v":""},{"$f":"IF(syoriyou!C857=\"\",\"\",syoriyou!C857)","v":""},{"$f":"IF(syoriyou!D857=\"\",\"\",syoriyou!D857)","v":""},{"$f":"IF(syoriyou!E857=\"\",\"\",syoriyou!E857)","v":""},{"$f":"IF(syoriyou!F857=\"\",\"\",syoriyou!F857)","v":""},{"$f":"IF(syoriyou!G857=\"\",\"\",syoriyou!G857)","v":""},{"$f":"IF(syoriyou!H857=\"\",\"\",syoriyou!H857)","v":""},{"$f":"IF(syoriyou!I857=\"\",\"\",syoriyou!I857)","v":""},{"$f":"IF(syoriyou!J857=\"\",\"\",syoriyou!N857)","v":""}]
[{"$f":"IF(syoriyou!A858=\"\",\"\",syoriyou!A858)","v":""},{"$f":"IF(syoriyou!B858=\"\",\"\",syoriyou!B858)","v":""},{"$f":"IF(syoriyou!C858=\"\",\"\",syoriyou!C858)","v":""},{"$f":"IF(syoriyou!D858=\"\",\"\",syoriyou!D858)","v":""},{"$f":"IF(syoriyou!E858=\"\",\"\",syoriyou!E858)","v":""},{"$f":"IF(syoriyou!F858=\"\",\"\",syoriyou!F858)","v":""},{"$f":"IF(syoriyou!G858=\"\",\"\",syoriyou!G858)","v":""},{"$f":"IF(syoriyou!H858=\"\",\"\",syoriyou!H858)","v":""},{"$f":"IF(syoriyou!I858=\"\",\"\",syoriyou!I858)","v":""},{"$f":"IF(syoriyou!J858=\"\",\"\",syoriyou!N858)","v":""}]
[{"$f":"IF(syoriyou!A859=\"\",\"\",syoriyou!A859)","v":""},{"$f":"IF(syoriyou!B859=\"\",\"\",syoriyou!B859)","v":""},{"$f":"IF(syoriyou!C859=\"\",\"\",syoriyou!C859)","v":""},{"$f":"IF(syoriyou!D859=\"\",\"\",syoriyou!D859)","v":""},{"$f":"IF(syoriyou!E859=\"\",\"\",syoriyou!E859)","v":""},{"$f":"IF(syoriyou!F859=\"\",\"\",syoriyou!F859)","v":""},{"$f":"IF(syoriyou!G859=\"\",\"\",syoriyou!G859)","v":""},{"$f":"IF(syoriyou!H859=\"\",\"\",syoriyou!H859)","v":""},{"$f":"IF(syoriyou!I859=\"\",\"\",syoriyou!I859)","v":""},{"$f":"IF(syoriyou!J859=\"\",\"\",syoriyou!N859)","v":""}]
[{"$f":"IF(syoriyou!A860=\"\",\"\",syoriyou!A860)","v":""},{"$f":"IF(syoriyou!B860=\"\",\"\",syoriyou!B860)","v":""},{"$f":"IF(syoriyou!C860=\"\",\"\",syoriyou!C860)","v":""},{"$f":"IF(syoriyou!D860=\"\",\"\",syoriyou!D860)","v":""},{"$f":"IF(syoriyou!E860=\"\",\"\",syoriyou!E860)","v":""},{"$f":"IF(syoriyou!F860=\"\",\"\",syoriyou!F860)","v":""},{"$f":"IF(syoriyou!G860=\"\",\"\",syoriyou!G860)","v":""},{"$f":"IF(syoriyou!H860=\"\",\"\",syoriyou!H860)","v":""},{"$f":"IF(syoriyou!I860=\"\",\"\",syoriyou!I860)","v":""},{"$f":"IF(syoriyou!J860=\"\",\"\",syoriyou!N860)","v":""}]
[{"$f":"IF(syoriyou!A861=\"\",\"\",syoriyou!A861)","v":""},{"$f":"IF(syoriyou!B861=\"\",\"\",syoriyou!B861)","v":""},{"$f":"IF(syoriyou!C861=\"\",\"\",syoriyou!C861)","v":""},{"$f":"IF(syoriyou!D861=\"\",\"\",syoriyou!D861)","v":""},{"$f":"IF(syoriyou!E861=\"\",\"\",syoriyou!E861)","v":""},{"$f":"IF(syoriyou!F861=\"\",\"\",syoriyou!F861)","v":""},{"$f":"IF(syoriyou!G861=\"\",\"\",syoriyou!G861)","v":""},{"$f":"IF(syoriyou!H861=\"\",\"\",syoriyou!H861)","v":""},{"$f":"IF(syoriyou!I861=\"\",\"\",syoriyou!I861)","v":""},{"$f":"IF(syoriyou!J861=\"\",\"\",syoriyou!N861)","v":""}]
[{"$f":"IF(syoriyou!A862=\"\",\"\",syoriyou!A862)","v":""},{"$f":"IF(syoriyou!B862=\"\",\"\",syoriyou!B862)","v":""},{"$f":"IF(syoriyou!C862=\"\",\"\",syoriyou!C862)","v":""},{"$f":"IF(syoriyou!D862=\"\",\"\",syoriyou!D862)","v":""},{"$f":"IF(syoriyou!E862=\"\",\"\",syoriyou!E862)","v":""},{"$f":"IF(syoriyou!F862=\"\",\"\",syoriyou!F862)","v":""},{"$f":"IF(syoriyou!G862=\"\",\"\",syoriyou!G862)","v":""},{"$f":"IF(syoriyou!H862=\"\",\"\",syoriyou!H862)","v":""},{"$f":"IF(syoriyou!I862=\"\",\"\",syoriyou!I862)","v":""},{"$f":"IF(syoriyou!J862=\"\",\"\",syoriyou!N862)","v":""}]
[{"$f":"IF(syoriyou!A863=\"\",\"\",syoriyou!A863)","v":""},{"$f":"IF(syoriyou!B863=\"\",\"\",syoriyou!B863)","v":""},{"$f":"IF(syoriyou!C863=\"\",\"\",syoriyou!C863)","v":""},{"$f":"IF(syoriyou!D863=\"\",\"\",syoriyou!D863)","v":""},{"$f":"IF(syoriyou!E863=\"\",\"\",syoriyou!E863)","v":""},{"$f":"IF(syoriyou!F863=\"\",\"\",syoriyou!F863)","v":""},{"$f":"IF(syoriyou!G863=\"\",\"\",syoriyou!G863)","v":""},{"$f":"IF(syoriyou!H863=\"\",\"\",syoriyou!H863)","v":""},{"$f":"IF(syoriyou!I863=\"\",\"\",syoriyou!I863)","v":""},{"$f":"IF(syoriyou!J863=\"\",\"\",syoriyou!N863)","v":""}]
[{"$f":"IF(syoriyou!A864=\"\",\"\",syoriyou!A864)","v":""},{"$f":"IF(syoriyou!B864=\"\",\"\",syoriyou!B864)","v":""},{"$f":"IF(syoriyou!C864=\"\",\"\",syoriyou!C864)","v":""},{"$f":"IF(syoriyou!D864=\"\",\"\",syoriyou!D864)","v":""},{"$f":"IF(syoriyou!E864=\"\",\"\",syoriyou!E864)","v":""},{"$f":"IF(syoriyou!F864=\"\",\"\",syoriyou!F864)","v":""},{"$f":"IF(syoriyou!G864=\"\",\"\",syoriyou!G864)","v":""},{"$f":"IF(syoriyou!H864=\"\",\"\",syoriyou!H864)","v":""},{"$f":"IF(syoriyou!I864=\"\",\"\",syoriyou!I864)","v":""},{"$f":"IF(syoriyou!J864=\"\",\"\",syoriyou!N864)","v":""}]
[{"$f":"IF(syoriyou!A865=\"\",\"\",syoriyou!A865)","v":""},{"$f":"IF(syoriyou!B865=\"\",\"\",syoriyou!B865)","v":""},{"$f":"IF(syoriyou!C865=\"\",\"\",syoriyou!C865)","v":""},{"$f":"IF(syoriyou!D865=\"\",\"\",syoriyou!D865)","v":""},{"$f":"IF(syoriyou!E865=\"\",\"\",syoriyou!E865)","v":""},{"$f":"IF(syoriyou!F865=\"\",\"\",syoriyou!F865)","v":""},{"$f":"IF(syoriyou!G865=\"\",\"\",syoriyou!G865)","v":""},{"$f":"IF(syoriyou!H865=\"\",\"\",syoriyou!H865)","v":""},{"$f":"IF(syoriyou!I865=\"\",\"\",syoriyou!I865)","v":""},{"$f":"IF(syoriyou!J865=\"\",\"\",syoriyou!N865)","v":""}]
[{"$f":"IF(syoriyou!A866=\"\",\"\",syoriyou!A866)","v":""},{"$f":"IF(syoriyou!B866=\"\",\"\",syoriyou!B866)","v":""},{"$f":"IF(syoriyou!C866=\"\",\"\",syoriyou!C866)","v":""},{"$f":"IF(syoriyou!D866=\"\",\"\",syoriyou!D866)","v":""},{"$f":"IF(syoriyou!E866=\"\",\"\",syoriyou!E866)","v":""},{"$f":"IF(syoriyou!F866=\"\",\"\",syoriyou!F866)","v":""},{"$f":"IF(syoriyou!G866=\"\",\"\",syoriyou!G866)","v":""},{"$f":"IF(syoriyou!H866=\"\",\"\",syoriyou!H866)","v":""},{"$f":"IF(syoriyou!I866=\"\",\"\",syoriyou!I866)","v":""},{"$f":"IF(syoriyou!J866=\"\",\"\",syoriyou!N866)","v":""}]
[{"$f":"IF(syoriyou!A867=\"\",\"\",syoriyou!A867)","v":""},{"$f":"IF(syoriyou!B867=\"\",\"\",syoriyou!B867)","v":""},{"$f":"IF(syoriyou!C867=\"\",\"\",syoriyou!C867)","v":""},{"$f":"IF(syoriyou!D867=\"\",\"\",syoriyou!D867)","v":""},{"$f":"IF(syoriyou!E867=\"\",\"\",syoriyou!E867)","v":""},{"$f":"IF(syoriyou!F867=\"\",\"\",syoriyou!F867)","v":""},{"$f":"IF(syoriyou!G867=\"\",\"\",syoriyou!G867)","v":""},{"$f":"IF(syoriyou!H867=\"\",\"\",syoriyou!H867)","v":""},{"$f":"IF(syoriyou!I867=\"\",\"\",syoriyou!I867)","v":""},{"$f":"IF(syoriyou!J867=\"\",\"\",syoriyou!N867)","v":""}]
[{"$f":"IF(syoriyou!A868=\"\",\"\",syoriyou!A868)","v":""},{"$f":"IF(syoriyou!B868=\"\",\"\",syoriyou!B868)","v":""},{"$f":"IF(syoriyou!C868=\"\",\"\",syoriyou!C868)","v":""},{"$f":"IF(syoriyou!D868=\"\",\"\",syoriyou!D868)","v":""},{"$f":"IF(syoriyou!E868=\"\",\"\",syoriyou!E868)","v":""},{"$f":"IF(syoriyou!F868=\"\",\"\",syoriyou!F868)","v":""},{"$f":"IF(syoriyou!G868=\"\",\"\",syoriyou!G868)","v":""},{"$f":"IF(syoriyou!H868=\"\",\"\",syoriyou!H868)","v":""},{"$f":"IF(syoriyou!I868=\"\",\"\",syoriyou!I868)","v":""},{"$f":"IF(syoriyou!J868=\"\",\"\",syoriyou!N868)","v":""}]
[{"$f":"IF(syoriyou!A869=\"\",\"\",syoriyou!A869)","v":""},{"$f":"IF(syoriyou!B869=\"\",\"\",syoriyou!B869)","v":""},{"$f":"IF(syoriyou!C869=\"\",\"\",syoriyou!C869)","v":""},{"$f":"IF(syoriyou!D869=\"\",\"\",syoriyou!D869)","v":""},{"$f":"IF(syoriyou!E869=\"\",\"\",syoriyou!E869)","v":""},{"$f":"IF(syoriyou!F869=\"\",\"\",syoriyou!F869)","v":""},{"$f":"IF(syoriyou!G869=\"\",\"\",syoriyou!G869)","v":""},{"$f":"IF(syoriyou!H869=\"\",\"\",syoriyou!H869)","v":""},{"$f":"IF(syoriyou!I869=\"\",\"\",syoriyou!I869)","v":""},{"$f":"IF(syoriyou!J869=\"\",\"\",syoriyou!N869)","v":""}]
[{"$f":"IF(syoriyou!A870=\"\",\"\",syoriyou!A870)","v":""},{"$f":"IF(syoriyou!B870=\"\",\"\",syoriyou!B870)","v":""},{"$f":"IF(syoriyou!C870=\"\",\"\",syoriyou!C870)","v":""},{"$f":"IF(syoriyou!D870=\"\",\"\",syoriyou!D870)","v":""},{"$f":"IF(syoriyou!E870=\"\",\"\",syoriyou!E870)","v":""},{"$f":"IF(syoriyou!F870=\"\",\"\",syoriyou!F870)","v":""},{"$f":"IF(syoriyou!G870=\"\",\"\",syoriyou!G870)","v":""},{"$f":"IF(syoriyou!H870=\"\",\"\",syoriyou!H870)","v":""},{"$f":"IF(syoriyou!I870=\"\",\"\",syoriyou!I870)","v":""},{"$f":"IF(syoriyou!J870=\"\",\"\",syoriyou!N870)","v":""}]
[{"$f":"IF(syoriyou!A871=\"\",\"\",syoriyou!A871)","v":""},{"$f":"IF(syoriyou!B871=\"\",\"\",syoriyou!B871)","v":""},{"$f":"IF(syoriyou!C871=\"\",\"\",syoriyou!C871)","v":""},{"$f":"IF(syoriyou!D871=\"\",\"\",syoriyou!D871)","v":""},{"$f":"IF(syoriyou!E871=\"\",\"\",syoriyou!E871)","v":""},{"$f":"IF(syoriyou!F871=\"\",\"\",syoriyou!F871)","v":""},{"$f":"IF(syoriyou!G871=\"\",\"\",syoriyou!G871)","v":""},{"$f":"IF(syoriyou!H871=\"\",\"\",syoriyou!H871)","v":""},{"$f":"IF(syoriyou!I871=\"\",\"\",syoriyou!I871)","v":""},{"$f":"IF(syoriyou!J871=\"\",\"\",syoriyou!N871)","v":""}]
[{"$f":"IF(syoriyou!A872=\"\",\"\",syoriyou!A872)","v":""},{"$f":"IF(syoriyou!B872=\"\",\"\",syoriyou!B872)","v":""},{"$f":"IF(syoriyou!C872=\"\",\"\",syoriyou!C872)","v":""},{"$f":"IF(syoriyou!D872=\"\",\"\",syoriyou!D872)","v":""},{"$f":"IF(syoriyou!E872=\"\",\"\",syoriyou!E872)","v":""},{"$f":"IF(syoriyou!F872=\"\",\"\",syoriyou!F872)","v":""},{"$f":"IF(syoriyou!G872=\"\",\"\",syoriyou!G872)","v":""},{"$f":"IF(syoriyou!H872=\"\",\"\",syoriyou!H872)","v":""},{"$f":"IF(syoriyou!I872=\"\",\"\",syoriyou!I872)","v":""},{"$f":"IF(syoriyou!J872=\"\",\"\",syoriyou!N872)","v":""}]
[{"$f":"IF(syoriyou!A873=\"\",\"\",syoriyou!A873)","v":""},{"$f":"IF(syoriyou!B873=\"\",\"\",syoriyou!B873)","v":""},{"$f":"IF(syoriyou!C873=\"\",\"\",syoriyou!C873)","v":""},{"$f":"IF(syoriyou!D873=\"\",\"\",syoriyou!D873)","v":""},{"$f":"IF(syoriyou!E873=\"\",\"\",syoriyou!E873)","v":""},{"$f":"IF(syoriyou!F873=\"\",\"\",syoriyou!F873)","v":""},{"$f":"IF(syoriyou!G873=\"\",\"\",syoriyou!G873)","v":""},{"$f":"IF(syoriyou!H873=\"\",\"\",syoriyou!H873)","v":""},{"$f":"IF(syoriyou!I873=\"\",\"\",syoriyou!I873)","v":""},{"$f":"IF(syoriyou!J873=\"\",\"\",syoriyou!N873)","v":""}]
[{"$f":"IF(syoriyou!A874=\"\",\"\",syoriyou!A874)","v":""},{"$f":"IF(syoriyou!B874=\"\",\"\",syoriyou!B874)","v":""},{"$f":"IF(syoriyou!C874=\"\",\"\",syoriyou!C874)","v":""},{"$f":"IF(syoriyou!D874=\"\",\"\",syoriyou!D874)","v":""},{"$f":"IF(syoriyou!E874=\"\",\"\",syoriyou!E874)","v":""},{"$f":"IF(syoriyou!F874=\"\",\"\",syoriyou!F874)","v":""},{"$f":"IF(syoriyou!G874=\"\",\"\",syoriyou!G874)","v":""},{"$f":"IF(syoriyou!H874=\"\",\"\",syoriyou!H874)","v":""},{"$f":"IF(syoriyou!I874=\"\",\"\",syoriyou!I874)","v":""},{"$f":"IF(syoriyou!J874=\"\",\"\",syoriyou!N874)","v":""}]
[{"$f":"IF(syoriyou!A875=\"\",\"\",syoriyou!A875)","v":""},{"$f":"IF(syoriyou!B875=\"\",\"\",syoriyou!B875)","v":""},{"$f":"IF(syoriyou!C875=\"\",\"\",syoriyou!C875)","v":""},{"$f":"IF(syoriyou!D875=\"\",\"\",syoriyou!D875)","v":""},{"$f":"IF(syoriyou!E875=\"\",\"\",syoriyou!E875)","v":""},{"$f":"IF(syoriyou!F875=\"\",\"\",syoriyou!F875)","v":""},{"$f":"IF(syoriyou!G875=\"\",\"\",syoriyou!G875)","v":""},{"$f":"IF(syoriyou!H875=\"\",\"\",syoriyou!H875)","v":""},{"$f":"IF(syoriyou!I875=\"\",\"\",syoriyou!I875)","v":""},{"$f":"IF(syoriyou!J875=\"\",\"\",syoriyou!N875)","v":""}]
[{"$f":"IF(syoriyou!A876=\"\",\"\",syoriyou!A876)","v":""},{"$f":"IF(syoriyou!B876=\"\",\"\",syoriyou!B876)","v":""},{"$f":"IF(syoriyou!C876=\"\",\"\",syoriyou!C876)","v":""},{"$f":"IF(syoriyou!D876=\"\",\"\",syoriyou!D876)","v":""},{"$f":"IF(syoriyou!E876=\"\",\"\",syoriyou!E876)","v":""},{"$f":"IF(syoriyou!F876=\"\",\"\",syoriyou!F876)","v":""},{"$f":"IF(syoriyou!G876=\"\",\"\",syoriyou!G876)","v":""},{"$f":"IF(syoriyou!H876=\"\",\"\",syoriyou!H876)","v":""},{"$f":"IF(syoriyou!I876=\"\",\"\",syoriyou!I876)","v":""},{"$f":"IF(syoriyou!J876=\"\",\"\",syoriyou!N876)","v":""}]
[{"$f":"IF(syoriyou!A877=\"\",\"\",syoriyou!A877)","v":""},{"$f":"IF(syoriyou!B877=\"\",\"\",syoriyou!B877)","v":""},{"$f":"IF(syoriyou!C877=\"\",\"\",syoriyou!C877)","v":""},{"$f":"IF(syoriyou!D877=\"\",\"\",syoriyou!D877)","v":""},{"$f":"IF(syoriyou!E877=\"\",\"\",syoriyou!E877)","v":""},{"$f":"IF(syoriyou!F877=\"\",\"\",syoriyou!F877)","v":""},{"$f":"IF(syoriyou!G877=\"\",\"\",syoriyou!G877)","v":""},{"$f":"IF(syoriyou!H877=\"\",\"\",syoriyou!H877)","v":""},{"$f":"IF(syoriyou!I877=\"\",\"\",syoriyou!I877)","v":""},{"$f":"IF(syoriyou!J877=\"\",\"\",syoriyou!N877)","v":""}]
[{"$f":"IF(syoriyou!A878=\"\",\"\",syoriyou!A878)","v":""},{"$f":"IF(syoriyou!B878=\"\",\"\",syoriyou!B878)","v":""},{"$f":"IF(syoriyou!C878=\"\",\"\",syoriyou!C878)","v":""},{"$f":"IF(syoriyou!D878=\"\",\"\",syoriyou!D878)","v":""},{"$f":"IF(syoriyou!E878=\"\",\"\",syoriyou!E878)","v":""},{"$f":"IF(syoriyou!F878=\"\",\"\",syoriyou!F878)","v":""},{"$f":"IF(syoriyou!G878=\"\",\"\",syoriyou!G878)","v":""},{"$f":"IF(syoriyou!H878=\"\",\"\",syoriyou!H878)","v":""},{"$f":"IF(syoriyou!I878=\"\",\"\",syoriyou!I878)","v":""},{"$f":"IF(syoriyou!J878=\"\",\"\",syoriyou!N878)","v":""}]
[{"$f":"IF(syoriyou!A879=\"\",\"\",syoriyou!A879)","v":""},{"$f":"IF(syoriyou!B879=\"\",\"\",syoriyou!B879)","v":""},{"$f":"IF(syoriyou!C879=\"\",\"\",syoriyou!C879)","v":""},{"$f":"IF(syoriyou!D879=\"\",\"\",syoriyou!D879)","v":""},{"$f":"IF(syoriyou!E879=\"\",\"\",syoriyou!E879)","v":""},{"$f":"IF(syoriyou!F879=\"\",\"\",syoriyou!F879)","v":""},{"$f":"IF(syoriyou!G879=\"\",\"\",syoriyou!G879)","v":""},{"$f":"IF(syoriyou!H879=\"\",\"\",syoriyou!H879)","v":""},{"$f":"IF(syoriyou!I879=\"\",\"\",syoriyou!I879)","v":""},{"$f":"IF(syoriyou!J879=\"\",\"\",syoriyou!N879)","v":""}]
[{"$f":"IF(syoriyou!A880=\"\",\"\",syoriyou!A880)","v":""},{"$f":"IF(syoriyou!B880=\"\",\"\",syoriyou!B880)","v":""},{"$f":"IF(syoriyou!C880=\"\",\"\",syoriyou!C880)","v":""},{"$f":"IF(syoriyou!D880=\"\",\"\",syoriyou!D880)","v":""},{"$f":"IF(syoriyou!E880=\"\",\"\",syoriyou!E880)","v":""},{"$f":"IF(syoriyou!F880=\"\",\"\",syoriyou!F880)","v":""},{"$f":"IF(syoriyou!G880=\"\",\"\",syoriyou!G880)","v":""},{"$f":"IF(syoriyou!H880=\"\",\"\",syoriyou!H880)","v":""},{"$f":"IF(syoriyou!I880=\"\",\"\",syoriyou!I880)","v":""},{"$f":"IF(syoriyou!J880=\"\",\"\",syoriyou!N880)","v":""}]
[{"$f":"IF(syoriyou!A881=\"\",\"\",syoriyou!A881)","v":""},{"$f":"IF(syoriyou!B881=\"\",\"\",syoriyou!B881)","v":""},{"$f":"IF(syoriyou!C881=\"\",\"\",syoriyou!C881)","v":""},{"$f":"IF(syoriyou!D881=\"\",\"\",syoriyou!D881)","v":""},{"$f":"IF(syoriyou!E881=\"\",\"\",syoriyou!E881)","v":""},{"$f":"IF(syoriyou!F881=\"\",\"\",syoriyou!F881)","v":""},{"$f":"IF(syoriyou!G881=\"\",\"\",syoriyou!G881)","v":""},{"$f":"IF(syoriyou!H881=\"\",\"\",syoriyou!H881)","v":""},{"$f":"IF(syoriyou!I881=\"\",\"\",syoriyou!I881)","v":""},{"$f":"IF(syoriyou!J881=\"\",\"\",syoriyou!N881)","v":""}]
[{"$f":"IF(syoriyou!A882=\"\",\"\",syoriyou!A882)","v":""},{"$f":"IF(syoriyou!B882=\"\",\"\",syoriyou!B882)","v":""},{"$f":"IF(syoriyou!C882=\"\",\"\",syoriyou!C882)","v":""},{"$f":"IF(syoriyou!D882=\"\",\"\",syoriyou!D882)","v":""},{"$f":"IF(syoriyou!E882=\"\",\"\",syoriyou!E882)","v":""},{"$f":"IF(syoriyou!F882=\"\",\"\",syoriyou!F882)","v":""},{"$f":"IF(syoriyou!G882=\"\",\"\",syoriyou!G882)","v":""},{"$f":"IF(syoriyou!H882=\"\",\"\",syoriyou!H882)","v":""},{"$f":"IF(syoriyou!I882=\"\",\"\",syoriyou!I882)","v":""},{"$f":"IF(syoriyou!J882=\"\",\"\",syoriyou!N882)","v":""}]
[{"$f":"IF(syoriyou!A883=\"\",\"\",syoriyou!A883)","v":""},{"$f":"IF(syoriyou!B883=\"\",\"\",syoriyou!B883)","v":""},{"$f":"IF(syoriyou!C883=\"\",\"\",syoriyou!C883)","v":""},{"$f":"IF(syoriyou!D883=\"\",\"\",syoriyou!D883)","v":""},{"$f":"IF(syoriyou!E883=\"\",\"\",syoriyou!E883)","v":""},{"$f":"IF(syoriyou!F883=\"\",\"\",syoriyou!F883)","v":""},{"$f":"IF(syoriyou!G883=\"\",\"\",syoriyou!G883)","v":""},{"$f":"IF(syoriyou!H883=\"\",\"\",syoriyou!H883)","v":""},{"$f":"IF(syoriyou!I883=\"\",\"\",syoriyou!I883)","v":""},{"$f":"IF(syoriyou!J883=\"\",\"\",syoriyou!N883)","v":""}]
[{"$f":"IF(syoriyou!A884=\"\",\"\",syoriyou!A884)","v":""},{"$f":"IF(syoriyou!B884=\"\",\"\",syoriyou!B884)","v":""},{"$f":"IF(syoriyou!C884=\"\",\"\",syoriyou!C884)","v":""},{"$f":"IF(syoriyou!D884=\"\",\"\",syoriyou!D884)","v":""},{"$f":"IF(syoriyou!E884=\"\",\"\",syoriyou!E884)","v":""},{"$f":"IF(syoriyou!F884=\"\",\"\",syoriyou!F884)","v":""},{"$f":"IF(syoriyou!G884=\"\",\"\",syoriyou!G884)","v":""},{"$f":"IF(syoriyou!H884=\"\",\"\",syoriyou!H884)","v":""},{"$f":"IF(syoriyou!I884=\"\",\"\",syoriyou!I884)","v":""},{"$f":"IF(syoriyou!J884=\"\",\"\",syoriyou!N884)","v":""}]
[{"$f":"IF(syoriyou!A885=\"\",\"\",syoriyou!A885)","v":""},{"$f":"IF(syoriyou!B885=\"\",\"\",syoriyou!B885)","v":""},{"$f":"IF(syoriyou!C885=\"\",\"\",syoriyou!C885)","v":""},{"$f":"IF(syoriyou!D885=\"\",\"\",syoriyou!D885)","v":""},{"$f":"IF(syoriyou!E885=\"\",\"\",syoriyou!E885)","v":""},{"$f":"IF(syoriyou!F885=\"\",\"\",syoriyou!F885)","v":""},{"$f":"IF(syoriyou!G885=\"\",\"\",syoriyou!G885)","v":""},{"$f":"IF(syoriyou!H885=\"\",\"\",syoriyou!H885)","v":""},{"$f":"IF(syoriyou!I885=\"\",\"\",syoriyou!I885)","v":""},{"$f":"IF(syoriyou!J885=\"\",\"\",syoriyou!N885)","v":""}]
[{"$f":"IF(syoriyou!A886=\"\",\"\",syoriyou!A886)","v":""},{"$f":"IF(syoriyou!B886=\"\",\"\",syoriyou!B886)","v":""},{"$f":"IF(syoriyou!C886=\"\",\"\",syoriyou!C886)","v":""},{"$f":"IF(syoriyou!D886=\"\",\"\",syoriyou!D886)","v":""},{"$f":"IF(syoriyou!E886=\"\",\"\",syoriyou!E886)","v":""},{"$f":"IF(syoriyou!F886=\"\",\"\",syoriyou!F886)","v":""},{"$f":"IF(syoriyou!G886=\"\",\"\",syoriyou!G886)","v":""},{"$f":"IF(syoriyou!H886=\"\",\"\",syoriyou!H886)","v":""},{"$f":"IF(syoriyou!I886=\"\",\"\",syoriyou!I886)","v":""},{"$f":"IF(syoriyou!J886=\"\",\"\",syoriyou!N886)","v":""}]
[{"$f":"IF(syoriyou!A887=\"\",\"\",syoriyou!A887)","v":""},{"$f":"IF(syoriyou!B887=\"\",\"\",syoriyou!B887)","v":""},{"$f":"IF(syoriyou!C887=\"\",\"\",syoriyou!C887)","v":""},{"$f":"IF(syoriyou!D887=\"\",\"\",syoriyou!D887)","v":""},{"$f":"IF(syoriyou!E887=\"\",\"\",syoriyou!E887)","v":""},{"$f":"IF(syoriyou!F887=\"\",\"\",syoriyou!F887)","v":""},{"$f":"IF(syoriyou!G887=\"\",\"\",syoriyou!G887)","v":""},{"$f":"IF(syoriyou!H887=\"\",\"\",syoriyou!H887)","v":""},{"$f":"IF(syoriyou!I887=\"\",\"\",syoriyou!I887)","v":""},{"$f":"IF(syoriyou!J887=\"\",\"\",syoriyou!N887)","v":""}]
[{"$f":"IF(syoriyou!A888=\"\",\"\",syoriyou!A888)","v":""},{"$f":"IF(syoriyou!B888=\"\",\"\",syoriyou!B888)","v":""},{"$f":"IF(syoriyou!C888=\"\",\"\",syoriyou!C888)","v":""},{"$f":"IF(syoriyou!D888=\"\",\"\",syoriyou!D888)","v":""},{"$f":"IF(syoriyou!E888=\"\",\"\",syoriyou!E888)","v":""},{"$f":"IF(syoriyou!F888=\"\",\"\",syoriyou!F888)","v":""},{"$f":"IF(syoriyou!G888=\"\",\"\",syoriyou!G888)","v":""},{"$f":"IF(syoriyou!H888=\"\",\"\",syoriyou!H888)","v":""},{"$f":"IF(syoriyou!I888=\"\",\"\",syoriyou!I888)","v":""},{"$f":"IF(syoriyou!J888=\"\",\"\",syoriyou!N888)","v":""}]
[{"$f":"IF(syoriyou!A889=\"\",\"\",syoriyou!A889)","v":""},{"$f":"IF(syoriyou!B889=\"\",\"\",syoriyou!B889)","v":""},{"$f":"IF(syoriyou!C889=\"\",\"\",syoriyou!C889)","v":""},{"$f":"IF(syoriyou!D889=\"\",\"\",syoriyou!D889)","v":""},{"$f":"IF(syoriyou!E889=\"\",\"\",syoriyou!E889)","v":""},{"$f":"IF(syoriyou!F889=\"\",\"\",syoriyou!F889)","v":""},{"$f":"IF(syoriyou!G889=\"\",\"\",syoriyou!G889)","v":""},{"$f":"IF(syoriyou!H889=\"\",\"\",syoriyou!H889)","v":""},{"$f":"IF(syoriyou!I889=\"\",\"\",syoriyou!I889)","v":""},{"$f":"IF(syoriyou!J889=\"\",\"\",syoriyou!N889)","v":""}]
[{"$f":"IF(syoriyou!A890=\"\",\"\",syoriyou!A890)","v":""},{"$f":"IF(syoriyou!B890=\"\",\"\",syoriyou!B890)","v":""},{"$f":"IF(syoriyou!C890=\"\",\"\",syoriyou!C890)","v":""},{"$f":"IF(syoriyou!D890=\"\",\"\",syoriyou!D890)","v":""},{"$f":"IF(syoriyou!E890=\"\",\"\",syoriyou!E890)","v":""},{"$f":"IF(syoriyou!F890=\"\",\"\",syoriyou!F890)","v":""},{"$f":"IF(syoriyou!G890=\"\",\"\",syoriyou!G890)","v":""},{"$f":"IF(syoriyou!H890=\"\",\"\",syoriyou!H890)","v":""},{"$f":"IF(syoriyou!I890=\"\",\"\",syoriyou!I890)","v":""},{"$f":"IF(syoriyou!J890=\"\",\"\",syoriyou!N890)","v":""}]
[{"$f":"IF(syoriyou!A891=\"\",\"\",syoriyou!A891)","v":""},{"$f":"IF(syoriyou!B891=\"\",\"\",syoriyou!B891)","v":""},{"$f":"IF(syoriyou!C891=\"\",\"\",syoriyou!C891)","v":""},{"$f":"IF(syoriyou!D891=\"\",\"\",syoriyou!D891)","v":""},{"$f":"IF(syoriyou!E891=\"\",\"\",syoriyou!E891)","v":""},{"$f":"IF(syoriyou!F891=\"\",\"\",syoriyou!F891)","v":""},{"$f":"IF(syoriyou!G891=\"\",\"\",syoriyou!G891)","v":""},{"$f":"IF(syoriyou!H891=\"\",\"\",syoriyou!H891)","v":""},{"$f":"IF(syoriyou!I891=\"\",\"\",syoriyou!I891)","v":""},{"$f":"IF(syoriyou!J891=\"\",\"\",syoriyou!N891)","v":""}]
[{"$f":"IF(syoriyou!A892=\"\",\"\",syoriyou!A892)","v":""},{"$f":"IF(syoriyou!B892=\"\",\"\",syoriyou!B892)","v":""},{"$f":"IF(syoriyou!C892=\"\",\"\",syoriyou!C892)","v":""},{"$f":"IF(syoriyou!D892=\"\",\"\",syoriyou!D892)","v":""},{"$f":"IF(syoriyou!E892=\"\",\"\",syoriyou!E892)","v":""},{"$f":"IF(syoriyou!F892=\"\",\"\",syoriyou!F892)","v":""},{"$f":"IF(syoriyou!G892=\"\",\"\",syoriyou!G892)","v":""},{"$f":"IF(syoriyou!H892=\"\",\"\",syoriyou!H892)","v":""},{"$f":"IF(syoriyou!I892=\"\",\"\",syoriyou!I892)","v":""},{"$f":"IF(syoriyou!J892=\"\",\"\",syoriyou!N892)","v":""}]
[{"$f":"IF(syoriyou!A893=\"\",\"\",syoriyou!A893)","v":""},{"$f":"IF(syoriyou!B893=\"\",\"\",syoriyou!B893)","v":""},{"$f":"IF(syoriyou!C893=\"\",\"\",syoriyou!C893)","v":""},{"$f":"IF(syoriyou!D893=\"\",\"\",syoriyou!D893)","v":""},{"$f":"IF(syoriyou!E893=\"\",\"\",syoriyou!E893)","v":""},{"$f":"IF(syoriyou!F893=\"\",\"\",syoriyou!F893)","v":""},{"$f":"IF(syoriyou!G893=\"\",\"\",syoriyou!G893)","v":""},{"$f":"IF(syoriyou!H893=\"\",\"\",syoriyou!H893)","v":""},{"$f":"IF(syoriyou!I893=\"\",\"\",syoriyou!I893)","v":""},{"$f":"IF(syoriyou!J893=\"\",\"\",syoriyou!N893)","v":""}]
[{"$f":"IF(syoriyou!A894=\"\",\"\",syoriyou!A894)","v":""},{"$f":"IF(syoriyou!B894=\"\",\"\",syoriyou!B894)","v":""},{"$f":"IF(syoriyou!C894=\"\",\"\",syoriyou!C894)","v":""},{"$f":"IF(syoriyou!D894=\"\",\"\",syoriyou!D894)","v":""},{"$f":"IF(syoriyou!E894=\"\",\"\",syoriyou!E894)","v":""},{"$f":"IF(syoriyou!F894=\"\",\"\",syoriyou!F894)","v":""},{"$f":"IF(syoriyou!G894=\"\",\"\",syoriyou!G894)","v":""},{"$f":"IF(syoriyou!H894=\"\",\"\",syoriyou!H894)","v":""},{"$f":"IF(syoriyou!I894=\"\",\"\",syoriyou!I894)","v":""},{"$f":"IF(syoriyou!J894=\"\",\"\",syoriyou!N894)","v":""}]
[{"$f":"IF(syoriyou!A895=\"\",\"\",syoriyou!A895)","v":""},{"$f":"IF(syoriyou!B895=\"\",\"\",syoriyou!B895)","v":""},{"$f":"IF(syoriyou!C895=\"\",\"\",syoriyou!C895)","v":""},{"$f":"IF(syoriyou!D895=\"\",\"\",syoriyou!D895)","v":""},{"$f":"IF(syoriyou!E895=\"\",\"\",syoriyou!E895)","v":""},{"$f":"IF(syoriyou!F895=\"\",\"\",syoriyou!F895)","v":""},{"$f":"IF(syoriyou!G895=\"\",\"\",syoriyou!G895)","v":""},{"$f":"IF(syoriyou!H895=\"\",\"\",syoriyou!H895)","v":""},{"$f":"IF(syoriyou!I895=\"\",\"\",syoriyou!I895)","v":""},{"$f":"IF(syoriyou!J895=\"\",\"\",syoriyou!N895)","v":""}]
[{"$f":"IF(syoriyou!A896=\"\",\"\",syoriyou!A896)","v":""},{"$f":"IF(syoriyou!B896=\"\",\"\",syoriyou!B896)","v":""},{"$f":"IF(syoriyou!C896=\"\",\"\",syoriyou!C896)","v":""},{"$f":"IF(syoriyou!D896=\"\",\"\",syoriyou!D896)","v":""},{"$f":"IF(syoriyou!E896=\"\",\"\",syoriyou!E896)","v":""},{"$f":"IF(syoriyou!F896=\"\",\"\",syoriyou!F896)","v":""},{"$f":"IF(syoriyou!G896=\"\",\"\",syoriyou!G896)","v":""},{"$f":"IF(syoriyou!H896=\"\",\"\",syoriyou!H896)","v":""},{"$f":"IF(syoriyou!I896=\"\",\"\",syoriyou!I896)","v":""},{"$f":"IF(syoriyou!J896=\"\",\"\",syoriyou!N896)","v":""}]
[{"$f":"IF(syoriyou!A897=\"\",\"\",syoriyou!A897)","v":""},{"$f":"IF(syoriyou!B897=\"\",\"\",syoriyou!B897)","v":""},{"$f":"IF(syoriyou!C897=\"\",\"\",syoriyou!C897)","v":""},{"$f":"IF(syoriyou!D897=\"\",\"\",syoriyou!D897)","v":""},{"$f":"IF(syoriyou!E897=\"\",\"\",syoriyou!E897)","v":""},{"$f":"IF(syoriyou!F897=\"\",\"\",syoriyou!F897)","v":""},{"$f":"IF(syoriyou!G897=\"\",\"\",syoriyou!G897)","v":""},{"$f":"IF(syoriyou!H897=\"\",\"\",syoriyou!H897)","v":""},{"$f":"IF(syoriyou!I897=\"\",\"\",syoriyou!I897)","v":""},{"$f":"IF(syoriyou!J897=\"\",\"\",syoriyou!N897)","v":""}]
[{"$f":"IF(syoriyou!A898=\"\",\"\",syoriyou!A898)","v":""},{"$f":"IF(syoriyou!B898=\"\",\"\",syoriyou!B898)","v":""},{"$f":"IF(syoriyou!C898=\"\",\"\",syoriyou!C898)","v":""},{"$f":"IF(syoriyou!D898=\"\",\"\",syoriyou!D898)","v":""},{"$f":"IF(syoriyou!E898=\"\",\"\",syoriyou!E898)","v":""},{"$f":"IF(syoriyou!F898=\"\",\"\",syoriyou!F898)","v":""},{"$f":"IF(syoriyou!G898=\"\",\"\",syoriyou!G898)","v":""},{"$f":"IF(syoriyou!H898=\"\",\"\",syoriyou!H898)","v":""},{"$f":"IF(syoriyou!I898=\"\",\"\",syoriyou!I898)","v":""},{"$f":"IF(syoriyou!J898=\"\",\"\",syoriyou!N898)","v":""}]
[{"$f":"IF(syoriyou!A899=\"\",\"\",syoriyou!A899)","v":""},{"$f":"IF(syoriyou!B899=\"\",\"\",syoriyou!B899)","v":""},{"$f":"IF(syoriyou!C899=\"\",\"\",syoriyou!C899)","v":""},{"$f":"IF(syoriyou!D899=\"\",\"\",syoriyou!D899)","v":""},{"$f":"IF(syoriyou!E899=\"\",\"\",syoriyou!E899)","v":""},{"$f":"IF(syoriyou!F899=\"\",\"\",syoriyou!F899)","v":""},{"$f":"IF(syoriyou!G899=\"\",\"\",syoriyou!G899)","v":""},{"$f":"IF(syoriyou!H899=\"\",\"\",syoriyou!H899)","v":""},{"$f":"IF(syoriyou!I899=\"\",\"\",syoriyou!I899)","v":""},{"$f":"IF(syoriyou!J899=\"\",\"\",syoriyou!N899)","v":""}]
[{"$f":"IF(syoriyou!A900=\"\",\"\",syoriyou!A900)","v":""},{"$f":"IF(syoriyou!B900=\"\",\"\",syoriyou!B900)","v":""},{"$f":"IF(syoriyou!C900=\"\",\"\",syoriyou!C900)","v":""},{"$f":"IF(syoriyou!D900=\"\",\"\",syoriyou!D900)","v":""},{"$f":"IF(syoriyou!E900=\"\",\"\",syoriyou!E900)","v":""},{"$f":"IF(syoriyou!F900=\"\",\"\",syoriyou!F900)","v":""},{"$f":"IF(syoriyou!G900=\"\",\"\",syoriyou!G900)","v":""},{"$f":"IF(syoriyou!H900=\"\",\"\",syoriyou!H900)","v":""},{"$f":"IF(syoriyou!I900=\"\",\"\",syoriyou!I900)","v":""},{"$f":"IF(syoriyou!J900=\"\",\"\",syoriyou!N900)","v":""}]
[{"$f":"IF(syoriyou!A901=\"\",\"\",syoriyou!A901)","v":""},{"$f":"IF(syoriyou!B901=\"\",\"\",syoriyou!B901)","v":""},{"$f":"IF(syoriyou!C901=\"\",\"\",syoriyou!C901)","v":""},{"$f":"IF(syoriyou!D901=\"\",\"\",syoriyou!D901)","v":""},{"$f":"IF(syoriyou!E901=\"\",\"\",syoriyou!E901)","v":""},{"$f":"IF(syoriyou!F901=\"\",\"\",syoriyou!F901)","v":""},{"$f":"IF(syoriyou!G901=\"\",\"\",syoriyou!G901)","v":""},{"$f":"IF(syoriyou!H901=\"\",\"\",syoriyou!H901)","v":""},{"$f":"IF(syoriyou!I901=\"\",\"\",syoriyou!I901)","v":""},{"$f":"IF(syoriyou!J901=\"\",\"\",syoriyou!N901)","v":""}]
[{"$f":"IF(syoriyou!A902=\"\",\"\",syoriyou!A902)","v":""},{"$f":"IF(syoriyou!B902=\"\",\"\",syoriyou!B902)","v":""},{"$f":"IF(syoriyou!C902=\"\",\"\",syoriyou!C902)","v":""},{"$f":"IF(syoriyou!D902=\"\",\"\",syoriyou!D902)","v":""},{"$f":"IF(syoriyou!E902=\"\",\"\",syoriyou!E902)","v":""},{"$f":"IF(syoriyou!F902=\"\",\"\",syoriyou!F902)","v":""},{"$f":"IF(syoriyou!G902=\"\",\"\",syoriyou!G902)","v":""},{"$f":"IF(syoriyou!H902=\"\",\"\",syoriyou!H902)","v":""},{"$f":"IF(syoriyou!I902=\"\",\"\",syoriyou!I902)","v":""},{"$f":"IF(syoriyou!J902=\"\",\"\",syoriyou!N902)","v":""}]
[{"$f":"IF(syoriyou!A903=\"\",\"\",syoriyou!A903)","v":""},{"$f":"IF(syoriyou!B903=\"\",\"\",syoriyou!B903)","v":""},{"$f":"IF(syoriyou!C903=\"\",\"\",syoriyou!C903)","v":""},{"$f":"IF(syoriyou!D903=\"\",\"\",syoriyou!D903)","v":""},{"$f":"IF(syoriyou!E903=\"\",\"\",syoriyou!E903)","v":""},{"$f":"IF(syoriyou!F903=\"\",\"\",syoriyou!F903)","v":""},{"$f":"IF(syoriyou!G903=\"\",\"\",syoriyou!G903)","v":""},{"$f":"IF(syoriyou!H903=\"\",\"\",syoriyou!H903)","v":""},{"$f":"IF(syoriyou!I903=\"\",\"\",syoriyou!I903)","v":""},{"$f":"IF(syoriyou!J903=\"\",\"\",syoriyou!N903)","v":""}]
[{"$f":"IF(syoriyou!A904=\"\",\"\",syoriyou!A904)","v":""},{"$f":"IF(syoriyou!B904=\"\",\"\",syoriyou!B904)","v":""},{"$f":"IF(syoriyou!C904=\"\",\"\",syoriyou!C904)","v":""},{"$f":"IF(syoriyou!D904=\"\",\"\",syoriyou!D904)","v":""},{"$f":"IF(syoriyou!E904=\"\",\"\",syoriyou!E904)","v":""},{"$f":"IF(syoriyou!F904=\"\",\"\",syoriyou!F904)","v":""},{"$f":"IF(syoriyou!G904=\"\",\"\",syoriyou!G904)","v":""},{"$f":"IF(syoriyou!H904=\"\",\"\",syoriyou!H904)","v":""},{"$f":"IF(syoriyou!I904=\"\",\"\",syoriyou!I904)","v":""},{"$f":"IF(syoriyou!J904=\"\",\"\",syoriyou!N904)","v":""}]
[{"$f":"IF(syoriyou!A905=\"\",\"\",syoriyou!A905)","v":""},{"$f":"IF(syoriyou!B905=\"\",\"\",syoriyou!B905)","v":""},{"$f":"IF(syoriyou!C905=\"\",\"\",syoriyou!C905)","v":""},{"$f":"IF(syoriyou!D905=\"\",\"\",syoriyou!D905)","v":""},{"$f":"IF(syoriyou!E905=\"\",\"\",syoriyou!E905)","v":""},{"$f":"IF(syoriyou!F905=\"\",\"\",syoriyou!F905)","v":""},{"$f":"IF(syoriyou!G905=\"\",\"\",syoriyou!G905)","v":""},{"$f":"IF(syoriyou!H905=\"\",\"\",syoriyou!H905)","v":""},{"$f":"IF(syoriyou!I905=\"\",\"\",syoriyou!I905)","v":""},{"$f":"IF(syoriyou!J905=\"\",\"\",syoriyou!N905)","v":""}]
[{"$f":"IF(syoriyou!A906=\"\",\"\",syoriyou!A906)","v":""},{"$f":"IF(syoriyou!B906=\"\",\"\",syoriyou!B906)","v":""},{"$f":"IF(syoriyou!C906=\"\",\"\",syoriyou!C906)","v":""},{"$f":"IF(syoriyou!D906=\"\",\"\",syoriyou!D906)","v":""},{"$f":"IF(syoriyou!E906=\"\",\"\",syoriyou!E906)","v":""},{"$f":"IF(syoriyou!F906=\"\",\"\",syoriyou!F906)","v":""},{"$f":"IF(syoriyou!G906=\"\",\"\",syoriyou!G906)","v":""},{"$f":"IF(syoriyou!H906=\"\",\"\",syoriyou!H906)","v":""},{"$f":"IF(syoriyou!I906=\"\",\"\",syoriyou!I906)","v":""},{"$f":"IF(syoriyou!J906=\"\",\"\",syoriyou!N906)","v":""}]
[{"$f":"IF(syoriyou!A907=\"\",\"\",syoriyou!A907)","v":""},{"$f":"IF(syoriyou!B907=\"\",\"\",syoriyou!B907)","v":""},{"$f":"IF(syoriyou!C907=\"\",\"\",syoriyou!C907)","v":""},{"$f":"IF(syoriyou!D907=\"\",\"\",syoriyou!D907)","v":""},{"$f":"IF(syoriyou!E907=\"\",\"\",syoriyou!E907)","v":""},{"$f":"IF(syoriyou!F907=\"\",\"\",syoriyou!F907)","v":""},{"$f":"IF(syoriyou!G907=\"\",\"\",syoriyou!G907)","v":""},{"$f":"IF(syoriyou!H907=\"\",\"\",syoriyou!H907)","v":""},{"$f":"IF(syoriyou!I907=\"\",\"\",syoriyou!I907)","v":""},{"$f":"IF(syoriyou!J907=\"\",\"\",syoriyou!N907)","v":""}]
[{"$f":"IF(syoriyou!A908=\"\",\"\",syoriyou!A908)","v":""},{"$f":"IF(syoriyou!B908=\"\",\"\",syoriyou!B908)","v":""},{"$f":"IF(syoriyou!C908=\"\",\"\",syoriyou!C908)","v":""},{"$f":"IF(syoriyou!D908=\"\",\"\",syoriyou!D908)","v":""},{"$f":"IF(syoriyou!E908=\"\",\"\",syoriyou!E908)","v":""},{"$f":"IF(syoriyou!F908=\"\",\"\",syoriyou!F908)","v":""},{"$f":"IF(syoriyou!G908=\"\",\"\",syoriyou!G908)","v":""},{"$f":"IF(syoriyou!H908=\"\",\"\",syoriyou!H908)","v":""},{"$f":"IF(syoriyou!I908=\"\",\"\",syoriyou!I908)","v":""},{"$f":"IF(syoriyou!J908=\"\",\"\",syoriyou!N908)","v":""}]
[{"$f":"IF(syoriyou!A909=\"\",\"\",syoriyou!A909)","v":""},{"$f":"IF(syoriyou!B909=\"\",\"\",syoriyou!B909)","v":""},{"$f":"IF(syoriyou!C909=\"\",\"\",syoriyou!C909)","v":""},{"$f":"IF(syoriyou!D909=\"\",\"\",syoriyou!D909)","v":""},{"$f":"IF(syoriyou!E909=\"\",\"\",syoriyou!E909)","v":""},{"$f":"IF(syoriyou!F909=\"\",\"\",syoriyou!F909)","v":""},{"$f":"IF(syoriyou!G909=\"\",\"\",syoriyou!G909)","v":""},{"$f":"IF(syoriyou!H909=\"\",\"\",syoriyou!H909)","v":""},{"$f":"IF(syoriyou!I909=\"\",\"\",syoriyou!I909)","v":""},{"$f":"IF(syoriyou!J909=\"\",\"\",syoriyou!N909)","v":""}]
[{"$f":"IF(syoriyou!A910=\"\",\"\",syoriyou!A910)","v":""},{"$f":"IF(syoriyou!B910=\"\",\"\",syoriyou!B910)","v":""},{"$f":"IF(syoriyou!C910=\"\",\"\",syoriyou!C910)","v":""},{"$f":"IF(syoriyou!D910=\"\",\"\",syoriyou!D910)","v":""},{"$f":"IF(syoriyou!E910=\"\",\"\",syoriyou!E910)","v":""},{"$f":"IF(syoriyou!F910=\"\",\"\",syoriyou!F910)","v":""},{"$f":"IF(syoriyou!G910=\"\",\"\",syoriyou!G910)","v":""},{"$f":"IF(syoriyou!H910=\"\",\"\",syoriyou!H910)","v":""},{"$f":"IF(syoriyou!I910=\"\",\"\",syoriyou!I910)","v":""},{"$f":"IF(syoriyou!J910=\"\",\"\",syoriyou!N910)","v":""}]
[{"$f":"IF(syoriyou!A911=\"\",\"\",syoriyou!A911)","v":""},{"$f":"IF(syoriyou!B911=\"\",\"\",syoriyou!B911)","v":""},{"$f":"IF(syoriyou!C911=\"\",\"\",syoriyou!C911)","v":""},{"$f":"IF(syoriyou!D911=\"\",\"\",syoriyou!D911)","v":""},{"$f":"IF(syoriyou!E911=\"\",\"\",syoriyou!E911)","v":""},{"$f":"IF(syoriyou!F911=\"\",\"\",syoriyou!F911)","v":""},{"$f":"IF(syoriyou!G911=\"\",\"\",syoriyou!G911)","v":""},{"$f":"IF(syoriyou!H911=\"\",\"\",syoriyou!H911)","v":""},{"$f":"IF(syoriyou!I911=\"\",\"\",syoriyou!I911)","v":""},{"$f":"IF(syoriyou!J911=\"\",\"\",syoriyou!N911)","v":""}]
[{"$f":"IF(syoriyou!A912=\"\",\"\",syoriyou!A912)","v":""},{"$f":"IF(syoriyou!B912=\"\",\"\",syoriyou!B912)","v":""},{"$f":"IF(syoriyou!C912=\"\",\"\",syoriyou!C912)","v":""},{"$f":"IF(syoriyou!D912=\"\",\"\",syoriyou!D912)","v":""},{"$f":"IF(syoriyou!E912=\"\",\"\",syoriyou!E912)","v":""},{"$f":"IF(syoriyou!F912=\"\",\"\",syoriyou!F912)","v":""},{"$f":"IF(syoriyou!G912=\"\",\"\",syoriyou!G912)","v":""},{"$f":"IF(syoriyou!H912=\"\",\"\",syoriyou!H912)","v":""},{"$f":"IF(syoriyou!I912=\"\",\"\",syoriyou!I912)","v":""},{"$f":"IF(syoriyou!J912=\"\",\"\",syoriyou!N912)","v":""}]
[{"$f":"IF(syoriyou!A913=\"\",\"\",syoriyou!A913)","v":""},{"$f":"IF(syoriyou!B913=\"\",\"\",syoriyou!B913)","v":""},{"$f":"IF(syoriyou!C913=\"\",\"\",syoriyou!C913)","v":""},{"$f":"IF(syoriyou!D913=\"\",\"\",syoriyou!D913)","v":""},{"$f":"IF(syoriyou!E913=\"\",\"\",syoriyou!E913)","v":""},{"$f":"IF(syoriyou!F913=\"\",\"\",syoriyou!F913)","v":""},{"$f":"IF(syoriyou!G913=\"\",\"\",syoriyou!G913)","v":""},{"$f":"IF(syoriyou!H913=\"\",\"\",syoriyou!H913)","v":""},{"$f":"IF(syoriyou!I913=\"\",\"\",syoriyou!I913)","v":""},{"$f":"IF(syoriyou!J913=\"\",\"\",syoriyou!N913)","v":""}]
[{"$f":"IF(syoriyou!A914=\"\",\"\",syoriyou!A914)","v":""},{"$f":"IF(syoriyou!B914=\"\",\"\",syoriyou!B914)","v":""},{"$f":"IF(syoriyou!C914=\"\",\"\",syoriyou!C914)","v":""},{"$f":"IF(syoriyou!D914=\"\",\"\",syoriyou!D914)","v":""},{"$f":"IF(syoriyou!E914=\"\",\"\",syoriyou!E914)","v":""},{"$f":"IF(syoriyou!F914=\"\",\"\",syoriyou!F914)","v":""},{"$f":"IF(syoriyou!G914=\"\",\"\",syoriyou!G914)","v":""},{"$f":"IF(syoriyou!H914=\"\",\"\",syoriyou!H914)","v":""},{"$f":"IF(syoriyou!I914=\"\",\"\",syoriyou!I914)","v":""},{"$f":"IF(syoriyou!J914=\"\",\"\",syoriyou!N914)","v":""}]
[{"$f":"IF(syoriyou!A915=\"\",\"\",syoriyou!A915)","v":""},{"$f":"IF(syoriyou!B915=\"\",\"\",syoriyou!B915)","v":""},{"$f":"IF(syoriyou!C915=\"\",\"\",syoriyou!C915)","v":""},{"$f":"IF(syoriyou!D915=\"\",\"\",syoriyou!D915)","v":""},{"$f":"IF(syoriyou!E915=\"\",\"\",syoriyou!E915)","v":""},{"$f":"IF(syoriyou!F915=\"\",\"\",syoriyou!F915)","v":""},{"$f":"IF(syoriyou!G915=\"\",\"\",syoriyou!G915)","v":""},{"$f":"IF(syoriyou!H915=\"\",\"\",syoriyou!H915)","v":""},{"$f":"IF(syoriyou!I915=\"\",\"\",syoriyou!I915)","v":""},{"$f":"IF(syoriyou!J915=\"\",\"\",syoriyou!N915)","v":""}]
[{"$f":"IF(syoriyou!A916=\"\",\"\",syoriyou!A916)","v":""},{"$f":"IF(syoriyou!B916=\"\",\"\",syoriyou!B916)","v":""},{"$f":"IF(syoriyou!C916=\"\",\"\",syoriyou!C916)","v":""},{"$f":"IF(syoriyou!D916=\"\",\"\",syoriyou!D916)","v":""},{"$f":"IF(syoriyou!E916=\"\",\"\",syoriyou!E916)","v":""},{"$f":"IF(syoriyou!F916=\"\",\"\",syoriyou!F916)","v":""},{"$f":"IF(syoriyou!G916=\"\",\"\",syoriyou!G916)","v":""},{"$f":"IF(syoriyou!H916=\"\",\"\",syoriyou!H916)","v":""},{"$f":"IF(syoriyou!I916=\"\",\"\",syoriyou!I916)","v":""},{"$f":"IF(syoriyou!J916=\"\",\"\",syoriyou!N916)","v":""}]
[{"$f":"IF(syoriyou!A917=\"\",\"\",syoriyou!A917)","v":""},{"$f":"IF(syoriyou!B917=\"\",\"\",syoriyou!B917)","v":""},{"$f":"IF(syoriyou!C917=\"\",\"\",syoriyou!C917)","v":""},{"$f":"IF(syoriyou!D917=\"\",\"\",syoriyou!D917)","v":""},{"$f":"IF(syoriyou!E917=\"\",\"\",syoriyou!E917)","v":""},{"$f":"IF(syoriyou!F917=\"\",\"\",syoriyou!F917)","v":""},{"$f":"IF(syoriyou!G917=\"\",\"\",syoriyou!G917)","v":""},{"$f":"IF(syoriyou!H917=\"\",\"\",syoriyou!H917)","v":""},{"$f":"IF(syoriyou!I917=\"\",\"\",syoriyou!I917)","v":""},{"$f":"IF(syoriyou!J917=\"\",\"\",syoriyou!N917)","v":""}]
[{"$f":"IF(syoriyou!A918=\"\",\"\",syoriyou!A918)","v":""},{"$f":"IF(syoriyou!B918=\"\",\"\",syoriyou!B918)","v":""},{"$f":"IF(syoriyou!C918=\"\",\"\",syoriyou!C918)","v":""},{"$f":"IF(syoriyou!D918=\"\",\"\",syoriyou!D918)","v":""},{"$f":"IF(syoriyou!E918=\"\",\"\",syoriyou!E918)","v":""},{"$f":"IF(syoriyou!F918=\"\",\"\",syoriyou!F918)","v":""},{"$f":"IF(syoriyou!G918=\"\",\"\",syoriyou!G918)","v":""},{"$f":"IF(syoriyou!H918=\"\",\"\",syoriyou!H918)","v":""},{"$f":"IF(syoriyou!I918=\"\",\"\",syoriyou!I918)","v":""},{"$f":"IF(syoriyou!J918=\"\",\"\",syoriyou!N918)","v":""}]
[{"$f":"IF(syoriyou!A919=\"\",\"\",syoriyou!A919)","v":""},{"$f":"IF(syoriyou!B919=\"\",\"\",syoriyou!B919)","v":""},{"$f":"IF(syoriyou!C919=\"\",\"\",syoriyou!C919)","v":""},{"$f":"IF(syoriyou!D919=\"\",\"\",syoriyou!D919)","v":""},{"$f":"IF(syoriyou!E919=\"\",\"\",syoriyou!E919)","v":""},{"$f":"IF(syoriyou!F919=\"\",\"\",syoriyou!F919)","v":""},{"$f":"IF(syoriyou!G919=\"\",\"\",syoriyou!G919)","v":""},{"$f":"IF(syoriyou!H919=\"\",\"\",syoriyou!H919)","v":""},{"$f":"IF(syoriyou!I919=\"\",\"\",syoriyou!I919)","v":""},{"$f":"IF(syoriyou!J919=\"\",\"\",syoriyou!N919)","v":""}]
[{"$f":"IF(syoriyou!A920=\"\",\"\",syoriyou!A920)","v":""},{"$f":"IF(syoriyou!B920=\"\",\"\",syoriyou!B920)","v":""},{"$f":"IF(syoriyou!C920=\"\",\"\",syoriyou!C920)","v":""},{"$f":"IF(syoriyou!D920=\"\",\"\",syoriyou!D920)","v":""},{"$f":"IF(syoriyou!E920=\"\",\"\",syoriyou!E920)","v":""},{"$f":"IF(syoriyou!F920=\"\",\"\",syoriyou!F920)","v":""},{"$f":"IF(syoriyou!G920=\"\",\"\",syoriyou!G920)","v":""},{"$f":"IF(syoriyou!H920=\"\",\"\",syoriyou!H920)","v":""},{"$f":"IF(syoriyou!I920=\"\",\"\",syoriyou!I920)","v":""},{"$f":"IF(syoriyou!J920=\"\",\"\",syoriyou!N920)","v":""}]
[{"$f":"IF(syoriyou!A921=\"\",\"\",syoriyou!A921)","v":""},{"$f":"IF(syoriyou!B921=\"\",\"\",syoriyou!B921)","v":""},{"$f":"IF(syoriyou!C921=\"\",\"\",syoriyou!C921)","v":""},{"$f":"IF(syoriyou!D921=\"\",\"\",syoriyou!D921)","v":""},{"$f":"IF(syoriyou!E921=\"\",\"\",syoriyou!E921)","v":""},{"$f":"IF(syoriyou!F921=\"\",\"\",syoriyou!F921)","v":""},{"$f":"IF(syoriyou!G921=\"\",\"\",syoriyou!G921)","v":""},{"$f":"IF(syoriyou!H921=\"\",\"\",syoriyou!H921)","v":""},{"$f":"IF(syoriyou!I921=\"\",\"\",syoriyou!I921)","v":""},{"$f":"IF(syoriyou!J921=\"\",\"\",syoriyou!N921)","v":""}]
[{"$f":"IF(syoriyou!A922=\"\",\"\",syoriyou!A922)","v":""},{"$f":"IF(syoriyou!B922=\"\",\"\",syoriyou!B922)","v":""},{"$f":"IF(syoriyou!C922=\"\",\"\",syoriyou!C922)","v":""},{"$f":"IF(syoriyou!D922=\"\",\"\",syoriyou!D922)","v":""},{"$f":"IF(syoriyou!E922=\"\",\"\",syoriyou!E922)","v":""},{"$f":"IF(syoriyou!F922=\"\",\"\",syoriyou!F922)","v":""},{"$f":"IF(syoriyou!G922=\"\",\"\",syoriyou!G922)","v":""},{"$f":"IF(syoriyou!H922=\"\",\"\",syoriyou!H922)","v":""},{"$f":"IF(syoriyou!I922=\"\",\"\",syoriyou!I922)","v":""},{"$f":"IF(syoriyou!J922=\"\",\"\",syoriyou!N922)","v":""}]
[{"$f":"IF(syoriyou!A923=\"\",\"\",syoriyou!A923)","v":""},{"$f":"IF(syoriyou!B923=\"\",\"\",syoriyou!B923)","v":""},{"$f":"IF(syoriyou!C923=\"\",\"\",syoriyou!C923)","v":""},{"$f":"IF(syoriyou!D923=\"\",\"\",syoriyou!D923)","v":""},{"$f":"IF(syoriyou!E923=\"\",\"\",syoriyou!E923)","v":""},{"$f":"IF(syoriyou!F923=\"\",\"\",syoriyou!F923)","v":""},{"$f":"IF(syoriyou!G923=\"\",\"\",syoriyou!G923)","v":""},{"$f":"IF(syoriyou!H923=\"\",\"\",syoriyou!H923)","v":""},{"$f":"IF(syoriyou!I923=\"\",\"\",syoriyou!I923)","v":""},{"$f":"IF(syoriyou!J923=\"\",\"\",syoriyou!N923)","v":""}]
[{"$f":"IF(syoriyou!A924=\"\",\"\",syoriyou!A924)","v":""},{"$f":"IF(syoriyou!B924=\"\",\"\",syoriyou!B924)","v":""},{"$f":"IF(syoriyou!C924=\"\",\"\",syoriyou!C924)","v":""},{"$f":"IF(syoriyou!D924=\"\",\"\",syoriyou!D924)","v":""},{"$f":"IF(syoriyou!E924=\"\",\"\",syoriyou!E924)","v":""},{"$f":"IF(syoriyou!F924=\"\",\"\",syoriyou!F924)","v":""},{"$f":"IF(syoriyou!G924=\"\",\"\",syoriyou!G924)","v":""},{"$f":"IF(syoriyou!H924=\"\",\"\",syoriyou!H924)","v":""},{"$f":"IF(syoriyou!I924=\"\",\"\",syoriyou!I924)","v":""},{"$f":"IF(syoriyou!J924=\"\",\"\",syoriyou!N924)","v":""}]
[{"$f":"IF(syoriyou!A925=\"\",\"\",syoriyou!A925)","v":""},{"$f":"IF(syoriyou!B925=\"\",\"\",syoriyou!B925)","v":""},{"$f":"IF(syoriyou!C925=\"\",\"\",syoriyou!C925)","v":""},{"$f":"IF(syoriyou!D925=\"\",\"\",syoriyou!D925)","v":""},{"$f":"IF(syoriyou!E925=\"\",\"\",syoriyou!E925)","v":""},{"$f":"IF(syoriyou!F925=\"\",\"\",syoriyou!F925)","v":""},{"$f":"IF(syoriyou!G925=\"\",\"\",syoriyou!G925)","v":""},{"$f":"IF(syoriyou!H925=\"\",\"\",syoriyou!H925)","v":""},{"$f":"IF(syoriyou!I925=\"\",\"\",syoriyou!I925)","v":""},{"$f":"IF(syoriyou!J925=\"\",\"\",syoriyou!N925)","v":""}]
[{"$f":"IF(syoriyou!A926=\"\",\"\",syoriyou!A926)","v":""},{"$f":"IF(syoriyou!B926=\"\",\"\",syoriyou!B926)","v":""},{"$f":"IF(syoriyou!C926=\"\",\"\",syoriyou!C926)","v":""},{"$f":"IF(syoriyou!D926=\"\",\"\",syoriyou!D926)","v":""},{"$f":"IF(syoriyou!E926=\"\",\"\",syoriyou!E926)","v":""},{"$f":"IF(syoriyou!F926=\"\",\"\",syoriyou!F926)","v":""},{"$f":"IF(syoriyou!G926=\"\",\"\",syoriyou!G926)","v":""},{"$f":"IF(syoriyou!H926=\"\",\"\",syoriyou!H926)","v":""},{"$f":"IF(syoriyou!I926=\"\",\"\",syoriyou!I926)","v":""},{"$f":"IF(syoriyou!J926=\"\",\"\",syoriyou!N926)","v":""}]
[{"$f":"IF(syoriyou!A927=\"\",\"\",syoriyou!A927)","v":""},{"$f":"IF(syoriyou!B927=\"\",\"\",syoriyou!B927)","v":""},{"$f":"IF(syoriyou!C927=\"\",\"\",syoriyou!C927)","v":""},{"$f":"IF(syoriyou!D927=\"\",\"\",syoriyou!D927)","v":""},{"$f":"IF(syoriyou!E927=\"\",\"\",syoriyou!E927)","v":""},{"$f":"IF(syoriyou!F927=\"\",\"\",syoriyou!F927)","v":""},{"$f":"IF(syoriyou!G927=\"\",\"\",syoriyou!G927)","v":""},{"$f":"IF(syoriyou!H927=\"\",\"\",syoriyou!H927)","v":""},{"$f":"IF(syoriyou!I927=\"\",\"\",syoriyou!I927)","v":""},{"$f":"IF(syoriyou!J927=\"\",\"\",syoriyou!N927)","v":""}]
[{"$f":"IF(syoriyou!A928=\"\",\"\",syoriyou!A928)","v":""},{"$f":"IF(syoriyou!B928=\"\",\"\",syoriyou!B928)","v":""},{"$f":"IF(syoriyou!C928=\"\",\"\",syoriyou!C928)","v":""},{"$f":"IF(syoriyou!D928=\"\",\"\",syoriyou!D928)","v":""},{"$f":"IF(syoriyou!E928=\"\",\"\",syoriyou!E928)","v":""},{"$f":"IF(syoriyou!F928=\"\",\"\",syoriyou!F928)","v":""},{"$f":"IF(syoriyou!G928=\"\",\"\",syoriyou!G928)","v":""},{"$f":"IF(syoriyou!H928=\"\",\"\",syoriyou!H928)","v":""},{"$f":"IF(syoriyou!I928=\"\",\"\",syoriyou!I928)","v":""},{"$f":"IF(syoriyou!J928=\"\",\"\",syoriyou!N928)","v":""}]
[{"$f":"IF(syoriyou!A929=\"\",\"\",syoriyou!A929)","v":""},{"$f":"IF(syoriyou!B929=\"\",\"\",syoriyou!B929)","v":""},{"$f":"IF(syoriyou!C929=\"\",\"\",syoriyou!C929)","v":""},{"$f":"IF(syoriyou!D929=\"\",\"\",syoriyou!D929)","v":""},{"$f":"IF(syoriyou!E929=\"\",\"\",syoriyou!E929)","v":""},{"$f":"IF(syoriyou!F929=\"\",\"\",syoriyou!F929)","v":""},{"$f":"IF(syoriyou!G929=\"\",\"\",syoriyou!G929)","v":""},{"$f":"IF(syoriyou!H929=\"\",\"\",syoriyou!H929)","v":""},{"$f":"IF(syoriyou!I929=\"\",\"\",syoriyou!I929)","v":""},{"$f":"IF(syoriyou!J929=\"\",\"\",syoriyou!N929)","v":""}]
[{"$f":"IF(syoriyou!A930=\"\",\"\",syoriyou!A930)","v":""},{"$f":"IF(syoriyou!B930=\"\",\"\",syoriyou!B930)","v":""},{"$f":"IF(syoriyou!C930=\"\",\"\",syoriyou!C930)","v":""},{"$f":"IF(syoriyou!D930=\"\",\"\",syoriyou!D930)","v":""},{"$f":"IF(syoriyou!E930=\"\",\"\",syoriyou!E930)","v":""},{"$f":"IF(syoriyou!F930=\"\",\"\",syoriyou!F930)","v":""},{"$f":"IF(syoriyou!G930=\"\",\"\",syoriyou!G930)","v":""},{"$f":"IF(syoriyou!H930=\"\",\"\",syoriyou!H930)","v":""},{"$f":"IF(syoriyou!I930=\"\",\"\",syoriyou!I930)","v":""},{"$f":"IF(syoriyou!J930=\"\",\"\",syoriyou!N930)","v":""}]
[{"$f":"IF(syoriyou!A931=\"\",\"\",syoriyou!A931)","v":""},{"$f":"IF(syoriyou!B931=\"\",\"\",syoriyou!B931)","v":""},{"$f":"IF(syoriyou!C931=\"\",\"\",syoriyou!C931)","v":""},{"$f":"IF(syoriyou!D931=\"\",\"\",syoriyou!D931)","v":""},{"$f":"IF(syoriyou!E931=\"\",\"\",syoriyou!E931)","v":""},{"$f":"IF(syoriyou!F931=\"\",\"\",syoriyou!F931)","v":""},{"$f":"IF(syoriyou!G931=\"\",\"\",syoriyou!G931)","v":""},{"$f":"IF(syoriyou!H931=\"\",\"\",syoriyou!H931)","v":""},{"$f":"IF(syoriyou!I931=\"\",\"\",syoriyou!I931)","v":""},{"$f":"IF(syoriyou!J931=\"\",\"\",syoriyou!N931)","v":""}]
[{"$f":"IF(syoriyou!A932=\"\",\"\",syoriyou!A932)","v":""},{"$f":"IF(syoriyou!B932=\"\",\"\",syoriyou!B932)","v":""},{"$f":"IF(syoriyou!C932=\"\",\"\",syoriyou!C932)","v":""},{"$f":"IF(syoriyou!D932=\"\",\"\",syoriyou!D932)","v":""},{"$f":"IF(syoriyou!E932=\"\",\"\",syoriyou!E932)","v":""},{"$f":"IF(syoriyou!F932=\"\",\"\",syoriyou!F932)","v":""},{"$f":"IF(syoriyou!G932=\"\",\"\",syoriyou!G932)","v":""},{"$f":"IF(syoriyou!H932=\"\",\"\",syoriyou!H932)","v":""},{"$f":"IF(syoriyou!I932=\"\",\"\",syoriyou!I932)","v":""},{"$f":"IF(syoriyou!J932=\"\",\"\",syoriyou!N932)","v":""}]
[{"$f":"IF(syoriyou!A933=\"\",\"\",syoriyou!A933)","v":""},{"$f":"IF(syoriyou!B933=\"\",\"\",syoriyou!B933)","v":""},{"$f":"IF(syoriyou!C933=\"\",\"\",syoriyou!C933)","v":""},{"$f":"IF(syoriyou!D933=\"\",\"\",syoriyou!D933)","v":""},{"$f":"IF(syoriyou!E933=\"\",\"\",syoriyou!E933)","v":""},{"$f":"IF(syoriyou!F933=\"\",\"\",syoriyou!F933)","v":""},{"$f":"IF(syoriyou!G933=\"\",\"\",syoriyou!G933)","v":""},{"$f":"IF(syoriyou!H933=\"\",\"\",syoriyou!H933)","v":""},{"$f":"IF(syoriyou!I933=\"\",\"\",syoriyou!I933)","v":""},{"$f":"IF(syoriyou!J933=\"\",\"\",syoriyou!N933)","v":""}]
[{"$f":"IF(syoriyou!A934=\"\",\"\",syoriyou!A934)","v":""},{"$f":"IF(syoriyou!B934=\"\",\"\",syoriyou!B934)","v":""},{"$f":"IF(syoriyou!C934=\"\",\"\",syoriyou!C934)","v":""},{"$f":"IF(syoriyou!D934=\"\",\"\",syoriyou!D934)","v":""},{"$f":"IF(syoriyou!E934=\"\",\"\",syoriyou!E934)","v":""},{"$f":"IF(syoriyou!F934=\"\",\"\",syoriyou!F934)","v":""},{"$f":"IF(syoriyou!G934=\"\",\"\",syoriyou!G934)","v":""},{"$f":"IF(syoriyou!H934=\"\",\"\",syoriyou!H934)","v":""},{"$f":"IF(syoriyou!I934=\"\",\"\",syoriyou!I934)","v":""},{"$f":"IF(syoriyou!J934=\"\",\"\",syoriyou!N934)","v":""}]
[{"$f":"IF(syoriyou!A935=\"\",\"\",syoriyou!A935)","v":""},{"$f":"IF(syoriyou!B935=\"\",\"\",syoriyou!B935)","v":""},{"$f":"IF(syoriyou!C935=\"\",\"\",syoriyou!C935)","v":""},{"$f":"IF(syoriyou!D935=\"\",\"\",syoriyou!D935)","v":""},{"$f":"IF(syoriyou!E935=\"\",\"\",syoriyou!E935)","v":""},{"$f":"IF(syoriyou!F935=\"\",\"\",syoriyou!F935)","v":""},{"$f":"IF(syoriyou!G935=\"\",\"\",syoriyou!G935)","v":""},{"$f":"IF(syoriyou!H935=\"\",\"\",syoriyou!H935)","v":""},{"$f":"IF(syoriyou!I935=\"\",\"\",syoriyou!I935)","v":""},{"$f":"IF(syoriyou!J935=\"\",\"\",syoriyou!N935)","v":""}]
[{"$f":"IF(syoriyou!A936=\"\",\"\",syoriyou!A936)","v":""},{"$f":"IF(syoriyou!B936=\"\",\"\",syoriyou!B936)","v":""},{"$f":"IF(syoriyou!C936=\"\",\"\",syoriyou!C936)","v":""},{"$f":"IF(syoriyou!D936=\"\",\"\",syoriyou!D936)","v":""},{"$f":"IF(syoriyou!E936=\"\",\"\",syoriyou!E936)","v":""},{"$f":"IF(syoriyou!F936=\"\",\"\",syoriyou!F936)","v":""},{"$f":"IF(syoriyou!G936=\"\",\"\",syoriyou!G936)","v":""},{"$f":"IF(syoriyou!H936=\"\",\"\",syoriyou!H936)","v":""},{"$f":"IF(syoriyou!I936=\"\",\"\",syoriyou!I936)","v":""},{"$f":"IF(syoriyou!J936=\"\",\"\",syoriyou!N936)","v":""}]
[{"$f":"IF(syoriyou!A937=\"\",\"\",syoriyou!A937)","v":""},{"$f":"IF(syoriyou!B937=\"\",\"\",syoriyou!B937)","v":""},{"$f":"IF(syoriyou!C937=\"\",\"\",syoriyou!C937)","v":""},{"$f":"IF(syoriyou!D937=\"\",\"\",syoriyou!D937)","v":""},{"$f":"IF(syoriyou!E937=\"\",\"\",syoriyou!E937)","v":""},{"$f":"IF(syoriyou!F937=\"\",\"\",syoriyou!F937)","v":""},{"$f":"IF(syoriyou!G937=\"\",\"\",syoriyou!G937)","v":""},{"$f":"IF(syoriyou!H937=\"\",\"\",syoriyou!H937)","v":""},{"$f":"IF(syoriyou!I937=\"\",\"\",syoriyou!I937)","v":""},{"$f":"IF(syoriyou!J937=\"\",\"\",syoriyou!N937)","v":""}]
[{"$f":"IF(syoriyou!A938=\"\",\"\",syoriyou!A938)","v":""},{"$f":"IF(syoriyou!B938=\"\",\"\",syoriyou!B938)","v":""},{"$f":"IF(syoriyou!C938=\"\",\"\",syoriyou!C938)","v":""},{"$f":"IF(syoriyou!D938=\"\",\"\",syoriyou!D938)","v":""},{"$f":"IF(syoriyou!E938=\"\",\"\",syoriyou!E938)","v":""},{"$f":"IF(syoriyou!F938=\"\",\"\",syoriyou!F938)","v":""},{"$f":"IF(syoriyou!G938=\"\",\"\",syoriyou!G938)","v":""},{"$f":"IF(syoriyou!H938=\"\",\"\",syoriyou!H938)","v":""},{"$f":"IF(syoriyou!I938=\"\",\"\",syoriyou!I938)","v":""},{"$f":"IF(syoriyou!J938=\"\",\"\",syoriyou!N938)","v":""}]
[{"$f":"IF(syoriyou!A939=\"\",\"\",syoriyou!A939)","v":""},{"$f":"IF(syoriyou!B939=\"\",\"\",syoriyou!B939)","v":""},{"$f":"IF(syoriyou!C939=\"\",\"\",syoriyou!C939)","v":""},{"$f":"IF(syoriyou!D939=\"\",\"\",syoriyou!D939)","v":""},{"$f":"IF(syoriyou!E939=\"\",\"\",syoriyou!E939)","v":""},{"$f":"IF(syoriyou!F939=\"\",\"\",syoriyou!F939)","v":""},{"$f":"IF(syoriyou!G939=\"\",\"\",syoriyou!G939)","v":""},{"$f":"IF(syoriyou!H939=\"\",\"\",syoriyou!H939)","v":""},{"$f":"IF(syoriyou!I939=\"\",\"\",syoriyou!I939)","v":""},{"$f":"IF(syoriyou!J939=\"\",\"\",syoriyou!N939)","v":""}]
[{"$f":"IF(syoriyou!A940=\"\",\"\",syoriyou!A940)","v":""},{"$f":"IF(syoriyou!B940=\"\",\"\",syoriyou!B940)","v":""},{"$f":"IF(syoriyou!C940=\"\",\"\",syoriyou!C940)","v":""},{"$f":"IF(syoriyou!D940=\"\",\"\",syoriyou!D940)","v":""},{"$f":"IF(syoriyou!E940=\"\",\"\",syoriyou!E940)","v":""},{"$f":"IF(syoriyou!F940=\"\",\"\",syoriyou!F940)","v":""},{"$f":"IF(syoriyou!G940=\"\",\"\",syoriyou!G940)","v":""},{"$f":"IF(syoriyou!H940=\"\",\"\",syoriyou!H940)","v":""},{"$f":"IF(syoriyou!I940=\"\",\"\",syoriyou!I940)","v":""},{"$f":"IF(syoriyou!J940=\"\",\"\",syoriyou!N940)","v":""}]
[{"$f":"IF(syoriyou!A941=\"\",\"\",syoriyou!A941)","v":""},{"$f":"IF(syoriyou!B941=\"\",\"\",syoriyou!B941)","v":""},{"$f":"IF(syoriyou!C941=\"\",\"\",syoriyou!C941)","v":""},{"$f":"IF(syoriyou!D941=\"\",\"\",syoriyou!D941)","v":""},{"$f":"IF(syoriyou!E941=\"\",\"\",syoriyou!E941)","v":""},{"$f":"IF(syoriyou!F941=\"\",\"\",syoriyou!F941)","v":""},{"$f":"IF(syoriyou!G941=\"\",\"\",syoriyou!G941)","v":""},{"$f":"IF(syoriyou!H941=\"\",\"\",syoriyou!H941)","v":""},{"$f":"IF(syoriyou!I941=\"\",\"\",syoriyou!I941)","v":""},{"$f":"IF(syoriyou!J941=\"\",\"\",syoriyou!N941)","v":""}]
[{"$f":"IF(syoriyou!A942=\"\",\"\",syoriyou!A942)","v":""},{"$f":"IF(syoriyou!B942=\"\",\"\",syoriyou!B942)","v":""},{"$f":"IF(syoriyou!C942=\"\",\"\",syoriyou!C942)","v":""},{"$f":"IF(syoriyou!D942=\"\",\"\",syoriyou!D942)","v":""},{"$f":"IF(syoriyou!E942=\"\",\"\",syoriyou!E942)","v":""},{"$f":"IF(syoriyou!F942=\"\",\"\",syoriyou!F942)","v":""},{"$f":"IF(syoriyou!G942=\"\",\"\",syoriyou!G942)","v":""},{"$f":"IF(syoriyou!H942=\"\",\"\",syoriyou!H942)","v":""},{"$f":"IF(syoriyou!I942=\"\",\"\",syoriyou!I942)","v":""},{"$f":"IF(syoriyou!J942=\"\",\"\",syoriyou!N942)","v":""}]
[{"$f":"IF(syoriyou!A943=\"\",\"\",syoriyou!A943)","v":""},{"$f":"IF(syoriyou!B943=\"\",\"\",syoriyou!B943)","v":""},{"$f":"IF(syoriyou!C943=\"\",\"\",syoriyou!C943)","v":""},{"$f":"IF(syoriyou!D943=\"\",\"\",syoriyou!D943)","v":""},{"$f":"IF(syoriyou!E943=\"\",\"\",syoriyou!E943)","v":""},{"$f":"IF(syoriyou!F943=\"\",\"\",syoriyou!F943)","v":""},{"$f":"IF(syoriyou!G943=\"\",\"\",syoriyou!G943)","v":""},{"$f":"IF(syoriyou!H943=\"\",\"\",syoriyou!H943)","v":""},{"$f":"IF(syoriyou!I943=\"\",\"\",syoriyou!I943)","v":""},{"$f":"IF(syoriyou!J943=\"\",\"\",syoriyou!N943)","v":""}]
[{"$f":"IF(syoriyou!A944=\"\",\"\",syoriyou!A944)","v":""},{"$f":"IF(syoriyou!B944=\"\",\"\",syoriyou!B944)","v":""},{"$f":"IF(syoriyou!C944=\"\",\"\",syoriyou!C944)","v":""},{"$f":"IF(syoriyou!D944=\"\",\"\",syoriyou!D944)","v":""},{"$f":"IF(syoriyou!E944=\"\",\"\",syoriyou!E944)","v":""},{"$f":"IF(syoriyou!F944=\"\",\"\",syoriyou!F944)","v":""},{"$f":"IF(syoriyou!G944=\"\",\"\",syoriyou!G944)","v":""},{"$f":"IF(syoriyou!H944=\"\",\"\",syoriyou!H944)","v":""},{"$f":"IF(syoriyou!I944=\"\",\"\",syoriyou!I944)","v":""},{"$f":"IF(syoriyou!J944=\"\",\"\",syoriyou!N944)","v":""}]
[{"$f":"IF(syoriyou!A945=\"\",\"\",syoriyou!A945)","v":""},{"$f":"IF(syoriyou!B945=\"\",\"\",syoriyou!B945)","v":""},{"$f":"IF(syoriyou!C945=\"\",\"\",syoriyou!C945)","v":""},{"$f":"IF(syoriyou!D945=\"\",\"\",syoriyou!D945)","v":""},{"$f":"IF(syoriyou!E945=\"\",\"\",syoriyou!E945)","v":""},{"$f":"IF(syoriyou!F945=\"\",\"\",syoriyou!F945)","v":""},{"$f":"IF(syoriyou!G945=\"\",\"\",syoriyou!G945)","v":""},{"$f":"IF(syoriyou!H945=\"\",\"\",syoriyou!H945)","v":""},{"$f":"IF(syoriyou!I945=\"\",\"\",syoriyou!I945)","v":""},{"$f":"IF(syoriyou!J945=\"\",\"\",syoriyou!N945)","v":""}]
[{"$f":"IF(syoriyou!A946=\"\",\"\",syoriyou!A946)","v":""},{"$f":"IF(syoriyou!B946=\"\",\"\",syoriyou!B946)","v":""},{"$f":"IF(syoriyou!C946=\"\",\"\",syoriyou!C946)","v":""},{"$f":"IF(syoriyou!D946=\"\",\"\",syoriyou!D946)","v":""},{"$f":"IF(syoriyou!E946=\"\",\"\",syoriyou!E946)","v":""},{"$f":"IF(syoriyou!F946=\"\",\"\",syoriyou!F946)","v":""},{"$f":"IF(syoriyou!G946=\"\",\"\",syoriyou!G946)","v":""},{"$f":"IF(syoriyou!H946=\"\",\"\",syoriyou!H946)","v":""},{"$f":"IF(syoriyou!I946=\"\",\"\",syoriyou!I946)","v":""},{"$f":"IF(syoriyou!J946=\"\",\"\",syoriyou!N946)","v":""}]
[{"$f":"IF(syoriyou!A947=\"\",\"\",syoriyou!A947)","v":""},{"$f":"IF(syoriyou!B947=\"\",\"\",syoriyou!B947)","v":""},{"$f":"IF(syoriyou!C947=\"\",\"\",syoriyou!C947)","v":""},{"$f":"IF(syoriyou!D947=\"\",\"\",syoriyou!D947)","v":""},{"$f":"IF(syoriyou!E947=\"\",\"\",syoriyou!E947)","v":""},{"$f":"IF(syoriyou!F947=\"\",\"\",syoriyou!F947)","v":""},{"$f":"IF(syoriyou!G947=\"\",\"\",syoriyou!G947)","v":""},{"$f":"IF(syoriyou!H947=\"\",\"\",syoriyou!H947)","v":""},{"$f":"IF(syoriyou!I947=\"\",\"\",syoriyou!I947)","v":""},{"$f":"IF(syoriyou!J947=\"\",\"\",syoriyou!N947)","v":""}]
[{"$f":"IF(syoriyou!A948=\"\",\"\",syoriyou!A948)","v":""},{"$f":"IF(syoriyou!B948=\"\",\"\",syoriyou!B948)","v":""},{"$f":"IF(syoriyou!C948=\"\",\"\",syoriyou!C948)","v":""},{"$f":"IF(syoriyou!D948=\"\",\"\",syoriyou!D948)","v":""},{"$f":"IF(syoriyou!E948=\"\",\"\",syoriyou!E948)","v":""},{"$f":"IF(syoriyou!F948=\"\",\"\",syoriyou!F948)","v":""},{"$f":"IF(syoriyou!G948=\"\",\"\",syoriyou!G948)","v":""},{"$f":"IF(syoriyou!H948=\"\",\"\",syoriyou!H948)","v":""},{"$f":"IF(syoriyou!I948=\"\",\"\",syoriyou!I948)","v":""},{"$f":"IF(syoriyou!J948=\"\",\"\",syoriyou!N948)","v":""}]
[{"$f":"IF(syoriyou!A949=\"\",\"\",syoriyou!A949)","v":""},{"$f":"IF(syoriyou!B949=\"\",\"\",syoriyou!B949)","v":""},{"$f":"IF(syoriyou!C949=\"\",\"\",syoriyou!C949)","v":""},{"$f":"IF(syoriyou!D949=\"\",\"\",syoriyou!D949)","v":""},{"$f":"IF(syoriyou!E949=\"\",\"\",syoriyou!E949)","v":""},{"$f":"IF(syoriyou!F949=\"\",\"\",syoriyou!F949)","v":""},{"$f":"IF(syoriyou!G949=\"\",\"\",syoriyou!G949)","v":""},{"$f":"IF(syoriyou!H949=\"\",\"\",syoriyou!H949)","v":""},{"$f":"IF(syoriyou!I949=\"\",\"\",syoriyou!I949)","v":""},{"$f":"IF(syoriyou!J949=\"\",\"\",syoriyou!N949)","v":""}]
[{"$f":"IF(syoriyou!A950=\"\",\"\",syoriyou!A950)","v":""},{"$f":"IF(syoriyou!B950=\"\",\"\",syoriyou!B950)","v":""},{"$f":"IF(syoriyou!C950=\"\",\"\",syoriyou!C950)","v":""},{"$f":"IF(syoriyou!D950=\"\",\"\",syoriyou!D950)","v":""},{"$f":"IF(syoriyou!E950=\"\",\"\",syoriyou!E950)","v":""},{"$f":"IF(syoriyou!F950=\"\",\"\",syoriyou!F950)","v":""},{"$f":"IF(syoriyou!G950=\"\",\"\",syoriyou!G950)","v":""},{"$f":"IF(syoriyou!H950=\"\",\"\",syoriyou!H950)","v":""},{"$f":"IF(syoriyou!I950=\"\",\"\",syoriyou!I950)","v":""},{"$f":"IF(syoriyou!J950=\"\",\"\",syoriyou!N950)","v":""}]
[{"$f":"IF(syoriyou!A951=\"\",\"\",syoriyou!A951)","v":""},{"$f":"IF(syoriyou!B951=\"\",\"\",syoriyou!B951)","v":""},{"$f":"IF(syoriyou!C951=\"\",\"\",syoriyou!C951)","v":""},{"$f":"IF(syoriyou!D951=\"\",\"\",syoriyou!D951)","v":""},{"$f":"IF(syoriyou!E951=\"\",\"\",syoriyou!E951)","v":""},{"$f":"IF(syoriyou!F951=\"\",\"\",syoriyou!F951)","v":""},{"$f":"IF(syoriyou!G951=\"\",\"\",syoriyou!G951)","v":""},{"$f":"IF(syoriyou!H951=\"\",\"\",syoriyou!H951)","v":""},{"$f":"IF(syoriyou!I951=\"\",\"\",syoriyou!I951)","v":""},{"$f":"IF(syoriyou!J951=\"\",\"\",syoriyou!N951)","v":""}]
[{"$f":"IF(syoriyou!A952=\"\",\"\",syoriyou!A952)","v":""},{"$f":"IF(syoriyou!B952=\"\",\"\",syoriyou!B952)","v":""},{"$f":"IF(syoriyou!C952=\"\",\"\",syoriyou!C952)","v":""},{"$f":"IF(syoriyou!D952=\"\",\"\",syoriyou!D952)","v":""},{"$f":"IF(syoriyou!E952=\"\",\"\",syoriyou!E952)","v":""},{"$f":"IF(syoriyou!F952=\"\",\"\",syoriyou!F952)","v":""},{"$f":"IF(syoriyou!G952=\"\",\"\",syoriyou!G952)","v":""},{"$f":"IF(syoriyou!H952=\"\",\"\",syoriyou!H952)","v":""},{"$f":"IF(syoriyou!I952=\"\",\"\",syoriyou!I952)","v":""},{"$f":"IF(syoriyou!J952=\"\",\"\",syoriyou!N952)","v":""}]
[{"$f":"IF(syoriyou!A953=\"\",\"\",syoriyou!A953)","v":""},{"$f":"IF(syoriyou!B953=\"\",\"\",syoriyou!B953)","v":""},{"$f":"IF(syoriyou!C953=\"\",\"\",syoriyou!C953)","v":""},{"$f":"IF(syoriyou!D953=\"\",\"\",syoriyou!D953)","v":""},{"$f":"IF(syoriyou!E953=\"\",\"\",syoriyou!E953)","v":""},{"$f":"IF(syoriyou!F953=\"\",\"\",syoriyou!F953)","v":""},{"$f":"IF(syoriyou!G953=\"\",\"\",syoriyou!G953)","v":""},{"$f":"IF(syoriyou!H953=\"\",\"\",syoriyou!H953)","v":""},{"$f":"IF(syoriyou!I953=\"\",\"\",syoriyou!I953)","v":""},{"$f":"IF(syoriyou!J953=\"\",\"\",syoriyou!N953)","v":""}]
[{"$f":"IF(syoriyou!A954=\"\",\"\",syoriyou!A954)","v":""},{"$f":"IF(syoriyou!B954=\"\",\"\",syoriyou!B954)","v":""},{"$f":"IF(syoriyou!C954=\"\",\"\",syoriyou!C954)","v":""},{"$f":"IF(syoriyou!D954=\"\",\"\",syoriyou!D954)","v":""},{"$f":"IF(syoriyou!E954=\"\",\"\",syoriyou!E954)","v":""},{"$f":"IF(syoriyou!F954=\"\",\"\",syoriyou!F954)","v":""},{"$f":"IF(syoriyou!G954=\"\",\"\",syoriyou!G954)","v":""},{"$f":"IF(syoriyou!H954=\"\",\"\",syoriyou!H954)","v":""},{"$f":"IF(syoriyou!I954=\"\",\"\",syoriyou!I954)","v":""},{"$f":"IF(syoriyou!J954=\"\",\"\",syoriyou!N954)","v":""}]
[{"$f":"IF(syoriyou!A955=\"\",\"\",syoriyou!A955)","v":""},{"$f":"IF(syoriyou!B955=\"\",\"\",syoriyou!B955)","v":""},{"$f":"IF(syoriyou!C955=\"\",\"\",syoriyou!C955)","v":""},{"$f":"IF(syoriyou!D955=\"\",\"\",syoriyou!D955)","v":""},{"$f":"IF(syoriyou!E955=\"\",\"\",syoriyou!E955)","v":""},{"$f":"IF(syoriyou!F955=\"\",\"\",syoriyou!F955)","v":""},{"$f":"IF(syoriyou!G955=\"\",\"\",syoriyou!G955)","v":""},{"$f":"IF(syoriyou!H955=\"\",\"\",syoriyou!H955)","v":""},{"$f":"IF(syoriyou!I955=\"\",\"\",syoriyou!I955)","v":""},{"$f":"IF(syoriyou!J955=\"\",\"\",syoriyou!N955)","v":""}]
[{"$f":"IF(syoriyou!A956=\"\",\"\",syoriyou!A956)","v":""},{"$f":"IF(syoriyou!B956=\"\",\"\",syoriyou!B956)","v":""},{"$f":"IF(syoriyou!C956=\"\",\"\",syoriyou!C956)","v":""},{"$f":"IF(syoriyou!D956=\"\",\"\",syoriyou!D956)","v":""},{"$f":"IF(syoriyou!E956=\"\",\"\",syoriyou!E956)","v":""},{"$f":"IF(syoriyou!F956=\"\",\"\",syoriyou!F956)","v":""},{"$f":"IF(syoriyou!G956=\"\",\"\",syoriyou!G956)","v":""},{"$f":"IF(syoriyou!H956=\"\",\"\",syoriyou!H956)","v":""},{"$f":"IF(syoriyou!I956=\"\",\"\",syoriyou!I956)","v":""},{"$f":"IF(syoriyou!J956=\"\",\"\",syoriyou!N956)","v":""}]
[{"$f":"IF(syoriyou!A957=\"\",\"\",syoriyou!A957)","v":""},{"$f":"IF(syoriyou!B957=\"\",\"\",syoriyou!B957)","v":""},{"$f":"IF(syoriyou!C957=\"\",\"\",syoriyou!C957)","v":""},{"$f":"IF(syoriyou!D957=\"\",\"\",syoriyou!D957)","v":""},{"$f":"IF(syoriyou!E957=\"\",\"\",syoriyou!E957)","v":""},{"$f":"IF(syoriyou!F957=\"\",\"\",syoriyou!F957)","v":""},{"$f":"IF(syoriyou!G957=\"\",\"\",syoriyou!G957)","v":""},{"$f":"IF(syoriyou!H957=\"\",\"\",syoriyou!H957)","v":""},{"$f":"IF(syoriyou!I957=\"\",\"\",syoriyou!I957)","v":""},{"$f":"IF(syoriyou!J957=\"\",\"\",syoriyou!N957)","v":""}]
[{"$f":"IF(syoriyou!A958=\"\",\"\",syoriyou!A958)","v":""},{"$f":"IF(syoriyou!B958=\"\",\"\",syoriyou!B958)","v":""},{"$f":"IF(syoriyou!C958=\"\",\"\",syoriyou!C958)","v":""},{"$f":"IF(syoriyou!D958=\"\",\"\",syoriyou!D958)","v":""},{"$f":"IF(syoriyou!E958=\"\",\"\",syoriyou!E958)","v":""},{"$f":"IF(syoriyou!F958=\"\",\"\",syoriyou!F958)","v":""},{"$f":"IF(syoriyou!G958=\"\",\"\",syoriyou!G958)","v":""},{"$f":"IF(syoriyou!H958=\"\",\"\",syoriyou!H958)","v":""},{"$f":"IF(syoriyou!I958=\"\",\"\",syoriyou!I958)","v":""},{"$f":"IF(syoriyou!J958=\"\",\"\",syoriyou!N958)","v":""}]
[{"$f":"IF(syoriyou!A959=\"\",\"\",syoriyou!A959)","v":""},{"$f":"IF(syoriyou!B959=\"\",\"\",syoriyou!B959)","v":""},{"$f":"IF(syoriyou!C959=\"\",\"\",syoriyou!C959)","v":""},{"$f":"IF(syoriyou!D959=\"\",\"\",syoriyou!D959)","v":""},{"$f":"IF(syoriyou!E959=\"\",\"\",syoriyou!E959)","v":""},{"$f":"IF(syoriyou!F959=\"\",\"\",syoriyou!F959)","v":""},{"$f":"IF(syoriyou!G959=\"\",\"\",syoriyou!G959)","v":""},{"$f":"IF(syoriyou!H959=\"\",\"\",syoriyou!H959)","v":""},{"$f":"IF(syoriyou!I959=\"\",\"\",syoriyou!I959)","v":""},{"$f":"IF(syoriyou!J959=\"\",\"\",syoriyou!N959)","v":""}]
[{"$f":"IF(syoriyou!A960=\"\",\"\",syoriyou!A960)","v":""},{"$f":"IF(syoriyou!B960=\"\",\"\",syoriyou!B960)","v":""},{"$f":"IF(syoriyou!C960=\"\",\"\",syoriyou!C960)","v":""},{"$f":"IF(syoriyou!D960=\"\",\"\",syoriyou!D960)","v":""},{"$f":"IF(syoriyou!E960=\"\",\"\",syoriyou!E960)","v":""},{"$f":"IF(syoriyou!F960=\"\",\"\",syoriyou!F960)","v":""},{"$f":"IF(syoriyou!G960=\"\",\"\",syoriyou!G960)","v":""},{"$f":"IF(syoriyou!H960=\"\",\"\",syoriyou!H960)","v":""},{"$f":"IF(syoriyou!I960=\"\",\"\",syoriyou!I960)","v":""},{"$f":"IF(syoriyou!J960=\"\",\"\",syoriyou!N960)","v":""}]
[{"$f":"IF(syoriyou!A961=\"\",\"\",syoriyou!A961)","v":""},{"$f":"IF(syoriyou!B961=\"\",\"\",syoriyou!B961)","v":""},{"$f":"IF(syoriyou!C961=\"\",\"\",syoriyou!C961)","v":""},{"$f":"IF(syoriyou!D961=\"\",\"\",syoriyou!D961)","v":""},{"$f":"IF(syoriyou!E961=\"\",\"\",syoriyou!E961)","v":""},{"$f":"IF(syoriyou!F961=\"\",\"\",syoriyou!F961)","v":""},{"$f":"IF(syoriyou!G961=\"\",\"\",syoriyou!G961)","v":""},{"$f":"IF(syoriyou!H961=\"\",\"\",syoriyou!H961)","v":""},{"$f":"IF(syoriyou!I961=\"\",\"\",syoriyou!I961)","v":""},{"$f":"IF(syoriyou!J961=\"\",\"\",syoriyou!N961)","v":""}]
[{"$f":"IF(syoriyou!A962=\"\",\"\",syoriyou!A962)","v":""},{"$f":"IF(syoriyou!B962=\"\",\"\",syoriyou!B962)","v":""},{"$f":"IF(syoriyou!C962=\"\",\"\",syoriyou!C962)","v":""},{"$f":"IF(syoriyou!D962=\"\",\"\",syoriyou!D962)","v":""},{"$f":"IF(syoriyou!E962=\"\",\"\",syoriyou!E962)","v":""},{"$f":"IF(syoriyou!F962=\"\",\"\",syoriyou!F962)","v":""},{"$f":"IF(syoriyou!G962=\"\",\"\",syoriyou!G962)","v":""},{"$f":"IF(syoriyou!H962=\"\",\"\",syoriyou!H962)","v":""},{"$f":"IF(syoriyou!I962=\"\",\"\",syoriyou!I962)","v":""},{"$f":"IF(syoriyou!J962=\"\",\"\",syoriyou!N962)","v":""}]
[{"$f":"IF(syoriyou!A963=\"\",\"\",syoriyou!A963)","v":""},{"$f":"IF(syoriyou!B963=\"\",\"\",syoriyou!B963)","v":""},{"$f":"IF(syoriyou!C963=\"\",\"\",syoriyou!C963)","v":""},{"$f":"IF(syoriyou!D963=\"\",\"\",syoriyou!D963)","v":""},{"$f":"IF(syoriyou!E963=\"\",\"\",syoriyou!E963)","v":""},{"$f":"IF(syoriyou!F963=\"\",\"\",syoriyou!F963)","v":""},{"$f":"IF(syoriyou!G963=\"\",\"\",syoriyou!G963)","v":""},{"$f":"IF(syoriyou!H963=\"\",\"\",syoriyou!H963)","v":""},{"$f":"IF(syoriyou!I963=\"\",\"\",syoriyou!I963)","v":""},{"$f":"IF(syoriyou!J963=\"\",\"\",syoriyou!N963)","v":""}]
[{"$f":"IF(syoriyou!A964=\"\",\"\",syoriyou!A964)","v":""},{"$f":"IF(syoriyou!B964=\"\",\"\",syoriyou!B964)","v":""},{"$f":"IF(syoriyou!C964=\"\",\"\",syoriyou!C964)","v":""},{"$f":"IF(syoriyou!D964=\"\",\"\",syoriyou!D964)","v":""},{"$f":"IF(syoriyou!E964=\"\",\"\",syoriyou!E964)","v":""},{"$f":"IF(syoriyou!F964=\"\",\"\",syoriyou!F964)","v":""},{"$f":"IF(syoriyou!G964=\"\",\"\",syoriyou!G964)","v":""},{"$f":"IF(syoriyou!H964=\"\",\"\",syoriyou!H964)","v":""},{"$f":"IF(syoriyou!I964=\"\",\"\",syoriyou!I964)","v":""},{"$f":"IF(syoriyou!J964=\"\",\"\",syoriyou!N964)","v":""}]
[{"$f":"IF(syoriyou!A965=\"\",\"\",syoriyou!A965)","v":""},{"$f":"IF(syoriyou!B965=\"\",\"\",syoriyou!B965)","v":""},{"$f":"IF(syoriyou!C965=\"\",\"\",syoriyou!C965)","v":""},{"$f":"IF(syoriyou!D965=\"\",\"\",syoriyou!D965)","v":""},{"$f":"IF(syoriyou!E965=\"\",\"\",syoriyou!E965)","v":""},{"$f":"IF(syoriyou!F965=\"\",\"\",syoriyou!F965)","v":""},{"$f":"IF(syoriyou!G965=\"\",\"\",syoriyou!G965)","v":""},{"$f":"IF(syoriyou!H965=\"\",\"\",syoriyou!H965)","v":""},{"$f":"IF(syoriyou!I965=\"\",\"\",syoriyou!I965)","v":""},{"$f":"IF(syoriyou!J965=\"\",\"\",syoriyou!N965)","v":""}]
[{"$f":"IF(syoriyou!A966=\"\",\"\",syoriyou!A966)","v":""},{"$f":"IF(syoriyou!B966=\"\",\"\",syoriyou!B966)","v":""},{"$f":"IF(syoriyou!C966=\"\",\"\",syoriyou!C966)","v":""},{"$f":"IF(syoriyou!D966=\"\",\"\",syoriyou!D966)","v":""},{"$f":"IF(syoriyou!E966=\"\",\"\",syoriyou!E966)","v":""},{"$f":"IF(syoriyou!F966=\"\",\"\",syoriyou!F966)","v":""},{"$f":"IF(syoriyou!G966=\"\",\"\",syoriyou!G966)","v":""},{"$f":"IF(syoriyou!H966=\"\",\"\",syoriyou!H966)","v":""},{"$f":"IF(syoriyou!I966=\"\",\"\",syoriyou!I966)","v":""},{"$f":"IF(syoriyou!J966=\"\",\"\",syoriyou!N966)","v":""}]
[{"$f":"IF(syoriyou!A967=\"\",\"\",syoriyou!A967)","v":""},{"$f":"IF(syoriyou!B967=\"\",\"\",syoriyou!B967)","v":""},{"$f":"IF(syoriyou!C967=\"\",\"\",syoriyou!C967)","v":""},{"$f":"IF(syoriyou!D967=\"\",\"\",syoriyou!D967)","v":""},{"$f":"IF(syoriyou!E967=\"\",\"\",syoriyou!E967)","v":""},{"$f":"IF(syoriyou!F967=\"\",\"\",syoriyou!F967)","v":""},{"$f":"IF(syoriyou!G967=\"\",\"\",syoriyou!G967)","v":""},{"$f":"IF(syoriyou!H967=\"\",\"\",syoriyou!H967)","v":""},{"$f":"IF(syoriyou!I967=\"\",\"\",syoriyou!I967)","v":""},{"$f":"IF(syoriyou!J967=\"\",\"\",syoriyou!N967)","v":""}]
[{"$f":"IF(syoriyou!A968=\"\",\"\",syoriyou!A968)","v":""},{"$f":"IF(syoriyou!B968=\"\",\"\",syoriyou!B968)","v":""},{"$f":"IF(syoriyou!C968=\"\",\"\",syoriyou!C968)","v":""},{"$f":"IF(syoriyou!D968=\"\",\"\",syoriyou!D968)","v":""},{"$f":"IF(syoriyou!E968=\"\",\"\",syoriyou!E968)","v":""},{"$f":"IF(syoriyou!F968=\"\",\"\",syoriyou!F968)","v":""},{"$f":"IF(syoriyou!G968=\"\",\"\",syoriyou!G968)","v":""},{"$f":"IF(syoriyou!H968=\"\",\"\",syoriyou!H968)","v":""},{"$f":"IF(syoriyou!I968=\"\",\"\",syoriyou!I968)","v":""},{"$f":"IF(syoriyou!J968=\"\",\"\",syoriyou!N968)","v":""}]
[{"$f":"IF(syoriyou!A969=\"\",\"\",syoriyou!A969)","v":""},{"$f":"IF(syoriyou!B969=\"\",\"\",syoriyou!B969)","v":""},{"$f":"IF(syoriyou!C969=\"\",\"\",syoriyou!C969)","v":""},{"$f":"IF(syoriyou!D969=\"\",\"\",syoriyou!D969)","v":""},{"$f":"IF(syoriyou!E969=\"\",\"\",syoriyou!E969)","v":""},{"$f":"IF(syoriyou!F969=\"\",\"\",syoriyou!F969)","v":""},{"$f":"IF(syoriyou!G969=\"\",\"\",syoriyou!G969)","v":""},{"$f":"IF(syoriyou!H969=\"\",\"\",syoriyou!H969)","v":""},{"$f":"IF(syoriyou!I969=\"\",\"\",syoriyou!I969)","v":""},{"$f":"IF(syoriyou!J969=\"\",\"\",syoriyou!N969)","v":""}]
[{"$f":"IF(syoriyou!A970=\"\",\"\",syoriyou!A970)","v":""},{"$f":"IF(syoriyou!B970=\"\",\"\",syoriyou!B970)","v":""},{"$f":"IF(syoriyou!C970=\"\",\"\",syoriyou!C970)","v":""},{"$f":"IF(syoriyou!D970=\"\",\"\",syoriyou!D970)","v":""},{"$f":"IF(syoriyou!E970=\"\",\"\",syoriyou!E970)","v":""},{"$f":"IF(syoriyou!F970=\"\",\"\",syoriyou!F970)","v":""},{"$f":"IF(syoriyou!G970=\"\",\"\",syoriyou!G970)","v":""},{"$f":"IF(syoriyou!H970=\"\",\"\",syoriyou!H970)","v":""},{"$f":"IF(syoriyou!I970=\"\",\"\",syoriyou!I970)","v":""},{"$f":"IF(syoriyou!J970=\"\",\"\",syoriyou!N970)","v":""}]
[{"$f":"IF(syoriyou!A971=\"\",\"\",syoriyou!A971)","v":""},{"$f":"IF(syoriyou!B971=\"\",\"\",syoriyou!B971)","v":""},{"$f":"IF(syoriyou!C971=\"\",\"\",syoriyou!C971)","v":""},{"$f":"IF(syoriyou!D971=\"\",\"\",syoriyou!D971)","v":""},{"$f":"IF(syoriyou!E971=\"\",\"\",syoriyou!E971)","v":""},{"$f":"IF(syoriyou!F971=\"\",\"\",syoriyou!F971)","v":""},{"$f":"IF(syoriyou!G971=\"\",\"\",syoriyou!G971)","v":""},{"$f":"IF(syoriyou!H971=\"\",\"\",syoriyou!H971)","v":""},{"$f":"IF(syoriyou!I971=\"\",\"\",syoriyou!I971)","v":""},{"$f":"IF(syoriyou!J971=\"\",\"\",syoriyou!N971)","v":""}]
[{"$f":"IF(syoriyou!A972=\"\",\"\",syoriyou!A972)","v":""},{"$f":"IF(syoriyou!B972=\"\",\"\",syoriyou!B972)","v":""},{"$f":"IF(syoriyou!C972=\"\",\"\",syoriyou!C972)","v":""},{"$f":"IF(syoriyou!D972=\"\",\"\",syoriyou!D972)","v":""},{"$f":"IF(syoriyou!E972=\"\",\"\",syoriyou!E972)","v":""},{"$f":"IF(syoriyou!F972=\"\",\"\",syoriyou!F972)","v":""},{"$f":"IF(syoriyou!G972=\"\",\"\",syoriyou!G972)","v":""},{"$f":"IF(syoriyou!H972=\"\",\"\",syoriyou!H972)","v":""},{"$f":"IF(syoriyou!I972=\"\",\"\",syoriyou!I972)","v":""},{"$f":"IF(syoriyou!J972=\"\",\"\",syoriyou!N972)","v":""}]
[{"$f":"IF(syoriyou!A973=\"\",\"\",syoriyou!A973)","v":""},{"$f":"IF(syoriyou!B973=\"\",\"\",syoriyou!B973)","v":""},{"$f":"IF(syoriyou!C973=\"\",\"\",syoriyou!C973)","v":""},{"$f":"IF(syoriyou!D973=\"\",\"\",syoriyou!D973)","v":""},{"$f":"IF(syoriyou!E973=\"\",\"\",syoriyou!E973)","v":""},{"$f":"IF(syoriyou!F973=\"\",\"\",syoriyou!F973)","v":""},{"$f":"IF(syoriyou!G973=\"\",\"\",syoriyou!G973)","v":""},{"$f":"IF(syoriyou!H973=\"\",\"\",syoriyou!H973)","v":""},{"$f":"IF(syoriyou!I973=\"\",\"\",syoriyou!I973)","v":""},{"$f":"IF(syoriyou!J973=\"\",\"\",syoriyou!N973)","v":""}]
[{"$f":"IF(syoriyou!A974=\"\",\"\",syoriyou!A974)","v":""},{"$f":"IF(syoriyou!B974=\"\",\"\",syoriyou!B974)","v":""},{"$f":"IF(syoriyou!C974=\"\",\"\",syoriyou!C974)","v":""},{"$f":"IF(syoriyou!D974=\"\",\"\",syoriyou!D974)","v":""},{"$f":"IF(syoriyou!E974=\"\",\"\",syoriyou!E974)","v":""},{"$f":"IF(syoriyou!F974=\"\",\"\",syoriyou!F974)","v":""},{"$f":"IF(syoriyou!G974=\"\",\"\",syoriyou!G974)","v":""},{"$f":"IF(syoriyou!H974=\"\",\"\",syoriyou!H974)","v":""},{"$f":"IF(syoriyou!I974=\"\",\"\",syoriyou!I974)","v":""},{"$f":"IF(syoriyou!J974=\"\",\"\",syoriyou!N974)","v":""}]
[{"$f":"IF(syoriyou!A975=\"\",\"\",syoriyou!A975)","v":""},{"$f":"IF(syoriyou!B975=\"\",\"\",syoriyou!B975)","v":""},{"$f":"IF(syoriyou!C975=\"\",\"\",syoriyou!C975)","v":""},{"$f":"IF(syoriyou!D975=\"\",\"\",syoriyou!D975)","v":""},{"$f":"IF(syoriyou!E975=\"\",\"\",syoriyou!E975)","v":""},{"$f":"IF(syoriyou!F975=\"\",\"\",syoriyou!F975)","v":""},{"$f":"IF(syoriyou!G975=\"\",\"\",syoriyou!G975)","v":""},{"$f":"IF(syoriyou!H975=\"\",\"\",syoriyou!H975)","v":""},{"$f":"IF(syoriyou!I975=\"\",\"\",syoriyou!I975)","v":""},{"$f":"IF(syoriyou!J975=\"\",\"\",syoriyou!N975)","v":""}]
[{"$f":"IF(syoriyou!A976=\"\",\"\",syoriyou!A976)","v":""},{"$f":"IF(syoriyou!B976=\"\",\"\",syoriyou!B976)","v":""},{"$f":"IF(syoriyou!C976=\"\",\"\",syoriyou!C976)","v":""},{"$f":"IF(syoriyou!D976=\"\",\"\",syoriyou!D976)","v":""},{"$f":"IF(syoriyou!E976=\"\",\"\",syoriyou!E976)","v":""},{"$f":"IF(syoriyou!F976=\"\",\"\",syoriyou!F976)","v":""},{"$f":"IF(syoriyou!G976=\"\",\"\",syoriyou!G976)","v":""},{"$f":"IF(syoriyou!H976=\"\",\"\",syoriyou!H976)","v":""},{"$f":"IF(syoriyou!I976=\"\",\"\",syoriyou!I976)","v":""},{"$f":"IF(syoriyou!J976=\"\",\"\",syoriyou!N976)","v":""}]
[{"$f":"IF(syoriyou!A977=\"\",\"\",syoriyou!A977)","v":""},{"$f":"IF(syoriyou!B977=\"\",\"\",syoriyou!B977)","v":""},{"$f":"IF(syoriyou!C977=\"\",\"\",syoriyou!C977)","v":""},{"$f":"IF(syoriyou!D977=\"\",\"\",syoriyou!D977)","v":""},{"$f":"IF(syoriyou!E977=\"\",\"\",syoriyou!E977)","v":""},{"$f":"IF(syoriyou!F977=\"\",\"\",syoriyou!F977)","v":""},{"$f":"IF(syoriyou!G977=\"\",\"\",syoriyou!G977)","v":""},{"$f":"IF(syoriyou!H977=\"\",\"\",syoriyou!H977)","v":""},{"$f":"IF(syoriyou!I977=\"\",\"\",syoriyou!I977)","v":""},{"$f":"IF(syoriyou!J977=\"\",\"\",syoriyou!N977)","v":""}]
[{"$f":"IF(syoriyou!A978=\"\",\"\",syoriyou!A978)","v":""},{"$f":"IF(syoriyou!B978=\"\",\"\",syoriyou!B978)","v":""},{"$f":"IF(syoriyou!C978=\"\",\"\",syoriyou!C978)","v":""},{"$f":"IF(syoriyou!D978=\"\",\"\",syoriyou!D978)","v":""},{"$f":"IF(syoriyou!E978=\"\",\"\",syoriyou!E978)","v":""},{"$f":"IF(syoriyou!F978=\"\",\"\",syoriyou!F978)","v":""},{"$f":"IF(syoriyou!G978=\"\",\"\",syoriyou!G978)","v":""},{"$f":"IF(syoriyou!H978=\"\",\"\",syoriyou!H978)","v":""},{"$f":"IF(syoriyou!I978=\"\",\"\",syoriyou!I978)","v":""},{"$f":"IF(syoriyou!J978=\"\",\"\",syoriyou!N978)","v":""}]
[{"$f":"IF(syoriyou!A979=\"\",\"\",syoriyou!A979)","v":""},{"$f":"IF(syoriyou!B979=\"\",\"\",syoriyou!B979)","v":""},{"$f":"IF(syoriyou!C979=\"\",\"\",syoriyou!C979)","v":""},{"$f":"IF(syoriyou!D979=\"\",\"\",syoriyou!D979)","v":""},{"$f":"IF(syoriyou!E979=\"\",\"\",syoriyou!E979)","v":""},{"$f":"IF(syoriyou!F979=\"\",\"\",syoriyou!F979)","v":""},{"$f":"IF(syoriyou!G979=\"\",\"\",syoriyou!G979)","v":""},{"$f":"IF(syoriyou!H979=\"\",\"\",syoriyou!H979)","v":""},{"$f":"IF(syoriyou!I979=\"\",\"\",syoriyou!I979)","v":""},{"$f":"IF(syoriyou!J979=\"\",\"\",syoriyou!N979)","v":""}]
[{"$f":"IF(syoriyou!A980=\"\",\"\",syoriyou!A980)","v":""},{"$f":"IF(syoriyou!B980=\"\",\"\",syoriyou!B980)","v":""},{"$f":"IF(syoriyou!C980=\"\",\"\",syoriyou!C980)","v":""},{"$f":"IF(syoriyou!D980=\"\",\"\",syoriyou!D980)","v":""},{"$f":"IF(syoriyou!E980=\"\",\"\",syoriyou!E980)","v":""},{"$f":"IF(syoriyou!F980=\"\",\"\",syoriyou!F980)","v":""},{"$f":"IF(syoriyou!G980=\"\",\"\",syoriyou!G980)","v":""},{"$f":"IF(syoriyou!H980=\"\",\"\",syoriyou!H980)","v":""},{"$f":"IF(syoriyou!I980=\"\",\"\",syoriyou!I980)","v":""},{"$f":"IF(syoriyou!J980=\"\",\"\",syoriyou!N980)","v":""}]
[{"$f":"IF(syoriyou!A981=\"\",\"\",syoriyou!A981)","v":""},{"$f":"IF(syoriyou!B981=\"\",\"\",syoriyou!B981)","v":""},{"$f":"IF(syoriyou!C981=\"\",\"\",syoriyou!C981)","v":""},{"$f":"IF(syoriyou!D981=\"\",\"\",syoriyou!D981)","v":""},{"$f":"IF(syoriyou!E981=\"\",\"\",syoriyou!E981)","v":""},{"$f":"IF(syoriyou!F981=\"\",\"\",syoriyou!F981)","v":""},{"$f":"IF(syoriyou!G981=\"\",\"\",syoriyou!G981)","v":""},{"$f":"IF(syoriyou!H981=\"\",\"\",syoriyou!H981)","v":""},{"$f":"IF(syoriyou!I981=\"\",\"\",syoriyou!I981)","v":""},{"$f":"IF(syoriyou!J981=\"\",\"\",syoriyou!N981)","v":""}]
[{"$f":"IF(syoriyou!A982=\"\",\"\",syoriyou!A982)","v":""},{"$f":"IF(syoriyou!B982=\"\",\"\",syoriyou!B982)","v":""},{"$f":"IF(syoriyou!C982=\"\",\"\",syoriyou!C982)","v":""},{"$f":"IF(syoriyou!D982=\"\",\"\",syoriyou!D982)","v":""},{"$f":"IF(syoriyou!E982=\"\",\"\",syoriyou!E982)","v":""},{"$f":"IF(syoriyou!F982=\"\",\"\",syoriyou!F982)","v":""},{"$f":"IF(syoriyou!G982=\"\",\"\",syoriyou!G982)","v":""},{"$f":"IF(syoriyou!H982=\"\",\"\",syoriyou!H982)","v":""},{"$f":"IF(syoriyou!I982=\"\",\"\",syoriyou!I982)","v":""},{"$f":"IF(syoriyou!J982=\"\",\"\",syoriyou!N982)","v":""}]
[{"$f":"IF(syoriyou!A983=\"\",\"\",syoriyou!A983)","v":""},{"$f":"IF(syoriyou!B983=\"\",\"\",syoriyou!B983)","v":""},{"$f":"IF(syoriyou!C983=\"\",\"\",syoriyou!C983)","v":""},{"$f":"IF(syoriyou!D983=\"\",\"\",syoriyou!D983)","v":""},{"$f":"IF(syoriyou!E983=\"\",\"\",syoriyou!E983)","v":""},{"$f":"IF(syoriyou!F983=\"\",\"\",syoriyou!F983)","v":""},{"$f":"IF(syoriyou!G983=\"\",\"\",syoriyou!G983)","v":""},{"$f":"IF(syoriyou!H983=\"\",\"\",syoriyou!H983)","v":""},{"$f":"IF(syoriyou!I983=\"\",\"\",syoriyou!I983)","v":""},{"$f":"IF(syoriyou!J983=\"\",\"\",syoriyou!N983)","v":""}]
[{"$f":"IF(syoriyou!A984=\"\",\"\",syoriyou!A984)","v":""},{"$f":"IF(syoriyou!B984=\"\",\"\",syoriyou!B984)","v":""},{"$f":"IF(syoriyou!C984=\"\",\"\",syoriyou!C984)","v":""},{"$f":"IF(syoriyou!D984=\"\",\"\",syoriyou!D984)","v":""},{"$f":"IF(syoriyou!E984=\"\",\"\",syoriyou!E984)","v":""},{"$f":"IF(syoriyou!F984=\"\",\"\",syoriyou!F984)","v":""},{"$f":"IF(syoriyou!G984=\"\",\"\",syoriyou!G984)","v":""},{"$f":"IF(syoriyou!H984=\"\",\"\",syoriyou!H984)","v":""},{"$f":"IF(syoriyou!I984=\"\",\"\",syoriyou!I984)","v":""},{"$f":"IF(syoriyou!J984=\"\",\"\",syoriyou!N984)","v":""}]
[{"$f":"IF(syoriyou!A985=\"\",\"\",syoriyou!A985)","v":""},{"$f":"IF(syoriyou!B985=\"\",\"\",syoriyou!B985)","v":""},{"$f":"IF(syoriyou!C985=\"\",\"\",syoriyou!C985)","v":""},{"$f":"IF(syoriyou!D985=\"\",\"\",syoriyou!D985)","v":""},{"$f":"IF(syoriyou!E985=\"\",\"\",syoriyou!E985)","v":""},{"$f":"IF(syoriyou!F985=\"\",\"\",syoriyou!F985)","v":""},{"$f":"IF(syoriyou!G985=\"\",\"\",syoriyou!G985)","v":""},{"$f":"IF(syoriyou!H985=\"\",\"\",syoriyou!H985)","v":""},{"$f":"IF(syoriyou!I985=\"\",\"\",syoriyou!I985)","v":""},{"$f":"IF(syoriyou!J985=\"\",\"\",syoriyou!N985)","v":""}]
[{"$f":"IF(syoriyou!A986=\"\",\"\",syoriyou!A986)","v":""},{"$f":"IF(syoriyou!B986=\"\",\"\",syoriyou!B986)","v":""},{"$f":"IF(syoriyou!C986=\"\",\"\",syoriyou!C986)","v":""},{"$f":"IF(syoriyou!D986=\"\",\"\",syoriyou!D986)","v":""},{"$f":"IF(syoriyou!E986=\"\",\"\",syoriyou!E986)","v":""},{"$f":"IF(syoriyou!F986=\"\",\"\",syoriyou!F986)","v":""},{"$f":"IF(syoriyou!G986=\"\",\"\",syoriyou!G986)","v":""},{"$f":"IF(syoriyou!H986=\"\",\"\",syoriyou!H986)","v":""},{"$f":"IF(syoriyou!I986=\"\",\"\",syoriyou!I986)","v":""},{"$f":"IF(syoriyou!J986=\"\",\"\",syoriyou!N986)","v":""}]
[{"$f":"IF(syoriyou!A987=\"\",\"\",syoriyou!A987)","v":""},{"$f":"IF(syoriyou!B987=\"\",\"\",syoriyou!B987)","v":""},{"$f":"IF(syoriyou!C987=\"\",\"\",syoriyou!C987)","v":""},{"$f":"IF(syoriyou!D987=\"\",\"\",syoriyou!D987)","v":""},{"$f":"IF(syoriyou!E987=\"\",\"\",syoriyou!E987)","v":""},{"$f":"IF(syoriyou!F987=\"\",\"\",syoriyou!F987)","v":""},{"$f":"IF(syoriyou!G987=\"\",\"\",syoriyou!G987)","v":""},{"$f":"IF(syoriyou!H987=\"\",\"\",syoriyou!H987)","v":""},{"$f":"IF(syoriyou!I987=\"\",\"\",syoriyou!I987)","v":""},{"$f":"IF(syoriyou!J987=\"\",\"\",syoriyou!N987)","v":""}]
[{"$f":"IF(syoriyou!A988=\"\",\"\",syoriyou!A988)","v":""},{"$f":"IF(syoriyou!B988=\"\",\"\",syoriyou!B988)","v":""},{"$f":"IF(syoriyou!C988=\"\",\"\",syoriyou!C988)","v":""},{"$f":"IF(syoriyou!D988=\"\",\"\",syoriyou!D988)","v":""},{"$f":"IF(syoriyou!E988=\"\",\"\",syoriyou!E988)","v":""},{"$f":"IF(syoriyou!F988=\"\",\"\",syoriyou!F988)","v":""},{"$f":"IF(syoriyou!G988=\"\",\"\",syoriyou!G988)","v":""},{"$f":"IF(syoriyou!H988=\"\",\"\",syoriyou!H988)","v":""},{"$f":"IF(syoriyou!I988=\"\",\"\",syoriyou!I988)","v":""},{"$f":"IF(syoriyou!J988=\"\",\"\",syoriyou!N988)","v":""}]
[{"$f":"IF(syoriyou!A989=\"\",\"\",syoriyou!A989)","v":""},{"$f":"IF(syoriyou!B989=\"\",\"\",syoriyou!B989)","v":""},{"$f":"IF(syoriyou!C989=\"\",\"\",syoriyou!C989)","v":""},{"$f":"IF(syoriyou!D989=\"\",\"\",syoriyou!D989)","v":""},{"$f":"IF(syoriyou!E989=\"\",\"\",syoriyou!E989)","v":""},{"$f":"IF(syoriyou!F989=\"\",\"\",syoriyou!F989)","v":""},{"$f":"IF(syoriyou!G989=\"\",\"\",syoriyou!G989)","v":""},{"$f":"IF(syoriyou!H989=\"\",\"\",syoriyou!H989)","v":""},{"$f":"IF(syoriyou!I989=\"\",\"\",syoriyou!I989)","v":""},{"$f":"IF(syoriyou!J989=\"\",\"\",syoriyou!N989)","v":""}]
[{"$f":"IF(syoriyou!A990=\"\",\"\",syoriyou!A990)","v":""},{"$f":"IF(syoriyou!B990=\"\",\"\",syoriyou!B990)","v":""},{"$f":"IF(syoriyou!C990=\"\",\"\",syoriyou!C990)","v":""},{"$f":"IF(syoriyou!D990=\"\",\"\",syoriyou!D990)","v":""},{"$f":"IF(syoriyou!E990=\"\",\"\",syoriyou!E990)","v":""},{"$f":"IF(syoriyou!F990=\"\",\"\",syoriyou!F990)","v":""},{"$f":"IF(syoriyou!G990=\"\",\"\",syoriyou!G990)","v":""},{"$f":"IF(syoriyou!H990=\"\",\"\",syoriyou!H990)","v":""},{"$f":"IF(syoriyou!I990=\"\",\"\",syoriyou!I990)","v":""},{"$f":"IF(syoriyou!J990=\"\",\"\",syoriyou!N990)","v":""}]
[{"$f":"IF(syoriyou!A991=\"\",\"\",syoriyou!A991)","v":""},{"$f":"IF(syoriyou!B991=\"\",\"\",syoriyou!B991)","v":""},{"$f":"IF(syoriyou!C991=\"\",\"\",syoriyou!C991)","v":""},{"$f":"IF(syoriyou!D991=\"\",\"\",syoriyou!D991)","v":""},{"$f":"IF(syoriyou!E991=\"\",\"\",syoriyou!E991)","v":""},{"$f":"IF(syoriyou!F991=\"\",\"\",syoriyou!F991)","v":""},{"$f":"IF(syoriyou!G991=\"\",\"\",syoriyou!G991)","v":""},{"$f":"IF(syoriyou!H991=\"\",\"\",syoriyou!H991)","v":""},{"$f":"IF(syoriyou!I991=\"\",\"\",syoriyou!I991)","v":""},{"$f":"IF(syoriyou!J991=\"\",\"\",syoriyou!N991)","v":""}]
[{"$f":"IF(syoriyou!A992=\"\",\"\",syoriyou!A992)","v":""},{"$f":"IF(syoriyou!B992=\"\",\"\",syoriyou!B992)","v":""},{"$f":"IF(syoriyou!C992=\"\",\"\",syoriyou!C992)","v":""},{"$f":"IF(syoriyou!D992=\"\",\"\",syoriyou!D992)","v":""},{"$f":"IF(syoriyou!E992=\"\",\"\",syoriyou!E992)","v":""},{"$f":"IF(syoriyou!F992=\"\",\"\",syoriyou!F992)","v":""},{"$f":"IF(syoriyou!G992=\"\",\"\",syoriyou!G992)","v":""},{"$f":"IF(syoriyou!H992=\"\",\"\",syoriyou!H992)","v":""},{"$f":"IF(syoriyou!I992=\"\",\"\",syoriyou!I992)","v":""},{"$f":"IF(syoriyou!J992=\"\",\"\",syoriyou!N992)","v":""}]
[{"$f":"IF(syoriyou!A993=\"\",\"\",syoriyou!A993)","v":""},{"$f":"IF(syoriyou!B993=\"\",\"\",syoriyou!B993)","v":""},{"$f":"IF(syoriyou!C993=\"\",\"\",syoriyou!C993)","v":""},{"$f":"IF(syoriyou!D993=\"\",\"\",syoriyou!D993)","v":""},{"$f":"IF(syoriyou!E993=\"\",\"\",syoriyou!E993)","v":""},{"$f":"IF(syoriyou!F993=\"\",\"\",syoriyou!F993)","v":""},{"$f":"IF(syoriyou!G993=\"\",\"\",syoriyou!G993)","v":""},{"$f":"IF(syoriyou!H993=\"\",\"\",syoriyou!H993)","v":""},{"$f":"IF(syoriyou!I993=\"\",\"\",syoriyou!I993)","v":""},{"$f":"IF(syoriyou!J993=\"\",\"\",syoriyou!N993)","v":""}]
[{"$f":"IF(syoriyou!A994=\"\",\"\",syoriyou!A994)","v":""},{"$f":"IF(syoriyou!B994=\"\",\"\",syoriyou!B994)","v":""},{"$f":"IF(syoriyou!C994=\"\",\"\",syoriyou!C994)","v":""},{"$f":"IF(syoriyou!D994=\"\",\"\",syoriyou!D994)","v":""},{"$f":"IF(syoriyou!E994=\"\",\"\",syoriyou!E994)","v":""},{"$f":"IF(syoriyou!F994=\"\",\"\",syoriyou!F994)","v":""},{"$f":"IF(syoriyou!G994=\"\",\"\",syoriyou!G994)","v":""},{"$f":"IF(syoriyou!H994=\"\",\"\",syoriyou!H994)","v":""},{"$f":"IF(syoriyou!I994=\"\",\"\",syoriyou!I994)","v":""},{"$f":"IF(syoriyou!J994=\"\",\"\",syoriyou!N994)","v":""}]
[{"$f":"IF(syoriyou!A995=\"\",\"\",syoriyou!A995)","v":""},{"$f":"IF(syoriyou!B995=\"\",\"\",syoriyou!B995)","v":""},{"$f":"IF(syoriyou!C995=\"\",\"\",syoriyou!C995)","v":""},{"$f":"IF(syoriyou!D995=\"\",\"\",syoriyou!D995)","v":""},{"$f":"IF(syoriyou!E995=\"\",\"\",syoriyou!E995)","v":""},{"$f":"IF(syoriyou!F995=\"\",\"\",syoriyou!F995)","v":""},{"$f":"IF(syoriyou!G995=\"\",\"\",syoriyou!G995)","v":""},{"$f":"IF(syoriyou!H995=\"\",\"\",syoriyou!H995)","v":""},{"$f":"IF(syoriyou!I995=\"\",\"\",syoriyou!I995)","v":""},{"$f":"IF(syoriyou!J995=\"\",\"\",syoriyou!N995)","v":""}]
[{"$f":"IF(syoriyou!A996=\"\",\"\",syoriyou!A996)","v":""},{"$f":"IF(syoriyou!B996=\"\",\"\",syoriyou!B996)","v":""},{"$f":"IF(syoriyou!C996=\"\",\"\",syoriyou!C996)","v":""},{"$f":"IF(syoriyou!D996=\"\",\"\",syoriyou!D996)","v":""},{"$f":"IF(syoriyou!E996=\"\",\"\",syoriyou!E996)","v":""},{"$f":"IF(syoriyou!F996=\"\",\"\",syoriyou!F996)","v":""},{"$f":"IF(syoriyou!G996=\"\",\"\",syoriyou!G996)","v":""},{"$f":"IF(syoriyou!H996=\"\",\"\",syoriyou!H996)","v":""},{"$f":"IF(syoriyou!I996=\"\",\"\",syoriyou!I996)","v":""},{"$f":"IF(syoriyou!J996=\"\",\"\",syoriyou!N996)","v":""}]
[{"$f":"IF(syoriyou!A997=\"\",\"\",syoriyou!A997)","v":""},{"$f":"IF(syoriyou!B997=\"\",\"\",syoriyou!B997)","v":""},{"$f":"IF(syoriyou!C997=\"\",\"\",syoriyou!C997)","v":""},{"$f":"IF(syoriyou!D997=\"\",\"\",syoriyou!D997)","v":""},{"$f":"IF(syoriyou!E997=\"\",\"\",syoriyou!E997)","v":""},{"$f":"IF(syoriyou!F997=\"\",\"\",syoriyou!F997)","v":""},{"$f":"IF(syoriyou!G997=\"\",\"\",syoriyou!G997)","v":""},{"$f":"IF(syoriyou!H997=\"\",\"\",syoriyou!H997)","v":""},{"$f":"IF(syoriyou!I997=\"\",\"\",syoriyou!I997)","v":""},{"$f":"IF(syoriyou!J997=\"\",\"\",syoriyou!N997)","v":""}]
[{"$f":"IF(syoriyou!A998=\"\",\"\",syoriyou!A998)","v":""},{"$f":"IF(syoriyou!B998=\"\",\"\",syoriyou!B998)","v":""},{"$f":"IF(syoriyou!C998=\"\",\"\",syoriyou!C998)","v":""},{"$f":"IF(syoriyou!D998=\"\",\"\",syoriyou!D998)","v":""},{"$f":"IF(syoriyou!E998=\"\",\"\",syoriyou!E998)","v":""},{"$f":"IF(syoriyou!F998=\"\",\"\",syoriyou!F998)","v":""},{"$f":"IF(syoriyou!G998=\"\",\"\",syoriyou!G998)","v":""},{"$f":"IF(syoriyou!H998=\"\",\"\",syoriyou!H998)","v":""},{"$f":"IF(syoriyou!I998=\"\",\"\",syoriyou!I998)","v":""},{"$f":"IF(syoriyou!J998=\"\",\"\",syoriyou!N998)","v":""}]
[{"$f":"IF(syoriyou!A999=\"\",\"\",syoriyou!A999)","v":""},{"$f":"IF(syoriyou!B999=\"\",\"\",syoriyou!B999)","v":""},{"$f":"IF(syoriyou!C999=\"\",\"\",syoriyou!C999)","v":""},{"$f":"IF(syoriyou!D999=\"\",\"\",syoriyou!D999)","v":""},{"$f":"IF(syoriyou!E999=\"\",\"\",syoriyou!E999)","v":""},{"$f":"IF(syoriyou!F999=\"\",\"\",syoriyou!F999)","v":""},{"$f":"IF(syoriyou!G999=\"\",\"\",syoriyou!G999)","v":""},{"$f":"IF(syoriyou!H999=\"\",\"\",syoriyou!H999)","v":""},{"$f":"IF(syoriyou!I999=\"\",\"\",syoriyou!I999)","v":""},{"$f":"IF(syoriyou!J999=\"\",\"\",syoriyou!N999)","v":""}]
[{"$f":"IF(syoriyou!A1000=\"\",\"\",syoriyou!A1000)","v":""},{"$f":"IF(syoriyou!B1000=\"\",\"\",syoriyou!B1000)","v":""},{"$f":"IF(syoriyou!C1000=\"\",\"\",syoriyou!C1000)","v":""},{"$f":"IF(syoriyou!D1000=\"\",\"\",syoriyou!D1000)","v":""},{"$f":"IF(syoriyou!E1000=\"\",\"\",syoriyou!E1000)","v":""},{"$f":"IF(syoriyou!F1000=\"\",\"\",syoriyou!F1000)","v":""},{"$f":"IF(syoriyou!G1000=\"\",\"\",syoriyou!G1000)","v":""},{"$f":"IF(syoriyou!H1000=\"\",\"\",syoriyou!H1000)","v":""},{"$f":"IF(syoriyou!I1000=\"\",\"\",syoriyou!I1000)","v":""},{"$f":"IF(syoriyou!J1000=\"\",\"\",syoriyou!N1000)","v":""}]
[{"$f":"IF(syoriyou!A1001=\"\",\"\",syoriyou!A1001)","v":""},{"$f":"IF(syoriyou!B1001=\"\",\"\",syoriyou!B1001)","v":""},{"$f":"IF(syoriyou!C1001=\"\",\"\",syoriyou!C1001)","v":""},{"$f":"IF(syoriyou!D1001=\"\",\"\",syoriyou!D1001)","v":""},{"$f":"IF(syoriyou!E1001=\"\",\"\",syoriyou!E1001)","v":""},{"$f":"IF(syoriyou!F1001=\"\",\"\",syoriyou!F1001)","v":""},{"$f":"IF(syoriyou!G1001=\"\",\"\",syoriyou!G1001)","v":""},{"$f":"IF(syoriyou!H1001=\"\",\"\",syoriyou!H1001)","v":""},{"$f":"IF(syoriyou!I1001=\"\",\"\",syoriyou!I1001)","v":""},{"$f":"IF(syoriyou!J1001=\"\",\"\",syoriyou!N1001)","v":""}]
[{"$f":"IF(syoriyou!A1002=\"\",\"\",syoriyou!A1002)","v":""},{"$f":"IF(syoriyou!B1002=\"\",\"\",syoriyou!B1002)","v":""},{"$f":"IF(syoriyou!C1002=\"\",\"\",syoriyou!C1002)","v":""},{"$f":"IF(syoriyou!D1002=\"\",\"\",syoriyou!D1002)","v":""},{"$f":"IF(syoriyou!E1002=\"\",\"\",syoriyou!E1002)","v":""},{"$f":"IF(syoriyou!F1002=\"\",\"\",syoriyou!F1002)","v":""},{"$f":"IF(syoriyou!G1002=\"\",\"\",syoriyou!G1002)","v":""},{"$f":"IF(syoriyou!H1002=\"\",\"\",syoriyou!H1002)","v":""},{"$f":"IF(syoriyou!I1002=\"\",\"\",syoriyou!I1002)","v":""},{"$f":"IF(syoriyou!J1002=\"\",\"\",syoriyou!N1002)","v":""}]
[{"$f":"IF(syoriyou!A1003=\"\",\"\",syoriyou!A1003)","v":""},{"$f":"IF(syoriyou!B1003=\"\",\"\",syoriyou!B1003)","v":""},{"$f":"IF(syoriyou!C1003=\"\",\"\",syoriyou!C1003)","v":""},{"$f":"IF(syoriyou!D1003=\"\",\"\",syoriyou!D1003)","v":""},{"$f":"IF(syoriyou!E1003=\"\",\"\",syoriyou!E1003)","v":""},{"$f":"IF(syoriyou!F1003=\"\",\"\",syoriyou!F1003)","v":""},{"$f":"IF(syoriyou!G1003=\"\",\"\",syoriyou!G1003)","v":""},{"$f":"IF(syoriyou!H1003=\"\",\"\",syoriyou!H1003)","v":""},{"$f":"IF(syoriyou!I1003=\"\",\"\",syoriyou!I1003)","v":""},{"$f":"IF(syoriyou!J1003=\"\",\"\",syoriyou!N1003)","v":""}]
[{"$f":"IF(syoriyou!A1004=\"\",\"\",syoriyou!A1004)","v":""},{"$f":"IF(syoriyou!B1004=\"\",\"\",syoriyou!B1004)","v":""},{"$f":"IF(syoriyou!C1004=\"\",\"\",syoriyou!C1004)","v":""},{"$f":"IF(syoriyou!D1004=\"\",\"\",syoriyou!D1004)","v":""},{"$f":"IF(syoriyou!E1004=\"\",\"\",syoriyou!E1004)","v":""},{"$f":"IF(syoriyou!F1004=\"\",\"\",syoriyou!F1004)","v":""},{"$f":"IF(syoriyou!G1004=\"\",\"\",syoriyou!G1004)","v":""},{"$f":"IF(syoriyou!H1004=\"\",\"\",syoriyou!H1004)","v":""},{"$f":"IF(syoriyou!I1004=\"\",\"\",syoriyou!I1004)","v":""},{"$f":"IF(syoriyou!J1004=\"\",\"\",syoriyou!N1004)","v":""}]
[{"$f":"IF(syoriyou!A1005=\"\",\"\",syoriyou!A1005)","v":""},{"$f":"IF(syoriyou!B1005=\"\",\"\",syoriyou!B1005)","v":""},{"$f":"IF(syoriyou!C1005=\"\",\"\",syoriyou!C1005)","v":""},{"$f":"IF(syoriyou!D1005=\"\",\"\",syoriyou!D1005)","v":""},{"$f":"IF(syoriyou!E1005=\"\",\"\",syoriyou!E1005)","v":""},{"$f":"IF(syoriyou!F1005=\"\",\"\",syoriyou!F1005)","v":""},{"$f":"IF(syoriyou!G1005=\"\",\"\",syoriyou!G1005)","v":""},{"$f":"IF(syoriyou!H1005=\"\",\"\",syoriyou!H1005)","v":""},{"$f":"IF(syoriyou!I1005=\"\",\"\",syoriyou!I1005)","v":""},{"$f":"IF(syoriyou!J1005=\"\",\"\",syoriyou!N1005)","v":""}]
[{"$f":"IF(syoriyou!A1006=\"\",\"\",syoriyou!A1006)","v":""},{"$f":"IF(syoriyou!B1006=\"\",\"\",syoriyou!B1006)","v":""},{"$f":"IF(syoriyou!C1006=\"\",\"\",syoriyou!C1006)","v":""},{"$f":"IF(syoriyou!D1006=\"\",\"\",syoriyou!D1006)","v":""},{"$f":"IF(syoriyou!E1006=\"\",\"\",syoriyou!E1006)","v":""},{"$f":"IF(syoriyou!F1006=\"\",\"\",syoriyou!F1006)","v":""},{"$f":"IF(syoriyou!G1006=\"\",\"\",syoriyou!G1006)","v":""},{"$f":"IF(syoriyou!H1006=\"\",\"\",syoriyou!H1006)","v":""},{"$f":"IF(syoriyou!I1006=\"\",\"\",syoriyou!I1006)","v":""},{"$f":"IF(syoriyou!J1006=\"\",\"\",syoriyou!N1006)","v":""}]
[{"$f":"IF(syoriyou!A1007=\"\",\"\",syoriyou!A1007)","v":""},{"$f":"IF(syoriyou!B1007=\"\",\"\",syoriyou!B1007)","v":""},{"$f":"IF(syoriyou!C1007=\"\",\"\",syoriyou!C1007)","v":""},{"$f":"IF(syoriyou!D1007=\"\",\"\",syoriyou!D1007)","v":""},{"$f":"IF(syoriyou!E1007=\"\",\"\",syoriyou!E1007)","v":""},{"$f":"IF(syoriyou!F1007=\"\",\"\",syoriyou!F1007)","v":""},{"$f":"IF(syoriyou!G1007=\"\",\"\",syoriyou!G1007)","v":""},{"$f":"IF(syoriyou!H1007=\"\",\"\",syoriyou!H1007)","v":""},{"$f":"IF(syoriyou!I1007=\"\",\"\",syoriyou!I1007)","v":""},{"$f":"IF(syoriyou!J1007=\"\",\"\",syoriyou!N1007)","v":""}]
[{"$f":"IF(syoriyou!A1008=\"\",\"\",syoriyou!A1008)","v":""},{"$f":"IF(syoriyou!B1008=\"\",\"\",syoriyou!B1008)","v":""},{"$f":"IF(syoriyou!C1008=\"\",\"\",syoriyou!C1008)","v":""},{"$f":"IF(syoriyou!D1008=\"\",\"\",syoriyou!D1008)","v":""},{"$f":"IF(syoriyou!E1008=\"\",\"\",syoriyou!E1008)","v":""},{"$f":"IF(syoriyou!F1008=\"\",\"\",syoriyou!F1008)","v":""},{"$f":"IF(syoriyou!G1008=\"\",\"\",syoriyou!G1008)","v":""},{"$f":"IF(syoriyou!H1008=\"\",\"\",syoriyou!H1008)","v":""},{"$f":"IF(syoriyou!I1008=\"\",\"\",syoriyou!I1008)","v":""},{"$f":"IF(syoriyou!J1008=\"\",\"\",syoriyou!N1008)","v":""}]
[{"$f":"IF(syoriyou!A1009=\"\",\"\",syoriyou!A1009)","v":""},{"$f":"IF(syoriyou!B1009=\"\",\"\",syoriyou!B1009)","v":""},{"$f":"IF(syoriyou!C1009=\"\",\"\",syoriyou!C1009)","v":""},{"$f":"IF(syoriyou!D1009=\"\",\"\",syoriyou!D1009)","v":""},{"$f":"IF(syoriyou!E1009=\"\",\"\",syoriyou!E1009)","v":""},{"$f":"IF(syoriyou!F1009=\"\",\"\",syoriyou!F1009)","v":""},{"$f":"IF(syoriyou!G1009=\"\",\"\",syoriyou!G1009)","v":""},{"$f":"IF(syoriyou!H1009=\"\",\"\",syoriyou!H1009)","v":""},{"$f":"IF(syoriyou!I1009=\"\",\"\",syoriyou!I1009)","v":""},{"$f":"IF(syoriyou!J1009=\"\",\"\",syoriyou!N1009)","v":""}]
[{"$f":"IF(syoriyou!A1010=\"\",\"\",syoriyou!A1010)","v":""},{"$f":"IF(syoriyou!B1010=\"\",\"\",syoriyou!B1010)","v":""},{"$f":"IF(syoriyou!C1010=\"\",\"\",syoriyou!C1010)","v":""},{"$f":"IF(syoriyou!D1010=\"\",\"\",syoriyou!D1010)","v":""},{"$f":"IF(syoriyou!E1010=\"\",\"\",syoriyou!E1010)","v":""},{"$f":"IF(syoriyou!F1010=\"\",\"\",syoriyou!F1010)","v":""},{"$f":"IF(syoriyou!G1010=\"\",\"\",syoriyou!G1010)","v":""},{"$f":"IF(syoriyou!H1010=\"\",\"\",syoriyou!H1010)","v":""},{"$f":"IF(syoriyou!I1010=\"\",\"\",syoriyou!I1010)","v":""},{"$f":"IF(syoriyou!J1010=\"\",\"\",syoriyou!N1010)","v":""}]
[{"$f":"IF(syoriyou!A1011=\"\",\"\",syoriyou!A1011)","v":""},{"$f":"IF(syoriyou!B1011=\"\",\"\",syoriyou!B1011)","v":""},{"$f":"IF(syoriyou!C1011=\"\",\"\",syoriyou!C1011)","v":""},{"$f":"IF(syoriyou!D1011=\"\",\"\",syoriyou!D1011)","v":""},{"$f":"IF(syoriyou!E1011=\"\",\"\",syoriyou!E1011)","v":""},{"$f":"IF(syoriyou!F1011=\"\",\"\",syoriyou!F1011)","v":""},{"$f":"IF(syoriyou!G1011=\"\",\"\",syoriyou!G1011)","v":""},{"$f":"IF(syoriyou!H1011=\"\",\"\",syoriyou!H1011)","v":""},{"$f":"IF(syoriyou!I1011=\"\",\"\",syoriyou!I1011)","v":""},{"$f":"IF(syoriyou!J1011=\"\",\"\",syoriyou!N1011)","v":""}]
[{"$f":"IF(syoriyou!A1012=\"\",\"\",syoriyou!A1012)","v":""},{"$f":"IF(syoriyou!B1012=\"\",\"\",syoriyou!B1012)","v":""},{"$f":"IF(syoriyou!C1012=\"\",\"\",syoriyou!C1012)","v":""},{"$f":"IF(syoriyou!D1012=\"\",\"\",syoriyou!D1012)","v":""},{"$f":"IF(syoriyou!E1012=\"\",\"\",syoriyou!E1012)","v":""},{"$f":"IF(syoriyou!F1012=\"\",\"\",syoriyou!F1012)","v":""},{"$f":"IF(syoriyou!G1012=\"\",\"\",syoriyou!G1012)","v":""},{"$f":"IF(syoriyou!H1012=\"\",\"\",syoriyou!H1012)","v":""},{"$f":"IF(syoriyou!I1012=\"\",\"\",syoriyou!I1012)","v":""},{"$f":"IF(syoriyou!J1012=\"\",\"\",syoriyou!N1012)","v":""}]
[{"$f":"IF(syoriyou!A1013=\"\",\"\",syoriyou!A1013)","v":""},{"$f":"IF(syoriyou!B1013=\"\",\"\",syoriyou!B1013)","v":""},{"$f":"IF(syoriyou!C1013=\"\",\"\",syoriyou!C1013)","v":""},{"$f":"IF(syoriyou!D1013=\"\",\"\",syoriyou!D1013)","v":""},{"$f":"IF(syoriyou!E1013=\"\",\"\",syoriyou!E1013)","v":""},{"$f":"IF(syoriyou!F1013=\"\",\"\",syoriyou!F1013)","v":""},{"$f":"IF(syoriyou!G1013=\"\",\"\",syoriyou!G1013)","v":""},{"$f":"IF(syoriyou!H1013=\"\",\"\",syoriyou!H1013)","v":""},{"$f":"IF(syoriyou!I1013=\"\",\"\",syoriyou!I1013)","v":""},{"$f":"IF(syoriyou!J1013=\"\",\"\",syoriyou!N1013)","v":""}]
[{"$f":"IF(syoriyou!A1014=\"\",\"\",syoriyou!A1014)","v":""},{"$f":"IF(syoriyou!B1014=\"\",\"\",syoriyou!B1014)","v":""},{"$f":"IF(syoriyou!C1014=\"\",\"\",syoriyou!C1014)","v":""},{"$f":"IF(syoriyou!D1014=\"\",\"\",syoriyou!D1014)","v":""},{"$f":"IF(syoriyou!E1014=\"\",\"\",syoriyou!E1014)","v":""},{"$f":"IF(syoriyou!F1014=\"\",\"\",syoriyou!F1014)","v":""},{"$f":"IF(syoriyou!G1014=\"\",\"\",syoriyou!G1014)","v":""},{"$f":"IF(syoriyou!H1014=\"\",\"\",syoriyou!H1014)","v":""},{"$f":"IF(syoriyou!I1014=\"\",\"\",syoriyou!I1014)","v":""},{"$f":"IF(syoriyou!J1014=\"\",\"\",syoriyou!N1014)","v":""}]
[{"$f":"IF(syoriyou!A1015=\"\",\"\",syoriyou!A1015)","v":""},{"$f":"IF(syoriyou!B1015=\"\",\"\",syoriyou!B1015)","v":""},{"$f":"IF(syoriyou!C1015=\"\",\"\",syoriyou!C1015)","v":""},{"$f":"IF(syoriyou!D1015=\"\",\"\",syoriyou!D1015)","v":""},{"$f":"IF(syoriyou!E1015=\"\",\"\",syoriyou!E1015)","v":""},{"$f":"IF(syoriyou!F1015=\"\",\"\",syoriyou!F1015)","v":""},{"$f":"IF(syoriyou!G1015=\"\",\"\",syoriyou!G1015)","v":""},{"$f":"IF(syoriyou!H1015=\"\",\"\",syoriyou!H1015)","v":""},{"$f":"IF(syoriyou!I1015=\"\",\"\",syoriyou!I1015)","v":""},{"$f":"IF(syoriyou!J1015=\"\",\"\",syoriyou!N1015)","v":""}]
[{"$f":"IF(syoriyou!A1016=\"\",\"\",syoriyou!A1016)","v":""},{"$f":"IF(syoriyou!B1016=\"\",\"\",syoriyou!B1016)","v":""},{"$f":"IF(syoriyou!C1016=\"\",\"\",syoriyou!C1016)","v":""},{"$f":"IF(syoriyou!D1016=\"\",\"\",syoriyou!D1016)","v":""},{"$f":"IF(syoriyou!E1016=\"\",\"\",syoriyou!E1016)","v":""},{"$f":"IF(syoriyou!F1016=\"\",\"\",syoriyou!F1016)","v":""},{"$f":"IF(syoriyou!G1016=\"\",\"\",syoriyou!G1016)","v":""},{"$f":"IF(syoriyou!H1016=\"\",\"\",syoriyou!H1016)","v":""},{"$f":"IF(syoriyou!I1016=\"\",\"\",syoriyou!I1016)","v":""},{"$f":"IF(syoriyou!J1016=\"\",\"\",syoriyou!N1016)","v":""}]
[{"$f":"IF(syoriyou!A1017=\"\",\"\",syoriyou!A1017)","v":""},{"$f":"IF(syoriyou!B1017=\"\",\"\",syoriyou!B1017)","v":""},{"$f":"IF(syoriyou!C1017=\"\",\"\",syoriyou!C1017)","v":""},{"$f":"IF(syoriyou!D1017=\"\",\"\",syoriyou!D1017)","v":""},{"$f":"IF(syoriyou!E1017=\"\",\"\",syoriyou!E1017)","v":""},{"$f":"IF(syoriyou!F1017=\"\",\"\",syoriyou!F1017)","v":""},{"$f":"IF(syoriyou!G1017=\"\",\"\",syoriyou!G1017)","v":""},{"$f":"IF(syoriyou!H1017=\"\",\"\",syoriyou!H1017)","v":""},{"$f":"IF(syoriyou!I1017=\"\",\"\",syoriyou!I1017)","v":""},{"$f":"IF(syoriyou!J1017=\"\",\"\",syoriyou!N1017)","v":""}]
[{"$f":"IF(syoriyou!A1018=\"\",\"\",syoriyou!A1018)","v":""},{"$f":"IF(syoriyou!B1018=\"\",\"\",syoriyou!B1018)","v":""},{"$f":"IF(syoriyou!C1018=\"\",\"\",syoriyou!C1018)","v":""},{"$f":"IF(syoriyou!D1018=\"\",\"\",syoriyou!D1018)","v":""},{"$f":"IF(syoriyou!E1018=\"\",\"\",syoriyou!E1018)","v":""},{"$f":"IF(syoriyou!F1018=\"\",\"\",syoriyou!F1018)","v":""},{"$f":"IF(syoriyou!G1018=\"\",\"\",syoriyou!G1018)","v":""},{"$f":"IF(syoriyou!H1018=\"\",\"\",syoriyou!H1018)","v":""},{"$f":"IF(syoriyou!I1018=\"\",\"\",syoriyou!I1018)","v":""},{"$f":"IF(syoriyou!J1018=\"\",\"\",syoriyou!N1018)","v":""}]
[{"$f":"IF(syoriyou!A1019=\"\",\"\",syoriyou!A1019)","v":""},{"$f":"IF(syoriyou!B1019=\"\",\"\",syoriyou!B1019)","v":""},{"$f":"IF(syoriyou!C1019=\"\",\"\",syoriyou!C1019)","v":""},{"$f":"IF(syoriyou!D1019=\"\",\"\",syoriyou!D1019)","v":""},{"$f":"IF(syoriyou!E1019=\"\",\"\",syoriyou!E1019)","v":""},{"$f":"IF(syoriyou!F1019=\"\",\"\",syoriyou!F1019)","v":""},{"$f":"IF(syoriyou!G1019=\"\",\"\",syoriyou!G1019)","v":""},{"$f":"IF(syoriyou!H1019=\"\",\"\",syoriyou!H1019)","v":""},{"$f":"IF(syoriyou!I1019=\"\",\"\",syoriyou!I1019)","v":""},{"$f":"IF(syoriyou!J1019=\"\",\"\",syoriyou!N1019)","v":""}]
[{"$f":"IF(syoriyou!A1020=\"\",\"\",syoriyou!A1020)","v":""},{"$f":"IF(syoriyou!B1020=\"\",\"\",syoriyou!B1020)","v":""},{"$f":"IF(syoriyou!C1020=\"\",\"\",syoriyou!C1020)","v":""},{"$f":"IF(syoriyou!D1020=\"\",\"\",syoriyou!D1020)","v":""},{"$f":"IF(syoriyou!E1020=\"\",\"\",syoriyou!E1020)","v":""},{"$f":"IF(syoriyou!F1020=\"\",\"\",syoriyou!F1020)","v":""},{"$f":"IF(syoriyou!G1020=\"\",\"\",syoriyou!G1020)","v":""},{"$f":"IF(syoriyou!H1020=\"\",\"\",syoriyou!H1020)","v":""},{"$f":"IF(syoriyou!I1020=\"\",\"\",syoriyou!I1020)","v":""},{"$f":"IF(syoriyou!J1020=\"\",\"\",syoriyou!N1020)","v":""}]
[{"$f":"IF(syoriyou!A1021=\"\",\"\",syoriyou!A1021)","v":""},{"$f":"IF(syoriyou!B1021=\"\",\"\",syoriyou!B1021)","v":""},{"$f":"IF(syoriyou!C1021=\"\",\"\",syoriyou!C1021)","v":""},{"$f":"IF(syoriyou!D1021=\"\",\"\",syoriyou!D1021)","v":""},{"$f":"IF(syoriyou!E1021=\"\",\"\",syoriyou!E1021)","v":""},{"$f":"IF(syoriyou!F1021=\"\",\"\",syoriyou!F1021)","v":""},{"$f":"IF(syoriyou!G1021=\"\",\"\",syoriyou!G1021)","v":""},{"$f":"IF(syoriyou!H1021=\"\",\"\",syoriyou!H1021)","v":""},{"$f":"IF(syoriyou!I1021=\"\",\"\",syoriyou!I1021)","v":""},{"$f":"IF(syoriyou!J1021=\"\",\"\",syoriyou!N1021)","v":""}]
[{"$f":"IF(syoriyou!A1022=\"\",\"\",syoriyou!A1022)","v":""},{"$f":"IF(syoriyou!B1022=\"\",\"\",syoriyou!B1022)","v":""},{"$f":"IF(syoriyou!C1022=\"\",\"\",syoriyou!C1022)","v":""},{"$f":"IF(syoriyou!D1022=\"\",\"\",syoriyou!D1022)","v":""},{"$f":"IF(syoriyou!E1022=\"\",\"\",syoriyou!E1022)","v":""},{"$f":"IF(syoriyou!F1022=\"\",\"\",syoriyou!F1022)","v":""},{"$f":"IF(syoriyou!G1022=\"\",\"\",syoriyou!G1022)","v":""},{"$f":"IF(syoriyou!H1022=\"\",\"\",syoriyou!H1022)","v":""},{"$f":"IF(syoriyou!I1022=\"\",\"\",syoriyou!I1022)","v":""},{"$f":"IF(syoriyou!J1022=\"\",\"\",syoriyou!N1022)","v":""}]
[{"$f":"IF(syoriyou!A1023=\"\",\"\",syoriyou!A1023)","v":""},{"$f":"IF(syoriyou!B1023=\"\",\"\",syoriyou!B1023)","v":""},{"$f":"IF(syoriyou!C1023=\"\",\"\",syoriyou!C1023)","v":""},{"$f":"IF(syoriyou!D1023=\"\",\"\",syoriyou!D1023)","v":""},{"$f":"IF(syoriyou!E1023=\"\",\"\",syoriyou!E1023)","v":""},{"$f":"IF(syoriyou!F1023=\"\",\"\",syoriyou!F1023)","v":""},{"$f":"IF(syoriyou!G1023=\"\",\"\",syoriyou!G1023)","v":""},{"$f":"IF(syoriyou!H1023=\"\",\"\",syoriyou!H1023)","v":""},{"$f":"IF(syoriyou!I1023=\"\",\"\",syoriyou!I1023)","v":""},{"$f":"IF(syoriyou!J1023=\"\",\"\",syoriyou!N1023)","v":""}]
[{"$f":"IF(syoriyou!A1024=\"\",\"\",syoriyou!A1024)","v":""},{"$f":"IF(syoriyou!B1024=\"\",\"\",syoriyou!B1024)","v":""},{"$f":"IF(syoriyou!C1024=\"\",\"\",syoriyou!C1024)","v":""},{"$f":"IF(syoriyou!D1024=\"\",\"\",syoriyou!D1024)","v":""},{"$f":"IF(syoriyou!E1024=\"\",\"\",syoriyou!E1024)","v":""},{"$f":"IF(syoriyou!F1024=\"\",\"\",syoriyou!F1024)","v":""},{"$f":"IF(syoriyou!G1024=\"\",\"\",syoriyou!G1024)","v":""},{"$f":"IF(syoriyou!H1024=\"\",\"\",syoriyou!H1024)","v":""},{"$f":"IF(syoriyou!I1024=\"\",\"\",syoriyou!I1024)","v":""},{"$f":"IF(syoriyou!J1024=\"\",\"\",syoriyou!N1024)","v":""}]
[{"$f":"IF(syoriyou!A1025=\"\",\"\",syoriyou!A1025)","v":""},{"$f":"IF(syoriyou!B1025=\"\",\"\",syoriyou!B1025)","v":""},{"$f":"IF(syoriyou!C1025=\"\",\"\",syoriyou!C1025)","v":""},{"$f":"IF(syoriyou!D1025=\"\",\"\",syoriyou!D1025)","v":""},{"$f":"IF(syoriyou!E1025=\"\",\"\",syoriyou!E1025)","v":""},{"$f":"IF(syoriyou!F1025=\"\",\"\",syoriyou!F1025)","v":""},{"$f":"IF(syoriyou!G1025=\"\",\"\",syoriyou!G1025)","v":""},{"$f":"IF(syoriyou!H1025=\"\",\"\",syoriyou!H1025)","v":""},{"$f":"IF(syoriyou!I1025=\"\",\"\",syoriyou!I1025)","v":""},{"$f":"IF(syoriyou!J1025=\"\",\"\",syoriyou!N1025)","v":""}]
[{"$f":"IF(syoriyou!A1026=\"\",\"\",syoriyou!A1026)","v":""},{"$f":"IF(syoriyou!B1026=\"\",\"\",syoriyou!B1026)","v":""},{"$f":"IF(syoriyou!C1026=\"\",\"\",syoriyou!C1026)","v":""},{"$f":"IF(syoriyou!D1026=\"\",\"\",syoriyou!D1026)","v":""},{"$f":"IF(syoriyou!E1026=\"\",\"\",syoriyou!E1026)","v":""},{"$f":"IF(syoriyou!F1026=\"\",\"\",syoriyou!F1026)","v":""},{"$f":"IF(syoriyou!G1026=\"\",\"\",syoriyou!G1026)","v":""},{"$f":"IF(syoriyou!H1026=\"\",\"\",syoriyou!H1026)","v":""},{"$f":"IF(syoriyou!I1026=\"\",\"\",syoriyou!I1026)","v":""},{"$f":"IF(syoriyou!J1026=\"\",\"\",syoriyou!N1026)","v":""}]
[{"$f":"IF(syoriyou!A1027=\"\",\"\",syoriyou!A1027)","v":""},{"$f":"IF(syoriyou!B1027=\"\",\"\",syoriyou!B1027)","v":""},{"$f":"IF(syoriyou!C1027=\"\",\"\",syoriyou!C1027)","v":""},{"$f":"IF(syoriyou!D1027=\"\",\"\",syoriyou!D1027)","v":""},{"$f":"IF(syoriyou!E1027=\"\",\"\",syoriyou!E1027)","v":""},{"$f":"IF(syoriyou!F1027=\"\",\"\",syoriyou!F1027)","v":""},{"$f":"IF(syoriyou!G1027=\"\",\"\",syoriyou!G1027)","v":""},{"$f":"IF(syoriyou!H1027=\"\",\"\",syoriyou!H1027)","v":""},{"$f":"IF(syoriyou!I1027=\"\",\"\",syoriyou!I1027)","v":""},{"$f":"IF(syoriyou!J1027=\"\",\"\",syoriyou!N1027)","v":""}]
[{"$f":"IF(syoriyou!A1028=\"\",\"\",syoriyou!A1028)","v":""},{"$f":"IF(syoriyou!B1028=\"\",\"\",syoriyou!B1028)","v":""},{"$f":"IF(syoriyou!C1028=\"\",\"\",syoriyou!C1028)","v":""},{"$f":"IF(syoriyou!D1028=\"\",\"\",syoriyou!D1028)","v":""},{"$f":"IF(syoriyou!E1028=\"\",\"\",syoriyou!E1028)","v":""},{"$f":"IF(syoriyou!F1028=\"\",\"\",syoriyou!F1028)","v":""},{"$f":"IF(syoriyou!G1028=\"\",\"\",syoriyou!G1028)","v":""},{"$f":"IF(syoriyou!H1028=\"\",\"\",syoriyou!H1028)","v":""},{"$f":"IF(syoriyou!I1028=\"\",\"\",syoriyou!I1028)","v":""},{"$f":"IF(syoriyou!J1028=\"\",\"\",syoriyou!N1028)","v":""}]
[{"$f":"IF(syoriyou!A1029=\"\",\"\",syoriyou!A1029)","v":""},{"$f":"IF(syoriyou!B1029=\"\",\"\",syoriyou!B1029)","v":""},{"$f":"IF(syoriyou!C1029=\"\",\"\",syoriyou!C1029)","v":""},{"$f":"IF(syoriyou!D1029=\"\",\"\",syoriyou!D1029)","v":""},{"$f":"IF(syoriyou!E1029=\"\",\"\",syoriyou!E1029)","v":""},{"$f":"IF(syoriyou!F1029=\"\",\"\",syoriyou!F1029)","v":""},{"$f":"IF(syoriyou!G1029=\"\",\"\",syoriyou!G1029)","v":""},{"$f":"IF(syoriyou!H1029=\"\",\"\",syoriyou!H1029)","v":""},{"$f":"IF(syoriyou!I1029=\"\",\"\",syoriyou!I1029)","v":""},{"$f":"IF(syoriyou!J1029=\"\",\"\",syoriyou!N1029)","v":""}]
[{"$f":"IF(syoriyou!A1030=\"\",\"\",syoriyou!A1030)","v":""},{"$f":"IF(syoriyou!B1030=\"\",\"\",syoriyou!B1030)","v":""},{"$f":"IF(syoriyou!C1030=\"\",\"\",syoriyou!C1030)","v":""},{"$f":"IF(syoriyou!D1030=\"\",\"\",syoriyou!D1030)","v":""},{"$f":"IF(syoriyou!E1030=\"\",\"\",syoriyou!E1030)","v":""},{"$f":"IF(syoriyou!F1030=\"\",\"\",syoriyou!F1030)","v":""},{"$f":"IF(syoriyou!G1030=\"\",\"\",syoriyou!G1030)","v":""},{"$f":"IF(syoriyou!H1030=\"\",\"\",syoriyou!H1030)","v":""},{"$f":"IF(syoriyou!I1030=\"\",\"\",syoriyou!I1030)","v":""},{"$f":"IF(syoriyou!J1030=\"\",\"\",syoriyou!N1030)","v":""}]
[{"$f":"IF(syoriyou!A1031=\"\",\"\",syoriyou!A1031)","v":""},{"$f":"IF(syoriyou!B1031=\"\",\"\",syoriyou!B1031)","v":""},{"$f":"IF(syoriyou!C1031=\"\",\"\",syoriyou!C1031)","v":""},{"$f":"IF(syoriyou!D1031=\"\",\"\",syoriyou!D1031)","v":""},{"$f":"IF(syoriyou!E1031=\"\",\"\",syoriyou!E1031)","v":""},{"$f":"IF(syoriyou!F1031=\"\",\"\",syoriyou!F1031)","v":""},{"$f":"IF(syoriyou!G1031=\"\",\"\",syoriyou!G1031)","v":""},{"$f":"IF(syoriyou!H1031=\"\",\"\",syoriyou!H1031)","v":""},{"$f":"IF(syoriyou!I1031=\"\",\"\",syoriyou!I1031)","v":""},{"$f":"IF(syoriyou!J1031=\"\",\"\",syoriyou!N1031)","v":""}]
[{"$f":"IF(syoriyou!A1032=\"\",\"\",syoriyou!A1032)","v":""},{"$f":"IF(syoriyou!B1032=\"\",\"\",syoriyou!B1032)","v":""},{"$f":"IF(syoriyou!C1032=\"\",\"\",syoriyou!C1032)","v":""},{"$f":"IF(syoriyou!D1032=\"\",\"\",syoriyou!D1032)","v":""},{"$f":"IF(syoriyou!E1032=\"\",\"\",syoriyou!E1032)","v":""},{"$f":"IF(syoriyou!F1032=\"\",\"\",syoriyou!F1032)","v":""},{"$f":"IF(syoriyou!G1032=\"\",\"\",syoriyou!G1032)","v":""},{"$f":"IF(syoriyou!H1032=\"\",\"\",syoriyou!H1032)","v":""},{"$f":"IF(syoriyou!I1032=\"\",\"\",syoriyou!I1032)","v":""},{"$f":"IF(syoriyou!J1032=\"\",\"\",syoriyou!N1032)","v":""}]
[{"$f":"IF(syoriyou!A1033=\"\",\"\",syoriyou!A1033)","v":""},{"$f":"IF(syoriyou!B1033=\"\",\"\",syoriyou!B1033)","v":""},{"$f":"IF(syoriyou!C1033=\"\",\"\",syoriyou!C1033)","v":""},{"$f":"IF(syoriyou!D1033=\"\",\"\",syoriyou!D1033)","v":""},{"$f":"IF(syoriyou!E1033=\"\",\"\",syoriyou!E1033)","v":""},{"$f":"IF(syoriyou!F1033=\"\",\"\",syoriyou!F1033)","v":""},{"$f":"IF(syoriyou!G1033=\"\",\"\",syoriyou!G1033)","v":""},{"$f":"IF(syoriyou!H1033=\"\",\"\",syoriyou!H1033)","v":""},{"$f":"IF(syoriyou!I1033=\"\",\"\",syoriyou!I1033)","v":""},{"$f":"IF(syoriyou!J1033=\"\",\"\",syoriyou!N1033)","v":""}]
[{"$f":"IF(syoriyou!A1034=\"\",\"\",syoriyou!A1034)","v":""},{"$f":"IF(syoriyou!B1034=\"\",\"\",syoriyou!B1034)","v":""},{"$f":"IF(syoriyou!C1034=\"\",\"\",syoriyou!C1034)","v":""},{"$f":"IF(syoriyou!D1034=\"\",\"\",syoriyou!D1034)","v":""},{"$f":"IF(syoriyou!E1034=\"\",\"\",syoriyou!E1034)","v":""},{"$f":"IF(syoriyou!F1034=\"\",\"\",syoriyou!F1034)","v":""},{"$f":"IF(syoriyou!G1034=\"\",\"\",syoriyou!G1034)","v":""},{"$f":"IF(syoriyou!H1034=\"\",\"\",syoriyou!H1034)","v":""},{"$f":"IF(syoriyou!I1034=\"\",\"\",syoriyou!I1034)","v":""},{"$f":"IF(syoriyou!J1034=\"\",\"\",syoriyou!N1034)","v":""}]
[{"$f":"IF(syoriyou!A1035=\"\",\"\",syoriyou!A1035)","v":""},{"$f":"IF(syoriyou!B1035=\"\",\"\",syoriyou!B1035)","v":""},{"$f":"IF(syoriyou!C1035=\"\",\"\",syoriyou!C1035)","v":""},{"$f":"IF(syoriyou!D1035=\"\",\"\",syoriyou!D1035)","v":""},{"$f":"IF(syoriyou!E1035=\"\",\"\",syoriyou!E1035)","v":""},{"$f":"IF(syoriyou!F1035=\"\",\"\",syoriyou!F1035)","v":""},{"$f":"IF(syoriyou!G1035=\"\",\"\",syoriyou!G1035)","v":""},{"$f":"IF(syoriyou!H1035=\"\",\"\",syoriyou!H1035)","v":""},{"$f":"IF(syoriyou!I1035=\"\",\"\",syoriyou!I1035)","v":""},{"$f":"IF(syoriyou!J1035=\"\",\"\",syoriyou!N1035)","v":""}]
[{"$f":"IF(syoriyou!A1036=\"\",\"\",syoriyou!A1036)","v":""},{"$f":"IF(syoriyou!B1036=\"\",\"\",syoriyou!B1036)","v":""},{"$f":"IF(syoriyou!C1036=\"\",\"\",syoriyou!C1036)","v":""},{"$f":"IF(syoriyou!D1036=\"\",\"\",syoriyou!D1036)","v":""},{"$f":"IF(syoriyou!E1036=\"\",\"\",syoriyou!E1036)","v":""},{"$f":"IF(syoriyou!F1036=\"\",\"\",syoriyou!F1036)","v":""},{"$f":"IF(syoriyou!G1036=\"\",\"\",syoriyou!G1036)","v":""},{"$f":"IF(syoriyou!H1036=\"\",\"\",syoriyou!H1036)","v":""},{"$f":"IF(syoriyou!I1036=\"\",\"\",syoriyou!I1036)","v":""},{"$f":"IF(syoriyou!J1036=\"\",\"\",syoriyou!N1036)","v":""}]
[{"$f":"IF(syoriyou!A1037=\"\",\"\",syoriyou!A1037)","v":""},{"$f":"IF(syoriyou!B1037=\"\",\"\",syoriyou!B1037)","v":""},{"$f":"IF(syoriyou!C1037=\"\",\"\",syoriyou!C1037)","v":""},{"$f":"IF(syoriyou!D1037=\"\",\"\",syoriyou!D1037)","v":""},{"$f":"IF(syoriyou!E1037=\"\",\"\",syoriyou!E1037)","v":""},{"$f":"IF(syoriyou!F1037=\"\",\"\",syoriyou!F1037)","v":""},{"$f":"IF(syoriyou!G1037=\"\",\"\",syoriyou!G1037)","v":""},{"$f":"IF(syoriyou!H1037=\"\",\"\",syoriyou!H1037)","v":""},{"$f":"IF(syoriyou!I1037=\"\",\"\",syoriyou!I1037)","v":""},{"$f":"IF(syoriyou!J1037=\"\",\"\",syoriyou!N1037)","v":""}]
[{"$f":"IF(syoriyou!A1038=\"\",\"\",syoriyou!A1038)","v":""},{"$f":"IF(syoriyou!B1038=\"\",\"\",syoriyou!B1038)","v":""},{"$f":"IF(syoriyou!C1038=\"\",\"\",syoriyou!C1038)","v":""},{"$f":"IF(syoriyou!D1038=\"\",\"\",syoriyou!D1038)","v":""},{"$f":"IF(syoriyou!E1038=\"\",\"\",syoriyou!E1038)","v":""},{"$f":"IF(syoriyou!F1038=\"\",\"\",syoriyou!F1038)","v":""},{"$f":"IF(syoriyou!G1038=\"\",\"\",syoriyou!G1038)","v":""},{"$f":"IF(syoriyou!H1038=\"\",\"\",syoriyou!H1038)","v":""},{"$f":"IF(syoriyou!I1038=\"\",\"\",syoriyou!I1038)","v":""},{"$f":"IF(syoriyou!J1038=\"\",\"\",syoriyou!N1038)","v":""}]
[{"$f":"IF(syoriyou!A1039=\"\",\"\",syoriyou!A1039)","v":""},{"$f":"IF(syoriyou!B1039=\"\",\"\",syoriyou!B1039)","v":""},{"$f":"IF(syoriyou!C1039=\"\",\"\",syoriyou!C1039)","v":""},{"$f":"IF(syoriyou!D1039=\"\",\"\",syoriyou!D1039)","v":""},{"$f":"IF(syoriyou!E1039=\"\",\"\",syoriyou!E1039)","v":""},{"$f":"IF(syoriyou!F1039=\"\",\"\",syoriyou!F1039)","v":""},{"$f":"IF(syoriyou!G1039=\"\",\"\",syoriyou!G1039)","v":""},{"$f":"IF(syoriyou!H1039=\"\",\"\",syoriyou!H1039)","v":""},{"$f":"IF(syoriyou!I1039=\"\",\"\",syoriyou!I1039)","v":""},{"$f":"IF(syoriyou!J1039=\"\",\"\",syoriyou!N1039)","v":""}]
[{"$f":"IF(syoriyou!A1040=\"\",\"\",syoriyou!A1040)","v":""},{"$f":"IF(syoriyou!B1040=\"\",\"\",syoriyou!B1040)","v":""},{"$f":"IF(syoriyou!C1040=\"\",\"\",syoriyou!C1040)","v":""},{"$f":"IF(syoriyou!D1040=\"\",\"\",syoriyou!D1040)","v":""},{"$f":"IF(syoriyou!E1040=\"\",\"\",syoriyou!E1040)","v":""},{"$f":"IF(syoriyou!F1040=\"\",\"\",syoriyou!F1040)","v":""},{"$f":"IF(syoriyou!G1040=\"\",\"\",syoriyou!G1040)","v":""},{"$f":"IF(syoriyou!H1040=\"\",\"\",syoriyou!H1040)","v":""},{"$f":"IF(syoriyou!I1040=\"\",\"\",syoriyou!I1040)","v":""},{"$f":"IF(syoriyou!J1040=\"\",\"\",syoriyou!N1040)","v":""}]
[{"$f":"IF(syoriyou!A1041=\"\",\"\",syoriyou!A1041)","v":""},{"$f":"IF(syoriyou!B1041=\"\",\"\",syoriyou!B1041)","v":""},{"$f":"IF(syoriyou!C1041=\"\",\"\",syoriyou!C1041)","v":""},{"$f":"IF(syoriyou!D1041=\"\",\"\",syoriyou!D1041)","v":""},{"$f":"IF(syoriyou!E1041=\"\",\"\",syoriyou!E1041)","v":""},{"$f":"IF(syoriyou!F1041=\"\",\"\",syoriyou!F1041)","v":""},{"$f":"IF(syoriyou!G1041=\"\",\"\",syoriyou!G1041)","v":""},{"$f":"IF(syoriyou!H1041=\"\",\"\",syoriyou!H1041)","v":""},{"$f":"IF(syoriyou!I1041=\"\",\"\",syoriyou!I1041)","v":""},{"$f":"IF(syoriyou!J1041=\"\",\"\",syoriyou!N1041)","v":""}]
[{"$f":"IF(syoriyou!A1042=\"\",\"\",syoriyou!A1042)","v":""},{"$f":"IF(syoriyou!B1042=\"\",\"\",syoriyou!B1042)","v":""},{"$f":"IF(syoriyou!C1042=\"\",\"\",syoriyou!C1042)","v":""},{"$f":"IF(syoriyou!D1042=\"\",\"\",syoriyou!D1042)","v":""},{"$f":"IF(syoriyou!E1042=\"\",\"\",syoriyou!E1042)","v":""},{"$f":"IF(syoriyou!F1042=\"\",\"\",syoriyou!F1042)","v":""},{"$f":"IF(syoriyou!G1042=\"\",\"\",syoriyou!G1042)","v":""},{"$f":"IF(syoriyou!H1042=\"\",\"\",syoriyou!H1042)","v":""},{"$f":"IF(syoriyou!I1042=\"\",\"\",syoriyou!I1042)","v":""},{"$f":"IF(syoriyou!J1042=\"\",\"\",syoriyou!N1042)","v":""}]
[{"$f":"IF(syoriyou!A1043=\"\",\"\",syoriyou!A1043)","v":""},{"$f":"IF(syoriyou!B1043=\"\",\"\",syoriyou!B1043)","v":""},{"$f":"IF(syoriyou!C1043=\"\",\"\",syoriyou!C1043)","v":""},{"$f":"IF(syoriyou!D1043=\"\",\"\",syoriyou!D1043)","v":""},{"$f":"IF(syoriyou!E1043=\"\",\"\",syoriyou!E1043)","v":""},{"$f":"IF(syoriyou!F1043=\"\",\"\",syoriyou!F1043)","v":""},{"$f":"IF(syoriyou!G1043=\"\",\"\",syoriyou!G1043)","v":""},{"$f":"IF(syoriyou!H1043=\"\",\"\",syoriyou!H1043)","v":""},{"$f":"IF(syoriyou!I1043=\"\",\"\",syoriyou!I1043)","v":""},{"$f":"IF(syoriyou!J1043=\"\",\"\",syoriyou!N1043)","v":""}]
[{"$f":"IF(syoriyou!A1044=\"\",\"\",syoriyou!A1044)","v":""},{"$f":"IF(syoriyou!B1044=\"\",\"\",syoriyou!B1044)","v":""},{"$f":"IF(syoriyou!C1044=\"\",\"\",syoriyou!C1044)","v":""},{"$f":"IF(syoriyou!D1044=\"\",\"\",syoriyou!D1044)","v":""},{"$f":"IF(syoriyou!E1044=\"\",\"\",syoriyou!E1044)","v":""},{"$f":"IF(syoriyou!F1044=\"\",\"\",syoriyou!F1044)","v":""},{"$f":"IF(syoriyou!G1044=\"\",\"\",syoriyou!G1044)","v":""},{"$f":"IF(syoriyou!H1044=\"\",\"\",syoriyou!H1044)","v":""},{"$f":"IF(syoriyou!I1044=\"\",\"\",syoriyou!I1044)","v":""},{"$f":"IF(syoriyou!J1044=\"\",\"\",syoriyou!N1044)","v":""}]
[{"$f":"IF(syoriyou!A1045=\"\",\"\",syoriyou!A1045)","v":""},{"$f":"IF(syoriyou!B1045=\"\",\"\",syoriyou!B1045)","v":""},{"$f":"IF(syoriyou!C1045=\"\",\"\",syoriyou!C1045)","v":""},{"$f":"IF(syoriyou!D1045=\"\",\"\",syoriyou!D1045)","v":""},{"$f":"IF(syoriyou!E1045=\"\",\"\",syoriyou!E1045)","v":""},{"$f":"IF(syoriyou!F1045=\"\",\"\",syoriyou!F1045)","v":""},{"$f":"IF(syoriyou!G1045=\"\",\"\",syoriyou!G1045)","v":""},{"$f":"IF(syoriyou!H1045=\"\",\"\",syoriyou!H1045)","v":""},{"$f":"IF(syoriyou!I1045=\"\",\"\",syoriyou!I1045)","v":""},{"$f":"IF(syoriyou!J1045=\"\",\"\",syoriyou!N1045)","v":""}]
[{"$f":"IF(syoriyou!A1046=\"\",\"\",syoriyou!A1046)","v":""},{"$f":"IF(syoriyou!B1046=\"\",\"\",syoriyou!B1046)","v":""},{"$f":"IF(syoriyou!C1046=\"\",\"\",syoriyou!C1046)","v":""},{"$f":"IF(syoriyou!D1046=\"\",\"\",syoriyou!D1046)","v":""},{"$f":"IF(syoriyou!E1046=\"\",\"\",syoriyou!E1046)","v":""},{"$f":"IF(syoriyou!F1046=\"\",\"\",syoriyou!F1046)","v":""},{"$f":"IF(syoriyou!G1046=\"\",\"\",syoriyou!G1046)","v":""},{"$f":"IF(syoriyou!H1046=\"\",\"\",syoriyou!H1046)","v":""},{"$f":"IF(syoriyou!I1046=\"\",\"\",syoriyou!I1046)","v":""},{"$f":"IF(syoriyou!J1046=\"\",\"\",syoriyou!N1046)","v":""}]
[{"$f":"IF(syoriyou!A1047=\"\",\"\",syoriyou!A1047)","v":""},{"$f":"IF(syoriyou!B1047=\"\",\"\",syoriyou!B1047)","v":""},{"$f":"IF(syoriyou!C1047=\"\",\"\",syoriyou!C1047)","v":""},{"$f":"IF(syoriyou!D1047=\"\",\"\",syoriyou!D1047)","v":""},{"$f":"IF(syoriyou!E1047=\"\",\"\",syoriyou!E1047)","v":""},{"$f":"IF(syoriyou!F1047=\"\",\"\",syoriyou!F1047)","v":""},{"$f":"IF(syoriyou!G1047=\"\",\"\",syoriyou!G1047)","v":""},{"$f":"IF(syoriyou!H1047=\"\",\"\",syoriyou!H1047)","v":""},{"$f":"IF(syoriyou!I1047=\"\",\"\",syoriyou!I1047)","v":""},{"$f":"IF(syoriyou!J1047=\"\",\"\",syoriyou!N1047)","v":""}]
[{"$f":"IF(syoriyou!A1048=\"\",\"\",syoriyou!A1048)","v":""},{"$f":"IF(syoriyou!B1048=\"\",\"\",syoriyou!B1048)","v":""},{"$f":"IF(syoriyou!C1048=\"\",\"\",syoriyou!C1048)","v":""},{"$f":"IF(syoriyou!D1048=\"\",\"\",syoriyou!D1048)","v":""},{"$f":"IF(syoriyou!E1048=\"\",\"\",syoriyou!E1048)","v":""},{"$f":"IF(syoriyou!F1048=\"\",\"\",syoriyou!F1048)","v":""},{"$f":"IF(syoriyou!G1048=\"\",\"\",syoriyou!G1048)","v":""},{"$f":"IF(syoriyou!H1048=\"\",\"\",syoriyou!H1048)","v":""},{"$f":"IF(syoriyou!I1048=\"\",\"\",syoriyou!I1048)","v":""},{"$f":"IF(syoriyou!J1048=\"\",\"\",syoriyou!N1048)","v":""}]
[{"$f":"IF(syoriyou!A1049=\"\",\"\",syoriyou!A1049)","v":""},{"$f":"IF(syoriyou!B1049=\"\",\"\",syoriyou!B1049)","v":""},{"$f":"IF(syoriyou!C1049=\"\",\"\",syoriyou!C1049)","v":""},{"$f":"IF(syoriyou!D1049=\"\",\"\",syoriyou!D1049)","v":""},{"$f":"IF(syoriyou!E1049=\"\",\"\",syoriyou!E1049)","v":""},{"$f":"IF(syoriyou!F1049=\"\",\"\",syoriyou!F1049)","v":""},{"$f":"IF(syoriyou!G1049=\"\",\"\",syoriyou!G1049)","v":""},{"$f":"IF(syoriyou!H1049=\"\",\"\",syoriyou!H1049)","v":""},{"$f":"IF(syoriyou!I1049=\"\",\"\",syoriyou!I1049)","v":""},{"$f":"IF(syoriyou!J1049=\"\",\"\",syoriyou!N1049)","v":""}]
[{"$f":"IF(syoriyou!A1050=\"\",\"\",syoriyou!A1050)","v":""},{"$f":"IF(syoriyou!B1050=\"\",\"\",syoriyou!B1050)","v":""},{"$f":"IF(syoriyou!C1050=\"\",\"\",syoriyou!C1050)","v":""},{"$f":"IF(syoriyou!D1050=\"\",\"\",syoriyou!D1050)","v":""},{"$f":"IF(syoriyou!E1050=\"\",\"\",syoriyou!E1050)","v":""},{"$f":"IF(syoriyou!F1050=\"\",\"\",syoriyou!F1050)","v":""},{"$f":"IF(syoriyou!G1050=\"\",\"\",syoriyou!G1050)","v":""},{"$f":"IF(syoriyou!H1050=\"\",\"\",syoriyou!H1050)","v":""},{"$f":"IF(syoriyou!I1050=\"\",\"\",syoriyou!I1050)","v":""},{"$f":"IF(syoriyou!J1050=\"\",\"\",syoriyou!N1050)","v":""}]
[{"$f":"IF(syoriyou!A1051=\"\",\"\",syoriyou!A1051)","v":""},{"$f":"IF(syoriyou!B1051=\"\",\"\",syoriyou!B1051)","v":""},{"$f":"IF(syoriyou!C1051=\"\",\"\",syoriyou!C1051)","v":""},{"$f":"IF(syoriyou!D1051=\"\",\"\",syoriyou!D1051)","v":""},{"$f":"IF(syoriyou!E1051=\"\",\"\",syoriyou!E1051)","v":""},{"$f":"IF(syoriyou!F1051=\"\",\"\",syoriyou!F1051)","v":""},{"$f":"IF(syoriyou!G1051=\"\",\"\",syoriyou!G1051)","v":""},{"$f":"IF(syoriyou!H1051=\"\",\"\",syoriyou!H1051)","v":""},{"$f":"IF(syoriyou!I1051=\"\",\"\",syoriyou!I1051)","v":""},{"$f":"IF(syoriyou!J1051=\"\",\"\",syoriyou!N1051)","v":""}]
[{"$f":"IF(syoriyou!A1052=\"\",\"\",syoriyou!A1052)","v":""},{"$f":"IF(syoriyou!B1052=\"\",\"\",syoriyou!B1052)","v":""},{"$f":"IF(syoriyou!C1052=\"\",\"\",syoriyou!C1052)","v":""},{"$f":"IF(syoriyou!D1052=\"\",\"\",syoriyou!D1052)","v":""},{"$f":"IF(syoriyou!E1052=\"\",\"\",syoriyou!E1052)","v":""},{"$f":"IF(syoriyou!F1052=\"\",\"\",syoriyou!F1052)","v":""},{"$f":"IF(syoriyou!G1052=\"\",\"\",syoriyou!G1052)","v":""},{"$f":"IF(syoriyou!H1052=\"\",\"\",syoriyou!H1052)","v":""},{"$f":"IF(syoriyou!I1052=\"\",\"\",syoriyou!I1052)","v":""},{"$f":"IF(syoriyou!J1052=\"\",\"\",syoriyou!N1052)","v":""}]
[{"$f":"IF(syoriyou!A1053=\"\",\"\",syoriyou!A1053)","v":""},{"$f":"IF(syoriyou!B1053=\"\",\"\",syoriyou!B1053)","v":""},{"$f":"IF(syoriyou!C1053=\"\",\"\",syoriyou!C1053)","v":""},{"$f":"IF(syoriyou!D1053=\"\",\"\",syoriyou!D1053)","v":""},{"$f":"IF(syoriyou!E1053=\"\",\"\",syoriyou!E1053)","v":""},{"$f":"IF(syoriyou!F1053=\"\",\"\",syoriyou!F1053)","v":""},{"$f":"IF(syoriyou!G1053=\"\",\"\",syoriyou!G1053)","v":""},{"$f":"IF(syoriyou!H1053=\"\",\"\",syoriyou!H1053)","v":""},{"$f":"IF(syoriyou!I1053=\"\",\"\",syoriyou!I1053)","v":""},{"$f":"IF(syoriyou!J1053=\"\",\"\",syoriyou!N1053)","v":""}]
[{"$f":"IF(syoriyou!A1054=\"\",\"\",syoriyou!A1054)","v":""},{"$f":"IF(syoriyou!B1054=\"\",\"\",syoriyou!B1054)","v":""},{"$f":"IF(syoriyou!C1054=\"\",\"\",syoriyou!C1054)","v":""},{"$f":"IF(syoriyou!D1054=\"\",\"\",syoriyou!D1054)","v":""},{"$f":"IF(syoriyou!E1054=\"\",\"\",syoriyou!E1054)","v":""},{"$f":"IF(syoriyou!F1054=\"\",\"\",syoriyou!F1054)","v":""},{"$f":"IF(syoriyou!G1054=\"\",\"\",syoriyou!G1054)","v":""},{"$f":"IF(syoriyou!H1054=\"\",\"\",syoriyou!H1054)","v":""},{"$f":"IF(syoriyou!I1054=\"\",\"\",syoriyou!I1054)","v":""},{"$f":"IF(syoriyou!J1054=\"\",\"\",syoriyou!N1054)","v":""}]
[{"$f":"IF(syoriyou!A1055=\"\",\"\",syoriyou!A1055)","v":""},{"$f":"IF(syoriyou!B1055=\"\",\"\",syoriyou!B1055)","v":""},{"$f":"IF(syoriyou!C1055=\"\",\"\",syoriyou!C1055)","v":""},{"$f":"IF(syoriyou!D1055=\"\",\"\",syoriyou!D1055)","v":""},{"$f":"IF(syoriyou!E1055=\"\",\"\",syoriyou!E1055)","v":""},{"$f":"IF(syoriyou!F1055=\"\",\"\",syoriyou!F1055)","v":""},{"$f":"IF(syoriyou!G1055=\"\",\"\",syoriyou!G1055)","v":""},{"$f":"IF(syoriyou!H1055=\"\",\"\",syoriyou!H1055)","v":""},{"$f":"IF(syoriyou!I1055=\"\",\"\",syoriyou!I1055)","v":""},{"$f":"IF(syoriyou!J1055=\"\",\"\",syoriyou!N1055)","v":""}]
[{"$f":"IF(syoriyou!A1056=\"\",\"\",syoriyou!A1056)","v":""},{"$f":"IF(syoriyou!B1056=\"\",\"\",syoriyou!B1056)","v":""},{"$f":"IF(syoriyou!C1056=\"\",\"\",syoriyou!C1056)","v":""},{"$f":"IF(syoriyou!D1056=\"\",\"\",syoriyou!D1056)","v":""},{"$f":"IF(syoriyou!E1056=\"\",\"\",syoriyou!E1056)","v":""},{"$f":"IF(syoriyou!F1056=\"\",\"\",syoriyou!F1056)","v":""},{"$f":"IF(syoriyou!G1056=\"\",\"\",syoriyou!G1056)","v":""},{"$f":"IF(syoriyou!H1056=\"\",\"\",syoriyou!H1056)","v":""},{"$f":"IF(syoriyou!I1056=\"\",\"\",syoriyou!I1056)","v":""},{"$f":"IF(syoriyou!J1056=\"\",\"\",syoriyou!N1056)","v":""}]
[{"$f":"IF(syoriyou!A1057=\"\",\"\",syoriyou!A1057)","v":""},{"$f":"IF(syoriyou!B1057=\"\",\"\",syoriyou!B1057)","v":""},{"$f":"IF(syoriyou!C1057=\"\",\"\",syoriyou!C1057)","v":""},{"$f":"IF(syoriyou!D1057=\"\",\"\",syoriyou!D1057)","v":""},{"$f":"IF(syoriyou!E1057=\"\",\"\",syoriyou!E1057)","v":""},{"$f":"IF(syoriyou!F1057=\"\",\"\",syoriyou!F1057)","v":""},{"$f":"IF(syoriyou!G1057=\"\",\"\",syoriyou!G1057)","v":""},{"$f":"IF(syoriyou!H1057=\"\",\"\",syoriyou!H1057)","v":""},{"$f":"IF(syoriyou!I1057=\"\",\"\",syoriyou!I1057)","v":""},{"$f":"IF(syoriyou!J1057=\"\",\"\",syoriyou!N1057)","v":""}]
[{"$f":"IF(syoriyou!A1058=\"\",\"\",syoriyou!A1058)","v":""},{"$f":"IF(syoriyou!B1058=\"\",\"\",syoriyou!B1058)","v":""},{"$f":"IF(syoriyou!C1058=\"\",\"\",syoriyou!C1058)","v":""},{"$f":"IF(syoriyou!D1058=\"\",\"\",syoriyou!D1058)","v":""},{"$f":"IF(syoriyou!E1058=\"\",\"\",syoriyou!E1058)","v":""},{"$f":"IF(syoriyou!F1058=\"\",\"\",syoriyou!F1058)","v":""},{"$f":"IF(syoriyou!G1058=\"\",\"\",syoriyou!G1058)","v":""},{"$f":"IF(syoriyou!H1058=\"\",\"\",syoriyou!H1058)","v":""},{"$f":"IF(syoriyou!I1058=\"\",\"\",syoriyou!I1058)","v":""},{"$f":"IF(syoriyou!J1058=\"\",\"\",syoriyou!N1058)","v":""}]
[{"$f":"IF(syoriyou!A1059=\"\",\"\",syoriyou!A1059)","v":""},{"$f":"IF(syoriyou!B1059=\"\",\"\",syoriyou!B1059)","v":""},{"$f":"IF(syoriyou!C1059=\"\",\"\",syoriyou!C1059)","v":""},{"$f":"IF(syoriyou!D1059=\"\",\"\",syoriyou!D1059)","v":""},{"$f":"IF(syoriyou!E1059=\"\",\"\",syoriyou!E1059)","v":""},{"$f":"IF(syoriyou!F1059=\"\",\"\",syoriyou!F1059)","v":""},{"$f":"IF(syoriyou!G1059=\"\",\"\",syoriyou!G1059)","v":""},{"$f":"IF(syoriyou!H1059=\"\",\"\",syoriyou!H1059)","v":""},{"$f":"IF(syoriyou!I1059=\"\",\"\",syoriyou!I1059)","v":""},{"$f":"IF(syoriyou!J1059=\"\",\"\",syoriyou!N1059)","v":""}]
[{"$f":"IF(syoriyou!A1060=\"\",\"\",syoriyou!A1060)","v":""},{"$f":"IF(syoriyou!B1060=\"\",\"\",syoriyou!B1060)","v":""},{"$f":"IF(syoriyou!C1060=\"\",\"\",syoriyou!C1060)","v":""},{"$f":"IF(syoriyou!D1060=\"\",\"\",syoriyou!D1060)","v":""},{"$f":"IF(syoriyou!E1060=\"\",\"\",syoriyou!E1060)","v":""},{"$f":"IF(syoriyou!F1060=\"\",\"\",syoriyou!F1060)","v":""},{"$f":"IF(syoriyou!G1060=\"\",\"\",syoriyou!G1060)","v":""},{"$f":"IF(syoriyou!H1060=\"\",\"\",syoriyou!H1060)","v":""},{"$f":"IF(syoriyou!I1060=\"\",\"\",syoriyou!I1060)","v":""},{"$f":"IF(syoriyou!J1060=\"\",\"\",syoriyou!N1060)","v":""}]
[{"$f":"IF(syoriyou!A1061=\"\",\"\",syoriyou!A1061)","v":""},{"$f":"IF(syoriyou!B1061=\"\",\"\",syoriyou!B1061)","v":""},{"$f":"IF(syoriyou!C1061=\"\",\"\",syoriyou!C1061)","v":""},{"$f":"IF(syoriyou!D1061=\"\",\"\",syoriyou!D1061)","v":""},{"$f":"IF(syoriyou!E1061=\"\",\"\",syoriyou!E1061)","v":""},{"$f":"IF(syoriyou!F1061=\"\",\"\",syoriyou!F1061)","v":""},{"$f":"IF(syoriyou!G1061=\"\",\"\",syoriyou!G1061)","v":""},{"$f":"IF(syoriyou!H1061=\"\",\"\",syoriyou!H1061)","v":""},{"$f":"IF(syoriyou!I1061=\"\",\"\",syoriyou!I1061)","v":""},{"$f":"IF(syoriyou!J1061=\"\",\"\",syoriyou!N1061)","v":""}]
[{"$f":"IF(syoriyou!A1062=\"\",\"\",syoriyou!A1062)","v":""},{"$f":"IF(syoriyou!B1062=\"\",\"\",syoriyou!B1062)","v":""},{"$f":"IF(syoriyou!C1062=\"\",\"\",syoriyou!C1062)","v":""},{"$f":"IF(syoriyou!D1062=\"\",\"\",syoriyou!D1062)","v":""},{"$f":"IF(syoriyou!E1062=\"\",\"\",syoriyou!E1062)","v":""},{"$f":"IF(syoriyou!F1062=\"\",\"\",syoriyou!F1062)","v":""},{"$f":"IF(syoriyou!G1062=\"\",\"\",syoriyou!G1062)","v":""},{"$f":"IF(syoriyou!H1062=\"\",\"\",syoriyou!H1062)","v":""},{"$f":"IF(syoriyou!I1062=\"\",\"\",syoriyou!I1062)","v":""},{"$f":"IF(syoriyou!J1062=\"\",\"\",syoriyou!N1062)","v":""}]
[{"$f":"IF(syoriyou!A1063=\"\",\"\",syoriyou!A1063)","v":""},{"$f":"IF(syoriyou!B1063=\"\",\"\",syoriyou!B1063)","v":""},{"$f":"IF(syoriyou!C1063=\"\",\"\",syoriyou!C1063)","v":""},{"$f":"IF(syoriyou!D1063=\"\",\"\",syoriyou!D1063)","v":""},{"$f":"IF(syoriyou!E1063=\"\",\"\",syoriyou!E1063)","v":""},{"$f":"IF(syoriyou!F1063=\"\",\"\",syoriyou!F1063)","v":""},{"$f":"IF(syoriyou!G1063=\"\",\"\",syoriyou!G1063)","v":""},{"$f":"IF(syoriyou!H1063=\"\",\"\",syoriyou!H1063)","v":""},{"$f":"IF(syoriyou!I1063=\"\",\"\",syoriyou!I1063)","v":""},{"$f":"IF(syoriyou!J1063=\"\",\"\",syoriyou!N1063)","v":""}]
[{"$f":"IF(syoriyou!A1064=\"\",\"\",syoriyou!A1064)","v":""},{"$f":"IF(syoriyou!B1064=\"\",\"\",syoriyou!B1064)","v":""},{"$f":"IF(syoriyou!C1064=\"\",\"\",syoriyou!C1064)","v":""},{"$f":"IF(syoriyou!D1064=\"\",\"\",syoriyou!D1064)","v":""},{"$f":"IF(syoriyou!E1064=\"\",\"\",syoriyou!E1064)","v":""},{"$f":"IF(syoriyou!F1064=\"\",\"\",syoriyou!F1064)","v":""},{"$f":"IF(syoriyou!G1064=\"\",\"\",syoriyou!G1064)","v":""},{"$f":"IF(syoriyou!H1064=\"\",\"\",syoriyou!H1064)","v":""},{"$f":"IF(syoriyou!I1064=\"\",\"\",syoriyou!I1064)","v":""},{"$f":"IF(syoriyou!J1064=\"\",\"\",syoriyou!N1064)","v":""}]
[{"$f":"IF(syoriyou!A1065=\"\",\"\",syoriyou!A1065)","v":""},{"$f":"IF(syoriyou!B1065=\"\",\"\",syoriyou!B1065)","v":""},{"$f":"IF(syoriyou!C1065=\"\",\"\",syoriyou!C1065)","v":""},{"$f":"IF(syoriyou!D1065=\"\",\"\",syoriyou!D1065)","v":""},{"$f":"IF(syoriyou!E1065=\"\",\"\",syoriyou!E1065)","v":""},{"$f":"IF(syoriyou!F1065=\"\",\"\",syoriyou!F1065)","v":""},{"$f":"IF(syoriyou!G1065=\"\",\"\",syoriyou!G1065)","v":""},{"$f":"IF(syoriyou!H1065=\"\",\"\",syoriyou!H1065)","v":""},{"$f":"IF(syoriyou!I1065=\"\",\"\",syoriyou!I1065)","v":""},{"$f":"IF(syoriyou!J1065=\"\",\"\",syoriyou!N1065)","v":""}]
[{"$f":"IF(syoriyou!A1066=\"\",\"\",syoriyou!A1066)","v":""},{"$f":"IF(syoriyou!B1066=\"\",\"\",syoriyou!B1066)","v":""},{"$f":"IF(syoriyou!C1066=\"\",\"\",syoriyou!C1066)","v":""},{"$f":"IF(syoriyou!D1066=\"\",\"\",syoriyou!D1066)","v":""},{"$f":"IF(syoriyou!E1066=\"\",\"\",syoriyou!E1066)","v":""},{"$f":"IF(syoriyou!F1066=\"\",\"\",syoriyou!F1066)","v":""},{"$f":"IF(syoriyou!G1066=\"\",\"\",syoriyou!G1066)","v":""},{"$f":"IF(syoriyou!H1066=\"\",\"\",syoriyou!H1066)","v":""},{"$f":"IF(syoriyou!I1066=\"\",\"\",syoriyou!I1066)","v":""},{"$f":"IF(syoriyou!J1066=\"\",\"\",syoriyou!N1066)","v":""}]
[{"$f":"IF(syoriyou!A1067=\"\",\"\",syoriyou!A1067)","v":""},{"$f":"IF(syoriyou!B1067=\"\",\"\",syoriyou!B1067)","v":""},{"$f":"IF(syoriyou!C1067=\"\",\"\",syoriyou!C1067)","v":""},{"$f":"IF(syoriyou!D1067=\"\",\"\",syoriyou!D1067)","v":""},{"$f":"IF(syoriyou!E1067=\"\",\"\",syoriyou!E1067)","v":""},{"$f":"IF(syoriyou!F1067=\"\",\"\",syoriyou!F1067)","v":""},{"$f":"IF(syoriyou!G1067=\"\",\"\",syoriyou!G1067)","v":""},{"$f":"IF(syoriyou!H1067=\"\",\"\",syoriyou!H1067)","v":""},{"$f":"IF(syoriyou!I1067=\"\",\"\",syoriyou!I1067)","v":""},{"$f":"IF(syoriyou!J1067=\"\",\"\",syoriyou!N1067)","v":""}]
[{"$f":"IF(syoriyou!A1068=\"\",\"\",syoriyou!A1068)","v":""},{"$f":"IF(syoriyou!B1068=\"\",\"\",syoriyou!B1068)","v":""},{"$f":"IF(syoriyou!C1068=\"\",\"\",syoriyou!C1068)","v":""},{"$f":"IF(syoriyou!D1068=\"\",\"\",syoriyou!D1068)","v":""},{"$f":"IF(syoriyou!E1068=\"\",\"\",syoriyou!E1068)","v":""},{"$f":"IF(syoriyou!F1068=\"\",\"\",syoriyou!F1068)","v":""},{"$f":"IF(syoriyou!G1068=\"\",\"\",syoriyou!G1068)","v":""},{"$f":"IF(syoriyou!H1068=\"\",\"\",syoriyou!H1068)","v":""},{"$f":"IF(syoriyou!I1068=\"\",\"\",syoriyou!I1068)","v":""},{"$f":"IF(syoriyou!J1068=\"\",\"\",syoriyou!N1068)","v":""}]
[{"$f":"IF(syoriyou!A1069=\"\",\"\",syoriyou!A1069)","v":""},{"$f":"IF(syoriyou!B1069=\"\",\"\",syoriyou!B1069)","v":""},{"$f":"IF(syoriyou!C1069=\"\",\"\",syoriyou!C1069)","v":""},{"$f":"IF(syoriyou!D1069=\"\",\"\",syoriyou!D1069)","v":""},{"$f":"IF(syoriyou!E1069=\"\",\"\",syoriyou!E1069)","v":""},{"$f":"IF(syoriyou!F1069=\"\",\"\",syoriyou!F1069)","v":""},{"$f":"IF(syoriyou!G1069=\"\",\"\",syoriyou!G1069)","v":""},{"$f":"IF(syoriyou!H1069=\"\",\"\",syoriyou!H1069)","v":""},{"$f":"IF(syoriyou!I1069=\"\",\"\",syoriyou!I1069)","v":""},{"$f":"IF(syoriyou!J1069=\"\",\"\",syoriyou!N1069)","v":""}]
[{"$f":"IF(syoriyou!A1070=\"\",\"\",syoriyou!A1070)","v":""},{"$f":"IF(syoriyou!B1070=\"\",\"\",syoriyou!B1070)","v":""},{"$f":"IF(syoriyou!C1070=\"\",\"\",syoriyou!C1070)","v":""},{"$f":"IF(syoriyou!D1070=\"\",\"\",syoriyou!D1070)","v":""},{"$f":"IF(syoriyou!E1070=\"\",\"\",syoriyou!E1070)","v":""},{"$f":"IF(syoriyou!F1070=\"\",\"\",syoriyou!F1070)","v":""},{"$f":"IF(syoriyou!G1070=\"\",\"\",syoriyou!G1070)","v":""},{"$f":"IF(syoriyou!H1070=\"\",\"\",syoriyou!H1070)","v":""},{"$f":"IF(syoriyou!I1070=\"\",\"\",syoriyou!I1070)","v":""},{"$f":"IF(syoriyou!J1070=\"\",\"\",syoriyou!N1070)","v":""}]
[{"$f":"IF(syoriyou!A1071=\"\",\"\",syoriyou!A1071)","v":""},{"$f":"IF(syoriyou!B1071=\"\",\"\",syoriyou!B1071)","v":""},{"$f":"IF(syoriyou!C1071=\"\",\"\",syoriyou!C1071)","v":""},{"$f":"IF(syoriyou!D1071=\"\",\"\",syoriyou!D1071)","v":""},{"$f":"IF(syoriyou!E1071=\"\",\"\",syoriyou!E1071)","v":""},{"$f":"IF(syoriyou!F1071=\"\",\"\",syoriyou!F1071)","v":""},{"$f":"IF(syoriyou!G1071=\"\",\"\",syoriyou!G1071)","v":""},{"$f":"IF(syoriyou!H1071=\"\",\"\",syoriyou!H1071)","v":""},{"$f":"IF(syoriyou!I1071=\"\",\"\",syoriyou!I1071)","v":""},{"$f":"IF(syoriyou!J1071=\"\",\"\",syoriyou!N1071)","v":""}]
[{"$f":"IF(syoriyou!A1072=\"\",\"\",syoriyou!A1072)","v":""},{"$f":"IF(syoriyou!B1072=\"\",\"\",syoriyou!B1072)","v":""},{"$f":"IF(syoriyou!C1072=\"\",\"\",syoriyou!C1072)","v":""},{"$f":"IF(syoriyou!D1072=\"\",\"\",syoriyou!D1072)","v":""},{"$f":"IF(syoriyou!E1072=\"\",\"\",syoriyou!E1072)","v":""},{"$f":"IF(syoriyou!F1072=\"\",\"\",syoriyou!F1072)","v":""},{"$f":"IF(syoriyou!G1072=\"\",\"\",syoriyou!G1072)","v":""},{"$f":"IF(syoriyou!H1072=\"\",\"\",syoriyou!H1072)","v":""},{"$f":"IF(syoriyou!I1072=\"\",\"\",syoriyou!I1072)","v":""},{"$f":"IF(syoriyou!J1072=\"\",\"\",syoriyou!N1072)","v":""}]
[{"$f":"IF(syoriyou!A1073=\"\",\"\",syoriyou!A1073)","v":""},{"$f":"IF(syoriyou!B1073=\"\",\"\",syoriyou!B1073)","v":""},{"$f":"IF(syoriyou!C1073=\"\",\"\",syoriyou!C1073)","v":""},{"$f":"IF(syoriyou!D1073=\"\",\"\",syoriyou!D1073)","v":""},{"$f":"IF(syoriyou!E1073=\"\",\"\",syoriyou!E1073)","v":""},{"$f":"IF(syoriyou!F1073=\"\",\"\",syoriyou!F1073)","v":""},{"$f":"IF(syoriyou!G1073=\"\",\"\",syoriyou!G1073)","v":""},{"$f":"IF(syoriyou!H1073=\"\",\"\",syoriyou!H1073)","v":""},{"$f":"IF(syoriyou!I1073=\"\",\"\",syoriyou!I1073)","v":""},{"$f":"IF(syoriyou!J1073=\"\",\"\",syoriyou!N1073)","v":""}]
[{"$f":"IF(syoriyou!A1074=\"\",\"\",syoriyou!A1074)","v":""},{"$f":"IF(syoriyou!B1074=\"\",\"\",syoriyou!B1074)","v":""},{"$f":"IF(syoriyou!C1074=\"\",\"\",syoriyou!C1074)","v":""},{"$f":"IF(syoriyou!D1074=\"\",\"\",syoriyou!D1074)","v":""},{"$f":"IF(syoriyou!E1074=\"\",\"\",syoriyou!E1074)","v":""},{"$f":"IF(syoriyou!F1074=\"\",\"\",syoriyou!F1074)","v":""},{"$f":"IF(syoriyou!G1074=\"\",\"\",syoriyou!G1074)","v":""},{"$f":"IF(syoriyou!H1074=\"\",\"\",syoriyou!H1074)","v":""},{"$f":"IF(syoriyou!I1074=\"\",\"\",syoriyou!I1074)","v":""},{"$f":"IF(syoriyou!J1074=\"\",\"\",syoriyou!N1074)","v":""}]
[{"$f":"IF(syoriyou!A1075=\"\",\"\",syoriyou!A1075)","v":""},{"$f":"IF(syoriyou!B1075=\"\",\"\",syoriyou!B1075)","v":""},{"$f":"IF(syoriyou!C1075=\"\",\"\",syoriyou!C1075)","v":""},{"$f":"IF(syoriyou!D1075=\"\",\"\",syoriyou!D1075)","v":""},{"$f":"IF(syoriyou!E1075=\"\",\"\",syoriyou!E1075)","v":""},{"$f":"IF(syoriyou!F1075=\"\",\"\",syoriyou!F1075)","v":""},{"$f":"IF(syoriyou!G1075=\"\",\"\",syoriyou!G1075)","v":""},{"$f":"IF(syoriyou!H1075=\"\",\"\",syoriyou!H1075)","v":""},{"$f":"IF(syoriyou!I1075=\"\",\"\",syoriyou!I1075)","v":""},{"$f":"IF(syoriyou!J1075=\"\",\"\",syoriyou!N1075)","v":""}]
[{"$f":"IF(syoriyou!A1076=\"\",\"\",syoriyou!A1076)","v":""},{"$f":"IF(syoriyou!B1076=\"\",\"\",syoriyou!B1076)","v":""},{"$f":"IF(syoriyou!C1076=\"\",\"\",syoriyou!C1076)","v":""},{"$f":"IF(syoriyou!D1076=\"\",\"\",syoriyou!D1076)","v":""},{"$f":"IF(syoriyou!E1076=\"\",\"\",syoriyou!E1076)","v":""},{"$f":"IF(syoriyou!F1076=\"\",\"\",syoriyou!F1076)","v":""},{"$f":"IF(syoriyou!G1076=\"\",\"\",syoriyou!G1076)","v":""},{"$f":"IF(syoriyou!H1076=\"\",\"\",syoriyou!H1076)","v":""},{"$f":"IF(syoriyou!I1076=\"\",\"\",syoriyou!I1076)","v":""},{"$f":"IF(syoriyou!J1076=\"\",\"\",syoriyou!N1076)","v":""}]
[{"$f":"IF(syoriyou!A1077=\"\",\"\",syoriyou!A1077)","v":""},{"$f":"IF(syoriyou!B1077=\"\",\"\",syoriyou!B1077)","v":""},{"$f":"IF(syoriyou!C1077=\"\",\"\",syoriyou!C1077)","v":""},{"$f":"IF(syoriyou!D1077=\"\",\"\",syoriyou!D1077)","v":""},{"$f":"IF(syoriyou!E1077=\"\",\"\",syoriyou!E1077)","v":""},{"$f":"IF(syoriyou!F1077=\"\",\"\",syoriyou!F1077)","v":""},{"$f":"IF(syoriyou!G1077=\"\",\"\",syoriyou!G1077)","v":""},{"$f":"IF(syoriyou!H1077=\"\",\"\",syoriyou!H1077)","v":""},{"$f":"IF(syoriyou!I1077=\"\",\"\",syoriyou!I1077)","v":""},{"$f":"IF(syoriyou!J1077=\"\",\"\",syoriyou!N1077)","v":""}]
[{"$f":"IF(syoriyou!A1078=\"\",\"\",syoriyou!A1078)","v":""},{"$f":"IF(syoriyou!B1078=\"\",\"\",syoriyou!B1078)","v":""},{"$f":"IF(syoriyou!C1078=\"\",\"\",syoriyou!C1078)","v":""},{"$f":"IF(syoriyou!D1078=\"\",\"\",syoriyou!D1078)","v":""},{"$f":"IF(syoriyou!E1078=\"\",\"\",syoriyou!E1078)","v":""},{"$f":"IF(syoriyou!F1078=\"\",\"\",syoriyou!F1078)","v":""},{"$f":"IF(syoriyou!G1078=\"\",\"\",syoriyou!G1078)","v":""},{"$f":"IF(syoriyou!H1078=\"\",\"\",syoriyou!H1078)","v":""},{"$f":"IF(syoriyou!I1078=\"\",\"\",syoriyou!I1078)","v":""},{"$f":"IF(syoriyou!J1078=\"\",\"\",syoriyou!N1078)","v":""}]
[{"$f":"IF(syoriyou!A1079=\"\",\"\",syoriyou!A1079)","v":""},{"$f":"IF(syoriyou!B1079=\"\",\"\",syoriyou!B1079)","v":""},{"$f":"IF(syoriyou!C1079=\"\",\"\",syoriyou!C1079)","v":""},{"$f":"IF(syoriyou!D1079=\"\",\"\",syoriyou!D1079)","v":""},{"$f":"IF(syoriyou!E1079=\"\",\"\",syoriyou!E1079)","v":""},{"$f":"IF(syoriyou!F1079=\"\",\"\",syoriyou!F1079)","v":""},{"$f":"IF(syoriyou!G1079=\"\",\"\",syoriyou!G1079)","v":""},{"$f":"IF(syoriyou!H1079=\"\",\"\",syoriyou!H1079)","v":""},{"$f":"IF(syoriyou!I1079=\"\",\"\",syoriyou!I1079)","v":""},{"$f":"IF(syoriyou!J1079=\"\",\"\",syoriyou!N1079)","v":""}]
[{"$f":"IF(syoriyou!A1080=\"\",\"\",syoriyou!A1080)","v":""},{"$f":"IF(syoriyou!B1080=\"\",\"\",syoriyou!B1080)","v":""},{"$f":"IF(syoriyou!C1080=\"\",\"\",syoriyou!C1080)","v":""},{"$f":"IF(syoriyou!D1080=\"\",\"\",syoriyou!D1080)","v":""},{"$f":"IF(syoriyou!E1080=\"\",\"\",syoriyou!E1080)","v":""},{"$f":"IF(syoriyou!F1080=\"\",\"\",syoriyou!F1080)","v":""},{"$f":"IF(syoriyou!G1080=\"\",\"\",syoriyou!G1080)","v":""},{"$f":"IF(syoriyou!H1080=\"\",\"\",syoriyou!H1080)","v":""},{"$f":"IF(syoriyou!I1080=\"\",\"\",syoriyou!I1080)","v":""},{"$f":"IF(syoriyou!J1080=\"\",\"\",syoriyou!N1080)","v":""}]
[{"$f":"IF(syoriyou!A1081=\"\",\"\",syoriyou!A1081)","v":""},{"$f":"IF(syoriyou!B1081=\"\",\"\",syoriyou!B1081)","v":""},{"$f":"IF(syoriyou!C1081=\"\",\"\",syoriyou!C1081)","v":""},{"$f":"IF(syoriyou!D1081=\"\",\"\",syoriyou!D1081)","v":""},{"$f":"IF(syoriyou!E1081=\"\",\"\",syoriyou!E1081)","v":""},{"$f":"IF(syoriyou!F1081=\"\",\"\",syoriyou!F1081)","v":""},{"$f":"IF(syoriyou!G1081=\"\",\"\",syoriyou!G1081)","v":""},{"$f":"IF(syoriyou!H1081=\"\",\"\",syoriyou!H1081)","v":""},{"$f":"IF(syoriyou!I1081=\"\",\"\",syoriyou!I1081)","v":""},{"$f":"IF(syoriyou!J1081=\"\",\"\",syoriyou!N1081)","v":""}]
[{"$f":"IF(syoriyou!A1082=\"\",\"\",syoriyou!A1082)","v":""},{"$f":"IF(syoriyou!B1082=\"\",\"\",syoriyou!B1082)","v":""},{"$f":"IF(syoriyou!C1082=\"\",\"\",syoriyou!C1082)","v":""},{"$f":"IF(syoriyou!D1082=\"\",\"\",syoriyou!D1082)","v":""},{"$f":"IF(syoriyou!E1082=\"\",\"\",syoriyou!E1082)","v":""},{"$f":"IF(syoriyou!F1082=\"\",\"\",syoriyou!F1082)","v":""},{"$f":"IF(syoriyou!G1082=\"\",\"\",syoriyou!G1082)","v":""},{"$f":"IF(syoriyou!H1082=\"\",\"\",syoriyou!H1082)","v":""},{"$f":"IF(syoriyou!I1082=\"\",\"\",syoriyou!I1082)","v":""},{"$f":"IF(syoriyou!J1082=\"\",\"\",syoriyou!N1082)","v":""}]
[{"$f":"IF(syoriyou!A1083=\"\",\"\",syoriyou!A1083)","v":""},{"$f":"IF(syoriyou!B1083=\"\",\"\",syoriyou!B1083)","v":""},{"$f":"IF(syoriyou!C1083=\"\",\"\",syoriyou!C1083)","v":""},{"$f":"IF(syoriyou!D1083=\"\",\"\",syoriyou!D1083)","v":""},{"$f":"IF(syoriyou!E1083=\"\",\"\",syoriyou!E1083)","v":""},{"$f":"IF(syoriyou!F1083=\"\",\"\",syoriyou!F1083)","v":""},{"$f":"IF(syoriyou!G1083=\"\",\"\",syoriyou!G1083)","v":""},{"$f":"IF(syoriyou!H1083=\"\",\"\",syoriyou!H1083)","v":""},{"$f":"IF(syoriyou!I1083=\"\",\"\",syoriyou!I1083)","v":""},{"$f":"IF(syoriyou!J1083=\"\",\"\",syoriyou!N1083)","v":""}]
[{"$f":"IF(syoriyou!A1084=\"\",\"\",syoriyou!A1084)","v":""},{"$f":"IF(syoriyou!B1084=\"\",\"\",syoriyou!B1084)","v":""},{"$f":"IF(syoriyou!C1084=\"\",\"\",syoriyou!C1084)","v":""},{"$f":"IF(syoriyou!D1084=\"\",\"\",syoriyou!D1084)","v":""},{"$f":"IF(syoriyou!E1084=\"\",\"\",syoriyou!E1084)","v":""},{"$f":"IF(syoriyou!F1084=\"\",\"\",syoriyou!F1084)","v":""},{"$f":"IF(syoriyou!G1084=\"\",\"\",syoriyou!G1084)","v":""},{"$f":"IF(syoriyou!H1084=\"\",\"\",syoriyou!H1084)","v":""},{"$f":"IF(syoriyou!I1084=\"\",\"\",syoriyou!I1084)","v":""},{"$f":"IF(syoriyou!J1084=\"\",\"\",syoriyou!N1084)","v":""}]
[{"$f":"IF(syoriyou!A1085=\"\",\"\",syoriyou!A1085)","v":""},{"$f":"IF(syoriyou!B1085=\"\",\"\",syoriyou!B1085)","v":""},{"$f":"IF(syoriyou!C1085=\"\",\"\",syoriyou!C1085)","v":""},{"$f":"IF(syoriyou!D1085=\"\",\"\",syoriyou!D1085)","v":""},{"$f":"IF(syoriyou!E1085=\"\",\"\",syoriyou!E1085)","v":""},{"$f":"IF(syoriyou!F1085=\"\",\"\",syoriyou!F1085)","v":""},{"$f":"IF(syoriyou!G1085=\"\",\"\",syoriyou!G1085)","v":""},{"$f":"IF(syoriyou!H1085=\"\",\"\",syoriyou!H1085)","v":""},{"$f":"IF(syoriyou!I1085=\"\",\"\",syoriyou!I1085)","v":""},{"$f":"IF(syoriyou!J1085=\"\",\"\",syoriyou!N1085)","v":""}]
[{"$f":"IF(syoriyou!A1086=\"\",\"\",syoriyou!A1086)","v":""},{"$f":"IF(syoriyou!B1086=\"\",\"\",syoriyou!B1086)","v":""},{"$f":"IF(syoriyou!C1086=\"\",\"\",syoriyou!C1086)","v":""},{"$f":"IF(syoriyou!D1086=\"\",\"\",syoriyou!D1086)","v":""},{"$f":"IF(syoriyou!E1086=\"\",\"\",syoriyou!E1086)","v":""},{"$f":"IF(syoriyou!F1086=\"\",\"\",syoriyou!F1086)","v":""},{"$f":"IF(syoriyou!G1086=\"\",\"\",syoriyou!G1086)","v":""},{"$f":"IF(syoriyou!H1086=\"\",\"\",syoriyou!H1086)","v":""},{"$f":"IF(syoriyou!I1086=\"\",\"\",syoriyou!I1086)","v":""},{"$f":"IF(syoriyou!J1086=\"\",\"\",syoriyou!N1086)","v":""}]
[{"$f":"IF(syoriyou!A1087=\"\",\"\",syoriyou!A1087)","v":""},{"$f":"IF(syoriyou!B1087=\"\",\"\",syoriyou!B1087)","v":""},{"$f":"IF(syoriyou!C1087=\"\",\"\",syoriyou!C1087)","v":""},{"$f":"IF(syoriyou!D1087=\"\",\"\",syoriyou!D1087)","v":""},{"$f":"IF(syoriyou!E1087=\"\",\"\",syoriyou!E1087)","v":""},{"$f":"IF(syoriyou!F1087=\"\",\"\",syoriyou!F1087)","v":""},{"$f":"IF(syoriyou!G1087=\"\",\"\",syoriyou!G1087)","v":""},{"$f":"IF(syoriyou!H1087=\"\",\"\",syoriyou!H1087)","v":""},{"$f":"IF(syoriyou!I1087=\"\",\"\",syoriyou!I1087)","v":""},{"$f":"IF(syoriyou!J1087=\"\",\"\",syoriyou!N1087)","v":""}]
[{"$f":"IF(syoriyou!A1088=\"\",\"\",syoriyou!A1088)","v":""},{"$f":"IF(syoriyou!B1088=\"\",\"\",syoriyou!B1088)","v":""},{"$f":"IF(syoriyou!C1088=\"\",\"\",syoriyou!C1088)","v":""},{"$f":"IF(syoriyou!D1088=\"\",\"\",syoriyou!D1088)","v":""},{"$f":"IF(syoriyou!E1088=\"\",\"\",syoriyou!E1088)","v":""},{"$f":"IF(syoriyou!F1088=\"\",\"\",syoriyou!F1088)","v":""},{"$f":"IF(syoriyou!G1088=\"\",\"\",syoriyou!G1088)","v":""},{"$f":"IF(syoriyou!H1088=\"\",\"\",syoriyou!H1088)","v":""},{"$f":"IF(syoriyou!I1088=\"\",\"\",syoriyou!I1088)","v":""},{"$f":"IF(syoriyou!J1088=\"\",\"\",syoriyou!N1088)","v":""}]
[{"$f":"IF(syoriyou!A1089=\"\",\"\",syoriyou!A1089)","v":""},{"$f":"IF(syoriyou!B1089=\"\",\"\",syoriyou!B1089)","v":""},{"$f":"IF(syoriyou!C1089=\"\",\"\",syoriyou!C1089)","v":""},{"$f":"IF(syoriyou!D1089=\"\",\"\",syoriyou!D1089)","v":""},{"$f":"IF(syoriyou!E1089=\"\",\"\",syoriyou!E1089)","v":""},{"$f":"IF(syoriyou!F1089=\"\",\"\",syoriyou!F1089)","v":""},{"$f":"IF(syoriyou!G1089=\"\",\"\",syoriyou!G1089)","v":""},{"$f":"IF(syoriyou!H1089=\"\",\"\",syoriyou!H1089)","v":""},{"$f":"IF(syoriyou!I1089=\"\",\"\",syoriyou!I1089)","v":""},{"$f":"IF(syoriyou!J1089=\"\",\"\",syoriyou!N1089)","v":""}]
[{"$f":"IF(syoriyou!A1090=\"\",\"\",syoriyou!A1090)","v":""},{"$f":"IF(syoriyou!B1090=\"\",\"\",syoriyou!B1090)","v":""},{"$f":"IF(syoriyou!C1090=\"\",\"\",syoriyou!C1090)","v":""},{"$f":"IF(syoriyou!D1090=\"\",\"\",syoriyou!D1090)","v":""},{"$f":"IF(syoriyou!E1090=\"\",\"\",syoriyou!E1090)","v":""},{"$f":"IF(syoriyou!F1090=\"\",\"\",syoriyou!F1090)","v":""},{"$f":"IF(syoriyou!G1090=\"\",\"\",syoriyou!G1090)","v":""},{"$f":"IF(syoriyou!H1090=\"\",\"\",syoriyou!H1090)","v":""},{"$f":"IF(syoriyou!I1090=\"\",\"\",syoriyou!I1090)","v":""},{"$f":"IF(syoriyou!J1090=\"\",\"\",syoriyou!N1090)","v":""}]
[{"$f":"IF(syoriyou!A1091=\"\",\"\",syoriyou!A1091)","v":""},{"$f":"IF(syoriyou!B1091=\"\",\"\",syoriyou!B1091)","v":""},{"$f":"IF(syoriyou!C1091=\"\",\"\",syoriyou!C1091)","v":""},{"$f":"IF(syoriyou!D1091=\"\",\"\",syoriyou!D1091)","v":""},{"$f":"IF(syoriyou!E1091=\"\",\"\",syoriyou!E1091)","v":""},{"$f":"IF(syoriyou!F1091=\"\",\"\",syoriyou!F1091)","v":""},{"$f":"IF(syoriyou!G1091=\"\",\"\",syoriyou!G1091)","v":""},{"$f":"IF(syoriyou!H1091=\"\",\"\",syoriyou!H1091)","v":""},{"$f":"IF(syoriyou!I1091=\"\",\"\",syoriyou!I1091)","v":""},{"$f":"IF(syoriyou!J1091=\"\",\"\",syoriyou!N1091)","v":""}]
[{"$f":"IF(syoriyou!A1092=\"\",\"\",syoriyou!A1092)","v":""},{"$f":"IF(syoriyou!B1092=\"\",\"\",syoriyou!B1092)","v":""},{"$f":"IF(syoriyou!C1092=\"\",\"\",syoriyou!C1092)","v":""},{"$f":"IF(syoriyou!D1092=\"\",\"\",syoriyou!D1092)","v":""},{"$f":"IF(syoriyou!E1092=\"\",\"\",syoriyou!E1092)","v":""},{"$f":"IF(syoriyou!F1092=\"\",\"\",syoriyou!F1092)","v":""},{"$f":"IF(syoriyou!G1092=\"\",\"\",syoriyou!G1092)","v":""},{"$f":"IF(syoriyou!H1092=\"\",\"\",syoriyou!H1092)","v":""},{"$f":"IF(syoriyou!I1092=\"\",\"\",syoriyou!I1092)","v":""},{"$f":"IF(syoriyou!J1092=\"\",\"\",syoriyou!N1092)","v":""}]
[{"$f":"IF(syoriyou!A1093=\"\",\"\",syoriyou!A1093)","v":""},{"$f":"IF(syoriyou!B1093=\"\",\"\",syoriyou!B1093)","v":""},{"$f":"IF(syoriyou!C1093=\"\",\"\",syoriyou!C1093)","v":""},{"$f":"IF(syoriyou!D1093=\"\",\"\",syoriyou!D1093)","v":""},{"$f":"IF(syoriyou!E1093=\"\",\"\",syoriyou!E1093)","v":""},{"$f":"IF(syoriyou!F1093=\"\",\"\",syoriyou!F1093)","v":""},{"$f":"IF(syoriyou!G1093=\"\",\"\",syoriyou!G1093)","v":""},{"$f":"IF(syoriyou!H1093=\"\",\"\",syoriyou!H1093)","v":""},{"$f":"IF(syoriyou!I1093=\"\",\"\",syoriyou!I1093)","v":""},{"$f":"IF(syoriyou!J1093=\"\",\"\",syoriyou!N1093)","v":""}]
[{"$f":"IF(syoriyou!A1094=\"\",\"\",syoriyou!A1094)","v":""},{"$f":"IF(syoriyou!B1094=\"\",\"\",syoriyou!B1094)","v":""},{"$f":"IF(syoriyou!C1094=\"\",\"\",syoriyou!C1094)","v":""},{"$f":"IF(syoriyou!D1094=\"\",\"\",syoriyou!D1094)","v":""},{"$f":"IF(syoriyou!E1094=\"\",\"\",syoriyou!E1094)","v":""},{"$f":"IF(syoriyou!F1094=\"\",\"\",syoriyou!F1094)","v":""},{"$f":"IF(syoriyou!G1094=\"\",\"\",syoriyou!G1094)","v":""},{"$f":"IF(syoriyou!H1094=\"\",\"\",syoriyou!H1094)","v":""},{"$f":"IF(syoriyou!I1094=\"\",\"\",syoriyou!I1094)","v":""},{"$f":"IF(syoriyou!J1094=\"\",\"\",syoriyou!N1094)","v":""}]
[{"$f":"IF(syoriyou!A1095=\"\",\"\",syoriyou!A1095)","v":""},{"$f":"IF(syoriyou!B1095=\"\",\"\",syoriyou!B1095)","v":""},{"$f":"IF(syoriyou!C1095=\"\",\"\",syoriyou!C1095)","v":""},{"$f":"IF(syoriyou!D1095=\"\",\"\",syoriyou!D1095)","v":""},{"$f":"IF(syoriyou!E1095=\"\",\"\",syoriyou!E1095)","v":""},{"$f":"IF(syoriyou!F1095=\"\",\"\",syoriyou!F1095)","v":""},{"$f":"IF(syoriyou!G1095=\"\",\"\",syoriyou!G1095)","v":""},{"$f":"IF(syoriyou!H1095=\"\",\"\",syoriyou!H1095)","v":""},{"$f":"IF(syoriyou!I1095=\"\",\"\",syoriyou!I1095)","v":""},{"$f":"IF(syoriyou!J1095=\"\",\"\",syoriyou!N1095)","v":""}]
[{"$f":"IF(syoriyou!A1096=\"\",\"\",syoriyou!A1096)","v":""},{"$f":"IF(syoriyou!B1096=\"\",\"\",syoriyou!B1096)","v":""},{"$f":"IF(syoriyou!C1096=\"\",\"\",syoriyou!C1096)","v":""},{"$f":"IF(syoriyou!D1096=\"\",\"\",syoriyou!D1096)","v":""},{"$f":"IF(syoriyou!E1096=\"\",\"\",syoriyou!E1096)","v":""},{"$f":"IF(syoriyou!F1096=\"\",\"\",syoriyou!F1096)","v":""},{"$f":"IF(syoriyou!G1096=\"\",\"\",syoriyou!G1096)","v":""},{"$f":"IF(syoriyou!H1096=\"\",\"\",syoriyou!H1096)","v":""},{"$f":"IF(syoriyou!I1096=\"\",\"\",syoriyou!I1096)","v":""},{"$f":"IF(syoriyou!J1096=\"\",\"\",syoriyou!N1096)","v":""}]
[{"$f":"IF(syoriyou!A1097=\"\",\"\",syoriyou!A1097)","v":""},{"$f":"IF(syoriyou!B1097=\"\",\"\",syoriyou!B1097)","v":""},{"$f":"IF(syoriyou!C1097=\"\",\"\",syoriyou!C1097)","v":""},{"$f":"IF(syoriyou!D1097=\"\",\"\",syoriyou!D1097)","v":""},{"$f":"IF(syoriyou!E1097=\"\",\"\",syoriyou!E1097)","v":""},{"$f":"IF(syoriyou!F1097=\"\",\"\",syoriyou!F1097)","v":""},{"$f":"IF(syoriyou!G1097=\"\",\"\",syoriyou!G1097)","v":""},{"$f":"IF(syoriyou!H1097=\"\",\"\",syoriyou!H1097)","v":""},{"$f":"IF(syoriyou!I1097=\"\",\"\",syoriyou!I1097)","v":""},{"$f":"IF(syoriyou!J1097=\"\",\"\",syoriyou!N1097)","v":""}]
[{"$f":"IF(syoriyou!A1098=\"\",\"\",syoriyou!A1098)","v":""},{"$f":"IF(syoriyou!B1098=\"\",\"\",syoriyou!B1098)","v":""},{"$f":"IF(syoriyou!C1098=\"\",\"\",syoriyou!C1098)","v":""},{"$f":"IF(syoriyou!D1098=\"\",\"\",syoriyou!D1098)","v":""},{"$f":"IF(syoriyou!E1098=\"\",\"\",syoriyou!E1098)","v":""},{"$f":"IF(syoriyou!F1098=\"\",\"\",syoriyou!F1098)","v":""},{"$f":"IF(syoriyou!G1098=\"\",\"\",syoriyou!G1098)","v":""},{"$f":"IF(syoriyou!H1098=\"\",\"\",syoriyou!H1098)","v":""},{"$f":"IF(syoriyou!I1098=\"\",\"\",syoriyou!I1098)","v":""},{"$f":"IF(syoriyou!J1098=\"\",\"\",syoriyou!N1098)","v":""}]
[{"$f":"IF(syoriyou!A1099=\"\",\"\",syoriyou!A1099)","v":""},{"$f":"IF(syoriyou!B1099=\"\",\"\",syoriyou!B1099)","v":""},{"$f":"IF(syoriyou!C1099=\"\",\"\",syoriyou!C1099)","v":""},{"$f":"IF(syoriyou!D1099=\"\",\"\",syoriyou!D1099)","v":""},{"$f":"IF(syoriyou!E1099=\"\",\"\",syoriyou!E1099)","v":""},{"$f":"IF(syoriyou!F1099=\"\",\"\",syoriyou!F1099)","v":""},{"$f":"IF(syoriyou!G1099=\"\",\"\",syoriyou!G1099)","v":""},{"$f":"IF(syoriyou!H1099=\"\",\"\",syoriyou!H1099)","v":""},{"$f":"IF(syoriyou!I1099=\"\",\"\",syoriyou!I1099)","v":""},{"$f":"IF(syoriyou!J1099=\"\",\"\",syoriyou!N1099)","v":""}]
[{"$f":"IF(syoriyou!A1100=\"\",\"\",syoriyou!A1100)","v":""},{"$f":"IF(syoriyou!B1100=\"\",\"\",syoriyou!B1100)","v":""},{"$f":"IF(syoriyou!C1100=\"\",\"\",syoriyou!C1100)","v":""},{"$f":"IF(syoriyou!D1100=\"\",\"\",syoriyou!D1100)","v":""},{"$f":"IF(syoriyou!E1100=\"\",\"\",syoriyou!E1100)","v":""},{"$f":"IF(syoriyou!F1100=\"\",\"\",syoriyou!F1100)","v":""},{"$f":"IF(syoriyou!G1100=\"\",\"\",syoriyou!G1100)","v":""},{"$f":"IF(syoriyou!H1100=\"\",\"\",syoriyou!H1100)","v":""},{"$f":"IF(syoriyou!I1100=\"\",\"\",syoriyou!I1100)","v":""},{"$f":"IF(syoriyou!J1100=\"\",\"\",syoriyou!N1100)","v":""}]
[{"$f":"IF(syoriyou!A1101=\"\",\"\",syoriyou!A1101)","v":""},{"$f":"IF(syoriyou!B1101=\"\",\"\",syoriyou!B1101)","v":""},{"$f":"IF(syoriyou!C1101=\"\",\"\",syoriyou!C1101)","v":""},{"$f":"IF(syoriyou!D1101=\"\",\"\",syoriyou!D1101)","v":""},{"$f":"IF(syoriyou!E1101=\"\",\"\",syoriyou!E1101)","v":""},{"$f":"IF(syoriyou!F1101=\"\",\"\",syoriyou!F1101)","v":""},{"$f":"IF(syoriyou!G1101=\"\",\"\",syoriyou!G1101)","v":""},{"$f":"IF(syoriyou!H1101=\"\",\"\",syoriyou!H1101)","v":""},{"$f":"IF(syoriyou!I1101=\"\",\"\",syoriyou!I1101)","v":""},{"$f":"IF(syoriyou!J1101=\"\",\"\",syoriyou!N1101)","v":""}]
[{"$f":"IF(syoriyou!A1102=\"\",\"\",syoriyou!A1102)","v":""},{"$f":"IF(syoriyou!B1102=\"\",\"\",syoriyou!B1102)","v":""},{"$f":"IF(syoriyou!C1102=\"\",\"\",syoriyou!C1102)","v":""},{"$f":"IF(syoriyou!D1102=\"\",\"\",syoriyou!D1102)","v":""},{"$f":"IF(syoriyou!E1102=\"\",\"\",syoriyou!E1102)","v":""},{"$f":"IF(syoriyou!F1102=\"\",\"\",syoriyou!F1102)","v":""},{"$f":"IF(syoriyou!G1102=\"\",\"\",syoriyou!G1102)","v":""},{"$f":"IF(syoriyou!H1102=\"\",\"\",syoriyou!H1102)","v":""},{"$f":"IF(syoriyou!I1102=\"\",\"\",syoriyou!I1102)","v":""},{"$f":"IF(syoriyou!J1102=\"\",\"\",syoriyou!N1102)","v":""}]
[{"$f":"IF(syoriyou!A1103=\"\",\"\",syoriyou!A1103)","v":""},{"$f":"IF(syoriyou!B1103=\"\",\"\",syoriyou!B1103)","v":""},{"$f":"IF(syoriyou!C1103=\"\",\"\",syoriyou!C1103)","v":""},{"$f":"IF(syoriyou!D1103=\"\",\"\",syoriyou!D1103)","v":""},{"$f":"IF(syoriyou!E1103=\"\",\"\",syoriyou!E1103)","v":""},{"$f":"IF(syoriyou!F1103=\"\",\"\",syoriyou!F1103)","v":""},{"$f":"IF(syoriyou!G1103=\"\",\"\",syoriyou!G1103)","v":""},{"$f":"IF(syoriyou!H1103=\"\",\"\",syoriyou!H1103)","v":""},{"$f":"IF(syoriyou!I1103=\"\",\"\",syoriyou!I1103)","v":""},{"$f":"IF(syoriyou!J1103=\"\",\"\",syoriyou!N1103)","v":""}]
[{"$f":"IF(syoriyou!A1104=\"\",\"\",syoriyou!A1104)","v":""},{"$f":"IF(syoriyou!B1104=\"\",\"\",syoriyou!B1104)","v":""},{"$f":"IF(syoriyou!C1104=\"\",\"\",syoriyou!C1104)","v":""},{"$f":"IF(syoriyou!D1104=\"\",\"\",syoriyou!D1104)","v":""},{"$f":"IF(syoriyou!E1104=\"\",\"\",syoriyou!E1104)","v":""},{"$f":"IF(syoriyou!F1104=\"\",\"\",syoriyou!F1104)","v":""},{"$f":"IF(syoriyou!G1104=\"\",\"\",syoriyou!G1104)","v":""},{"$f":"IF(syoriyou!H1104=\"\",\"\",syoriyou!H1104)","v":""},{"$f":"IF(syoriyou!I1104=\"\",\"\",syoriyou!I1104)","v":""},{"$f":"IF(syoriyou!J1104=\"\",\"\",syoriyou!N1104)","v":""}]
[{"$f":"IF(syoriyou!A1105=\"\",\"\",syoriyou!A1105)","v":""},{"$f":"IF(syoriyou!B1105=\"\",\"\",syoriyou!B1105)","v":""},{"$f":"IF(syoriyou!C1105=\"\",\"\",syoriyou!C1105)","v":""},{"$f":"IF(syoriyou!D1105=\"\",\"\",syoriyou!D1105)","v":""},{"$f":"IF(syoriyou!E1105=\"\",\"\",syoriyou!E1105)","v":""},{"$f":"IF(syoriyou!F1105=\"\",\"\",syoriyou!F1105)","v":""},{"$f":"IF(syoriyou!G1105=\"\",\"\",syoriyou!G1105)","v":""},{"$f":"IF(syoriyou!H1105=\"\",\"\",syoriyou!H1105)","v":""},{"$f":"IF(syoriyou!I1105=\"\",\"\",syoriyou!I1105)","v":""},{"$f":"IF(syoriyou!J1105=\"\",\"\",syoriyou!N1105)","v":""}]
[{"$f":"IF(syoriyou!A1106=\"\",\"\",syoriyou!A1106)","v":""},{"$f":"IF(syoriyou!B1106=\"\",\"\",syoriyou!B1106)","v":""},{"$f":"IF(syoriyou!C1106=\"\",\"\",syoriyou!C1106)","v":""},{"$f":"IF(syoriyou!D1106=\"\",\"\",syoriyou!D1106)","v":""},{"$f":"IF(syoriyou!E1106=\"\",\"\",syoriyou!E1106)","v":""},{"$f":"IF(syoriyou!F1106=\"\",\"\",syoriyou!F1106)","v":""},{"$f":"IF(syoriyou!G1106=\"\",\"\",syoriyou!G1106)","v":""},{"$f":"IF(syoriyou!H1106=\"\",\"\",syoriyou!H1106)","v":""},{"$f":"IF(syoriyou!I1106=\"\",\"\",syoriyou!I1106)","v":""},{"$f":"IF(syoriyou!J1106=\"\",\"\",syoriyou!N1106)","v":""}]
[{"$f":"IF(syoriyou!A1107=\"\",\"\",syoriyou!A1107)","v":""},{"$f":"IF(syoriyou!B1107=\"\",\"\",syoriyou!B1107)","v":""},{"$f":"IF(syoriyou!C1107=\"\",\"\",syoriyou!C1107)","v":""},{"$f":"IF(syoriyou!D1107=\"\",\"\",syoriyou!D1107)","v":""},{"$f":"IF(syoriyou!E1107=\"\",\"\",syoriyou!E1107)","v":""},{"$f":"IF(syoriyou!F1107=\"\",\"\",syoriyou!F1107)","v":""},{"$f":"IF(syoriyou!G1107=\"\",\"\",syoriyou!G1107)","v":""},{"$f":"IF(syoriyou!H1107=\"\",\"\",syoriyou!H1107)","v":""},{"$f":"IF(syoriyou!I1107=\"\",\"\",syoriyou!I1107)","v":""},{"$f":"IF(syoriyou!J1107=\"\",\"\",syoriyou!N1107)","v":""}]
[{"$f":"IF(syoriyou!A1108=\"\",\"\",syoriyou!A1108)","v":""},{"$f":"IF(syoriyou!B1108=\"\",\"\",syoriyou!B1108)","v":""},{"$f":"IF(syoriyou!C1108=\"\",\"\",syoriyou!C1108)","v":""},{"$f":"IF(syoriyou!D1108=\"\",\"\",syoriyou!D1108)","v":""},{"$f":"IF(syoriyou!E1108=\"\",\"\",syoriyou!E1108)","v":""},{"$f":"IF(syoriyou!F1108=\"\",\"\",syoriyou!F1108)","v":""},{"$f":"IF(syoriyou!G1108=\"\",\"\",syoriyou!G1108)","v":""},{"$f":"IF(syoriyou!H1108=\"\",\"\",syoriyou!H1108)","v":""},{"$f":"IF(syoriyou!I1108=\"\",\"\",syoriyou!I1108)","v":""},{"$f":"IF(syoriyou!J1108=\"\",\"\",syoriyou!N1108)","v":""}]
[{"$f":"IF(syoriyou!A1109=\"\",\"\",syoriyou!A1109)","v":""},{"$f":"IF(syoriyou!B1109=\"\",\"\",syoriyou!B1109)","v":""},{"$f":"IF(syoriyou!C1109=\"\",\"\",syoriyou!C1109)","v":""},{"$f":"IF(syoriyou!D1109=\"\",\"\",syoriyou!D1109)","v":""},{"$f":"IF(syoriyou!E1109=\"\",\"\",syoriyou!E1109)","v":""},{"$f":"IF(syoriyou!F1109=\"\",\"\",syoriyou!F1109)","v":""},{"$f":"IF(syoriyou!G1109=\"\",\"\",syoriyou!G1109)","v":""},{"$f":"IF(syoriyou!H1109=\"\",\"\",syoriyou!H1109)","v":""},{"$f":"IF(syoriyou!I1109=\"\",\"\",syoriyou!I1109)","v":""},{"$f":"IF(syoriyou!J1109=\"\",\"\",syoriyou!N1109)","v":""}]
[{"$f":"IF(syoriyou!A1110=\"\",\"\",syoriyou!A1110)","v":""},{"$f":"IF(syoriyou!B1110=\"\",\"\",syoriyou!B1110)","v":""},{"$f":"IF(syoriyou!C1110=\"\",\"\",syoriyou!C1110)","v":""},{"$f":"IF(syoriyou!D1110=\"\",\"\",syoriyou!D1110)","v":""},{"$f":"IF(syoriyou!E1110=\"\",\"\",syoriyou!E1110)","v":""},{"$f":"IF(syoriyou!F1110=\"\",\"\",syoriyou!F1110)","v":""},{"$f":"IF(syoriyou!G1110=\"\",\"\",syoriyou!G1110)","v":""},{"$f":"IF(syoriyou!H1110=\"\",\"\",syoriyou!H1110)","v":""},{"$f":"IF(syoriyou!I1110=\"\",\"\",syoriyou!I1110)","v":""},{"$f":"IF(syoriyou!J1110=\"\",\"\",syoriyou!N1110)","v":""}]
[{"$f":"IF(syoriyou!A1111=\"\",\"\",syoriyou!A1111)","v":""},{"$f":"IF(syoriyou!B1111=\"\",\"\",syoriyou!B1111)","v":""},{"$f":"IF(syoriyou!C1111=\"\",\"\",syoriyou!C1111)","v":""},{"$f":"IF(syoriyou!D1111=\"\",\"\",syoriyou!D1111)","v":""},{"$f":"IF(syoriyou!E1111=\"\",\"\",syoriyou!E1111)","v":""},{"$f":"IF(syoriyou!F1111=\"\",\"\",syoriyou!F1111)","v":""},{"$f":"IF(syoriyou!G1111=\"\",\"\",syoriyou!G1111)","v":""},{"$f":"IF(syoriyou!H1111=\"\",\"\",syoriyou!H1111)","v":""},{"$f":"IF(syoriyou!I1111=\"\",\"\",syoriyou!I1111)","v":""},{"$f":"IF(syoriyou!J1111=\"\",\"\",syoriyou!N1111)","v":""}]
[{"$f":"IF(syoriyou!A1112=\"\",\"\",syoriyou!A1112)","v":""},{"$f":"IF(syoriyou!B1112=\"\",\"\",syoriyou!B1112)","v":""},{"$f":"IF(syoriyou!C1112=\"\",\"\",syoriyou!C1112)","v":""},{"$f":"IF(syoriyou!D1112=\"\",\"\",syoriyou!D1112)","v":""},{"$f":"IF(syoriyou!E1112=\"\",\"\",syoriyou!E1112)","v":""},{"$f":"IF(syoriyou!F1112=\"\",\"\",syoriyou!F1112)","v":""},{"$f":"IF(syoriyou!G1112=\"\",\"\",syoriyou!G1112)","v":""},{"$f":"IF(syoriyou!H1112=\"\",\"\",syoriyou!H1112)","v":""},{"$f":"IF(syoriyou!I1112=\"\",\"\",syoriyou!I1112)","v":""},{"$f":"IF(syoriyou!J1112=\"\",\"\",syoriyou!N1112)","v":""}]
[{"$f":"IF(syoriyou!A1113=\"\",\"\",syoriyou!A1113)","v":""},{"$f":"IF(syoriyou!B1113=\"\",\"\",syoriyou!B1113)","v":""},{"$f":"IF(syoriyou!C1113=\"\",\"\",syoriyou!C1113)","v":""},{"$f":"IF(syoriyou!D1113=\"\",\"\",syoriyou!D1113)","v":""},{"$f":"IF(syoriyou!E1113=\"\",\"\",syoriyou!E1113)","v":""},{"$f":"IF(syoriyou!F1113=\"\",\"\",syoriyou!F1113)","v":""},{"$f":"IF(syoriyou!G1113=\"\",\"\",syoriyou!G1113)","v":""},{"$f":"IF(syoriyou!H1113=\"\",\"\",syoriyou!H1113)","v":""},{"$f":"IF(syoriyou!I1113=\"\",\"\",syoriyou!I1113)","v":""},{"$f":"IF(syoriyou!J1113=\"\",\"\",syoriyou!N1113)","v":""}]
[{"$f":"IF(syoriyou!A1114=\"\",\"\",syoriyou!A1114)","v":""},{"$f":"IF(syoriyou!B1114=\"\",\"\",syoriyou!B1114)","v":""},{"$f":"IF(syoriyou!C1114=\"\",\"\",syoriyou!C1114)","v":""},{"$f":"IF(syoriyou!D1114=\"\",\"\",syoriyou!D1114)","v":""},{"$f":"IF(syoriyou!E1114=\"\",\"\",syoriyou!E1114)","v":""},{"$f":"IF(syoriyou!F1114=\"\",\"\",syoriyou!F1114)","v":""},{"$f":"IF(syoriyou!G1114=\"\",\"\",syoriyou!G1114)","v":""},{"$f":"IF(syoriyou!H1114=\"\",\"\",syoriyou!H1114)","v":""},{"$f":"IF(syoriyou!I1114=\"\",\"\",syoriyou!I1114)","v":""},{"$f":"IF(syoriyou!J1114=\"\",\"\",syoriyou!N1114)","v":""}]
[{"$f":"IF(syoriyou!A1115=\"\",\"\",syoriyou!A1115)","v":""},{"$f":"IF(syoriyou!B1115=\"\",\"\",syoriyou!B1115)","v":""},{"$f":"IF(syoriyou!C1115=\"\",\"\",syoriyou!C1115)","v":""},{"$f":"IF(syoriyou!D1115=\"\",\"\",syoriyou!D1115)","v":""},{"$f":"IF(syoriyou!E1115=\"\",\"\",syoriyou!E1115)","v":""},{"$f":"IF(syoriyou!F1115=\"\",\"\",syoriyou!F1115)","v":""},{"$f":"IF(syoriyou!G1115=\"\",\"\",syoriyou!G1115)","v":""},{"$f":"IF(syoriyou!H1115=\"\",\"\",syoriyou!H1115)","v":""},{"$f":"IF(syoriyou!I1115=\"\",\"\",syoriyou!I1115)","v":""},{"$f":"IF(syoriyou!J1115=\"\",\"\",syoriyou!N1115)","v":""}]
[{"$f":"IF(syoriyou!A1116=\"\",\"\",syoriyou!A1116)","v":""},{"$f":"IF(syoriyou!B1116=\"\",\"\",syoriyou!B1116)","v":""},{"$f":"IF(syoriyou!C1116=\"\",\"\",syoriyou!C1116)","v":""},{"$f":"IF(syoriyou!D1116=\"\",\"\",syoriyou!D1116)","v":""},{"$f":"IF(syoriyou!E1116=\"\",\"\",syoriyou!E1116)","v":""},{"$f":"IF(syoriyou!F1116=\"\",\"\",syoriyou!F1116)","v":""},{"$f":"IF(syoriyou!G1116=\"\",\"\",syoriyou!G1116)","v":""},{"$f":"IF(syoriyou!H1116=\"\",\"\",syoriyou!H1116)","v":""},{"$f":"IF(syoriyou!I1116=\"\",\"\",syoriyou!I1116)","v":""},{"$f":"IF(syoriyou!J1116=\"\",\"\",syoriyou!N1116)","v":""}]
[{"$f":"IF(syoriyou!A1117=\"\",\"\",syoriyou!A1117)","v":""},{"$f":"IF(syoriyou!B1117=\"\",\"\",syoriyou!B1117)","v":""},{"$f":"IF(syoriyou!C1117=\"\",\"\",syoriyou!C1117)","v":""},{"$f":"IF(syoriyou!D1117=\"\",\"\",syoriyou!D1117)","v":""},{"$f":"IF(syoriyou!E1117=\"\",\"\",syoriyou!E1117)","v":""},{"$f":"IF(syoriyou!F1117=\"\",\"\",syoriyou!F1117)","v":""},{"$f":"IF(syoriyou!G1117=\"\",\"\",syoriyou!G1117)","v":""},{"$f":"IF(syoriyou!H1117=\"\",\"\",syoriyou!H1117)","v":""},{"$f":"IF(syoriyou!I1117=\"\",\"\",syoriyou!I1117)","v":""},{"$f":"IF(syoriyou!J1117=\"\",\"\",syoriyou!N1117)","v":""}]
[{"$f":"IF(syoriyou!A1118=\"\",\"\",syoriyou!A1118)","v":""},{"$f":"IF(syoriyou!B1118=\"\",\"\",syoriyou!B1118)","v":""},{"$f":"IF(syoriyou!C1118=\"\",\"\",syoriyou!C1118)","v":""},{"$f":"IF(syoriyou!D1118=\"\",\"\",syoriyou!D1118)","v":""},{"$f":"IF(syoriyou!E1118=\"\",\"\",syoriyou!E1118)","v":""},{"$f":"IF(syoriyou!F1118=\"\",\"\",syoriyou!F1118)","v":""},{"$f":"IF(syoriyou!G1118=\"\",\"\",syoriyou!G1118)","v":""},{"$f":"IF(syoriyou!H1118=\"\",\"\",syoriyou!H1118)","v":""},{"$f":"IF(syoriyou!I1118=\"\",\"\",syoriyou!I1118)","v":""},{"$f":"IF(syoriyou!J1118=\"\",\"\",syoriyou!N1118)","v":""}]
[{"$f":"IF(syoriyou!A1119=\"\",\"\",syoriyou!A1119)","v":""},{"$f":"IF(syoriyou!B1119=\"\",\"\",syoriyou!B1119)","v":""},{"$f":"IF(syoriyou!C1119=\"\",\"\",syoriyou!C1119)","v":""},{"$f":"IF(syoriyou!D1119=\"\",\"\",syoriyou!D1119)","v":""},{"$f":"IF(syoriyou!E1119=\"\",\"\",syoriyou!E1119)","v":""},{"$f":"IF(syoriyou!F1119=\"\",\"\",syoriyou!F1119)","v":""},{"$f":"IF(syoriyou!G1119=\"\",\"\",syoriyou!G1119)","v":""},{"$f":"IF(syoriyou!H1119=\"\",\"\",syoriyou!H1119)","v":""},{"$f":"IF(syoriyou!I1119=\"\",\"\",syoriyou!I1119)","v":""},{"$f":"IF(syoriyou!J1119=\"\",\"\",syoriyou!N1119)","v":""}]
[{"$f":"IF(syoriyou!A1120=\"\",\"\",syoriyou!A1120)","v":""},{"$f":"IF(syoriyou!B1120=\"\",\"\",syoriyou!B1120)","v":""},{"$f":"IF(syoriyou!C1120=\"\",\"\",syoriyou!C1120)","v":""},{"$f":"IF(syoriyou!D1120=\"\",\"\",syoriyou!D1120)","v":""},{"$f":"IF(syoriyou!E1120=\"\",\"\",syoriyou!E1120)","v":""},{"$f":"IF(syoriyou!F1120=\"\",\"\",syoriyou!F1120)","v":""},{"$f":"IF(syoriyou!G1120=\"\",\"\",syoriyou!G1120)","v":""},{"$f":"IF(syoriyou!H1120=\"\",\"\",syoriyou!H1120)","v":""},{"$f":"IF(syoriyou!I1120=\"\",\"\",syoriyou!I1120)","v":""},{"$f":"IF(syoriyou!J1120=\"\",\"\",syoriyou!N1120)","v":""}]
[{"$f":"IF(syoriyou!A1121=\"\",\"\",syoriyou!A1121)","v":""},{"$f":"IF(syoriyou!B1121=\"\",\"\",syoriyou!B1121)","v":""},{"$f":"IF(syoriyou!C1121=\"\",\"\",syoriyou!C1121)","v":""},{"$f":"IF(syoriyou!D1121=\"\",\"\",syoriyou!D1121)","v":""},{"$f":"IF(syoriyou!E1121=\"\",\"\",syoriyou!E1121)","v":""},{"$f":"IF(syoriyou!F1121=\"\",\"\",syoriyou!F1121)","v":""},{"$f":"IF(syoriyou!G1121=\"\",\"\",syoriyou!G1121)","v":""},{"$f":"IF(syoriyou!H1121=\"\",\"\",syoriyou!H1121)","v":""},{"$f":"IF(syoriyou!I1121=\"\",\"\",syoriyou!I1121)","v":""},{"$f":"IF(syoriyou!J1121=\"\",\"\",syoriyou!N1121)","v":""}]
[{"$f":"IF(syoriyou!A1122=\"\",\"\",syoriyou!A1122)","v":""},{"$f":"IF(syoriyou!B1122=\"\",\"\",syoriyou!B1122)","v":""},{"$f":"IF(syoriyou!C1122=\"\",\"\",syoriyou!C1122)","v":""},{"$f":"IF(syoriyou!D1122=\"\",\"\",syoriyou!D1122)","v":""},{"$f":"IF(syoriyou!E1122=\"\",\"\",syoriyou!E1122)","v":""},{"$f":"IF(syoriyou!F1122=\"\",\"\",syoriyou!F1122)","v":""},{"$f":"IF(syoriyou!G1122=\"\",\"\",syoriyou!G1122)","v":""},{"$f":"IF(syoriyou!H1122=\"\",\"\",syoriyou!H1122)","v":""},{"$f":"IF(syoriyou!I1122=\"\",\"\",syoriyou!I1122)","v":""},{"$f":"IF(syoriyou!J1122=\"\",\"\",syoriyou!N1122)","v":""}]
[{"$f":"IF(syoriyou!A1123=\"\",\"\",syoriyou!A1123)","v":""},{"$f":"IF(syoriyou!B1123=\"\",\"\",syoriyou!B1123)","v":""},{"$f":"IF(syoriyou!C1123=\"\",\"\",syoriyou!C1123)","v":""},{"$f":"IF(syoriyou!D1123=\"\",\"\",syoriyou!D1123)","v":""},{"$f":"IF(syoriyou!E1123=\"\",\"\",syoriyou!E1123)","v":""},{"$f":"IF(syoriyou!F1123=\"\",\"\",syoriyou!F1123)","v":""},{"$f":"IF(syoriyou!G1123=\"\",\"\",syoriyou!G1123)","v":""},{"$f":"IF(syoriyou!H1123=\"\",\"\",syoriyou!H1123)","v":""},{"$f":"IF(syoriyou!I1123=\"\",\"\",syoriyou!I1123)","v":""},{"$f":"IF(syoriyou!J1123=\"\",\"\",syoriyou!N1123)","v":""}]
[{"$f":"IF(syoriyou!A1124=\"\",\"\",syoriyou!A1124)","v":""},{"$f":"IF(syoriyou!B1124=\"\",\"\",syoriyou!B1124)","v":""},{"$f":"IF(syoriyou!C1124=\"\",\"\",syoriyou!C1124)","v":""},{"$f":"IF(syoriyou!D1124=\"\",\"\",syoriyou!D1124)","v":""},{"$f":"IF(syoriyou!E1124=\"\",\"\",syoriyou!E1124)","v":""},{"$f":"IF(syoriyou!F1124=\"\",\"\",syoriyou!F1124)","v":""},{"$f":"IF(syoriyou!G1124=\"\",\"\",syoriyou!G1124)","v":""},{"$f":"IF(syoriyou!H1124=\"\",\"\",syoriyou!H1124)","v":""},{"$f":"IF(syoriyou!I1124=\"\",\"\",syoriyou!I1124)","v":""},{"$f":"IF(syoriyou!J1124=\"\",\"\",syoriyou!N1124)","v":""}]
[{"$f":"IF(syoriyou!A1125=\"\",\"\",syoriyou!A1125)","v":""},{"$f":"IF(syoriyou!B1125=\"\",\"\",syoriyou!B1125)","v":""},{"$f":"IF(syoriyou!C1125=\"\",\"\",syoriyou!C1125)","v":""},{"$f":"IF(syoriyou!D1125=\"\",\"\",syoriyou!D1125)","v":""},{"$f":"IF(syoriyou!E1125=\"\",\"\",syoriyou!E1125)","v":""},{"$f":"IF(syoriyou!F1125=\"\",\"\",syoriyou!F1125)","v":""},{"$f":"IF(syoriyou!G1125=\"\",\"\",syoriyou!G1125)","v":""},{"$f":"IF(syoriyou!H1125=\"\",\"\",syoriyou!H1125)","v":""},{"$f":"IF(syoriyou!I1125=\"\",\"\",syoriyou!I1125)","v":""},{"$f":"IF(syoriyou!J1125=\"\",\"\",syoriyou!N1125)","v":""}]
[{"$f":"IF(syoriyou!A1126=\"\",\"\",syoriyou!A1126)","v":""},{"$f":"IF(syoriyou!B1126=\"\",\"\",syoriyou!B1126)","v":""},{"$f":"IF(syoriyou!C1126=\"\",\"\",syoriyou!C1126)","v":""},{"$f":"IF(syoriyou!D1126=\"\",\"\",syoriyou!D1126)","v":""},{"$f":"IF(syoriyou!E1126=\"\",\"\",syoriyou!E1126)","v":""},{"$f":"IF(syoriyou!F1126=\"\",\"\",syoriyou!F1126)","v":""},{"$f":"IF(syoriyou!G1126=\"\",\"\",syoriyou!G1126)","v":""},{"$f":"IF(syoriyou!H1126=\"\",\"\",syoriyou!H1126)","v":""},{"$f":"IF(syoriyou!I1126=\"\",\"\",syoriyou!I1126)","v":""},{"$f":"IF(syoriyou!J1126=\"\",\"\",syoriyou!N1126)","v":""}]
[{"$f":"IF(syoriyou!A1127=\"\",\"\",syoriyou!A1127)","v":""},{"$f":"IF(syoriyou!B1127=\"\",\"\",syoriyou!B1127)","v":""},{"$f":"IF(syoriyou!C1127=\"\",\"\",syoriyou!C1127)","v":""},{"$f":"IF(syoriyou!D1127=\"\",\"\",syoriyou!D1127)","v":""},{"$f":"IF(syoriyou!E1127=\"\",\"\",syoriyou!E1127)","v":""},{"$f":"IF(syoriyou!F1127=\"\",\"\",syoriyou!F1127)","v":""},{"$f":"IF(syoriyou!G1127=\"\",\"\",syoriyou!G1127)","v":""},{"$f":"IF(syoriyou!H1127=\"\",\"\",syoriyou!H1127)","v":""},{"$f":"IF(syoriyou!I1127=\"\",\"\",syoriyou!I1127)","v":""},{"$f":"IF(syoriyou!J1127=\"\",\"\",syoriyou!N1127)","v":""}]
[{"$f":"IF(syoriyou!A1128=\"\",\"\",syoriyou!A1128)","v":""},{"$f":"IF(syoriyou!B1128=\"\",\"\",syoriyou!B1128)","v":""},{"$f":"IF(syoriyou!C1128=\"\",\"\",syoriyou!C1128)","v":""},{"$f":"IF(syoriyou!D1128=\"\",\"\",syoriyou!D1128)","v":""},{"$f":"IF(syoriyou!E1128=\"\",\"\",syoriyou!E1128)","v":""},{"$f":"IF(syoriyou!F1128=\"\",\"\",syoriyou!F1128)","v":""},{"$f":"IF(syoriyou!G1128=\"\",\"\",syoriyou!G1128)","v":""},{"$f":"IF(syoriyou!H1128=\"\",\"\",syoriyou!H1128)","v":""},{"$f":"IF(syoriyou!I1128=\"\",\"\",syoriyou!I1128)","v":""},{"$f":"IF(syoriyou!J1128=\"\",\"\",syoriyou!N1128)","v":""}]
[{"$f":"IF(syoriyou!A1129=\"\",\"\",syoriyou!A1129)","v":""},{"$f":"IF(syoriyou!B1129=\"\",\"\",syoriyou!B1129)","v":""},{"$f":"IF(syoriyou!C1129=\"\",\"\",syoriyou!C1129)","v":""},{"$f":"IF(syoriyou!D1129=\"\",\"\",syoriyou!D1129)","v":""},{"$f":"IF(syoriyou!E1129=\"\",\"\",syoriyou!E1129)","v":""},{"$f":"IF(syoriyou!F1129=\"\",\"\",syoriyou!F1129)","v":""},{"$f":"IF(syoriyou!G1129=\"\",\"\",syoriyou!G1129)","v":""},{"$f":"IF(syoriyou!H1129=\"\",\"\",syoriyou!H1129)","v":""},{"$f":"IF(syoriyou!I1129=\"\",\"\",syoriyou!I1129)","v":""},{"$f":"IF(syoriyou!J1129=\"\",\"\",syoriyou!N1129)","v":""}]
[{"$f":"IF(syoriyou!A1130=\"\",\"\",syoriyou!A1130)","v":""},{"$f":"IF(syoriyou!B1130=\"\",\"\",syoriyou!B1130)","v":""},{"$f":"IF(syoriyou!C1130=\"\",\"\",syoriyou!C1130)","v":""},{"$f":"IF(syoriyou!D1130=\"\",\"\",syoriyou!D1130)","v":""},{"$f":"IF(syoriyou!E1130=\"\",\"\",syoriyou!E1130)","v":""},{"$f":"IF(syoriyou!F1130=\"\",\"\",syoriyou!F1130)","v":""},{"$f":"IF(syoriyou!G1130=\"\",\"\",syoriyou!G1130)","v":""},{"$f":"IF(syoriyou!H1130=\"\",\"\",syoriyou!H1130)","v":""},{"$f":"IF(syoriyou!I1130=\"\",\"\",syoriyou!I1130)","v":""},{"$f":"IF(syoriyou!J1130=\"\",\"\",syoriyou!N1130)","v":""}]
[{"$f":"IF(syoriyou!A1131=\"\",\"\",syoriyou!A1131)","v":""},{"$f":"IF(syoriyou!B1131=\"\",\"\",syoriyou!B1131)","v":""},{"$f":"IF(syoriyou!C1131=\"\",\"\",syoriyou!C1131)","v":""},{"$f":"IF(syoriyou!D1131=\"\",\"\",syoriyou!D1131)","v":""},{"$f":"IF(syoriyou!E1131=\"\",\"\",syoriyou!E1131)","v":""},{"$f":"IF(syoriyou!F1131=\"\",\"\",syoriyou!F1131)","v":""},{"$f":"IF(syoriyou!G1131=\"\",\"\",syoriyou!G1131)","v":""},{"$f":"IF(syoriyou!H1131=\"\",\"\",syoriyou!H1131)","v":""},{"$f":"IF(syoriyou!I1131=\"\",\"\",syoriyou!I1131)","v":""},{"$f":"IF(syoriyou!J1131=\"\",\"\",syoriyou!N1131)","v":""}]
[{"$f":"IF(syoriyou!A1132=\"\",\"\",syoriyou!A1132)","v":""},{"$f":"IF(syoriyou!B1132=\"\",\"\",syoriyou!B1132)","v":""},{"$f":"IF(syoriyou!C1132=\"\",\"\",syoriyou!C1132)","v":""},{"$f":"IF(syoriyou!D1132=\"\",\"\",syoriyou!D1132)","v":""},{"$f":"IF(syoriyou!E1132=\"\",\"\",syoriyou!E1132)","v":""},{"$f":"IF(syoriyou!F1132=\"\",\"\",syoriyou!F1132)","v":""},{"$f":"IF(syoriyou!G1132=\"\",\"\",syoriyou!G1132)","v":""},{"$f":"IF(syoriyou!H1132=\"\",\"\",syoriyou!H1132)","v":""},{"$f":"IF(syoriyou!I1132=\"\",\"\",syoriyou!I1132)","v":""},{"$f":"IF(syoriyou!J1132=\"\",\"\",syoriyou!N1132)","v":""}]
[{"$f":"IF(syoriyou!A1133=\"\",\"\",syoriyou!A1133)","v":""},{"$f":"IF(syoriyou!B1133=\"\",\"\",syoriyou!B1133)","v":""},{"$f":"IF(syoriyou!C1133=\"\",\"\",syoriyou!C1133)","v":""},{"$f":"IF(syoriyou!D1133=\"\",\"\",syoriyou!D1133)","v":""},{"$f":"IF(syoriyou!E1133=\"\",\"\",syoriyou!E1133)","v":""},{"$f":"IF(syoriyou!F1133=\"\",\"\",syoriyou!F1133)","v":""},{"$f":"IF(syoriyou!G1133=\"\",\"\",syoriyou!G1133)","v":""},{"$f":"IF(syoriyou!H1133=\"\",\"\",syoriyou!H1133)","v":""},{"$f":"IF(syoriyou!I1133=\"\",\"\",syoriyou!I1133)","v":""},{"$f":"IF(syoriyou!J1133=\"\",\"\",syoriyou!N1133)","v":""}]
[{"$f":"IF(syoriyou!A1134=\"\",\"\",syoriyou!A1134)","v":""},{"$f":"IF(syoriyou!B1134=\"\",\"\",syoriyou!B1134)","v":""},{"$f":"IF(syoriyou!C1134=\"\",\"\",syoriyou!C1134)","v":""},{"$f":"IF(syoriyou!D1134=\"\",\"\",syoriyou!D1134)","v":""},{"$f":"IF(syoriyou!E1134=\"\",\"\",syoriyou!E1134)","v":""},{"$f":"IF(syoriyou!F1134=\"\",\"\",syoriyou!F1134)","v":""},{"$f":"IF(syoriyou!G1134=\"\",\"\",syoriyou!G1134)","v":""},{"$f":"IF(syoriyou!H1134=\"\",\"\",syoriyou!H1134)","v":""},{"$f":"IF(syoriyou!I1134=\"\",\"\",syoriyou!I1134)","v":""},{"$f":"IF(syoriyou!J1134=\"\",\"\",syoriyou!N1134)","v":""}]
[{"$f":"IF(syoriyou!A1135=\"\",\"\",syoriyou!A1135)","v":""},{"$f":"IF(syoriyou!B1135=\"\",\"\",syoriyou!B1135)","v":""},{"$f":"IF(syoriyou!C1135=\"\",\"\",syoriyou!C1135)","v":""},{"$f":"IF(syoriyou!D1135=\"\",\"\",syoriyou!D1135)","v":""},{"$f":"IF(syoriyou!E1135=\"\",\"\",syoriyou!E1135)","v":""},{"$f":"IF(syoriyou!F1135=\"\",\"\",syoriyou!F1135)","v":""},{"$f":"IF(syoriyou!G1135=\"\",\"\",syoriyou!G1135)","v":""},{"$f":"IF(syoriyou!H1135=\"\",\"\",syoriyou!H1135)","v":""},{"$f":"IF(syoriyou!I1135=\"\",\"\",syoriyou!I1135)","v":""},{"$f":"IF(syoriyou!J1135=\"\",\"\",syoriyou!N1135)","v":""}]
[{"$f":"IF(syoriyou!A1136=\"\",\"\",syoriyou!A1136)","v":""},{"$f":"IF(syoriyou!B1136=\"\",\"\",syoriyou!B1136)","v":""},{"$f":"IF(syoriyou!C1136=\"\",\"\",syoriyou!C1136)","v":""},{"$f":"IF(syoriyou!D1136=\"\",\"\",syoriyou!D1136)","v":""},{"$f":"IF(syoriyou!E1136=\"\",\"\",syoriyou!E1136)","v":""},{"$f":"IF(syoriyou!F1136=\"\",\"\",syoriyou!F1136)","v":""},{"$f":"IF(syoriyou!G1136=\"\",\"\",syoriyou!G1136)","v":""},{"$f":"IF(syoriyou!H1136=\"\",\"\",syoriyou!H1136)","v":""},{"$f":"IF(syoriyou!I1136=\"\",\"\",syoriyou!I1136)","v":""},{"$f":"IF(syoriyou!J1136=\"\",\"\",syoriyou!N1136)","v":""}]
[{"$f":"IF(syoriyou!A1137=\"\",\"\",syoriyou!A1137)","v":""},{"$f":"IF(syoriyou!B1137=\"\",\"\",syoriyou!B1137)","v":""},{"$f":"IF(syoriyou!C1137=\"\",\"\",syoriyou!C1137)","v":""},{"$f":"IF(syoriyou!D1137=\"\",\"\",syoriyou!D1137)","v":""},{"$f":"IF(syoriyou!E1137=\"\",\"\",syoriyou!E1137)","v":""},{"$f":"IF(syoriyou!F1137=\"\",\"\",syoriyou!F1137)","v":""},{"$f":"IF(syoriyou!G1137=\"\",\"\",syoriyou!G1137)","v":""},{"$f":"IF(syoriyou!H1137=\"\",\"\",syoriyou!H1137)","v":""},{"$f":"IF(syoriyou!I1137=\"\",\"\",syoriyou!I1137)","v":""},{"$f":"IF(syoriyou!J1137=\"\",\"\",syoriyou!N1137)","v":""}]
[{"$f":"IF(syoriyou!A1138=\"\",\"\",syoriyou!A1138)","v":""},{"$f":"IF(syoriyou!B1138=\"\",\"\",syoriyou!B1138)","v":""},{"$f":"IF(syoriyou!C1138=\"\",\"\",syoriyou!C1138)","v":""},{"$f":"IF(syoriyou!D1138=\"\",\"\",syoriyou!D1138)","v":""},{"$f":"IF(syoriyou!E1138=\"\",\"\",syoriyou!E1138)","v":""},{"$f":"IF(syoriyou!F1138=\"\",\"\",syoriyou!F1138)","v":""},{"$f":"IF(syoriyou!G1138=\"\",\"\",syoriyou!G1138)","v":""},{"$f":"IF(syoriyou!H1138=\"\",\"\",syoriyou!H1138)","v":""},{"$f":"IF(syoriyou!I1138=\"\",\"\",syoriyou!I1138)","v":""},{"$f":"IF(syoriyou!J1138=\"\",\"\",syoriyou!N1138)","v":""}]
[{"$f":"IF(syoriyou!A1139=\"\",\"\",syoriyou!A1139)","v":""},{"$f":"IF(syoriyou!B1139=\"\",\"\",syoriyou!B1139)","v":""},{"$f":"IF(syoriyou!C1139=\"\",\"\",syoriyou!C1139)","v":""},{"$f":"IF(syoriyou!D1139=\"\",\"\",syoriyou!D1139)","v":""},{"$f":"IF(syoriyou!E1139=\"\",\"\",syoriyou!E1139)","v":""},{"$f":"IF(syoriyou!F1139=\"\",\"\",syoriyou!F1139)","v":""},{"$f":"IF(syoriyou!G1139=\"\",\"\",syoriyou!G1139)","v":""},{"$f":"IF(syoriyou!H1139=\"\",\"\",syoriyou!H1139)","v":""},{"$f":"IF(syoriyou!I1139=\"\",\"\",syoriyou!I1139)","v":""},{"$f":"IF(syoriyou!J1139=\"\",\"\",syoriyou!N1139)","v":""}]
[{"$f":"IF(syoriyou!A1140=\"\",\"\",syoriyou!A1140)","v":""},{"$f":"IF(syoriyou!B1140=\"\",\"\",syoriyou!B1140)","v":""},{"$f":"IF(syoriyou!C1140=\"\",\"\",syoriyou!C1140)","v":""},{"$f":"IF(syoriyou!D1140=\"\",\"\",syoriyou!D1140)","v":""},{"$f":"IF(syoriyou!E1140=\"\",\"\",syoriyou!E1140)","v":""},{"$f":"IF(syoriyou!F1140=\"\",\"\",syoriyou!F1140)","v":""},{"$f":"IF(syoriyou!G1140=\"\",\"\",syoriyou!G1140)","v":""},{"$f":"IF(syoriyou!H1140=\"\",\"\",syoriyou!H1140)","v":""},{"$f":"IF(syoriyou!I1140=\"\",\"\",syoriyou!I1140)","v":""},{"$f":"IF(syoriyou!J1140=\"\",\"\",syoriyou!N1140)","v":""}]
[{"$f":"IF(syoriyou!A1141=\"\",\"\",syoriyou!A1141)","v":""},{"$f":"IF(syoriyou!B1141=\"\",\"\",syoriyou!B1141)","v":""},{"$f":"IF(syoriyou!C1141=\"\",\"\",syoriyou!C1141)","v":""},{"$f":"IF(syoriyou!D1141=\"\",\"\",syoriyou!D1141)","v":""},{"$f":"IF(syoriyou!E1141=\"\",\"\",syoriyou!E1141)","v":""},{"$f":"IF(syoriyou!F1141=\"\",\"\",syoriyou!F1141)","v":""},{"$f":"IF(syoriyou!G1141=\"\",\"\",syoriyou!G1141)","v":""},{"$f":"IF(syoriyou!H1141=\"\",\"\",syoriyou!H1141)","v":""},{"$f":"IF(syoriyou!I1141=\"\",\"\",syoriyou!I1141)","v":""},{"$f":"IF(syoriyou!J1141=\"\",\"\",syoriyou!N1141)","v":""}]
[{"$f":"IF(syoriyou!A1142=\"\",\"\",syoriyou!A1142)","v":""},{"$f":"IF(syoriyou!B1142=\"\",\"\",syoriyou!B1142)","v":""},{"$f":"IF(syoriyou!C1142=\"\",\"\",syoriyou!C1142)","v":""},{"$f":"IF(syoriyou!D1142=\"\",\"\",syoriyou!D1142)","v":""},{"$f":"IF(syoriyou!E1142=\"\",\"\",syoriyou!E1142)","v":""},{"$f":"IF(syoriyou!F1142=\"\",\"\",syoriyou!F1142)","v":""},{"$f":"IF(syoriyou!G1142=\"\",\"\",syoriyou!G1142)","v":""},{"$f":"IF(syoriyou!H1142=\"\",\"\",syoriyou!H1142)","v":""},{"$f":"IF(syoriyou!I1142=\"\",\"\",syoriyou!I1142)","v":""},{"$f":"IF(syoriyou!J1142=\"\",\"\",syoriyou!N1142)","v":""}]
[{"$f":"IF(syoriyou!A1143=\"\",\"\",syoriyou!A1143)","v":""},{"$f":"IF(syoriyou!B1143=\"\",\"\",syoriyou!B1143)","v":""},{"$f":"IF(syoriyou!C1143=\"\",\"\",syoriyou!C1143)","v":""},{"$f":"IF(syoriyou!D1143=\"\",\"\",syoriyou!D1143)","v":""},{"$f":"IF(syoriyou!E1143=\"\",\"\",syoriyou!E1143)","v":""},{"$f":"IF(syoriyou!F1143=\"\",\"\",syoriyou!F1143)","v":""},{"$f":"IF(syoriyou!G1143=\"\",\"\",syoriyou!G1143)","v":""},{"$f":"IF(syoriyou!H1143=\"\",\"\",syoriyou!H1143)","v":""},{"$f":"IF(syoriyou!I1143=\"\",\"\",syoriyou!I1143)","v":""},{"$f":"IF(syoriyou!J1143=\"\",\"\",syoriyou!N1143)","v":""}]
[{"$f":"IF(syoriyou!A1144=\"\",\"\",syoriyou!A1144)","v":""},{"$f":"IF(syoriyou!B1144=\"\",\"\",syoriyou!B1144)","v":""},{"$f":"IF(syoriyou!C1144=\"\",\"\",syoriyou!C1144)","v":""},{"$f":"IF(syoriyou!D1144=\"\",\"\",syoriyou!D1144)","v":""},{"$f":"IF(syoriyou!E1144=\"\",\"\",syoriyou!E1144)","v":""},{"$f":"IF(syoriyou!F1144=\"\",\"\",syoriyou!F1144)","v":""},{"$f":"IF(syoriyou!G1144=\"\",\"\",syoriyou!G1144)","v":""},{"$f":"IF(syoriyou!H1144=\"\",\"\",syoriyou!H1144)","v":""},{"$f":"IF(syoriyou!I1144=\"\",\"\",syoriyou!I1144)","v":""},{"$f":"IF(syoriyou!J1144=\"\",\"\",syoriyou!N1144)","v":""}]
[{"$f":"IF(syoriyou!A1145=\"\",\"\",syoriyou!A1145)","v":""},{"$f":"IF(syoriyou!B1145=\"\",\"\",syoriyou!B1145)","v":""},{"$f":"IF(syoriyou!C1145=\"\",\"\",syoriyou!C1145)","v":""},{"$f":"IF(syoriyou!D1145=\"\",\"\",syoriyou!D1145)","v":""},{"$f":"IF(syoriyou!E1145=\"\",\"\",syoriyou!E1145)","v":""},{"$f":"IF(syoriyou!F1145=\"\",\"\",syoriyou!F1145)","v":""},{"$f":"IF(syoriyou!G1145=\"\",\"\",syoriyou!G1145)","v":""},{"$f":"IF(syoriyou!H1145=\"\",\"\",syoriyou!H1145)","v":""},{"$f":"IF(syoriyou!I1145=\"\",\"\",syoriyou!I1145)","v":""},{"$f":"IF(syoriyou!J1145=\"\",\"\",syoriyou!N1145)","v":""}]
[{"$f":"IF(syoriyou!A1146=\"\",\"\",syoriyou!A1146)","v":""},{"$f":"IF(syoriyou!B1146=\"\",\"\",syoriyou!B1146)","v":""},{"$f":"IF(syoriyou!C1146=\"\",\"\",syoriyou!C1146)","v":""},{"$f":"IF(syoriyou!D1146=\"\",\"\",syoriyou!D1146)","v":""},{"$f":"IF(syoriyou!E1146=\"\",\"\",syoriyou!E1146)","v":""},{"$f":"IF(syoriyou!F1146=\"\",\"\",syoriyou!F1146)","v":""},{"$f":"IF(syoriyou!G1146=\"\",\"\",syoriyou!G1146)","v":""},{"$f":"IF(syoriyou!H1146=\"\",\"\",syoriyou!H1146)","v":""},{"$f":"IF(syoriyou!I1146=\"\",\"\",syoriyou!I1146)","v":""},{"$f":"IF(syoriyou!J1146=\"\",\"\",syoriyou!N1146)","v":""}]
[{"$f":"IF(syoriyou!A1147=\"\",\"\",syoriyou!A1147)","v":""},{"$f":"IF(syoriyou!B1147=\"\",\"\",syoriyou!B1147)","v":""},{"$f":"IF(syoriyou!C1147=\"\",\"\",syoriyou!C1147)","v":""},{"$f":"IF(syoriyou!D1147=\"\",\"\",syoriyou!D1147)","v":""},{"$f":"IF(syoriyou!E1147=\"\",\"\",syoriyou!E1147)","v":""},{"$f":"IF(syoriyou!F1147=\"\",\"\",syoriyou!F1147)","v":""},{"$f":"IF(syoriyou!G1147=\"\",\"\",syoriyou!G1147)","v":""},{"$f":"IF(syoriyou!H1147=\"\",\"\",syoriyou!H1147)","v":""},{"$f":"IF(syoriyou!I1147=\"\",\"\",syoriyou!I1147)","v":""},{"$f":"IF(syoriyou!J1147=\"\",\"\",syoriyou!N1147)","v":""}]
[{"$f":"IF(syoriyou!A1148=\"\",\"\",syoriyou!A1148)","v":""},{"$f":"IF(syoriyou!B1148=\"\",\"\",syoriyou!B1148)","v":""},{"$f":"IF(syoriyou!C1148=\"\",\"\",syoriyou!C1148)","v":""},{"$f":"IF(syoriyou!D1148=\"\",\"\",syoriyou!D1148)","v":""},{"$f":"IF(syoriyou!E1148=\"\",\"\",syoriyou!E1148)","v":""},{"$f":"IF(syoriyou!F1148=\"\",\"\",syoriyou!F1148)","v":""},{"$f":"IF(syoriyou!G1148=\"\",\"\",syoriyou!G1148)","v":""},{"$f":"IF(syoriyou!H1148=\"\",\"\",syoriyou!H1148)","v":""},{"$f":"IF(syoriyou!I1148=\"\",\"\",syoriyou!I1148)","v":""},{"$f":"IF(syoriyou!J1148=\"\",\"\",syoriyou!N1148)","v":""}]
[{"$f":"IF(syoriyou!A1149=\"\",\"\",syoriyou!A1149)","v":""},{"$f":"IF(syoriyou!B1149=\"\",\"\",syoriyou!B1149)","v":""},{"$f":"IF(syoriyou!C1149=\"\",\"\",syoriyou!C1149)","v":""},{"$f":"IF(syoriyou!D1149=\"\",\"\",syoriyou!D1149)","v":""},{"$f":"IF(syoriyou!E1149=\"\",\"\",syoriyou!E1149)","v":""},{"$f":"IF(syoriyou!F1149=\"\",\"\",syoriyou!F1149)","v":""},{"$f":"IF(syoriyou!G1149=\"\",\"\",syoriyou!G1149)","v":""},{"$f":"IF(syoriyou!H1149=\"\",\"\",syoriyou!H1149)","v":""},{"$f":"IF(syoriyou!I1149=\"\",\"\",syoriyou!I1149)","v":""},{"$f":"IF(syoriyou!J1149=\"\",\"\",syoriyou!N1149)","v":""}]
[{"$f":"IF(syoriyou!A1150=\"\",\"\",syoriyou!A1150)","v":""},{"$f":"IF(syoriyou!B1150=\"\",\"\",syoriyou!B1150)","v":""},{"$f":"IF(syoriyou!C1150=\"\",\"\",syoriyou!C1150)","v":""},{"$f":"IF(syoriyou!D1150=\"\",\"\",syoriyou!D1150)","v":""},{"$f":"IF(syoriyou!E1150=\"\",\"\",syoriyou!E1150)","v":""},{"$f":"IF(syoriyou!F1150=\"\",\"\",syoriyou!F1150)","v":""},{"$f":"IF(syoriyou!G1150=\"\",\"\",syoriyou!G1150)","v":""},{"$f":"IF(syoriyou!H1150=\"\",\"\",syoriyou!H1150)","v":""},{"$f":"IF(syoriyou!I1150=\"\",\"\",syoriyou!I1150)","v":""},{"$f":"IF(syoriyou!J1150=\"\",\"\",syoriyou!N1150)","v":""}]
[{"$f":"IF(syoriyou!A1151=\"\",\"\",syoriyou!A1151)","v":""},{"$f":"IF(syoriyou!B1151=\"\",\"\",syoriyou!B1151)","v":""},{"$f":"IF(syoriyou!C1151=\"\",\"\",syoriyou!C1151)","v":""},{"$f":"IF(syoriyou!D1151=\"\",\"\",syoriyou!D1151)","v":""},{"$f":"IF(syoriyou!E1151=\"\",\"\",syoriyou!E1151)","v":""},{"$f":"IF(syoriyou!F1151=\"\",\"\",syoriyou!F1151)","v":""},{"$f":"IF(syoriyou!G1151=\"\",\"\",syoriyou!G1151)","v":""},{"$f":"IF(syoriyou!H1151=\"\",\"\",syoriyou!H1151)","v":""},{"$f":"IF(syoriyou!I1151=\"\",\"\",syoriyou!I1151)","v":""},{"$f":"IF(syoriyou!J1151=\"\",\"\",syoriyou!N1151)","v":""}]
[{"$f":"IF(syoriyou!A1152=\"\",\"\",syoriyou!A1152)","v":""},{"$f":"IF(syoriyou!B1152=\"\",\"\",syoriyou!B1152)","v":""},{"$f":"IF(syoriyou!C1152=\"\",\"\",syoriyou!C1152)","v":""},{"$f":"IF(syoriyou!D1152=\"\",\"\",syoriyou!D1152)","v":""},{"$f":"IF(syoriyou!E1152=\"\",\"\",syoriyou!E1152)","v":""},{"$f":"IF(syoriyou!F1152=\"\",\"\",syoriyou!F1152)","v":""},{"$f":"IF(syoriyou!G1152=\"\",\"\",syoriyou!G1152)","v":""},{"$f":"IF(syoriyou!H1152=\"\",\"\",syoriyou!H1152)","v":""},{"$f":"IF(syoriyou!I1152=\"\",\"\",syoriyou!I1152)","v":""},{"$f":"IF(syoriyou!J1152=\"\",\"\",syoriyou!N1152)","v":""}]
[{"$f":"IF(syoriyou!A1153=\"\",\"\",syoriyou!A1153)","v":""},{"$f":"IF(syoriyou!B1153=\"\",\"\",syoriyou!B1153)","v":""},{"$f":"IF(syoriyou!C1153=\"\",\"\",syoriyou!C1153)","v":""},{"$f":"IF(syoriyou!D1153=\"\",\"\",syoriyou!D1153)","v":""},{"$f":"IF(syoriyou!E1153=\"\",\"\",syoriyou!E1153)","v":""},{"$f":"IF(syoriyou!F1153=\"\",\"\",syoriyou!F1153)","v":""},{"$f":"IF(syoriyou!G1153=\"\",\"\",syoriyou!G1153)","v":""},{"$f":"IF(syoriyou!H1153=\"\",\"\",syoriyou!H1153)","v":""},{"$f":"IF(syoriyou!I1153=\"\",\"\",syoriyou!I1153)","v":""},{"$f":"IF(syoriyou!J1153=\"\",\"\",syoriyou!N1153)","v":""}]
[{"$f":"IF(syoriyou!A1154=\"\",\"\",syoriyou!A1154)","v":""},{"$f":"IF(syoriyou!B1154=\"\",\"\",syoriyou!B1154)","v":""},{"$f":"IF(syoriyou!C1154=\"\",\"\",syoriyou!C1154)","v":""},{"$f":"IF(syoriyou!D1154=\"\",\"\",syoriyou!D1154)","v":""},{"$f":"IF(syoriyou!E1154=\"\",\"\",syoriyou!E1154)","v":""},{"$f":"IF(syoriyou!F1154=\"\",\"\",syoriyou!F1154)","v":""},{"$f":"IF(syoriyou!G1154=\"\",\"\",syoriyou!G1154)","v":""},{"$f":"IF(syoriyou!H1154=\"\",\"\",syoriyou!H1154)","v":""},{"$f":"IF(syoriyou!I1154=\"\",\"\",syoriyou!I1154)","v":""},{"$f":"IF(syoriyou!J1154=\"\",\"\",syoriyou!N1154)","v":""}]
[{"$f":"IF(syoriyou!A1155=\"\",\"\",syoriyou!A1155)","v":""},{"$f":"IF(syoriyou!B1155=\"\",\"\",syoriyou!B1155)","v":""},{"$f":"IF(syoriyou!C1155=\"\",\"\",syoriyou!C1155)","v":""},{"$f":"IF(syoriyou!D1155=\"\",\"\",syoriyou!D1155)","v":""},{"$f":"IF(syoriyou!E1155=\"\",\"\",syoriyou!E1155)","v":""},{"$f":"IF(syoriyou!F1155=\"\",\"\",syoriyou!F1155)","v":""},{"$f":"IF(syoriyou!G1155=\"\",\"\",syoriyou!G1155)","v":""},{"$f":"IF(syoriyou!H1155=\"\",\"\",syoriyou!H1155)","v":""},{"$f":"IF(syoriyou!I1155=\"\",\"\",syoriyou!I1155)","v":""},{"$f":"IF(syoriyou!J1155=\"\",\"\",syoriyou!N1155)","v":""}]
[{"$f":"IF(syoriyou!A1156=\"\",\"\",syoriyou!A1156)","v":""},{"$f":"IF(syoriyou!B1156=\"\",\"\",syoriyou!B1156)","v":""},{"$f":"IF(syoriyou!C1156=\"\",\"\",syoriyou!C1156)","v":""},{"$f":"IF(syoriyou!D1156=\"\",\"\",syoriyou!D1156)","v":""},{"$f":"IF(syoriyou!E1156=\"\",\"\",syoriyou!E1156)","v":""},{"$f":"IF(syoriyou!F1156=\"\",\"\",syoriyou!F1156)","v":""},{"$f":"IF(syoriyou!G1156=\"\",\"\",syoriyou!G1156)","v":""},{"$f":"IF(syoriyou!H1156=\"\",\"\",syoriyou!H1156)","v":""},{"$f":"IF(syoriyou!I1156=\"\",\"\",syoriyou!I1156)","v":""},{"$f":"IF(syoriyou!J1156=\"\",\"\",syoriyou!N1156)","v":""}]
[{"$f":"IF(syoriyou!A1157=\"\",\"\",syoriyou!A1157)","v":""},{"$f":"IF(syoriyou!B1157=\"\",\"\",syoriyou!B1157)","v":""},{"$f":"IF(syoriyou!C1157=\"\",\"\",syoriyou!C1157)","v":""},{"$f":"IF(syoriyou!D1157=\"\",\"\",syoriyou!D1157)","v":""},{"$f":"IF(syoriyou!E1157=\"\",\"\",syoriyou!E1157)","v":""},{"$f":"IF(syoriyou!F1157=\"\",\"\",syoriyou!F1157)","v":""},{"$f":"IF(syoriyou!G1157=\"\",\"\",syoriyou!G1157)","v":""},{"$f":"IF(syoriyou!H1157=\"\",\"\",syoriyou!H1157)","v":""},{"$f":"IF(syoriyou!I1157=\"\",\"\",syoriyou!I1157)","v":""},{"$f":"IF(syoriyou!J1157=\"\",\"\",syoriyou!N1157)","v":""}]
[{"$f":"IF(syoriyou!A1158=\"\",\"\",syoriyou!A1158)","v":""},{"$f":"IF(syoriyou!B1158=\"\",\"\",syoriyou!B1158)","v":""},{"$f":"IF(syoriyou!C1158=\"\",\"\",syoriyou!C1158)","v":""},{"$f":"IF(syoriyou!D1158=\"\",\"\",syoriyou!D1158)","v":""},{"$f":"IF(syoriyou!E1158=\"\",\"\",syoriyou!E1158)","v":""},{"$f":"IF(syoriyou!F1158=\"\",\"\",syoriyou!F1158)","v":""},{"$f":"IF(syoriyou!G1158=\"\",\"\",syoriyou!G1158)","v":""},{"$f":"IF(syoriyou!H1158=\"\",\"\",syoriyou!H1158)","v":""},{"$f":"IF(syoriyou!I1158=\"\",\"\",syoriyou!I1158)","v":""},{"$f":"IF(syoriyou!J1158=\"\",\"\",syoriyou!N1158)","v":""}]
[{"$f":"IF(syoriyou!A1159=\"\",\"\",syoriyou!A1159)","v":""},{"$f":"IF(syoriyou!B1159=\"\",\"\",syoriyou!B1159)","v":""},{"$f":"IF(syoriyou!C1159=\"\",\"\",syoriyou!C1159)","v":""},{"$f":"IF(syoriyou!D1159=\"\",\"\",syoriyou!D1159)","v":""},{"$f":"IF(syoriyou!E1159=\"\",\"\",syoriyou!E1159)","v":""},{"$f":"IF(syoriyou!F1159=\"\",\"\",syoriyou!F1159)","v":""},{"$f":"IF(syoriyou!G1159=\"\",\"\",syoriyou!G1159)","v":""},{"$f":"IF(syoriyou!H1159=\"\",\"\",syoriyou!H1159)","v":""},{"$f":"IF(syoriyou!I1159=\"\",\"\",syoriyou!I1159)","v":""},{"$f":"IF(syoriyou!J1159=\"\",\"\",syoriyou!N1159)","v":""}]
[{"$f":"IF(syoriyou!A1160=\"\",\"\",syoriyou!A1160)","v":""},{"$f":"IF(syoriyou!B1160=\"\",\"\",syoriyou!B1160)","v":""},{"$f":"IF(syoriyou!C1160=\"\",\"\",syoriyou!C1160)","v":""},{"$f":"IF(syoriyou!D1160=\"\",\"\",syoriyou!D1160)","v":""},{"$f":"IF(syoriyou!E1160=\"\",\"\",syoriyou!E1160)","v":""},{"$f":"IF(syoriyou!F1160=\"\",\"\",syoriyou!F1160)","v":""},{"$f":"IF(syoriyou!G1160=\"\",\"\",syoriyou!G1160)","v":""},{"$f":"IF(syoriyou!H1160=\"\",\"\",syoriyou!H1160)","v":""},{"$f":"IF(syoriyou!I1160=\"\",\"\",syoriyou!I1160)","v":""},{"$f":"IF(syoriyou!J1160=\"\",\"\",syoriyou!N1160)","v":""}]
[{"$f":"IF(syoriyou!A1161=\"\",\"\",syoriyou!A1161)","v":""},{"$f":"IF(syoriyou!B1161=\"\",\"\",syoriyou!B1161)","v":""},{"$f":"IF(syoriyou!C1161=\"\",\"\",syoriyou!C1161)","v":""},{"$f":"IF(syoriyou!D1161=\"\",\"\",syoriyou!D1161)","v":""},{"$f":"IF(syoriyou!E1161=\"\",\"\",syoriyou!E1161)","v":""},{"$f":"IF(syoriyou!F1161=\"\",\"\",syoriyou!F1161)","v":""},{"$f":"IF(syoriyou!G1161=\"\",\"\",syoriyou!G1161)","v":""},{"$f":"IF(syoriyou!H1161=\"\",\"\",syoriyou!H1161)","v":""},{"$f":"IF(syoriyou!I1161=\"\",\"\",syoriyou!I1161)","v":""},{"$f":"IF(syoriyou!J1161=\"\",\"\",syoriyou!N1161)","v":""}]
[{"$f":"IF(syoriyou!A1162=\"\",\"\",syoriyou!A1162)","v":""},{"$f":"IF(syoriyou!B1162=\"\",\"\",syoriyou!B1162)","v":""},{"$f":"IF(syoriyou!C1162=\"\",\"\",syoriyou!C1162)","v":""},{"$f":"IF(syoriyou!D1162=\"\",\"\",syoriyou!D1162)","v":""},{"$f":"IF(syoriyou!E1162=\"\",\"\",syoriyou!E1162)","v":""},{"$f":"IF(syoriyou!F1162=\"\",\"\",syoriyou!F1162)","v":""},{"$f":"IF(syoriyou!G1162=\"\",\"\",syoriyou!G1162)","v":""},{"$f":"IF(syoriyou!H1162=\"\",\"\",syoriyou!H1162)","v":""},{"$f":"IF(syoriyou!I1162=\"\",\"\",syoriyou!I1162)","v":""},{"$f":"IF(syoriyou!J1162=\"\",\"\",syoriyou!N1162)","v":""}]
[{"$f":"IF(syoriyou!A1163=\"\",\"\",syoriyou!A1163)","v":""},{"$f":"IF(syoriyou!B1163=\"\",\"\",syoriyou!B1163)","v":""},{"$f":"IF(syoriyou!C1163=\"\",\"\",syoriyou!C1163)","v":""},{"$f":"IF(syoriyou!D1163=\"\",\"\",syoriyou!D1163)","v":""},{"$f":"IF(syoriyou!E1163=\"\",\"\",syoriyou!E1163)","v":""},{"$f":"IF(syoriyou!F1163=\"\",\"\",syoriyou!F1163)","v":""},{"$f":"IF(syoriyou!G1163=\"\",\"\",syoriyou!G1163)","v":""},{"$f":"IF(syoriyou!H1163=\"\",\"\",syoriyou!H1163)","v":""},{"$f":"IF(syoriyou!I1163=\"\",\"\",syoriyou!I1163)","v":""},{"$f":"IF(syoriyou!J1163=\"\",\"\",syoriyou!N1163)","v":""}]
[{"$f":"IF(syoriyou!A1164=\"\",\"\",syoriyou!A1164)","v":""},{"$f":"IF(syoriyou!B1164=\"\",\"\",syoriyou!B1164)","v":""},{"$f":"IF(syoriyou!C1164=\"\",\"\",syoriyou!C1164)","v":""},{"$f":"IF(syoriyou!D1164=\"\",\"\",syoriyou!D1164)","v":""},{"$f":"IF(syoriyou!E1164=\"\",\"\",syoriyou!E1164)","v":""},{"$f":"IF(syoriyou!F1164=\"\",\"\",syoriyou!F1164)","v":""},{"$f":"IF(syoriyou!G1164=\"\",\"\",syoriyou!G1164)","v":""},{"$f":"IF(syoriyou!H1164=\"\",\"\",syoriyou!H1164)","v":""},{"$f":"IF(syoriyou!I1164=\"\",\"\",syoriyou!I1164)","v":""},{"$f":"IF(syoriyou!J1164=\"\",\"\",syoriyou!N1164)","v":""}]
[{"$f":"IF(syoriyou!A1165=\"\",\"\",syoriyou!A1165)","v":""},{"$f":"IF(syoriyou!B1165=\"\",\"\",syoriyou!B1165)","v":""},{"$f":"IF(syoriyou!C1165=\"\",\"\",syoriyou!C1165)","v":""},{"$f":"IF(syoriyou!D1165=\"\",\"\",syoriyou!D1165)","v":""},{"$f":"IF(syoriyou!E1165=\"\",\"\",syoriyou!E1165)","v":""},{"$f":"IF(syoriyou!F1165=\"\",\"\",syoriyou!F1165)","v":""},{"$f":"IF(syoriyou!G1165=\"\",\"\",syoriyou!G1165)","v":""},{"$f":"IF(syoriyou!H1165=\"\",\"\",syoriyou!H1165)","v":""},{"$f":"IF(syoriyou!I1165=\"\",\"\",syoriyou!I1165)","v":""},{"$f":"IF(syoriyou!J1165=\"\",\"\",syoriyou!N1165)","v":""}]
[{"$f":"IF(syoriyou!A1166=\"\",\"\",syoriyou!A1166)","v":""},{"$f":"IF(syoriyou!B1166=\"\",\"\",syoriyou!B1166)","v":""},{"$f":"IF(syoriyou!C1166=\"\",\"\",syoriyou!C1166)","v":""},{"$f":"IF(syoriyou!D1166=\"\",\"\",syoriyou!D1166)","v":""},{"$f":"IF(syoriyou!E1166=\"\",\"\",syoriyou!E1166)","v":""},{"$f":"IF(syoriyou!F1166=\"\",\"\",syoriyou!F1166)","v":""},{"$f":"IF(syoriyou!G1166=\"\",\"\",syoriyou!G1166)","v":""},{"$f":"IF(syoriyou!H1166=\"\",\"\",syoriyou!H1166)","v":""},{"$f":"IF(syoriyou!I1166=\"\",\"\",syoriyou!I1166)","v":""},{"$f":"IF(syoriyou!J1166=\"\",\"\",syoriyou!N1166)","v":""}]
[{"$f":"IF(syoriyou!A1167=\"\",\"\",syoriyou!A1167)","v":""},{"$f":"IF(syoriyou!B1167=\"\",\"\",syoriyou!B1167)","v":""},{"$f":"IF(syoriyou!C1167=\"\",\"\",syoriyou!C1167)","v":""},{"$f":"IF(syoriyou!D1167=\"\",\"\",syoriyou!D1167)","v":""},{"$f":"IF(syoriyou!E1167=\"\",\"\",syoriyou!E1167)","v":""},{"$f":"IF(syoriyou!F1167=\"\",\"\",syoriyou!F1167)","v":""},{"$f":"IF(syoriyou!G1167=\"\",\"\",syoriyou!G1167)","v":""},{"$f":"IF(syoriyou!H1167=\"\",\"\",syoriyou!H1167)","v":""},{"$f":"IF(syoriyou!I1167=\"\",\"\",syoriyou!I1167)","v":""},{"$f":"IF(syoriyou!J1167=\"\",\"\",syoriyou!N1167)","v":""}]
[{"$f":"IF(syoriyou!A1168=\"\",\"\",syoriyou!A1168)","v":""},{"$f":"IF(syoriyou!B1168=\"\",\"\",syoriyou!B1168)","v":""},{"$f":"IF(syoriyou!C1168=\"\",\"\",syoriyou!C1168)","v":""},{"$f":"IF(syoriyou!D1168=\"\",\"\",syoriyou!D1168)","v":""},{"$f":"IF(syoriyou!E1168=\"\",\"\",syoriyou!E1168)","v":""},{"$f":"IF(syoriyou!F1168=\"\",\"\",syoriyou!F1168)","v":""},{"$f":"IF(syoriyou!G1168=\"\",\"\",syoriyou!G1168)","v":""},{"$f":"IF(syoriyou!H1168=\"\",\"\",syoriyou!H1168)","v":""},{"$f":"IF(syoriyou!I1168=\"\",\"\",syoriyou!I1168)","v":""},{"$f":"IF(syoriyou!J1168=\"\",\"\",syoriyou!N1168)","v":""}]
[{"$f":"IF(syoriyou!A1169=\"\",\"\",syoriyou!A1169)","v":""},{"$f":"IF(syoriyou!B1169=\"\",\"\",syoriyou!B1169)","v":""},{"$f":"IF(syoriyou!C1169=\"\",\"\",syoriyou!C1169)","v":""},{"$f":"IF(syoriyou!D1169=\"\",\"\",syoriyou!D1169)","v":""},{"$f":"IF(syoriyou!E1169=\"\",\"\",syoriyou!E1169)","v":""},{"$f":"IF(syoriyou!F1169=\"\",\"\",syoriyou!F1169)","v":""},{"$f":"IF(syoriyou!G1169=\"\",\"\",syoriyou!G1169)","v":""},{"$f":"IF(syoriyou!H1169=\"\",\"\",syoriyou!H1169)","v":""},{"$f":"IF(syoriyou!I1169=\"\",\"\",syoriyou!I1169)","v":""},{"$f":"IF(syoriyou!J1169=\"\",\"\",syoriyou!N1169)","v":""}]
[{"$f":"IF(syoriyou!A1170=\"\",\"\",syoriyou!A1170)","v":""},{"$f":"IF(syoriyou!B1170=\"\",\"\",syoriyou!B1170)","v":""},{"$f":"IF(syoriyou!C1170=\"\",\"\",syoriyou!C1170)","v":""},{"$f":"IF(syoriyou!D1170=\"\",\"\",syoriyou!D1170)","v":""},{"$f":"IF(syoriyou!E1170=\"\",\"\",syoriyou!E1170)","v":""},{"$f":"IF(syoriyou!F1170=\"\",\"\",syoriyou!F1170)","v":""},{"$f":"IF(syoriyou!G1170=\"\",\"\",syoriyou!G1170)","v":""},{"$f":"IF(syoriyou!H1170=\"\",\"\",syoriyou!H1170)","v":""},{"$f":"IF(syoriyou!I1170=\"\",\"\",syoriyou!I1170)","v":""},{"$f":"IF(syoriyou!J1170=\"\",\"\",syoriyou!N1170)","v":""}]
[{"$f":"IF(syoriyou!A1171=\"\",\"\",syoriyou!A1171)","v":""},{"$f":"IF(syoriyou!B1171=\"\",\"\",syoriyou!B1171)","v":""},{"$f":"IF(syoriyou!C1171=\"\",\"\",syoriyou!C1171)","v":""},{"$f":"IF(syoriyou!D1171=\"\",\"\",syoriyou!D1171)","v":""},{"$f":"IF(syoriyou!E1171=\"\",\"\",syoriyou!E1171)","v":""},{"$f":"IF(syoriyou!F1171=\"\",\"\",syoriyou!F1171)","v":""},{"$f":"IF(syoriyou!G1171=\"\",\"\",syoriyou!G1171)","v":""},{"$f":"IF(syoriyou!H1171=\"\",\"\",syoriyou!H1171)","v":""},{"$f":"IF(syoriyou!I1171=\"\",\"\",syoriyou!I1171)","v":""},{"$f":"IF(syoriyou!J1171=\"\",\"\",syoriyou!N1171)","v":""}]
[{"$f":"IF(syoriyou!A1172=\"\",\"\",syoriyou!A1172)","v":""},{"$f":"IF(syoriyou!B1172=\"\",\"\",syoriyou!B1172)","v":""},{"$f":"IF(syoriyou!C1172=\"\",\"\",syoriyou!C1172)","v":""},{"$f":"IF(syoriyou!D1172=\"\",\"\",syoriyou!D1172)","v":""},{"$f":"IF(syoriyou!E1172=\"\",\"\",syoriyou!E1172)","v":""},{"$f":"IF(syoriyou!F1172=\"\",\"\",syoriyou!F1172)","v":""},{"$f":"IF(syoriyou!G1172=\"\",\"\",syoriyou!G1172)","v":""},{"$f":"IF(syoriyou!H1172=\"\",\"\",syoriyou!H1172)","v":""},{"$f":"IF(syoriyou!I1172=\"\",\"\",syoriyou!I1172)","v":""},{"$f":"IF(syoriyou!J1172=\"\",\"\",syoriyou!N1172)","v":""}]
[{"$f":"IF(syoriyou!A1173=\"\",\"\",syoriyou!A1173)","v":""},{"$f":"IF(syoriyou!B1173=\"\",\"\",syoriyou!B1173)","v":""},{"$f":"IF(syoriyou!C1173=\"\",\"\",syoriyou!C1173)","v":""},{"$f":"IF(syoriyou!D1173=\"\",\"\",syoriyou!D1173)","v":""},{"$f":"IF(syoriyou!E1173=\"\",\"\",syoriyou!E1173)","v":""},{"$f":"IF(syoriyou!F1173=\"\",\"\",syoriyou!F1173)","v":""},{"$f":"IF(syoriyou!G1173=\"\",\"\",syoriyou!G1173)","v":""},{"$f":"IF(syoriyou!H1173=\"\",\"\",syoriyou!H1173)","v":""},{"$f":"IF(syoriyou!I1173=\"\",\"\",syoriyou!I1173)","v":""},{"$f":"IF(syoriyou!J1173=\"\",\"\",syoriyou!N1173)","v":""}]
[{"$f":"IF(syoriyou!A1174=\"\",\"\",syoriyou!A1174)","v":""},{"$f":"IF(syoriyou!B1174=\"\",\"\",syoriyou!B1174)","v":""},{"$f":"IF(syoriyou!C1174=\"\",\"\",syoriyou!C1174)","v":""},{"$f":"IF(syoriyou!D1174=\"\",\"\",syoriyou!D1174)","v":""},{"$f":"IF(syoriyou!E1174=\"\",\"\",syoriyou!E1174)","v":""},{"$f":"IF(syoriyou!F1174=\"\",\"\",syoriyou!F1174)","v":""},{"$f":"IF(syoriyou!G1174=\"\",\"\",syoriyou!G1174)","v":""},{"$f":"IF(syoriyou!H1174=\"\",\"\",syoriyou!H1174)","v":""},{"$f":"IF(syoriyou!I1174=\"\",\"\",syoriyou!I1174)","v":""},{"$f":"IF(syoriyou!J1174=\"\",\"\",syoriyou!N1174)","v":""}]
[{"$f":"IF(syoriyou!A1175=\"\",\"\",syoriyou!A1175)","v":""},{"$f":"IF(syoriyou!B1175=\"\",\"\",syoriyou!B1175)","v":""},{"$f":"IF(syoriyou!C1175=\"\",\"\",syoriyou!C1175)","v":""},{"$f":"IF(syoriyou!D1175=\"\",\"\",syoriyou!D1175)","v":""},{"$f":"IF(syoriyou!E1175=\"\",\"\",syoriyou!E1175)","v":""},{"$f":"IF(syoriyou!F1175=\"\",\"\",syoriyou!F1175)","v":""},{"$f":"IF(syoriyou!G1175=\"\",\"\",syoriyou!G1175)","v":""},{"$f":"IF(syoriyou!H1175=\"\",\"\",syoriyou!H1175)","v":""},{"$f":"IF(syoriyou!I1175=\"\",\"\",syoriyou!I1175)","v":""},{"$f":"IF(syoriyou!J1175=\"\",\"\",syoriyou!N1175)","v":""}]
[{"$f":"IF(syoriyou!A1176=\"\",\"\",syoriyou!A1176)","v":""},{"$f":"IF(syoriyou!B1176=\"\",\"\",syoriyou!B1176)","v":""},{"$f":"IF(syoriyou!C1176=\"\",\"\",syoriyou!C1176)","v":""},{"$f":"IF(syoriyou!D1176=\"\",\"\",syoriyou!D1176)","v":""},{"$f":"IF(syoriyou!E1176=\"\",\"\",syoriyou!E1176)","v":""},{"$f":"IF(syoriyou!F1176=\"\",\"\",syoriyou!F1176)","v":""},{"$f":"IF(syoriyou!G1176=\"\",\"\",syoriyou!G1176)","v":""},{"$f":"IF(syoriyou!H1176=\"\",\"\",syoriyou!H1176)","v":""},{"$f":"IF(syoriyou!I1176=\"\",\"\",syoriyou!I1176)","v":""},{"$f":"IF(syoriyou!J1176=\"\",\"\",syoriyou!N1176)","v":""}]
[{"$f":"IF(syoriyou!A1177=\"\",\"\",syoriyou!A1177)","v":""},{"$f":"IF(syoriyou!B1177=\"\",\"\",syoriyou!B1177)","v":""},{"$f":"IF(syoriyou!C1177=\"\",\"\",syoriyou!C1177)","v":""},{"$f":"IF(syoriyou!D1177=\"\",\"\",syoriyou!D1177)","v":""},{"$f":"IF(syoriyou!E1177=\"\",\"\",syoriyou!E1177)","v":""},{"$f":"IF(syoriyou!F1177=\"\",\"\",syoriyou!F1177)","v":""},{"$f":"IF(syoriyou!G1177=\"\",\"\",syoriyou!G1177)","v":""},{"$f":"IF(syoriyou!H1177=\"\",\"\",syoriyou!H1177)","v":""},{"$f":"IF(syoriyou!I1177=\"\",\"\",syoriyou!I1177)","v":""},{"$f":"IF(syoriyou!J1177=\"\",\"\",syoriyou!N1177)","v":""}]
[{"$f":"IF(syoriyou!A1178=\"\",\"\",syoriyou!A1178)","v":""},{"$f":"IF(syoriyou!B1178=\"\",\"\",syoriyou!B1178)","v":""},{"$f":"IF(syoriyou!C1178=\"\",\"\",syoriyou!C1178)","v":""},{"$f":"IF(syoriyou!D1178=\"\",\"\",syoriyou!D1178)","v":""},{"$f":"IF(syoriyou!E1178=\"\",\"\",syoriyou!E1178)","v":""},{"$f":"IF(syoriyou!F1178=\"\",\"\",syoriyou!F1178)","v":""},{"$f":"IF(syoriyou!G1178=\"\",\"\",syoriyou!G1178)","v":""},{"$f":"IF(syoriyou!H1178=\"\",\"\",syoriyou!H1178)","v":""},{"$f":"IF(syoriyou!I1178=\"\",\"\",syoriyou!I1178)","v":""},{"$f":"IF(syoriyou!J1178=\"\",\"\",syoriyou!N1178)","v":""}]
[{"$f":"IF(syoriyou!A1179=\"\",\"\",syoriyou!A1179)","v":""},{"$f":"IF(syoriyou!B1179=\"\",\"\",syoriyou!B1179)","v":""},{"$f":"IF(syoriyou!C1179=\"\",\"\",syoriyou!C1179)","v":""},{"$f":"IF(syoriyou!D1179=\"\",\"\",syoriyou!D1179)","v":""},{"$f":"IF(syoriyou!E1179=\"\",\"\",syoriyou!E1179)","v":""},{"$f":"IF(syoriyou!F1179=\"\",\"\",syoriyou!F1179)","v":""},{"$f":"IF(syoriyou!G1179=\"\",\"\",syoriyou!G1179)","v":""},{"$f":"IF(syoriyou!H1179=\"\",\"\",syoriyou!H1179)","v":""},{"$f":"IF(syoriyou!I1179=\"\",\"\",syoriyou!I1179)","v":""},{"$f":"IF(syoriyou!J1179=\"\",\"\",syoriyou!N1179)","v":""}]
[{"$f":"IF(syoriyou!A1180=\"\",\"\",syoriyou!A1180)","v":""},{"$f":"IF(syoriyou!B1180=\"\",\"\",syoriyou!B1180)","v":""},{"$f":"IF(syoriyou!C1180=\"\",\"\",syoriyou!C1180)","v":""},{"$f":"IF(syoriyou!D1180=\"\",\"\",syoriyou!D1180)","v":""},{"$f":"IF(syoriyou!E1180=\"\",\"\",syoriyou!E1180)","v":""},{"$f":"IF(syoriyou!F1180=\"\",\"\",syoriyou!F1180)","v":""},{"$f":"IF(syoriyou!G1180=\"\",\"\",syoriyou!G1180)","v":""},{"$f":"IF(syoriyou!H1180=\"\",\"\",syoriyou!H1180)","v":""},{"$f":"IF(syoriyou!I1180=\"\",\"\",syoriyou!I1180)","v":""},{"$f":"IF(syoriyou!J1180=\"\",\"\",syoriyou!N1180)","v":""}]
[{"$f":"IF(syoriyou!A1181=\"\",\"\",syoriyou!A1181)","v":""},{"$f":"IF(syoriyou!B1181=\"\",\"\",syoriyou!B1181)","v":""},{"$f":"IF(syoriyou!C1181=\"\",\"\",syoriyou!C1181)","v":""},{"$f":"IF(syoriyou!D1181=\"\",\"\",syoriyou!D1181)","v":""},{"$f":"IF(syoriyou!E1181=\"\",\"\",syoriyou!E1181)","v":""},{"$f":"IF(syoriyou!F1181=\"\",\"\",syoriyou!F1181)","v":""},{"$f":"IF(syoriyou!G1181=\"\",\"\",syoriyou!G1181)","v":""},{"$f":"IF(syoriyou!H1181=\"\",\"\",syoriyou!H1181)","v":""},{"$f":"IF(syoriyou!I1181=\"\",\"\",syoriyou!I1181)","v":""},{"$f":"IF(syoriyou!J1181=\"\",\"\",syoriyou!N1181)","v":""}]
[{"$f":"IF(syoriyou!A1182=\"\",\"\",syoriyou!A1182)","v":""},{"$f":"IF(syoriyou!B1182=\"\",\"\",syoriyou!B1182)","v":""},{"$f":"IF(syoriyou!C1182=\"\",\"\",syoriyou!C1182)","v":""},{"$f":"IF(syoriyou!D1182=\"\",\"\",syoriyou!D1182)","v":""},{"$f":"IF(syoriyou!E1182=\"\",\"\",syoriyou!E1182)","v":""},{"$f":"IF(syoriyou!F1182=\"\",\"\",syoriyou!F1182)","v":""},{"$f":"IF(syoriyou!G1182=\"\",\"\",syoriyou!G1182)","v":""},{"$f":"IF(syoriyou!H1182=\"\",\"\",syoriyou!H1182)","v":""},{"$f":"IF(syoriyou!I1182=\"\",\"\",syoriyou!I1182)","v":""},{"$f":"IF(syoriyou!J1182=\"\",\"\",syoriyou!N1182)","v":""}]
[{"$f":"IF(syoriyou!A1183=\"\",\"\",syoriyou!A1183)","v":""},{"$f":"IF(syoriyou!B1183=\"\",\"\",syoriyou!B1183)","v":""},{"$f":"IF(syoriyou!C1183=\"\",\"\",syoriyou!C1183)","v":""},{"$f":"IF(syoriyou!D1183=\"\",\"\",syoriyou!D1183)","v":""},{"$f":"IF(syoriyou!E1183=\"\",\"\",syoriyou!E1183)","v":""},{"$f":"IF(syoriyou!F1183=\"\",\"\",syoriyou!F1183)","v":""},{"$f":"IF(syoriyou!G1183=\"\",\"\",syoriyou!G1183)","v":""},{"$f":"IF(syoriyou!H1183=\"\",\"\",syoriyou!H1183)","v":""},{"$f":"IF(syoriyou!I1183=\"\",\"\",syoriyou!I1183)","v":""},{"$f":"IF(syoriyou!J1183=\"\",\"\",syoriyou!N1183)","v":""}]
[{"$f":"IF(syoriyou!A1184=\"\",\"\",syoriyou!A1184)","v":""},{"$f":"IF(syoriyou!B1184=\"\",\"\",syoriyou!B1184)","v":""},{"$f":"IF(syoriyou!C1184=\"\",\"\",syoriyou!C1184)","v":""},{"$f":"IF(syoriyou!D1184=\"\",\"\",syoriyou!D1184)","v":""},{"$f":"IF(syoriyou!E1184=\"\",\"\",syoriyou!E1184)","v":""},{"$f":"IF(syoriyou!F1184=\"\",\"\",syoriyou!F1184)","v":""},{"$f":"IF(syoriyou!G1184=\"\",\"\",syoriyou!G1184)","v":""},{"$f":"IF(syoriyou!H1184=\"\",\"\",syoriyou!H1184)","v":""},{"$f":"IF(syoriyou!I1184=\"\",\"\",syoriyou!I1184)","v":""},{"$f":"IF(syoriyou!J1184=\"\",\"\",syoriyou!N1184)","v":""}]
[{"$f":"IF(syoriyou!A1185=\"\",\"\",syoriyou!A1185)","v":""},{"$f":"IF(syoriyou!B1185=\"\",\"\",syoriyou!B1185)","v":""},{"$f":"IF(syoriyou!C1185=\"\",\"\",syoriyou!C1185)","v":""},{"$f":"IF(syoriyou!D1185=\"\",\"\",syoriyou!D1185)","v":""},{"$f":"IF(syoriyou!E1185=\"\",\"\",syoriyou!E1185)","v":""},{"$f":"IF(syoriyou!F1185=\"\",\"\",syoriyou!F1185)","v":""},{"$f":"IF(syoriyou!G1185=\"\",\"\",syoriyou!G1185)","v":""},{"$f":"IF(syoriyou!H1185=\"\",\"\",syoriyou!H1185)","v":""},{"$f":"IF(syoriyou!I1185=\"\",\"\",syoriyou!I1185)","v":""},{"$f":"IF(syoriyou!J1185=\"\",\"\",syoriyou!N1185)","v":""}]
[{"$f":"IF(syoriyou!A1186=\"\",\"\",syoriyou!A1186)","v":""},{"$f":"IF(syoriyou!B1186=\"\",\"\",syoriyou!B1186)","v":""},{"$f":"IF(syoriyou!C1186=\"\",\"\",syoriyou!C1186)","v":""},{"$f":"IF(syoriyou!D1186=\"\",\"\",syoriyou!D1186)","v":""},{"$f":"IF(syoriyou!E1186=\"\",\"\",syoriyou!E1186)","v":""},{"$f":"IF(syoriyou!F1186=\"\",\"\",syoriyou!F1186)","v":""},{"$f":"IF(syoriyou!G1186=\"\",\"\",syoriyou!G1186)","v":""},{"$f":"IF(syoriyou!H1186=\"\",\"\",syoriyou!H1186)","v":""},{"$f":"IF(syoriyou!I1186=\"\",\"\",syoriyou!I1186)","v":""},{"$f":"IF(syoriyou!J1186=\"\",\"\",syoriyou!N1186)","v":""}]
[{"$f":"IF(syoriyou!A1187=\"\",\"\",syoriyou!A1187)","v":""},{"$f":"IF(syoriyou!B1187=\"\",\"\",syoriyou!B1187)","v":""},{"$f":"IF(syoriyou!C1187=\"\",\"\",syoriyou!C1187)","v":""},{"$f":"IF(syoriyou!D1187=\"\",\"\",syoriyou!D1187)","v":""},{"$f":"IF(syoriyou!E1187=\"\",\"\",syoriyou!E1187)","v":""},{"$f":"IF(syoriyou!F1187=\"\",\"\",syoriyou!F1187)","v":""},{"$f":"IF(syoriyou!G1187=\"\",\"\",syoriyou!G1187)","v":""},{"$f":"IF(syoriyou!H1187=\"\",\"\",syoriyou!H1187)","v":""},{"$f":"IF(syoriyou!I1187=\"\",\"\",syoriyou!I1187)","v":""},{"$f":"IF(syoriyou!J1187=\"\",\"\",syoriyou!N1187)","v":""}]
[{"$f":"IF(syoriyou!A1188=\"\",\"\",syoriyou!A1188)","v":""},{"$f":"IF(syoriyou!B1188=\"\",\"\",syoriyou!B1188)","v":""},{"$f":"IF(syoriyou!C1188=\"\",\"\",syoriyou!C1188)","v":""},{"$f":"IF(syoriyou!D1188=\"\",\"\",syoriyou!D1188)","v":""},{"$f":"IF(syoriyou!E1188=\"\",\"\",syoriyou!E1188)","v":""},{"$f":"IF(syoriyou!F1188=\"\",\"\",syoriyou!F1188)","v":""},{"$f":"IF(syoriyou!G1188=\"\",\"\",syoriyou!G1188)","v":""},{"$f":"IF(syoriyou!H1188=\"\",\"\",syoriyou!H1188)","v":""},{"$f":"IF(syoriyou!I1188=\"\",\"\",syoriyou!I1188)","v":""},{"$f":"IF(syoriyou!J1188=\"\",\"\",syoriyou!N1188)","v":""}]
[{"$f":"IF(syoriyou!A1189=\"\",\"\",syoriyou!A1189)","v":""},{"$f":"IF(syoriyou!B1189=\"\",\"\",syoriyou!B1189)","v":""},{"$f":"IF(syoriyou!C1189=\"\",\"\",syoriyou!C1189)","v":""},{"$f":"IF(syoriyou!D1189=\"\",\"\",syoriyou!D1189)","v":""},{"$f":"IF(syoriyou!E1189=\"\",\"\",syoriyou!E1189)","v":""},{"$f":"IF(syoriyou!F1189=\"\",\"\",syoriyou!F1189)","v":""},{"$f":"IF(syoriyou!G1189=\"\",\"\",syoriyou!G1189)","v":""},{"$f":"IF(syoriyou!H1189=\"\",\"\",syoriyou!H1189)","v":""},{"$f":"IF(syoriyou!I1189=\"\",\"\",syoriyou!I1189)","v":""},{"$f":"IF(syoriyou!J1189=\"\",\"\",syoriyou!N1189)","v":""}]
[{"$f":"IF(syoriyou!A1190=\"\",\"\",syoriyou!A1190)","v":""},{"$f":"IF(syoriyou!B1190=\"\",\"\",syoriyou!B1190)","v":""},{"$f":"IF(syoriyou!C1190=\"\",\"\",syoriyou!C1190)","v":""},{"$f":"IF(syoriyou!D1190=\"\",\"\",syoriyou!D1190)","v":""},{"$f":"IF(syoriyou!E1190=\"\",\"\",syoriyou!E1190)","v":""},{"$f":"IF(syoriyou!F1190=\"\",\"\",syoriyou!F1190)","v":""},{"$f":"IF(syoriyou!G1190=\"\",\"\",syoriyou!G1190)","v":""},{"$f":"IF(syoriyou!H1190=\"\",\"\",syoriyou!H1190)","v":""},{"$f":"IF(syoriyou!I1190=\"\",\"\",syoriyou!I1190)","v":""},{"$f":"IF(syoriyou!J1190=\"\",\"\",syoriyou!N1190)","v":""}]
[{"$f":"IF(syoriyou!A1191=\"\",\"\",syoriyou!A1191)","v":""},{"$f":"IF(syoriyou!B1191=\"\",\"\",syoriyou!B1191)","v":""},{"$f":"IF(syoriyou!C1191=\"\",\"\",syoriyou!C1191)","v":""},{"$f":"IF(syoriyou!D1191=\"\",\"\",syoriyou!D1191)","v":""},{"$f":"IF(syoriyou!E1191=\"\",\"\",syoriyou!E1191)","v":""},{"$f":"IF(syoriyou!F1191=\"\",\"\",syoriyou!F1191)","v":""},{"$f":"IF(syoriyou!G1191=\"\",\"\",syoriyou!G1191)","v":""},{"$f":"IF(syoriyou!H1191=\"\",\"\",syoriyou!H1191)","v":""},{"$f":"IF(syoriyou!I1191=\"\",\"\",syoriyou!I1191)","v":""},{"$f":"IF(syoriyou!J1191=\"\",\"\",syoriyou!N1191)","v":""}]
[{"$f":"IF(syoriyou!A1192=\"\",\"\",syoriyou!A1192)","v":""},{"$f":"IF(syoriyou!B1192=\"\",\"\",syoriyou!B1192)","v":""},{"$f":"IF(syoriyou!C1192=\"\",\"\",syoriyou!C1192)","v":""},{"$f":"IF(syoriyou!D1192=\"\",\"\",syoriyou!D1192)","v":""},{"$f":"IF(syoriyou!E1192=\"\",\"\",syoriyou!E1192)","v":""},{"$f":"IF(syoriyou!F1192=\"\",\"\",syoriyou!F1192)","v":""},{"$f":"IF(syoriyou!G1192=\"\",\"\",syoriyou!G1192)","v":""},{"$f":"IF(syoriyou!H1192=\"\",\"\",syoriyou!H1192)","v":""},{"$f":"IF(syoriyou!I1192=\"\",\"\",syoriyou!I1192)","v":""},{"$f":"IF(syoriyou!J1192=\"\",\"\",syoriyou!N1192)","v":""}]
[{"$f":"IF(syoriyou!A1193=\"\",\"\",syoriyou!A1193)","v":""},{"$f":"IF(syoriyou!B1193=\"\",\"\",syoriyou!B1193)","v":""},{"$f":"IF(syoriyou!C1193=\"\",\"\",syoriyou!C1193)","v":""},{"$f":"IF(syoriyou!D1193=\"\",\"\",syoriyou!D1193)","v":""},{"$f":"IF(syoriyou!E1193=\"\",\"\",syoriyou!E1193)","v":""},{"$f":"IF(syoriyou!F1193=\"\",\"\",syoriyou!F1193)","v":""},{"$f":"IF(syoriyou!G1193=\"\",\"\",syoriyou!G1193)","v":""},{"$f":"IF(syoriyou!H1193=\"\",\"\",syoriyou!H1193)","v":""},{"$f":"IF(syoriyou!I1193=\"\",\"\",syoriyou!I1193)","v":""},{"$f":"IF(syoriyou!J1193=\"\",\"\",syoriyou!N1193)","v":""}]
[{"$f":"IF(syoriyou!A1194=\"\",\"\",syoriyou!A1194)","v":""},{"$f":"IF(syoriyou!B1194=\"\",\"\",syoriyou!B1194)","v":""},{"$f":"IF(syoriyou!C1194=\"\",\"\",syoriyou!C1194)","v":""},{"$f":"IF(syoriyou!D1194=\"\",\"\",syoriyou!D1194)","v":""},{"$f":"IF(syoriyou!E1194=\"\",\"\",syoriyou!E1194)","v":""},{"$f":"IF(syoriyou!F1194=\"\",\"\",syoriyou!F1194)","v":""},{"$f":"IF(syoriyou!G1194=\"\",\"\",syoriyou!G1194)","v":""},{"$f":"IF(syoriyou!H1194=\"\",\"\",syoriyou!H1194)","v":""},{"$f":"IF(syoriyou!I1194=\"\",\"\",syoriyou!I1194)","v":""},{"$f":"IF(syoriyou!J1194=\"\",\"\",syoriyou!N1194)","v":""}]
[{"$f":"IF(syoriyou!A1195=\"\",\"\",syoriyou!A1195)","v":""},{"$f":"IF(syoriyou!B1195=\"\",\"\",syoriyou!B1195)","v":""},{"$f":"IF(syoriyou!C1195=\"\",\"\",syoriyou!C1195)","v":""},{"$f":"IF(syoriyou!D1195=\"\",\"\",syoriyou!D1195)","v":""},{"$f":"IF(syoriyou!E1195=\"\",\"\",syoriyou!E1195)","v":""},{"$f":"IF(syoriyou!F1195=\"\",\"\",syoriyou!F1195)","v":""},{"$f":"IF(syoriyou!G1195=\"\",\"\",syoriyou!G1195)","v":""},{"$f":"IF(syoriyou!H1195=\"\",\"\",syoriyou!H1195)","v":""},{"$f":"IF(syoriyou!I1195=\"\",\"\",syoriyou!I1195)","v":""},{"$f":"IF(syoriyou!J1195=\"\",\"\",syoriyou!N1195)","v":""}]
[{"$f":"IF(syoriyou!A1196=\"\",\"\",syoriyou!A1196)","v":""},{"$f":"IF(syoriyou!B1196=\"\",\"\",syoriyou!B1196)","v":""},{"$f":"IF(syoriyou!C1196=\"\",\"\",syoriyou!C1196)","v":""},{"$f":"IF(syoriyou!D1196=\"\",\"\",syoriyou!D1196)","v":""},{"$f":"IF(syoriyou!E1196=\"\",\"\",syoriyou!E1196)","v":""},{"$f":"IF(syoriyou!F1196=\"\",\"\",syoriyou!F1196)","v":""},{"$f":"IF(syoriyou!G1196=\"\",\"\",syoriyou!G1196)","v":""},{"$f":"IF(syoriyou!H1196=\"\",\"\",syoriyou!H1196)","v":""},{"$f":"IF(syoriyou!I1196=\"\",\"\",syoriyou!I1196)","v":""},{"$f":"IF(syoriyou!J1196=\"\",\"\",syoriyou!N1196)","v":""}]
[{"$f":"IF(syoriyou!A1197=\"\",\"\",syoriyou!A1197)","v":""},{"$f":"IF(syoriyou!B1197=\"\",\"\",syoriyou!B1197)","v":""},{"$f":"IF(syoriyou!C1197=\"\",\"\",syoriyou!C1197)","v":""},{"$f":"IF(syoriyou!D1197=\"\",\"\",syoriyou!D1197)","v":""},{"$f":"IF(syoriyou!E1197=\"\",\"\",syoriyou!E1197)","v":""},{"$f":"IF(syoriyou!F1197=\"\",\"\",syoriyou!F1197)","v":""},{"$f":"IF(syoriyou!G1197=\"\",\"\",syoriyou!G1197)","v":""},{"$f":"IF(syoriyou!H1197=\"\",\"\",syoriyou!H1197)","v":""},{"$f":"IF(syoriyou!I1197=\"\",\"\",syoriyou!I1197)","v":""},{"$f":"IF(syoriyou!J1197=\"\",\"\",syoriyou!N1197)","v":""}]
[{"$f":"IF(syoriyou!A1198=\"\",\"\",syoriyou!A1198)","v":""},{"$f":"IF(syoriyou!B1198=\"\",\"\",syoriyou!B1198)","v":""},{"$f":"IF(syoriyou!C1198=\"\",\"\",syoriyou!C1198)","v":""},{"$f":"IF(syoriyou!D1198=\"\",\"\",syoriyou!D1198)","v":""},{"$f":"IF(syoriyou!E1198=\"\",\"\",syoriyou!E1198)","v":""},{"$f":"IF(syoriyou!F1198=\"\",\"\",syoriyou!F1198)","v":""},{"$f":"IF(syoriyou!G1198=\"\",\"\",syoriyou!G1198)","v":""},{"$f":"IF(syoriyou!H1198=\"\",\"\",syoriyou!H1198)","v":""},{"$f":"IF(syoriyou!I1198=\"\",\"\",syoriyou!I1198)","v":""},{"$f":"IF(syoriyou!J1198=\"\",\"\",syoriyou!N1198)","v":""}]
[{"$f":"IF(syoriyou!A1199=\"\",\"\",syoriyou!A1199)","v":""},{"$f":"IF(syoriyou!B1199=\"\",\"\",syoriyou!B1199)","v":""},{"$f":"IF(syoriyou!C1199=\"\",\"\",syoriyou!C1199)","v":""},{"$f":"IF(syoriyou!D1199=\"\",\"\",syoriyou!D1199)","v":""},{"$f":"IF(syoriyou!E1199=\"\",\"\",syoriyou!E1199)","v":""},{"$f":"IF(syoriyou!F1199=\"\",\"\",syoriyou!F1199)","v":""},{"$f":"IF(syoriyou!G1199=\"\",\"\",syoriyou!G1199)","v":""},{"$f":"IF(syoriyou!H1199=\"\",\"\",syoriyou!H1199)","v":""},{"$f":"IF(syoriyou!I1199=\"\",\"\",syoriyou!I1199)","v":""},{"$f":"IF(syoriyou!J1199=\"\",\"\",syoriyou!N1199)","v":""}]
[{"$f":"IF(syoriyou!A1200=\"\",\"\",syoriyou!A1200)","v":""},{"$f":"IF(syoriyou!B1200=\"\",\"\",syoriyou!B1200)","v":""},{"$f":"IF(syoriyou!C1200=\"\",\"\",syoriyou!C1200)","v":""},{"$f":"IF(syoriyou!D1200=\"\",\"\",syoriyou!D1200)","v":""},{"$f":"IF(syoriyou!E1200=\"\",\"\",syoriyou!E1200)","v":""},{"$f":"IF(syoriyou!F1200=\"\",\"\",syoriyou!F1200)","v":""},{"$f":"IF(syoriyou!G1200=\"\",\"\",syoriyou!G1200)","v":""},{"$f":"IF(syoriyou!H1200=\"\",\"\",syoriyou!H1200)","v":""},{"$f":"IF(syoriyou!I1200=\"\",\"\",syoriyou!I1200)","v":""},{"$f":"IF(syoriyou!J1200=\"\",\"\",syoriyou!N1200)","v":""}]
[{"$f":"IF(syoriyou!A1201=\"\",\"\",syoriyou!A1201)","v":""},{"$f":"IF(syoriyou!B1201=\"\",\"\",syoriyou!B1201)","v":""},{"$f":"IF(syoriyou!C1201=\"\",\"\",syoriyou!C1201)","v":""},{"$f":"IF(syoriyou!D1201=\"\",\"\",syoriyou!D1201)","v":""},{"$f":"IF(syoriyou!E1201=\"\",\"\",syoriyou!E1201)","v":""},{"$f":"IF(syoriyou!F1201=\"\",\"\",syoriyou!F1201)","v":""},{"$f":"IF(syoriyou!G1201=\"\",\"\",syoriyou!G1201)","v":""},{"$f":"IF(syoriyou!H1201=\"\",\"\",syoriyou!H1201)","v":""},{"$f":"IF(syoriyou!I1201=\"\",\"\",syoriyou!I1201)","v":""},{"$f":"IF(syoriyou!J1201=\"\",\"\",syoriyou!N1201)","v":""}]
[{"$f":"IF(syoriyou!A1202=\"\",\"\",syoriyou!A1202)","v":""},{"$f":"IF(syoriyou!B1202=\"\",\"\",syoriyou!B1202)","v":""},{"$f":"IF(syoriyou!C1202=\"\",\"\",syoriyou!C1202)","v":""},{"$f":"IF(syoriyou!D1202=\"\",\"\",syoriyou!D1202)","v":""},{"$f":"IF(syoriyou!E1202=\"\",\"\",syoriyou!E1202)","v":""},{"$f":"IF(syoriyou!F1202=\"\",\"\",syoriyou!F1202)","v":""},{"$f":"IF(syoriyou!G1202=\"\",\"\",syoriyou!G1202)","v":""},{"$f":"IF(syoriyou!H1202=\"\",\"\",syoriyou!H1202)","v":""},{"$f":"IF(syoriyou!I1202=\"\",\"\",syoriyou!I1202)","v":""},{"$f":"IF(syoriyou!J1202=\"\",\"\",syoriyou!N1202)","v":""}]
[{"$f":"IF(syoriyou!A1203=\"\",\"\",syoriyou!A1203)","v":""},{"$f":"IF(syoriyou!B1203=\"\",\"\",syoriyou!B1203)","v":""},{"$f":"IF(syoriyou!C1203=\"\",\"\",syoriyou!C1203)","v":""},{"$f":"IF(syoriyou!D1203=\"\",\"\",syoriyou!D1203)","v":""},{"$f":"IF(syoriyou!E1203=\"\",\"\",syoriyou!E1203)","v":""},{"$f":"IF(syoriyou!F1203=\"\",\"\",syoriyou!F1203)","v":""},{"$f":"IF(syoriyou!G1203=\"\",\"\",syoriyou!G1203)","v":""},{"$f":"IF(syoriyou!H1203=\"\",\"\",syoriyou!H1203)","v":""},{"$f":"IF(syoriyou!I1203=\"\",\"\",syoriyou!I1203)","v":""},{"$f":"IF(syoriyou!J1203=\"\",\"\",syoriyou!N1203)","v":""}]
[{"$f":"IF(syoriyou!A1204=\"\",\"\",syoriyou!A1204)","v":""},{"$f":"IF(syoriyou!B1204=\"\",\"\",syoriyou!B1204)","v":""},{"$f":"IF(syoriyou!C1204=\"\",\"\",syoriyou!C1204)","v":""},{"$f":"IF(syoriyou!D1204=\"\",\"\",syoriyou!D1204)","v":""},{"$f":"IF(syoriyou!E1204=\"\",\"\",syoriyou!E1204)","v":""},{"$f":"IF(syoriyou!F1204=\"\",\"\",syoriyou!F1204)","v":""},{"$f":"IF(syoriyou!G1204=\"\",\"\",syoriyou!G1204)","v":""},{"$f":"IF(syoriyou!H1204=\"\",\"\",syoriyou!H1204)","v":""},{"$f":"IF(syoriyou!I1204=\"\",\"\",syoriyou!I1204)","v":""},{"$f":"IF(syoriyou!J1204=\"\",\"\",syoriyou!N1204)","v":""}]
[{"$f":"IF(syoriyou!A1205=\"\",\"\",syoriyou!A1205)","v":""},{"$f":"IF(syoriyou!B1205=\"\",\"\",syoriyou!B1205)","v":""},{"$f":"IF(syoriyou!C1205=\"\",\"\",syoriyou!C1205)","v":""},{"$f":"IF(syoriyou!D1205=\"\",\"\",syoriyou!D1205)","v":""},{"$f":"IF(syoriyou!E1205=\"\",\"\",syoriyou!E1205)","v":""},{"$f":"IF(syoriyou!F1205=\"\",\"\",syoriyou!F1205)","v":""},{"$f":"IF(syoriyou!G1205=\"\",\"\",syoriyou!G1205)","v":""},{"$f":"IF(syoriyou!H1205=\"\",\"\",syoriyou!H1205)","v":""},{"$f":"IF(syoriyou!I1205=\"\",\"\",syoriyou!I1205)","v":""},{"$f":"IF(syoriyou!J1205=\"\",\"\",syoriyou!N1205)","v":""}]
[{"$f":"IF(syoriyou!A1206=\"\",\"\",syoriyou!A1206)","v":""},{"$f":"IF(syoriyou!B1206=\"\",\"\",syoriyou!B1206)","v":""},{"$f":"IF(syoriyou!C1206=\"\",\"\",syoriyou!C1206)","v":""},{"$f":"IF(syoriyou!D1206=\"\",\"\",syoriyou!D1206)","v":""},{"$f":"IF(syoriyou!E1206=\"\",\"\",syoriyou!E1206)","v":""},{"$f":"IF(syoriyou!F1206=\"\",\"\",syoriyou!F1206)","v":""},{"$f":"IF(syoriyou!G1206=\"\",\"\",syoriyou!G1206)","v":""},{"$f":"IF(syoriyou!H1206=\"\",\"\",syoriyou!H1206)","v":""},{"$f":"IF(syoriyou!I1206=\"\",\"\",syoriyou!I1206)","v":""},{"$f":"IF(syoriyou!J1206=\"\",\"\",syoriyou!N1206)","v":""}]
[{"$f":"IF(syoriyou!A1207=\"\",\"\",syoriyou!A1207)","v":""},{"$f":"IF(syoriyou!B1207=\"\",\"\",syoriyou!B1207)","v":""},{"$f":"IF(syoriyou!C1207=\"\",\"\",syoriyou!C1207)","v":""},{"$f":"IF(syoriyou!D1207=\"\",\"\",syoriyou!D1207)","v":""},{"$f":"IF(syoriyou!E1207=\"\",\"\",syoriyou!E1207)","v":""},{"$f":"IF(syoriyou!F1207=\"\",\"\",syoriyou!F1207)","v":""},{"$f":"IF(syoriyou!G1207=\"\",\"\",syoriyou!G1207)","v":""},{"$f":"IF(syoriyou!H1207=\"\",\"\",syoriyou!H1207)","v":""},{"$f":"IF(syoriyou!I1207=\"\",\"\",syoriyou!I1207)","v":""},{"$f":"IF(syoriyou!J1207=\"\",\"\",syoriyou!N1207)","v":""}]
[{"$f":"IF(syoriyou!A1208=\"\",\"\",syoriyou!A1208)","v":""},{"$f":"IF(syoriyou!B1208=\"\",\"\",syoriyou!B1208)","v":""},{"$f":"IF(syoriyou!C1208=\"\",\"\",syoriyou!C1208)","v":""},{"$f":"IF(syoriyou!D1208=\"\",\"\",syoriyou!D1208)","v":""},{"$f":"IF(syoriyou!E1208=\"\",\"\",syoriyou!E1208)","v":""},{"$f":"IF(syoriyou!F1208=\"\",\"\",syoriyou!F1208)","v":""},{"$f":"IF(syoriyou!G1208=\"\",\"\",syoriyou!G1208)","v":""},{"$f":"IF(syoriyou!H1208=\"\",\"\",syoriyou!H1208)","v":""},{"$f":"IF(syoriyou!I1208=\"\",\"\",syoriyou!I1208)","v":""},{"$f":"IF(syoriyou!J1208=\"\",\"\",syoriyou!N1208)","v":""}]
[{"$f":"IF(syoriyou!A1209=\"\",\"\",syoriyou!A1209)","v":""},{"$f":"IF(syoriyou!B1209=\"\",\"\",syoriyou!B1209)","v":""},{"$f":"IF(syoriyou!C1209=\"\",\"\",syoriyou!C1209)","v":""},{"$f":"IF(syoriyou!D1209=\"\",\"\",syoriyou!D1209)","v":""},{"$f":"IF(syoriyou!E1209=\"\",\"\",syoriyou!E1209)","v":""},{"$f":"IF(syoriyou!F1209=\"\",\"\",syoriyou!F1209)","v":""},{"$f":"IF(syoriyou!G1209=\"\",\"\",syoriyou!G1209)","v":""},{"$f":"IF(syoriyou!H1209=\"\",\"\",syoriyou!H1209)","v":""},{"$f":"IF(syoriyou!I1209=\"\",\"\",syoriyou!I1209)","v":""},{"$f":"IF(syoriyou!J1209=\"\",\"\",syoriyou!N1209)","v":""}]
[{"$f":"IF(syoriyou!A1210=\"\",\"\",syoriyou!A1210)","v":""},{"$f":"IF(syoriyou!B1210=\"\",\"\",syoriyou!B1210)","v":""},{"$f":"IF(syoriyou!C1210=\"\",\"\",syoriyou!C1210)","v":""},{"$f":"IF(syoriyou!D1210=\"\",\"\",syoriyou!D1210)","v":""},{"$f":"IF(syoriyou!E1210=\"\",\"\",syoriyou!E1210)","v":""},{"$f":"IF(syoriyou!F1210=\"\",\"\",syoriyou!F1210)","v":""},{"$f":"IF(syoriyou!G1210=\"\",\"\",syoriyou!G1210)","v":""},{"$f":"IF(syoriyou!H1210=\"\",\"\",syoriyou!H1210)","v":""},{"$f":"IF(syoriyou!I1210=\"\",\"\",syoriyou!I1210)","v":""},{"$f":"IF(syoriyou!J1210=\"\",\"\",syoriyou!N1210)","v":""}]
[{"$f":"IF(syoriyou!A1211=\"\",\"\",syoriyou!A1211)","v":""},{"$f":"IF(syoriyou!B1211=\"\",\"\",syoriyou!B1211)","v":""},{"$f":"IF(syoriyou!C1211=\"\",\"\",syoriyou!C1211)","v":""},{"$f":"IF(syoriyou!D1211=\"\",\"\",syoriyou!D1211)","v":""},{"$f":"IF(syoriyou!E1211=\"\",\"\",syoriyou!E1211)","v":""},{"$f":"IF(syoriyou!F1211=\"\",\"\",syoriyou!F1211)","v":""},{"$f":"IF(syoriyou!G1211=\"\",\"\",syoriyou!G1211)","v":""},{"$f":"IF(syoriyou!H1211=\"\",\"\",syoriyou!H1211)","v":""},{"$f":"IF(syoriyou!I1211=\"\",\"\",syoriyou!I1211)","v":""},{"$f":"IF(syoriyou!J1211=\"\",\"\",syoriyou!N1211)","v":""}]
[{"$f":"IF(syoriyou!A1212=\"\",\"\",syoriyou!A1212)","v":""},{"$f":"IF(syoriyou!B1212=\"\",\"\",syoriyou!B1212)","v":""},{"$f":"IF(syoriyou!C1212=\"\",\"\",syoriyou!C1212)","v":""},{"$f":"IF(syoriyou!D1212=\"\",\"\",syoriyou!D1212)","v":""},{"$f":"IF(syoriyou!E1212=\"\",\"\",syoriyou!E1212)","v":""},{"$f":"IF(syoriyou!F1212=\"\",\"\",syoriyou!F1212)","v":""},{"$f":"IF(syoriyou!G1212=\"\",\"\",syoriyou!G1212)","v":""},{"$f":"IF(syoriyou!H1212=\"\",\"\",syoriyou!H1212)","v":""},{"$f":"IF(syoriyou!I1212=\"\",\"\",syoriyou!I1212)","v":""},{"$f":"IF(syoriyou!J1212=\"\",\"\",syoriyou!N1212)","v":""}]
[{"$f":"IF(syoriyou!A1213=\"\",\"\",syoriyou!A1213)","v":""},{"$f":"IF(syoriyou!B1213=\"\",\"\",syoriyou!B1213)","v":""},{"$f":"IF(syoriyou!C1213=\"\",\"\",syoriyou!C1213)","v":""},{"$f":"IF(syoriyou!D1213=\"\",\"\",syoriyou!D1213)","v":""},{"$f":"IF(syoriyou!E1213=\"\",\"\",syoriyou!E1213)","v":""},{"$f":"IF(syoriyou!F1213=\"\",\"\",syoriyou!F1213)","v":""},{"$f":"IF(syoriyou!G1213=\"\",\"\",syoriyou!G1213)","v":""},{"$f":"IF(syoriyou!H1213=\"\",\"\",syoriyou!H1213)","v":""},{"$f":"IF(syoriyou!I1213=\"\",\"\",syoriyou!I1213)","v":""},{"$f":"IF(syoriyou!J1213=\"\",\"\",syoriyou!N1213)","v":""}]
[{"$f":"IF(syoriyou!A1214=\"\",\"\",syoriyou!A1214)","v":""},{"$f":"IF(syoriyou!B1214=\"\",\"\",syoriyou!B1214)","v":""},{"$f":"IF(syoriyou!C1214=\"\",\"\",syoriyou!C1214)","v":""},{"$f":"IF(syoriyou!D1214=\"\",\"\",syoriyou!D1214)","v":""},{"$f":"IF(syoriyou!E1214=\"\",\"\",syoriyou!E1214)","v":""},{"$f":"IF(syoriyou!F1214=\"\",\"\",syoriyou!F1214)","v":""},{"$f":"IF(syoriyou!G1214=\"\",\"\",syoriyou!G1214)","v":""},{"$f":"IF(syoriyou!H1214=\"\",\"\",syoriyou!H1214)","v":""},{"$f":"IF(syoriyou!I1214=\"\",\"\",syoriyou!I1214)","v":""},{"$f":"IF(syoriyou!J1214=\"\",\"\",syoriyou!N1214)","v":""}]
[{"$f":"IF(syoriyou!A1215=\"\",\"\",syoriyou!A1215)","v":""},{"$f":"IF(syoriyou!B1215=\"\",\"\",syoriyou!B1215)","v":""},{"$f":"IF(syoriyou!C1215=\"\",\"\",syoriyou!C1215)","v":""},{"$f":"IF(syoriyou!D1215=\"\",\"\",syoriyou!D1215)","v":""},{"$f":"IF(syoriyou!E1215=\"\",\"\",syoriyou!E1215)","v":""},{"$f":"IF(syoriyou!F1215=\"\",\"\",syoriyou!F1215)","v":""},{"$f":"IF(syoriyou!G1215=\"\",\"\",syoriyou!G1215)","v":""},{"$f":"IF(syoriyou!H1215=\"\",\"\",syoriyou!H1215)","v":""},{"$f":"IF(syoriyou!I1215=\"\",\"\",syoriyou!I1215)","v":""},{"$f":"IF(syoriyou!J1215=\"\",\"\",syoriyou!N1215)","v":""}]
[{"$f":"IF(syoriyou!A1216=\"\",\"\",syoriyou!A1216)","v":""},{"$f":"IF(syoriyou!B1216=\"\",\"\",syoriyou!B1216)","v":""},{"$f":"IF(syoriyou!C1216=\"\",\"\",syoriyou!C1216)","v":""},{"$f":"IF(syoriyou!D1216=\"\",\"\",syoriyou!D1216)","v":""},{"$f":"IF(syoriyou!E1216=\"\",\"\",syoriyou!E1216)","v":""},{"$f":"IF(syoriyou!F1216=\"\",\"\",syoriyou!F1216)","v":""},{"$f":"IF(syoriyou!G1216=\"\",\"\",syoriyou!G1216)","v":""},{"$f":"IF(syoriyou!H1216=\"\",\"\",syoriyou!H1216)","v":""},{"$f":"IF(syoriyou!I1216=\"\",\"\",syoriyou!I1216)","v":""},{"$f":"IF(syoriyou!J1216=\"\",\"\",syoriyou!N1216)","v":""}]
[{"$f":"IF(syoriyou!A1217=\"\",\"\",syoriyou!A1217)","v":""},{"$f":"IF(syoriyou!B1217=\"\",\"\",syoriyou!B1217)","v":""},{"$f":"IF(syoriyou!C1217=\"\",\"\",syoriyou!C1217)","v":""},{"$f":"IF(syoriyou!D1217=\"\",\"\",syoriyou!D1217)","v":""},{"$f":"IF(syoriyou!E1217=\"\",\"\",syoriyou!E1217)","v":""},{"$f":"IF(syoriyou!F1217=\"\",\"\",syoriyou!F1217)","v":""},{"$f":"IF(syoriyou!G1217=\"\",\"\",syoriyou!G1217)","v":""},{"$f":"IF(syoriyou!H1217=\"\",\"\",syoriyou!H1217)","v":""},{"$f":"IF(syoriyou!I1217=\"\",\"\",syoriyou!I1217)","v":""},{"$f":"IF(syoriyou!J1217=\"\",\"\",syoriyou!N1217)","v":""}]
[{"$f":"IF(syoriyou!A1218=\"\",\"\",syoriyou!A1218)","v":""},{"$f":"IF(syoriyou!B1218=\"\",\"\",syoriyou!B1218)","v":""},{"$f":"IF(syoriyou!C1218=\"\",\"\",syoriyou!C1218)","v":""},{"$f":"IF(syoriyou!D1218=\"\",\"\",syoriyou!D1218)","v":""},{"$f":"IF(syoriyou!E1218=\"\",\"\",syoriyou!E1218)","v":""},{"$f":"IF(syoriyou!F1218=\"\",\"\",syoriyou!F1218)","v":""},{"$f":"IF(syoriyou!G1218=\"\",\"\",syoriyou!G1218)","v":""},{"$f":"IF(syoriyou!H1218=\"\",\"\",syoriyou!H1218)","v":""},{"$f":"IF(syoriyou!I1218=\"\",\"\",syoriyou!I1218)","v":""},{"$f":"IF(syoriyou!J1218=\"\",\"\",syoriyou!N1218)","v":""}]
[{"$f":"IF(syoriyou!A1219=\"\",\"\",syoriyou!A1219)","v":""},{"$f":"IF(syoriyou!B1219=\"\",\"\",syoriyou!B1219)","v":""},{"$f":"IF(syoriyou!C1219=\"\",\"\",syoriyou!C1219)","v":""},{"$f":"IF(syoriyou!D1219=\"\",\"\",syoriyou!D1219)","v":""},{"$f":"IF(syoriyou!E1219=\"\",\"\",syoriyou!E1219)","v":""},{"$f":"IF(syoriyou!F1219=\"\",\"\",syoriyou!F1219)","v":""},{"$f":"IF(syoriyou!G1219=\"\",\"\",syoriyou!G1219)","v":""},{"$f":"IF(syoriyou!H1219=\"\",\"\",syoriyou!H1219)","v":""},{"$f":"IF(syoriyou!I1219=\"\",\"\",syoriyou!I1219)","v":""},{"$f":"IF(syoriyou!J1219=\"\",\"\",syoriyou!N1219)","v":""}]
[{"$f":"IF(syoriyou!A1220=\"\",\"\",syoriyou!A1220)","v":""},{"$f":"IF(syoriyou!B1220=\"\",\"\",syoriyou!B1220)","v":""},{"$f":"IF(syoriyou!C1220=\"\",\"\",syoriyou!C1220)","v":""},{"$f":"IF(syoriyou!D1220=\"\",\"\",syoriyou!D1220)","v":""},{"$f":"IF(syoriyou!E1220=\"\",\"\",syoriyou!E1220)","v":""},{"$f":"IF(syoriyou!F1220=\"\",\"\",syoriyou!F1220)","v":""},{"$f":"IF(syoriyou!G1220=\"\",\"\",syoriyou!G1220)","v":""},{"$f":"IF(syoriyou!H1220=\"\",\"\",syoriyou!H1220)","v":""},{"$f":"IF(syoriyou!I1220=\"\",\"\",syoriyou!I1220)","v":""},{"$f":"IF(syoriyou!J1220=\"\",\"\",syoriyou!N1220)","v":""}]
[{"$f":"IF(syoriyou!A1221=\"\",\"\",syoriyou!A1221)","v":""},{"$f":"IF(syoriyou!B1221=\"\",\"\",syoriyou!B1221)","v":""},{"$f":"IF(syoriyou!C1221=\"\",\"\",syoriyou!C1221)","v":""},{"$f":"IF(syoriyou!D1221=\"\",\"\",syoriyou!D1221)","v":""},{"$f":"IF(syoriyou!E1221=\"\",\"\",syoriyou!E1221)","v":""},{"$f":"IF(syoriyou!F1221=\"\",\"\",syoriyou!F1221)","v":""},{"$f":"IF(syoriyou!G1221=\"\",\"\",syoriyou!G1221)","v":""},{"$f":"IF(syoriyou!H1221=\"\",\"\",syoriyou!H1221)","v":""},{"$f":"IF(syoriyou!I1221=\"\",\"\",syoriyou!I1221)","v":""},{"$f":"IF(syoriyou!J1221=\"\",\"\",syoriyou!N1221)","v":""}]
[{"$f":"IF(syoriyou!A1222=\"\",\"\",syoriyou!A1222)","v":""},{"$f":"IF(syoriyou!B1222=\"\",\"\",syoriyou!B1222)","v":""},{"$f":"IF(syoriyou!C1222=\"\",\"\",syoriyou!C1222)","v":""},{"$f":"IF(syoriyou!D1222=\"\",\"\",syoriyou!D1222)","v":""},{"$f":"IF(syoriyou!E1222=\"\",\"\",syoriyou!E1222)","v":""},{"$f":"IF(syoriyou!F1222=\"\",\"\",syoriyou!F1222)","v":""},{"$f":"IF(syoriyou!G1222=\"\",\"\",syoriyou!G1222)","v":""},{"$f":"IF(syoriyou!H1222=\"\",\"\",syoriyou!H1222)","v":""},{"$f":"IF(syoriyou!I1222=\"\",\"\",syoriyou!I1222)","v":""},{"$f":"IF(syoriyou!J1222=\"\",\"\",syoriyou!N1222)","v":""}]
[{"$f":"IF(syoriyou!A1223=\"\",\"\",syoriyou!A1223)","v":""},{"$f":"IF(syoriyou!B1223=\"\",\"\",syoriyou!B1223)","v":""},{"$f":"IF(syoriyou!C1223=\"\",\"\",syoriyou!C1223)","v":""},{"$f":"IF(syoriyou!D1223=\"\",\"\",syoriyou!D1223)","v":""},{"$f":"IF(syoriyou!E1223=\"\",\"\",syoriyou!E1223)","v":""},{"$f":"IF(syoriyou!F1223=\"\",\"\",syoriyou!F1223)","v":""},{"$f":"IF(syoriyou!G1223=\"\",\"\",syoriyou!G1223)","v":""},{"$f":"IF(syoriyou!H1223=\"\",\"\",syoriyou!H1223)","v":""},{"$f":"IF(syoriyou!I1223=\"\",\"\",syoriyou!I1223)","v":""},{"$f":"IF(syoriyou!J1223=\"\",\"\",syoriyou!N1223)","v":""}]
[{"$f":"IF(syoriyou!A1224=\"\",\"\",syoriyou!A1224)","v":""},{"$f":"IF(syoriyou!B1224=\"\",\"\",syoriyou!B1224)","v":""},{"$f":"IF(syoriyou!C1224=\"\",\"\",syoriyou!C1224)","v":""},{"$f":"IF(syoriyou!D1224=\"\",\"\",syoriyou!D1224)","v":""},{"$f":"IF(syoriyou!E1224=\"\",\"\",syoriyou!E1224)","v":""},{"$f":"IF(syoriyou!F1224=\"\",\"\",syoriyou!F1224)","v":""},{"$f":"IF(syoriyou!G1224=\"\",\"\",syoriyou!G1224)","v":""},{"$f":"IF(syoriyou!H1224=\"\",\"\",syoriyou!H1224)","v":""},{"$f":"IF(syoriyou!I1224=\"\",\"\",syoriyou!I1224)","v":""},{"$f":"IF(syoriyou!J1224=\"\",\"\",syoriyou!N1224)","v":""}]
[{"$f":"IF(syoriyou!A1225=\"\",\"\",syoriyou!A1225)","v":""},{"$f":"IF(syoriyou!B1225=\"\",\"\",syoriyou!B1225)","v":""},{"$f":"IF(syoriyou!C1225=\"\",\"\",syoriyou!C1225)","v":""},{"$f":"IF(syoriyou!D1225=\"\",\"\",syoriyou!D1225)","v":""},{"$f":"IF(syoriyou!E1225=\"\",\"\",syoriyou!E1225)","v":""},{"$f":"IF(syoriyou!F1225=\"\",\"\",syoriyou!F1225)","v":""},{"$f":"IF(syoriyou!G1225=\"\",\"\",syoriyou!G1225)","v":""},{"$f":"IF(syoriyou!H1225=\"\",\"\",syoriyou!H1225)","v":""},{"$f":"IF(syoriyou!I1225=\"\",\"\",syoriyou!I1225)","v":""},{"$f":"IF(syoriyou!J1225=\"\",\"\",syoriyou!N1225)","v":""}]
[{"$f":"IF(syoriyou!A1226=\"\",\"\",syoriyou!A1226)","v":""},{"$f":"IF(syoriyou!B1226=\"\",\"\",syoriyou!B1226)","v":""},{"$f":"IF(syoriyou!C1226=\"\",\"\",syoriyou!C1226)","v":""},{"$f":"IF(syoriyou!D1226=\"\",\"\",syoriyou!D1226)","v":""},{"$f":"IF(syoriyou!E1226=\"\",\"\",syoriyou!E1226)","v":""},{"$f":"IF(syoriyou!F1226=\"\",\"\",syoriyou!F1226)","v":""},{"$f":"IF(syoriyou!G1226=\"\",\"\",syoriyou!G1226)","v":""},{"$f":"IF(syoriyou!H1226=\"\",\"\",syoriyou!H1226)","v":""},{"$f":"IF(syoriyou!I1226=\"\",\"\",syoriyou!I1226)","v":""},{"$f":"IF(syoriyou!J1226=\"\",\"\",syoriyou!N1226)","v":""}]
[{"$f":"IF(syoriyou!A1227=\"\",\"\",syoriyou!A1227)","v":""},{"$f":"IF(syoriyou!B1227=\"\",\"\",syoriyou!B1227)","v":""},{"$f":"IF(syoriyou!C1227=\"\",\"\",syoriyou!C1227)","v":""},{"$f":"IF(syoriyou!D1227=\"\",\"\",syoriyou!D1227)","v":""},{"$f":"IF(syoriyou!E1227=\"\",\"\",syoriyou!E1227)","v":""},{"$f":"IF(syoriyou!F1227=\"\",\"\",syoriyou!F1227)","v":""},{"$f":"IF(syoriyou!G1227=\"\",\"\",syoriyou!G1227)","v":""},{"$f":"IF(syoriyou!H1227=\"\",\"\",syoriyou!H1227)","v":""},{"$f":"IF(syoriyou!I1227=\"\",\"\",syoriyou!I1227)","v":""},{"$f":"IF(syoriyou!J1227=\"\",\"\",syoriyou!N1227)","v":""}]
[{"$f":"IF(syoriyou!A1228=\"\",\"\",syoriyou!A1228)","v":""},{"$f":"IF(syoriyou!B1228=\"\",\"\",syoriyou!B1228)","v":""},{"$f":"IF(syoriyou!C1228=\"\",\"\",syoriyou!C1228)","v":""},{"$f":"IF(syoriyou!D1228=\"\",\"\",syoriyou!D1228)","v":""},{"$f":"IF(syoriyou!E1228=\"\",\"\",syoriyou!E1228)","v":""},{"$f":"IF(syoriyou!F1228=\"\",\"\",syoriyou!F1228)","v":""},{"$f":"IF(syoriyou!G1228=\"\",\"\",syoriyou!G1228)","v":""},{"$f":"IF(syoriyou!H1228=\"\",\"\",syoriyou!H1228)","v":""},{"$f":"IF(syoriyou!I1228=\"\",\"\",syoriyou!I1228)","v":""},{"$f":"IF(syoriyou!J1228=\"\",\"\",syoriyou!N1228)","v":""}]
[{"$f":"IF(syoriyou!A1229=\"\",\"\",syoriyou!A1229)","v":""},{"$f":"IF(syoriyou!B1229=\"\",\"\",syoriyou!B1229)","v":""},{"$f":"IF(syoriyou!C1229=\"\",\"\",syoriyou!C1229)","v":""},{"$f":"IF(syoriyou!D1229=\"\",\"\",syoriyou!D1229)","v":""},{"$f":"IF(syoriyou!E1229=\"\",\"\",syoriyou!E1229)","v":""},{"$f":"IF(syoriyou!F1229=\"\",\"\",syoriyou!F1229)","v":""},{"$f":"IF(syoriyou!G1229=\"\",\"\",syoriyou!G1229)","v":""},{"$f":"IF(syoriyou!H1229=\"\",\"\",syoriyou!H1229)","v":""},{"$f":"IF(syoriyou!I1229=\"\",\"\",syoriyou!I1229)","v":""},{"$f":"IF(syoriyou!J1229=\"\",\"\",syoriyou!N1229)","v":""}]
[{"$f":"IF(syoriyou!A1230=\"\",\"\",syoriyou!A1230)","v":""},{"$f":"IF(syoriyou!B1230=\"\",\"\",syoriyou!B1230)","v":""},{"$f":"IF(syoriyou!C1230=\"\",\"\",syoriyou!C1230)","v":""},{"$f":"IF(syoriyou!D1230=\"\",\"\",syoriyou!D1230)","v":""},{"$f":"IF(syoriyou!E1230=\"\",\"\",syoriyou!E1230)","v":""},{"$f":"IF(syoriyou!F1230=\"\",\"\",syoriyou!F1230)","v":""},{"$f":"IF(syoriyou!G1230=\"\",\"\",syoriyou!G1230)","v":""},{"$f":"IF(syoriyou!H1230=\"\",\"\",syoriyou!H1230)","v":""},{"$f":"IF(syoriyou!I1230=\"\",\"\",syoriyou!I1230)","v":""},{"$f":"IF(syoriyou!J1230=\"\",\"\",syoriyou!N1230)","v":""}]
[{"$f":"IF(syoriyou!A1231=\"\",\"\",syoriyou!A1231)","v":""},{"$f":"IF(syoriyou!B1231=\"\",\"\",syoriyou!B1231)","v":""},{"$f":"IF(syoriyou!C1231=\"\",\"\",syoriyou!C1231)","v":""},{"$f":"IF(syoriyou!D1231=\"\",\"\",syoriyou!D1231)","v":""},{"$f":"IF(syoriyou!E1231=\"\",\"\",syoriyou!E1231)","v":""},{"$f":"IF(syoriyou!F1231=\"\",\"\",syoriyou!F1231)","v":""},{"$f":"IF(syoriyou!G1231=\"\",\"\",syoriyou!G1231)","v":""},{"$f":"IF(syoriyou!H1231=\"\",\"\",syoriyou!H1231)","v":""},{"$f":"IF(syoriyou!I1231=\"\",\"\",syoriyou!I1231)","v":""},{"$f":"IF(syoriyou!J1231=\"\",\"\",syoriyou!N1231)","v":""}]
[{"$f":"IF(syoriyou!A1232=\"\",\"\",syoriyou!A1232)","v":""},{"$f":"IF(syoriyou!B1232=\"\",\"\",syoriyou!B1232)","v":""},{"$f":"IF(syoriyou!C1232=\"\",\"\",syoriyou!C1232)","v":""},{"$f":"IF(syoriyou!D1232=\"\",\"\",syoriyou!D1232)","v":""},{"$f":"IF(syoriyou!E1232=\"\",\"\",syoriyou!E1232)","v":""},{"$f":"IF(syoriyou!F1232=\"\",\"\",syoriyou!F1232)","v":""},{"$f":"IF(syoriyou!G1232=\"\",\"\",syoriyou!G1232)","v":""},{"$f":"IF(syoriyou!H1232=\"\",\"\",syoriyou!H1232)","v":""},{"$f":"IF(syoriyou!I1232=\"\",\"\",syoriyou!I1232)","v":""},{"$f":"IF(syoriyou!J1232=\"\",\"\",syoriyou!N1232)","v":""}]
[{"$f":"IF(syoriyou!A1233=\"\",\"\",syoriyou!A1233)","v":""},{"$f":"IF(syoriyou!B1233=\"\",\"\",syoriyou!B1233)","v":""},{"$f":"IF(syoriyou!C1233=\"\",\"\",syoriyou!C1233)","v":""},{"$f":"IF(syoriyou!D1233=\"\",\"\",syoriyou!D1233)","v":""},{"$f":"IF(syoriyou!E1233=\"\",\"\",syoriyou!E1233)","v":""},{"$f":"IF(syoriyou!F1233=\"\",\"\",syoriyou!F1233)","v":""},{"$f":"IF(syoriyou!G1233=\"\",\"\",syoriyou!G1233)","v":""},{"$f":"IF(syoriyou!H1233=\"\",\"\",syoriyou!H1233)","v":""},{"$f":"IF(syoriyou!I1233=\"\",\"\",syoriyou!I1233)","v":""},{"$f":"IF(syoriyou!J1233=\"\",\"\",syoriyou!N1233)","v":""}]
[{"$f":"IF(syoriyou!A1234=\"\",\"\",syoriyou!A1234)","v":""},{"$f":"IF(syoriyou!B1234=\"\",\"\",syoriyou!B1234)","v":""},{"$f":"IF(syoriyou!C1234=\"\",\"\",syoriyou!C1234)","v":""},{"$f":"IF(syoriyou!D1234=\"\",\"\",syoriyou!D1234)","v":""},{"$f":"IF(syoriyou!E1234=\"\",\"\",syoriyou!E1234)","v":""},{"$f":"IF(syoriyou!F1234=\"\",\"\",syoriyou!F1234)","v":""},{"$f":"IF(syoriyou!G1234=\"\",\"\",syoriyou!G1234)","v":""},{"$f":"IF(syoriyou!H1234=\"\",\"\",syoriyou!H1234)","v":""},{"$f":"IF(syoriyou!I1234=\"\",\"\",syoriyou!I1234)","v":""},{"$f":"IF(syoriyou!J1234=\"\",\"\",syoriyou!N1234)","v":""}]
[{"$f":"IF(syoriyou!A1235=\"\",\"\",syoriyou!A1235)","v":""},{"$f":"IF(syoriyou!B1235=\"\",\"\",syoriyou!B1235)","v":""},{"$f":"IF(syoriyou!C1235=\"\",\"\",syoriyou!C1235)","v":""},{"$f":"IF(syoriyou!D1235=\"\",\"\",syoriyou!D1235)","v":""},{"$f":"IF(syoriyou!E1235=\"\",\"\",syoriyou!E1235)","v":""},{"$f":"IF(syoriyou!F1235=\"\",\"\",syoriyou!F1235)","v":""},{"$f":"IF(syoriyou!G1235=\"\",\"\",syoriyou!G1235)","v":""},{"$f":"IF(syoriyou!H1235=\"\",\"\",syoriyou!H1235)","v":""},{"$f":"IF(syoriyou!I1235=\"\",\"\",syoriyou!I1235)","v":""},{"$f":"IF(syoriyou!J1235=\"\",\"\",syoriyou!N1235)","v":""}]
[{"$f":"IF(syoriyou!A1236=\"\",\"\",syoriyou!A1236)","v":""},{"$f":"IF(syoriyou!B1236=\"\",\"\",syoriyou!B1236)","v":""},{"$f":"IF(syoriyou!C1236=\"\",\"\",syoriyou!C1236)","v":""},{"$f":"IF(syoriyou!D1236=\"\",\"\",syoriyou!D1236)","v":""},{"$f":"IF(syoriyou!E1236=\"\",\"\",syoriyou!E1236)","v":""},{"$f":"IF(syoriyou!F1236=\"\",\"\",syoriyou!F1236)","v":""},{"$f":"IF(syoriyou!G1236=\"\",\"\",syoriyou!G1236)","v":""},{"$f":"IF(syoriyou!H1236=\"\",\"\",syoriyou!H1236)","v":""},{"$f":"IF(syoriyou!I1236=\"\",\"\",syoriyou!I1236)","v":""},{"$f":"IF(syoriyou!J1236=\"\",\"\",syoriyou!N1236)","v":""}]
[{"$f":"IF(syoriyou!A1237=\"\",\"\",syoriyou!A1237)","v":""},{"$f":"IF(syoriyou!B1237=\"\",\"\",syoriyou!B1237)","v":""},{"$f":"IF(syoriyou!C1237=\"\",\"\",syoriyou!C1237)","v":""},{"$f":"IF(syoriyou!D1237=\"\",\"\",syoriyou!D1237)","v":""},{"$f":"IF(syoriyou!E1237=\"\",\"\",syoriyou!E1237)","v":""},{"$f":"IF(syoriyou!F1237=\"\",\"\",syoriyou!F1237)","v":""},{"$f":"IF(syoriyou!G1237=\"\",\"\",syoriyou!G1237)","v":""},{"$f":"IF(syoriyou!H1237=\"\",\"\",syoriyou!H1237)","v":""},{"$f":"IF(syoriyou!I1237=\"\",\"\",syoriyou!I1237)","v":""},{"$f":"IF(syoriyou!J1237=\"\",\"\",syoriyou!N1237)","v":""}]
[{"$f":"IF(syoriyou!A1238=\"\",\"\",syoriyou!A1238)","v":""},{"$f":"IF(syoriyou!B1238=\"\",\"\",syoriyou!B1238)","v":""},{"$f":"IF(syoriyou!C1238=\"\",\"\",syoriyou!C1238)","v":""},{"$f":"IF(syoriyou!D1238=\"\",\"\",syoriyou!D1238)","v":""},{"$f":"IF(syoriyou!E1238=\"\",\"\",syoriyou!E1238)","v":""},{"$f":"IF(syoriyou!F1238=\"\",\"\",syoriyou!F1238)","v":""},{"$f":"IF(syoriyou!G1238=\"\",\"\",syoriyou!G1238)","v":""},{"$f":"IF(syoriyou!H1238=\"\",\"\",syoriyou!H1238)","v":""},{"$f":"IF(syoriyou!I1238=\"\",\"\",syoriyou!I1238)","v":""},{"$f":"IF(syoriyou!J1238=\"\",\"\",syoriyou!N1238)","v":""}]
[{"$f":"IF(syoriyou!A1239=\"\",\"\",syoriyou!A1239)","v":""},{"$f":"IF(syoriyou!B1239=\"\",\"\",syoriyou!B1239)","v":""},{"$f":"IF(syoriyou!C1239=\"\",\"\",syoriyou!C1239)","v":""},{"$f":"IF(syoriyou!D1239=\"\",\"\",syoriyou!D1239)","v":""},{"$f":"IF(syoriyou!E1239=\"\",\"\",syoriyou!E1239)","v":""},{"$f":"IF(syoriyou!F1239=\"\",\"\",syoriyou!F1239)","v":""},{"$f":"IF(syoriyou!G1239=\"\",\"\",syoriyou!G1239)","v":""},{"$f":"IF(syoriyou!H1239=\"\",\"\",syoriyou!H1239)","v":""},{"$f":"IF(syoriyou!I1239=\"\",\"\",syoriyou!I1239)","v":""},{"$f":"IF(syoriyou!J1239=\"\",\"\",syoriyou!N1239)","v":""}]
[{"$f":"IF(syoriyou!A1240=\"\",\"\",syoriyou!A1240)","v":""},{"$f":"IF(syoriyou!B1240=\"\",\"\",syoriyou!B1240)","v":""},{"$f":"IF(syoriyou!C1240=\"\",\"\",syoriyou!C1240)","v":""},{"$f":"IF(syoriyou!D1240=\"\",\"\",syoriyou!D1240)","v":""},{"$f":"IF(syoriyou!E1240=\"\",\"\",syoriyou!E1240)","v":""},{"$f":"IF(syoriyou!F1240=\"\",\"\",syoriyou!F1240)","v":""},{"$f":"IF(syoriyou!G1240=\"\",\"\",syoriyou!G1240)","v":""},{"$f":"IF(syoriyou!H1240=\"\",\"\",syoriyou!H1240)","v":""},{"$f":"IF(syoriyou!I1240=\"\",\"\",syoriyou!I1240)","v":""},{"$f":"IF(syoriyou!J1240=\"\",\"\",syoriyou!N1240)","v":""}]
[{"$f":"IF(syoriyou!A1241=\"\",\"\",syoriyou!A1241)","v":""},{"$f":"IF(syoriyou!B1241=\"\",\"\",syoriyou!B1241)","v":""},{"$f":"IF(syoriyou!C1241=\"\",\"\",syoriyou!C1241)","v":""},{"$f":"IF(syoriyou!D1241=\"\",\"\",syoriyou!D1241)","v":""},{"$f":"IF(syoriyou!E1241=\"\",\"\",syoriyou!E1241)","v":""},{"$f":"IF(syoriyou!F1241=\"\",\"\",syoriyou!F1241)","v":""},{"$f":"IF(syoriyou!G1241=\"\",\"\",syoriyou!G1241)","v":""},{"$f":"IF(syoriyou!H1241=\"\",\"\",syoriyou!H1241)","v":""},{"$f":"IF(syoriyou!I1241=\"\",\"\",syoriyou!I1241)","v":""},{"$f":"IF(syoriyou!J1241=\"\",\"\",syoriyou!N1241)","v":""}]
[{"$f":"IF(syoriyou!A1242=\"\",\"\",syoriyou!A1242)","v":""},{"$f":"IF(syoriyou!B1242=\"\",\"\",syoriyou!B1242)","v":""},{"$f":"IF(syoriyou!C1242=\"\",\"\",syoriyou!C1242)","v":""},{"$f":"IF(syoriyou!D1242=\"\",\"\",syoriyou!D1242)","v":""},{"$f":"IF(syoriyou!E1242=\"\",\"\",syoriyou!E1242)","v":""},{"$f":"IF(syoriyou!F1242=\"\",\"\",syoriyou!F1242)","v":""},{"$f":"IF(syoriyou!G1242=\"\",\"\",syoriyou!G1242)","v":""},{"$f":"IF(syoriyou!H1242=\"\",\"\",syoriyou!H1242)","v":""},{"$f":"IF(syoriyou!I1242=\"\",\"\",syoriyou!I1242)","v":""},{"$f":"IF(syoriyou!J1242=\"\",\"\",syoriyou!N1242)","v":""}]
[{"$f":"IF(syoriyou!A1243=\"\",\"\",syoriyou!A1243)","v":""},{"$f":"IF(syoriyou!B1243=\"\",\"\",syoriyou!B1243)","v":""},{"$f":"IF(syoriyou!C1243=\"\",\"\",syoriyou!C1243)","v":""},{"$f":"IF(syoriyou!D1243=\"\",\"\",syoriyou!D1243)","v":""},{"$f":"IF(syoriyou!E1243=\"\",\"\",syoriyou!E1243)","v":""},{"$f":"IF(syoriyou!F1243=\"\",\"\",syoriyou!F1243)","v":""},{"$f":"IF(syoriyou!G1243=\"\",\"\",syoriyou!G1243)","v":""},{"$f":"IF(syoriyou!H1243=\"\",\"\",syoriyou!H1243)","v":""},{"$f":"IF(syoriyou!I1243=\"\",\"\",syoriyou!I1243)","v":""},{"$f":"IF(syoriyou!J1243=\"\",\"\",syoriyou!N1243)","v":""}]
[{"$f":"IF(syoriyou!A1244=\"\",\"\",syoriyou!A1244)","v":""},{"$f":"IF(syoriyou!B1244=\"\",\"\",syoriyou!B1244)","v":""},{"$f":"IF(syoriyou!C1244=\"\",\"\",syoriyou!C1244)","v":""},{"$f":"IF(syoriyou!D1244=\"\",\"\",syoriyou!D1244)","v":""},{"$f":"IF(syoriyou!E1244=\"\",\"\",syoriyou!E1244)","v":""},{"$f":"IF(syoriyou!F1244=\"\",\"\",syoriyou!F1244)","v":""},{"$f":"IF(syoriyou!G1244=\"\",\"\",syoriyou!G1244)","v":""},{"$f":"IF(syoriyou!H1244=\"\",\"\",syoriyou!H1244)","v":""},{"$f":"IF(syoriyou!I1244=\"\",\"\",syoriyou!I1244)","v":""},{"$f":"IF(syoriyou!J1244=\"\",\"\",syoriyou!N1244)","v":""}]
[{"$f":"IF(syoriyou!A1245=\"\",\"\",syoriyou!A1245)","v":""},{"$f":"IF(syoriyou!B1245=\"\",\"\",syoriyou!B1245)","v":""},{"$f":"IF(syoriyou!C1245=\"\",\"\",syoriyou!C1245)","v":""},{"$f":"IF(syoriyou!D1245=\"\",\"\",syoriyou!D1245)","v":""},{"$f":"IF(syoriyou!E1245=\"\",\"\",syoriyou!E1245)","v":""},{"$f":"IF(syoriyou!F1245=\"\",\"\",syoriyou!F1245)","v":""},{"$f":"IF(syoriyou!G1245=\"\",\"\",syoriyou!G1245)","v":""},{"$f":"IF(syoriyou!H1245=\"\",\"\",syoriyou!H1245)","v":""},{"$f":"IF(syoriyou!I1245=\"\",\"\",syoriyou!I1245)","v":""},{"$f":"IF(syoriyou!J1245=\"\",\"\",syoriyou!N1245)","v":""}]
[{"$f":"IF(syoriyou!A1246=\"\",\"\",syoriyou!A1246)","v":""},{"$f":"IF(syoriyou!B1246=\"\",\"\",syoriyou!B1246)","v":""},{"$f":"IF(syoriyou!C1246=\"\",\"\",syoriyou!C1246)","v":""},{"$f":"IF(syoriyou!D1246=\"\",\"\",syoriyou!D1246)","v":""},{"$f":"IF(syoriyou!E1246=\"\",\"\",syoriyou!E1246)","v":""},{"$f":"IF(syoriyou!F1246=\"\",\"\",syoriyou!F1246)","v":""},{"$f":"IF(syoriyou!G1246=\"\",\"\",syoriyou!G1246)","v":""},{"$f":"IF(syoriyou!H1246=\"\",\"\",syoriyou!H1246)","v":""},{"$f":"IF(syoriyou!I1246=\"\",\"\",syoriyou!I1246)","v":""},{"$f":"IF(syoriyou!J1246=\"\",\"\",syoriyou!N1246)","v":""}]
[{"$f":"IF(syoriyou!A1247=\"\",\"\",syoriyou!A1247)","v":""},{"$f":"IF(syoriyou!B1247=\"\",\"\",syoriyou!B1247)","v":""},{"$f":"IF(syoriyou!C1247=\"\",\"\",syoriyou!C1247)","v":""},{"$f":"IF(syoriyou!D1247=\"\",\"\",syoriyou!D1247)","v":""},{"$f":"IF(syoriyou!E1247=\"\",\"\",syoriyou!E1247)","v":""},{"$f":"IF(syoriyou!F1247=\"\",\"\",syoriyou!F1247)","v":""},{"$f":"IF(syoriyou!G1247=\"\",\"\",syoriyou!G1247)","v":""},{"$f":"IF(syoriyou!H1247=\"\",\"\",syoriyou!H1247)","v":""},{"$f":"IF(syoriyou!I1247=\"\",\"\",syoriyou!I1247)","v":""},{"$f":"IF(syoriyou!J1247=\"\",\"\",syoriyou!N1247)","v":""}]
[{"$f":"IF(syoriyou!A1248=\"\",\"\",syoriyou!A1248)","v":""},{"$f":"IF(syoriyou!B1248=\"\",\"\",syoriyou!B1248)","v":""},{"$f":"IF(syoriyou!C1248=\"\",\"\",syoriyou!C1248)","v":""},{"$f":"IF(syoriyou!D1248=\"\",\"\",syoriyou!D1248)","v":""},{"$f":"IF(syoriyou!E1248=\"\",\"\",syoriyou!E1248)","v":""},{"$f":"IF(syoriyou!F1248=\"\",\"\",syoriyou!F1248)","v":""},{"$f":"IF(syoriyou!G1248=\"\",\"\",syoriyou!G1248)","v":""},{"$f":"IF(syoriyou!H1248=\"\",\"\",syoriyou!H1248)","v":""},{"$f":"IF(syoriyou!I1248=\"\",\"\",syoriyou!I1248)","v":""},{"$f":"IF(syoriyou!J1248=\"\",\"\",syoriyou!N1248)","v":""}]
[{"$f":"IF(syoriyou!A1249=\"\",\"\",syoriyou!A1249)","v":""},{"$f":"IF(syoriyou!B1249=\"\",\"\",syoriyou!B1249)","v":""},{"$f":"IF(syoriyou!C1249=\"\",\"\",syoriyou!C1249)","v":""},{"$f":"IF(syoriyou!D1249=\"\",\"\",syoriyou!D1249)","v":""},{"$f":"IF(syoriyou!E1249=\"\",\"\",syoriyou!E1249)","v":""},{"$f":"IF(syoriyou!F1249=\"\",\"\",syoriyou!F1249)","v":""},{"$f":"IF(syoriyou!G1249=\"\",\"\",syoriyou!G1249)","v":""},{"$f":"IF(syoriyou!H1249=\"\",\"\",syoriyou!H1249)","v":""},{"$f":"IF(syoriyou!I1249=\"\",\"\",syoriyou!I1249)","v":""},{"$f":"IF(syoriyou!J1249=\"\",\"\",syoriyou!N1249)","v":""}]
[{"$f":"IF(syoriyou!A1250=\"\",\"\",syoriyou!A1250)","v":""},{"$f":"IF(syoriyou!B1250=\"\",\"\",syoriyou!B1250)","v":""},{"$f":"IF(syoriyou!C1250=\"\",\"\",syoriyou!C1250)","v":""},{"$f":"IF(syoriyou!D1250=\"\",\"\",syoriyou!D1250)","v":""},{"$f":"IF(syoriyou!E1250=\"\",\"\",syoriyou!E1250)","v":""},{"$f":"IF(syoriyou!F1250=\"\",\"\",syoriyou!F1250)","v":""},{"$f":"IF(syoriyou!G1250=\"\",\"\",syoriyou!G1250)","v":""},{"$f":"IF(syoriyou!H1250=\"\",\"\",syoriyou!H1250)","v":""},{"$f":"IF(syoriyou!I1250=\"\",\"\",syoriyou!I1250)","v":""},{"$f":"IF(syoriyou!J1250=\"\",\"\",syoriyou!N1250)","v":""}]
[{"$f":"IF(syoriyou!A1251=\"\",\"\",syoriyou!A1251)","v":""},{"$f":"IF(syoriyou!B1251=\"\",\"\",syoriyou!B1251)","v":""},{"$f":"IF(syoriyou!C1251=\"\",\"\",syoriyou!C1251)","v":""},{"$f":"IF(syoriyou!D1251=\"\",\"\",syoriyou!D1251)","v":""},{"$f":"IF(syoriyou!E1251=\"\",\"\",syoriyou!E1251)","v":""},{"$f":"IF(syoriyou!F1251=\"\",\"\",syoriyou!F1251)","v":""},{"$f":"IF(syoriyou!G1251=\"\",\"\",syoriyou!G1251)","v":""},{"$f":"IF(syoriyou!H1251=\"\",\"\",syoriyou!H1251)","v":""},{"$f":"IF(syoriyou!I1251=\"\",\"\",syoriyou!I1251)","v":""},{"$f":"IF(syoriyou!J1251=\"\",\"\",syoriyou!N1251)","v":""}]
[{"$f":"IF(syoriyou!A1252=\"\",\"\",syoriyou!A1252)","v":""},{"$f":"IF(syoriyou!B1252=\"\",\"\",syoriyou!B1252)","v":""},{"$f":"IF(syoriyou!C1252=\"\",\"\",syoriyou!C1252)","v":""},{"$f":"IF(syoriyou!D1252=\"\",\"\",syoriyou!D1252)","v":""},{"$f":"IF(syoriyou!E1252=\"\",\"\",syoriyou!E1252)","v":""},{"$f":"IF(syoriyou!F1252=\"\",\"\",syoriyou!F1252)","v":""},{"$f":"IF(syoriyou!G1252=\"\",\"\",syoriyou!G1252)","v":""},{"$f":"IF(syoriyou!H1252=\"\",\"\",syoriyou!H1252)","v":""},{"$f":"IF(syoriyou!I1252=\"\",\"\",syoriyou!I1252)","v":""},{"$f":"IF(syoriyou!J1252=\"\",\"\",syoriyou!N1252)","v":""}]
[{"$f":"IF(syoriyou!A1253=\"\",\"\",syoriyou!A1253)","v":""},{"$f":"IF(syoriyou!B1253=\"\",\"\",syoriyou!B1253)","v":""},{"$f":"IF(syoriyou!C1253=\"\",\"\",syoriyou!C1253)","v":""},{"$f":"IF(syoriyou!D1253=\"\",\"\",syoriyou!D1253)","v":""},{"$f":"IF(syoriyou!E1253=\"\",\"\",syoriyou!E1253)","v":""},{"$f":"IF(syoriyou!F1253=\"\",\"\",syoriyou!F1253)","v":""},{"$f":"IF(syoriyou!G1253=\"\",\"\",syoriyou!G1253)","v":""},{"$f":"IF(syoriyou!H1253=\"\",\"\",syoriyou!H1253)","v":""},{"$f":"IF(syoriyou!I1253=\"\",\"\",syoriyou!I1253)","v":""},{"$f":"IF(syoriyou!J1253=\"\",\"\",syoriyou!N1253)","v":""}]
[{"$f":"IF(syoriyou!A1254=\"\",\"\",syoriyou!A1254)","v":""},{"$f":"IF(syoriyou!B1254=\"\",\"\",syoriyou!B1254)","v":""},{"$f":"IF(syoriyou!C1254=\"\",\"\",syoriyou!C1254)","v":""},{"$f":"IF(syoriyou!D1254=\"\",\"\",syoriyou!D1254)","v":""},{"$f":"IF(syoriyou!E1254=\"\",\"\",syoriyou!E1254)","v":""},{"$f":"IF(syoriyou!F1254=\"\",\"\",syoriyou!F1254)","v":""},{"$f":"IF(syoriyou!G1254=\"\",\"\",syoriyou!G1254)","v":""},{"$f":"IF(syoriyou!H1254=\"\",\"\",syoriyou!H1254)","v":""},{"$f":"IF(syoriyou!I1254=\"\",\"\",syoriyou!I1254)","v":""},{"$f":"IF(syoriyou!J1254=\"\",\"\",syoriyou!N1254)","v":""}]
[{"$f":"IF(syoriyou!A1255=\"\",\"\",syoriyou!A1255)","v":""},{"$f":"IF(syoriyou!B1255=\"\",\"\",syoriyou!B1255)","v":""},{"$f":"IF(syoriyou!C1255=\"\",\"\",syoriyou!C1255)","v":""},{"$f":"IF(syoriyou!D1255=\"\",\"\",syoriyou!D1255)","v":""},{"$f":"IF(syoriyou!E1255=\"\",\"\",syoriyou!E1255)","v":""},{"$f":"IF(syoriyou!F1255=\"\",\"\",syoriyou!F1255)","v":""},{"$f":"IF(syoriyou!G1255=\"\",\"\",syoriyou!G1255)","v":""},{"$f":"IF(syoriyou!H1255=\"\",\"\",syoriyou!H1255)","v":""},{"$f":"IF(syoriyou!I1255=\"\",\"\",syoriyou!I1255)","v":""},{"$f":"IF(syoriyou!J1255=\"\",\"\",syoriyou!N1255)","v":""}]
[{"$f":"IF(syoriyou!A1256=\"\",\"\",syoriyou!A1256)","v":""},{"$f":"IF(syoriyou!B1256=\"\",\"\",syoriyou!B1256)","v":""},{"$f":"IF(syoriyou!C1256=\"\",\"\",syoriyou!C1256)","v":""},{"$f":"IF(syoriyou!D1256=\"\",\"\",syoriyou!D1256)","v":""},{"$f":"IF(syoriyou!E1256=\"\",\"\",syoriyou!E1256)","v":""},{"$f":"IF(syoriyou!F1256=\"\",\"\",syoriyou!F1256)","v":""},{"$f":"IF(syoriyou!G1256=\"\",\"\",syoriyou!G1256)","v":""},{"$f":"IF(syoriyou!H1256=\"\",\"\",syoriyou!H1256)","v":""},{"$f":"IF(syoriyou!I1256=\"\",\"\",syoriyou!I1256)","v":""},{"$f":"IF(syoriyou!J1256=\"\",\"\",syoriyou!N1256)","v":""}]
[{"$f":"IF(syoriyou!A1257=\"\",\"\",syoriyou!A1257)","v":""},{"$f":"IF(syoriyou!B1257=\"\",\"\",syoriyou!B1257)","v":""},{"$f":"IF(syoriyou!C1257=\"\",\"\",syoriyou!C1257)","v":""},{"$f":"IF(syoriyou!D1257=\"\",\"\",syoriyou!D1257)","v":""},{"$f":"IF(syoriyou!E1257=\"\",\"\",syoriyou!E1257)","v":""},{"$f":"IF(syoriyou!F1257=\"\",\"\",syoriyou!F1257)","v":""},{"$f":"IF(syoriyou!G1257=\"\",\"\",syoriyou!G1257)","v":""},{"$f":"IF(syoriyou!H1257=\"\",\"\",syoriyou!H1257)","v":""},{"$f":"IF(syoriyou!I1257=\"\",\"\",syoriyou!I1257)","v":""},{"$f":"IF(syoriyou!J1257=\"\",\"\",syoriyou!N1257)","v":""}]
[{"$f":"IF(syoriyou!A1258=\"\",\"\",syoriyou!A1258)","v":""},{"$f":"IF(syoriyou!B1258=\"\",\"\",syoriyou!B1258)","v":""},{"$f":"IF(syoriyou!C1258=\"\",\"\",syoriyou!C1258)","v":""},{"$f":"IF(syoriyou!D1258=\"\",\"\",syoriyou!D1258)","v":""},{"$f":"IF(syoriyou!E1258=\"\",\"\",syoriyou!E1258)","v":""},{"$f":"IF(syoriyou!F1258=\"\",\"\",syoriyou!F1258)","v":""},{"$f":"IF(syoriyou!G1258=\"\",\"\",syoriyou!G1258)","v":""},{"$f":"IF(syoriyou!H1258=\"\",\"\",syoriyou!H1258)","v":""},{"$f":"IF(syoriyou!I1258=\"\",\"\",syoriyou!I1258)","v":""},{"$f":"IF(syoriyou!J1258=\"\",\"\",syoriyou!N1258)","v":""}]
[{"$f":"IF(syoriyou!A1259=\"\",\"\",syoriyou!A1259)","v":""},{"$f":"IF(syoriyou!B1259=\"\",\"\",syoriyou!B1259)","v":""},{"$f":"IF(syoriyou!C1259=\"\",\"\",syoriyou!C1259)","v":""},{"$f":"IF(syoriyou!D1259=\"\",\"\",syoriyou!D1259)","v":""},{"$f":"IF(syoriyou!E1259=\"\",\"\",syoriyou!E1259)","v":""},{"$f":"IF(syoriyou!F1259=\"\",\"\",syoriyou!F1259)","v":""},{"$f":"IF(syoriyou!G1259=\"\",\"\",syoriyou!G1259)","v":""},{"$f":"IF(syoriyou!H1259=\"\",\"\",syoriyou!H1259)","v":""},{"$f":"IF(syoriyou!I1259=\"\",\"\",syoriyou!I1259)","v":""},{"$f":"IF(syoriyou!J1259=\"\",\"\",syoriyou!N1259)","v":""}]
[{"$f":"IF(syoriyou!A1260=\"\",\"\",syoriyou!A1260)","v":""},{"$f":"IF(syoriyou!B1260=\"\",\"\",syoriyou!B1260)","v":""},{"$f":"IF(syoriyou!C1260=\"\",\"\",syoriyou!C1260)","v":""},{"$f":"IF(syoriyou!D1260=\"\",\"\",syoriyou!D1260)","v":""},{"$f":"IF(syoriyou!E1260=\"\",\"\",syoriyou!E1260)","v":""},{"$f":"IF(syoriyou!F1260=\"\",\"\",syoriyou!F1260)","v":""},{"$f":"IF(syoriyou!G1260=\"\",\"\",syoriyou!G1260)","v":""},{"$f":"IF(syoriyou!H1260=\"\",\"\",syoriyou!H1260)","v":""},{"$f":"IF(syoriyou!I1260=\"\",\"\",syoriyou!I1260)","v":""},{"$f":"IF(syoriyou!J1260=\"\",\"\",syoriyou!N1260)","v":""}]
[{"$f":"IF(syoriyou!A1261=\"\",\"\",syoriyou!A1261)","v":""},{"$f":"IF(syoriyou!B1261=\"\",\"\",syoriyou!B1261)","v":""},{"$f":"IF(syoriyou!C1261=\"\",\"\",syoriyou!C1261)","v":""},{"$f":"IF(syoriyou!D1261=\"\",\"\",syoriyou!D1261)","v":""},{"$f":"IF(syoriyou!E1261=\"\",\"\",syoriyou!E1261)","v":""},{"$f":"IF(syoriyou!F1261=\"\",\"\",syoriyou!F1261)","v":""},{"$f":"IF(syoriyou!G1261=\"\",\"\",syoriyou!G1261)","v":""},{"$f":"IF(syoriyou!H1261=\"\",\"\",syoriyou!H1261)","v":""},{"$f":"IF(syoriyou!I1261=\"\",\"\",syoriyou!I1261)","v":""},{"$f":"IF(syoriyou!J1261=\"\",\"\",syoriyou!N1261)","v":""}]
[{"$f":"IF(syoriyou!A1262=\"\",\"\",syoriyou!A1262)","v":""},{"$f":"IF(syoriyou!B1262=\"\",\"\",syoriyou!B1262)","v":""},{"$f":"IF(syoriyou!C1262=\"\",\"\",syoriyou!C1262)","v":""},{"$f":"IF(syoriyou!D1262=\"\",\"\",syoriyou!D1262)","v":""},{"$f":"IF(syoriyou!E1262=\"\",\"\",syoriyou!E1262)","v":""},{"$f":"IF(syoriyou!F1262=\"\",\"\",syoriyou!F1262)","v":""},{"$f":"IF(syoriyou!G1262=\"\",\"\",syoriyou!G1262)","v":""},{"$f":"IF(syoriyou!H1262=\"\",\"\",syoriyou!H1262)","v":""},{"$f":"IF(syoriyou!I1262=\"\",\"\",syoriyou!I1262)","v":""},{"$f":"IF(syoriyou!J1262=\"\",\"\",syoriyou!N1262)","v":""}]
[{"$f":"IF(syoriyou!A1263=\"\",\"\",syoriyou!A1263)","v":""},{"$f":"IF(syoriyou!B1263=\"\",\"\",syoriyou!B1263)","v":""},{"$f":"IF(syoriyou!C1263=\"\",\"\",syoriyou!C1263)","v":""},{"$f":"IF(syoriyou!D1263=\"\",\"\",syoriyou!D1263)","v":""},{"$f":"IF(syoriyou!E1263=\"\",\"\",syoriyou!E1263)","v":""},{"$f":"IF(syoriyou!F1263=\"\",\"\",syoriyou!F1263)","v":""},{"$f":"IF(syoriyou!G1263=\"\",\"\",syoriyou!G1263)","v":""},{"$f":"IF(syoriyou!H1263=\"\",\"\",syoriyou!H1263)","v":""},{"$f":"IF(syoriyou!I1263=\"\",\"\",syoriyou!I1263)","v":""},{"$f":"IF(syoriyou!J1263=\"\",\"\",syoriyou!N1263)","v":""}]
[{"$f":"IF(syoriyou!A1264=\"\",\"\",syoriyou!A1264)","v":""},{"$f":"IF(syoriyou!B1264=\"\",\"\",syoriyou!B1264)","v":""},{"$f":"IF(syoriyou!C1264=\"\",\"\",syoriyou!C1264)","v":""},{"$f":"IF(syoriyou!D1264=\"\",\"\",syoriyou!D1264)","v":""},{"$f":"IF(syoriyou!E1264=\"\",\"\",syoriyou!E1264)","v":""},{"$f":"IF(syoriyou!F1264=\"\",\"\",syoriyou!F1264)","v":""},{"$f":"IF(syoriyou!G1264=\"\",\"\",syoriyou!G1264)","v":""},{"$f":"IF(syoriyou!H1264=\"\",\"\",syoriyou!H1264)","v":""},{"$f":"IF(syoriyou!I1264=\"\",\"\",syoriyou!I1264)","v":""},{"$f":"IF(syoriyou!J1264=\"\",\"\",syoriyou!N1264)","v":""}]
[{"$f":"IF(syoriyou!A1265=\"\",\"\",syoriyou!A1265)","v":""},{"$f":"IF(syoriyou!B1265=\"\",\"\",syoriyou!B1265)","v":""},{"$f":"IF(syoriyou!C1265=\"\",\"\",syoriyou!C1265)","v":""},{"$f":"IF(syoriyou!D1265=\"\",\"\",syoriyou!D1265)","v":""},{"$f":"IF(syoriyou!E1265=\"\",\"\",syoriyou!E1265)","v":""},{"$f":"IF(syoriyou!F1265=\"\",\"\",syoriyou!F1265)","v":""},{"$f":"IF(syoriyou!G1265=\"\",\"\",syoriyou!G1265)","v":""},{"$f":"IF(syoriyou!H1265=\"\",\"\",syoriyou!H1265)","v":""},{"$f":"IF(syoriyou!I1265=\"\",\"\",syoriyou!I1265)","v":""},{"$f":"IF(syoriyou!J1265=\"\",\"\",syoriyou!N1265)","v":""}]
[{"$f":"IF(syoriyou!A1266=\"\",\"\",syoriyou!A1266)","v":""},{"$f":"IF(syoriyou!B1266=\"\",\"\",syoriyou!B1266)","v":""},{"$f":"IF(syoriyou!C1266=\"\",\"\",syoriyou!C1266)","v":""},{"$f":"IF(syoriyou!D1266=\"\",\"\",syoriyou!D1266)","v":""},{"$f":"IF(syoriyou!E1266=\"\",\"\",syoriyou!E1266)","v":""},{"$f":"IF(syoriyou!F1266=\"\",\"\",syoriyou!F1266)","v":""},{"$f":"IF(syoriyou!G1266=\"\",\"\",syoriyou!G1266)","v":""},{"$f":"IF(syoriyou!H1266=\"\",\"\",syoriyou!H1266)","v":""},{"$f":"IF(syoriyou!I1266=\"\",\"\",syoriyou!I1266)","v":""},{"$f":"IF(syoriyou!J1266=\"\",\"\",syoriyou!N1266)","v":""}]
[{"$f":"IF(syoriyou!A1267=\"\",\"\",syoriyou!A1267)","v":""},{"$f":"IF(syoriyou!B1267=\"\",\"\",syoriyou!B1267)","v":""},{"$f":"IF(syoriyou!C1267=\"\",\"\",syoriyou!C1267)","v":""},{"$f":"IF(syoriyou!D1267=\"\",\"\",syoriyou!D1267)","v":""},{"$f":"IF(syoriyou!E1267=\"\",\"\",syoriyou!E1267)","v":""},{"$f":"IF(syoriyou!F1267=\"\",\"\",syoriyou!F1267)","v":""},{"$f":"IF(syoriyou!G1267=\"\",\"\",syoriyou!G1267)","v":""},{"$f":"IF(syoriyou!H1267=\"\",\"\",syoriyou!H1267)","v":""},{"$f":"IF(syoriyou!I1267=\"\",\"\",syoriyou!I1267)","v":""},{"$f":"IF(syoriyou!J1267=\"\",\"\",syoriyou!N1267)","v":""}]
[{"$f":"IF(syoriyou!A1268=\"\",\"\",syoriyou!A1268)","v":""},{"$f":"IF(syoriyou!B1268=\"\",\"\",syoriyou!B1268)","v":""},{"$f":"IF(syoriyou!C1268=\"\",\"\",syoriyou!C1268)","v":""},{"$f":"IF(syoriyou!D1268=\"\",\"\",syoriyou!D1268)","v":""},{"$f":"IF(syoriyou!E1268=\"\",\"\",syoriyou!E1268)","v":""},{"$f":"IF(syoriyou!F1268=\"\",\"\",syoriyou!F1268)","v":""},{"$f":"IF(syoriyou!G1268=\"\",\"\",syoriyou!G1268)","v":""},{"$f":"IF(syoriyou!H1268=\"\",\"\",syoriyou!H1268)","v":""},{"$f":"IF(syoriyou!I1268=\"\",\"\",syoriyou!I1268)","v":""},{"$f":"IF(syoriyou!J1268=\"\",\"\",syoriyou!N1268)","v":""}]
[{"$f":"IF(syoriyou!A1269=\"\",\"\",syoriyou!A1269)","v":""},{"$f":"IF(syoriyou!B1269=\"\",\"\",syoriyou!B1269)","v":""},{"$f":"IF(syoriyou!C1269=\"\",\"\",syoriyou!C1269)","v":""},{"$f":"IF(syoriyou!D1269=\"\",\"\",syoriyou!D1269)","v":""},{"$f":"IF(syoriyou!E1269=\"\",\"\",syoriyou!E1269)","v":""},{"$f":"IF(syoriyou!F1269=\"\",\"\",syoriyou!F1269)","v":""},{"$f":"IF(syoriyou!G1269=\"\",\"\",syoriyou!G1269)","v":""},{"$f":"IF(syoriyou!H1269=\"\",\"\",syoriyou!H1269)","v":""},{"$f":"IF(syoriyou!I1269=\"\",\"\",syoriyou!I1269)","v":""},{"$f":"IF(syoriyou!J1269=\"\",\"\",syoriyou!N1269)","v":""}]
[{"$f":"IF(syoriyou!A1270=\"\",\"\",syoriyou!A1270)","v":""},{"$f":"IF(syoriyou!B1270=\"\",\"\",syoriyou!B1270)","v":""},{"$f":"IF(syoriyou!C1270=\"\",\"\",syoriyou!C1270)","v":""},{"$f":"IF(syoriyou!D1270=\"\",\"\",syoriyou!D1270)","v":""},{"$f":"IF(syoriyou!E1270=\"\",\"\",syoriyou!E1270)","v":""},{"$f":"IF(syoriyou!F1270=\"\",\"\",syoriyou!F1270)","v":""},{"$f":"IF(syoriyou!G1270=\"\",\"\",syoriyou!G1270)","v":""},{"$f":"IF(syoriyou!H1270=\"\",\"\",syoriyou!H1270)","v":""},{"$f":"IF(syoriyou!I1270=\"\",\"\",syoriyou!I1270)","v":""},{"$f":"IF(syoriyou!J1270=\"\",\"\",syoriyou!N1270)","v":""}]
[{"$f":"IF(syoriyou!A1271=\"\",\"\",syoriyou!A1271)","v":""},{"$f":"IF(syoriyou!B1271=\"\",\"\",syoriyou!B1271)","v":""},{"$f":"IF(syoriyou!C1271=\"\",\"\",syoriyou!C1271)","v":""},{"$f":"IF(syoriyou!D1271=\"\",\"\",syoriyou!D1271)","v":""},{"$f":"IF(syoriyou!E1271=\"\",\"\",syoriyou!E1271)","v":""},{"$f":"IF(syoriyou!F1271=\"\",\"\",syoriyou!F1271)","v":""},{"$f":"IF(syoriyou!G1271=\"\",\"\",syoriyou!G1271)","v":""},{"$f":"IF(syoriyou!H1271=\"\",\"\",syoriyou!H1271)","v":""},{"$f":"IF(syoriyou!I1271=\"\",\"\",syoriyou!I1271)","v":""},{"$f":"IF(syoriyou!J1271=\"\",\"\",syoriyou!N1271)","v":""}]
[{"$f":"IF(syoriyou!A1272=\"\",\"\",syoriyou!A1272)","v":""},{"$f":"IF(syoriyou!B1272=\"\",\"\",syoriyou!B1272)","v":""},{"$f":"IF(syoriyou!C1272=\"\",\"\",syoriyou!C1272)","v":""},{"$f":"IF(syoriyou!D1272=\"\",\"\",syoriyou!D1272)","v":""},{"$f":"IF(syoriyou!E1272=\"\",\"\",syoriyou!E1272)","v":""},{"$f":"IF(syoriyou!F1272=\"\",\"\",syoriyou!F1272)","v":""},{"$f":"IF(syoriyou!G1272=\"\",\"\",syoriyou!G1272)","v":""},{"$f":"IF(syoriyou!H1272=\"\",\"\",syoriyou!H1272)","v":""},{"$f":"IF(syoriyou!I1272=\"\",\"\",syoriyou!I1272)","v":""},{"$f":"IF(syoriyou!J1272=\"\",\"\",syoriyou!N1272)","v":""}]
[{"$f":"IF(syoriyou!A1273=\"\",\"\",syoriyou!A1273)","v":""},{"$f":"IF(syoriyou!B1273=\"\",\"\",syoriyou!B1273)","v":""},{"$f":"IF(syoriyou!C1273=\"\",\"\",syoriyou!C1273)","v":""},{"$f":"IF(syoriyou!D1273=\"\",\"\",syoriyou!D1273)","v":""},{"$f":"IF(syoriyou!E1273=\"\",\"\",syoriyou!E1273)","v":""},{"$f":"IF(syoriyou!F1273=\"\",\"\",syoriyou!F1273)","v":""},{"$f":"IF(syoriyou!G1273=\"\",\"\",syoriyou!G1273)","v":""},{"$f":"IF(syoriyou!H1273=\"\",\"\",syoriyou!H1273)","v":""},{"$f":"IF(syoriyou!I1273=\"\",\"\",syoriyou!I1273)","v":""},{"$f":"IF(syoriyou!J1273=\"\",\"\",syoriyou!N1273)","v":""}]
[{"$f":"IF(syoriyou!A1274=\"\",\"\",syoriyou!A1274)","v":""},{"$f":"IF(syoriyou!B1274=\"\",\"\",syoriyou!B1274)","v":""},{"$f":"IF(syoriyou!C1274=\"\",\"\",syoriyou!C1274)","v":""},{"$f":"IF(syoriyou!D1274=\"\",\"\",syoriyou!D1274)","v":""},{"$f":"IF(syoriyou!E1274=\"\",\"\",syoriyou!E1274)","v":""},{"$f":"IF(syoriyou!F1274=\"\",\"\",syoriyou!F1274)","v":""},{"$f":"IF(syoriyou!G1274=\"\",\"\",syoriyou!G1274)","v":""},{"$f":"IF(syoriyou!H1274=\"\",\"\",syoriyou!H1274)","v":""},{"$f":"IF(syoriyou!I1274=\"\",\"\",syoriyou!I1274)","v":""},{"$f":"IF(syoriyou!J1274=\"\",\"\",syoriyou!N1274)","v":""}]
[{"$f":"IF(syoriyou!A1275=\"\",\"\",syoriyou!A1275)","v":""},{"$f":"IF(syoriyou!B1275=\"\",\"\",syoriyou!B1275)","v":""},{"$f":"IF(syoriyou!C1275=\"\",\"\",syoriyou!C1275)","v":""},{"$f":"IF(syoriyou!D1275=\"\",\"\",syoriyou!D1275)","v":""},{"$f":"IF(syoriyou!E1275=\"\",\"\",syoriyou!E1275)","v":""},{"$f":"IF(syoriyou!F1275=\"\",\"\",syoriyou!F1275)","v":""},{"$f":"IF(syoriyou!G1275=\"\",\"\",syoriyou!G1275)","v":""},{"$f":"IF(syoriyou!H1275=\"\",\"\",syoriyou!H1275)","v":""},{"$f":"IF(syoriyou!I1275=\"\",\"\",syoriyou!I1275)","v":""},{"$f":"IF(syoriyou!J1275=\"\",\"\",syoriyou!N1275)","v":""}]
[{"$f":"IF(syoriyou!A1276=\"\",\"\",syoriyou!A1276)","v":""},{"$f":"IF(syoriyou!B1276=\"\",\"\",syoriyou!B1276)","v":""},{"$f":"IF(syoriyou!C1276=\"\",\"\",syoriyou!C1276)","v":""},{"$f":"IF(syoriyou!D1276=\"\",\"\",syoriyou!D1276)","v":""},{"$f":"IF(syoriyou!E1276=\"\",\"\",syoriyou!E1276)","v":""},{"$f":"IF(syoriyou!F1276=\"\",\"\",syoriyou!F1276)","v":""},{"$f":"IF(syoriyou!G1276=\"\",\"\",syoriyou!G1276)","v":""},{"$f":"IF(syoriyou!H1276=\"\",\"\",syoriyou!H1276)","v":""},{"$f":"IF(syoriyou!I1276=\"\",\"\",syoriyou!I1276)","v":""},{"$f":"IF(syoriyou!J1276=\"\",\"\",syoriyou!N1276)","v":""}]
[{"$f":"IF(syoriyou!A1277=\"\",\"\",syoriyou!A1277)","v":""},{"$f":"IF(syoriyou!B1277=\"\",\"\",syoriyou!B1277)","v":""},{"$f":"IF(syoriyou!C1277=\"\",\"\",syoriyou!C1277)","v":""},{"$f":"IF(syoriyou!D1277=\"\",\"\",syoriyou!D1277)","v":""},{"$f":"IF(syoriyou!E1277=\"\",\"\",syoriyou!E1277)","v":""},{"$f":"IF(syoriyou!F1277=\"\",\"\",syoriyou!F1277)","v":""},{"$f":"IF(syoriyou!G1277=\"\",\"\",syoriyou!G1277)","v":""},{"$f":"IF(syoriyou!H1277=\"\",\"\",syoriyou!H1277)","v":""},{"$f":"IF(syoriyou!I1277=\"\",\"\",syoriyou!I1277)","v":""},{"$f":"IF(syoriyou!J1277=\"\",\"\",syoriyou!N1277)","v":""}]
[{"$f":"IF(syoriyou!A1278=\"\",\"\",syoriyou!A1278)","v":""},{"$f":"IF(syoriyou!B1278=\"\",\"\",syoriyou!B1278)","v":""},{"$f":"IF(syoriyou!C1278=\"\",\"\",syoriyou!C1278)","v":""},{"$f":"IF(syoriyou!D1278=\"\",\"\",syoriyou!D1278)","v":""},{"$f":"IF(syoriyou!E1278=\"\",\"\",syoriyou!E1278)","v":""},{"$f":"IF(syoriyou!F1278=\"\",\"\",syoriyou!F1278)","v":""},{"$f":"IF(syoriyou!G1278=\"\",\"\",syoriyou!G1278)","v":""},{"$f":"IF(syoriyou!H1278=\"\",\"\",syoriyou!H1278)","v":""},{"$f":"IF(syoriyou!I1278=\"\",\"\",syoriyou!I1278)","v":""},{"$f":"IF(syoriyou!J1278=\"\",\"\",syoriyou!N1278)","v":""}]
[{"$f":"IF(syoriyou!A1279=\"\",\"\",syoriyou!A1279)","v":""},{"$f":"IF(syoriyou!B1279=\"\",\"\",syoriyou!B1279)","v":""},{"$f":"IF(syoriyou!C1279=\"\",\"\",syoriyou!C1279)","v":""},{"$f":"IF(syoriyou!D1279=\"\",\"\",syoriyou!D1279)","v":""},{"$f":"IF(syoriyou!E1279=\"\",\"\",syoriyou!E1279)","v":""},{"$f":"IF(syoriyou!F1279=\"\",\"\",syoriyou!F1279)","v":""},{"$f":"IF(syoriyou!G1279=\"\",\"\",syoriyou!G1279)","v":""},{"$f":"IF(syoriyou!H1279=\"\",\"\",syoriyou!H1279)","v":""},{"$f":"IF(syoriyou!I1279=\"\",\"\",syoriyou!I1279)","v":""},{"$f":"IF(syoriyou!J1279=\"\",\"\",syoriyou!N1279)","v":""}]
[{"$f":"IF(syoriyou!A1280=\"\",\"\",syoriyou!A1280)","v":""},{"$f":"IF(syoriyou!B1280=\"\",\"\",syoriyou!B1280)","v":""},{"$f":"IF(syoriyou!C1280=\"\",\"\",syoriyou!C1280)","v":""},{"$f":"IF(syoriyou!D1280=\"\",\"\",syoriyou!D1280)","v":""},{"$f":"IF(syoriyou!E1280=\"\",\"\",syoriyou!E1280)","v":""},{"$f":"IF(syoriyou!F1280=\"\",\"\",syoriyou!F1280)","v":""},{"$f":"IF(syoriyou!G1280=\"\",\"\",syoriyou!G1280)","v":""},{"$f":"IF(syoriyou!H1280=\"\",\"\",syoriyou!H1280)","v":""},{"$f":"IF(syoriyou!I1280=\"\",\"\",syoriyou!I1280)","v":""},{"$f":"IF(syoriyou!J1280=\"\",\"\",syoriyou!N1280)","v":""}]
[{"$f":"IF(syoriyou!A1281=\"\",\"\",syoriyou!A1281)","v":""},{"$f":"IF(syoriyou!B1281=\"\",\"\",syoriyou!B1281)","v":""},{"$f":"IF(syoriyou!C1281=\"\",\"\",syoriyou!C1281)","v":""},{"$f":"IF(syoriyou!D1281=\"\",\"\",syoriyou!D1281)","v":""},{"$f":"IF(syoriyou!E1281=\"\",\"\",syoriyou!E1281)","v":""},{"$f":"IF(syoriyou!F1281=\"\",\"\",syoriyou!F1281)","v":""},{"$f":"IF(syoriyou!G1281=\"\",\"\",syoriyou!G1281)","v":""},{"$f":"IF(syoriyou!H1281=\"\",\"\",syoriyou!H1281)","v":""},{"$f":"IF(syoriyou!I1281=\"\",\"\",syoriyou!I1281)","v":""},{"$f":"IF(syoriyou!J1281=\"\",\"\",syoriyou!N1281)","v":""}]
[{"$f":"IF(syoriyou!A1282=\"\",\"\",syoriyou!A1282)","v":""},{"$f":"IF(syoriyou!B1282=\"\",\"\",syoriyou!B1282)","v":""},{"$f":"IF(syoriyou!C1282=\"\",\"\",syoriyou!C1282)","v":""},{"$f":"IF(syoriyou!D1282=\"\",\"\",syoriyou!D1282)","v":""},{"$f":"IF(syoriyou!E1282=\"\",\"\",syoriyou!E1282)","v":""},{"$f":"IF(syoriyou!F1282=\"\",\"\",syoriyou!F1282)","v":""},{"$f":"IF(syoriyou!G1282=\"\",\"\",syoriyou!G1282)","v":""},{"$f":"IF(syoriyou!H1282=\"\",\"\",syoriyou!H1282)","v":""},{"$f":"IF(syoriyou!I1282=\"\",\"\",syoriyou!I1282)","v":""},{"$f":"IF(syoriyou!J1282=\"\",\"\",syoriyou!N1282)","v":""}]
[{"$f":"IF(syoriyou!A1283=\"\",\"\",syoriyou!A1283)","v":""},{"$f":"IF(syoriyou!B1283=\"\",\"\",syoriyou!B1283)","v":""},{"$f":"IF(syoriyou!C1283=\"\",\"\",syoriyou!C1283)","v":""},{"$f":"IF(syoriyou!D1283=\"\",\"\",syoriyou!D1283)","v":""},{"$f":"IF(syoriyou!E1283=\"\",\"\",syoriyou!E1283)","v":""},{"$f":"IF(syoriyou!F1283=\"\",\"\",syoriyou!F1283)","v":""},{"$f":"IF(syoriyou!G1283=\"\",\"\",syoriyou!G1283)","v":""},{"$f":"IF(syoriyou!H1283=\"\",\"\",syoriyou!H1283)","v":""},{"$f":"IF(syoriyou!I1283=\"\",\"\",syoriyou!I1283)","v":""},{"$f":"IF(syoriyou!J1283=\"\",\"\",syoriyou!N1283)","v":""}]
[{"$f":"IF(syoriyou!A1284=\"\",\"\",syoriyou!A1284)","v":""},{"$f":"IF(syoriyou!B1284=\"\",\"\",syoriyou!B1284)","v":""},{"$f":"IF(syoriyou!C1284=\"\",\"\",syoriyou!C1284)","v":""},{"$f":"IF(syoriyou!D1284=\"\",\"\",syoriyou!D1284)","v":""},{"$f":"IF(syoriyou!E1284=\"\",\"\",syoriyou!E1284)","v":""},{"$f":"IF(syoriyou!F1284=\"\",\"\",syoriyou!F1284)","v":""},{"$f":"IF(syoriyou!G1284=\"\",\"\",syoriyou!G1284)","v":""},{"$f":"IF(syoriyou!H1284=\"\",\"\",syoriyou!H1284)","v":""},{"$f":"IF(syoriyou!I1284=\"\",\"\",syoriyou!I1284)","v":""},{"$f":"IF(syoriyou!J1284=\"\",\"\",syoriyou!N1284)","v":""}]
[{"$f":"IF(syoriyou!A1285=\"\",\"\",syoriyou!A1285)","v":""},{"$f":"IF(syoriyou!B1285=\"\",\"\",syoriyou!B1285)","v":""},{"$f":"IF(syoriyou!C1285=\"\",\"\",syoriyou!C1285)","v":""},{"$f":"IF(syoriyou!D1285=\"\",\"\",syoriyou!D1285)","v":""},{"$f":"IF(syoriyou!E1285=\"\",\"\",syoriyou!E1285)","v":""},{"$f":"IF(syoriyou!F1285=\"\",\"\",syoriyou!F1285)","v":""},{"$f":"IF(syoriyou!G1285=\"\",\"\",syoriyou!G1285)","v":""},{"$f":"IF(syoriyou!H1285=\"\",\"\",syoriyou!H1285)","v":""},{"$f":"IF(syoriyou!I1285=\"\",\"\",syoriyou!I1285)","v":""},{"$f":"IF(syoriyou!J1285=\"\",\"\",syoriyou!N1285)","v":""}]
[{"$f":"IF(syoriyou!A1286=\"\",\"\",syoriyou!A1286)","v":""},{"$f":"IF(syoriyou!B1286=\"\",\"\",syoriyou!B1286)","v":""},{"$f":"IF(syoriyou!C1286=\"\",\"\",syoriyou!C1286)","v":""},{"$f":"IF(syoriyou!D1286=\"\",\"\",syoriyou!D1286)","v":""},{"$f":"IF(syoriyou!E1286=\"\",\"\",syoriyou!E1286)","v":""},{"$f":"IF(syoriyou!F1286=\"\",\"\",syoriyou!F1286)","v":""},{"$f":"IF(syoriyou!G1286=\"\",\"\",syoriyou!G1286)","v":""},{"$f":"IF(syoriyou!H1286=\"\",\"\",syoriyou!H1286)","v":""},{"$f":"IF(syoriyou!I1286=\"\",\"\",syoriyou!I1286)","v":""},{"$f":"IF(syoriyou!J1286=\"\",\"\",syoriyou!N1286)","v":""}]
[{"$f":"IF(syoriyou!A1287=\"\",\"\",syoriyou!A1287)","v":""},{"$f":"IF(syoriyou!B1287=\"\",\"\",syoriyou!B1287)","v":""},{"$f":"IF(syoriyou!C1287=\"\",\"\",syoriyou!C1287)","v":""},{"$f":"IF(syoriyou!D1287=\"\",\"\",syoriyou!D1287)","v":""},{"$f":"IF(syoriyou!E1287=\"\",\"\",syoriyou!E1287)","v":""},{"$f":"IF(syoriyou!F1287=\"\",\"\",syoriyou!F1287)","v":""},{"$f":"IF(syoriyou!G1287=\"\",\"\",syoriyou!G1287)","v":""},{"$f":"IF(syoriyou!H1287=\"\",\"\",syoriyou!H1287)","v":""},{"$f":"IF(syoriyou!I1287=\"\",\"\",syoriyou!I1287)","v":""},{"$f":"IF(syoriyou!J1287=\"\",\"\",syoriyou!N1287)","v":""}]
[{"$f":"IF(syoriyou!A1288=\"\",\"\",syoriyou!A1288)","v":""},{"$f":"IF(syoriyou!B1288=\"\",\"\",syoriyou!B1288)","v":""},{"$f":"IF(syoriyou!C1288=\"\",\"\",syoriyou!C1288)","v":""},{"$f":"IF(syoriyou!D1288=\"\",\"\",syoriyou!D1288)","v":""},{"$f":"IF(syoriyou!E1288=\"\",\"\",syoriyou!E1288)","v":""},{"$f":"IF(syoriyou!F1288=\"\",\"\",syoriyou!F1288)","v":""},{"$f":"IF(syoriyou!G1288=\"\",\"\",syoriyou!G1288)","v":""},{"$f":"IF(syoriyou!H1288=\"\",\"\",syoriyou!H1288)","v":""},{"$f":"IF(syoriyou!I1288=\"\",\"\",syoriyou!I1288)","v":""},{"$f":"IF(syoriyou!J1288=\"\",\"\",syoriyou!N1288)","v":""}]
[{"$f":"IF(syoriyou!A1289=\"\",\"\",syoriyou!A1289)","v":""},{"$f":"IF(syoriyou!B1289=\"\",\"\",syoriyou!B1289)","v":""},{"$f":"IF(syoriyou!C1289=\"\",\"\",syoriyou!C1289)","v":""},{"$f":"IF(syoriyou!D1289=\"\",\"\",syoriyou!D1289)","v":""},{"$f":"IF(syoriyou!E1289=\"\",\"\",syoriyou!E1289)","v":""},{"$f":"IF(syoriyou!F1289=\"\",\"\",syoriyou!F1289)","v":""},{"$f":"IF(syoriyou!G1289=\"\",\"\",syoriyou!G1289)","v":""},{"$f":"IF(syoriyou!H1289=\"\",\"\",syoriyou!H1289)","v":""},{"$f":"IF(syoriyou!I1289=\"\",\"\",syoriyou!I1289)","v":""},{"$f":"IF(syoriyou!J1289=\"\",\"\",syoriyou!N1289)","v":""}]
[{"$f":"IF(syoriyou!A1290=\"\",\"\",syoriyou!A1290)","v":""},{"$f":"IF(syoriyou!B1290=\"\",\"\",syoriyou!B1290)","v":""},{"$f":"IF(syoriyou!C1290=\"\",\"\",syoriyou!C1290)","v":""},{"$f":"IF(syoriyou!D1290=\"\",\"\",syoriyou!D1290)","v":""},{"$f":"IF(syoriyou!E1290=\"\",\"\",syoriyou!E1290)","v":""},{"$f":"IF(syoriyou!F1290=\"\",\"\",syoriyou!F1290)","v":""},{"$f":"IF(syoriyou!G1290=\"\",\"\",syoriyou!G1290)","v":""},{"$f":"IF(syoriyou!H1290=\"\",\"\",syoriyou!H1290)","v":""},{"$f":"IF(syoriyou!I1290=\"\",\"\",syoriyou!I1290)","v":""},{"$f":"IF(syoriyou!J1290=\"\",\"\",syoriyou!N1290)","v":""}]
[{"$f":"IF(syoriyou!A1291=\"\",\"\",syoriyou!A1291)","v":""},{"$f":"IF(syoriyou!B1291=\"\",\"\",syoriyou!B1291)","v":""},{"$f":"IF(syoriyou!C1291=\"\",\"\",syoriyou!C1291)","v":""},{"$f":"IF(syoriyou!D1291=\"\",\"\",syoriyou!D1291)","v":""},{"$f":"IF(syoriyou!E1291=\"\",\"\",syoriyou!E1291)","v":""},{"$f":"IF(syoriyou!F1291=\"\",\"\",syoriyou!F1291)","v":""},{"$f":"IF(syoriyou!G1291=\"\",\"\",syoriyou!G1291)","v":""},{"$f":"IF(syoriyou!H1291=\"\",\"\",syoriyou!H1291)","v":""},{"$f":"IF(syoriyou!I1291=\"\",\"\",syoriyou!I1291)","v":""},{"$f":"IF(syoriyou!J1291=\"\",\"\",syoriyou!N1291)","v":""}]
[{"$f":"IF(syoriyou!A1292=\"\",\"\",syoriyou!A1292)","v":""},{"$f":"IF(syoriyou!B1292=\"\",\"\",syoriyou!B1292)","v":""},{"$f":"IF(syoriyou!C1292=\"\",\"\",syoriyou!C1292)","v":""},{"$f":"IF(syoriyou!D1292=\"\",\"\",syoriyou!D1292)","v":""},{"$f":"IF(syoriyou!E1292=\"\",\"\",syoriyou!E1292)","v":""},{"$f":"IF(syoriyou!F1292=\"\",\"\",syoriyou!F1292)","v":""},{"$f":"IF(syoriyou!G1292=\"\",\"\",syoriyou!G1292)","v":""},{"$f":"IF(syoriyou!H1292=\"\",\"\",syoriyou!H1292)","v":""},{"$f":"IF(syoriyou!I1292=\"\",\"\",syoriyou!I1292)","v":""},{"$f":"IF(syoriyou!J1292=\"\",\"\",syoriyou!N1292)","v":""}]
[{"$f":"IF(syoriyou!A1293=\"\",\"\",syoriyou!A1293)","v":""},{"$f":"IF(syoriyou!B1293=\"\",\"\",syoriyou!B1293)","v":""},{"$f":"IF(syoriyou!C1293=\"\",\"\",syoriyou!C1293)","v":""},{"$f":"IF(syoriyou!D1293=\"\",\"\",syoriyou!D1293)","v":""},{"$f":"IF(syoriyou!E1293=\"\",\"\",syoriyou!E1293)","v":""},{"$f":"IF(syoriyou!F1293=\"\",\"\",syoriyou!F1293)","v":""},{"$f":"IF(syoriyou!G1293=\"\",\"\",syoriyou!G1293)","v":""},{"$f":"IF(syoriyou!H1293=\"\",\"\",syoriyou!H1293)","v":""},{"$f":"IF(syoriyou!I1293=\"\",\"\",syoriyou!I1293)","v":""},{"$f":"IF(syoriyou!J1293=\"\",\"\",syoriyou!N1293)","v":""}]
[{"$f":"IF(syoriyou!A1294=\"\",\"\",syoriyou!A1294)","v":""},{"$f":"IF(syoriyou!B1294=\"\",\"\",syoriyou!B1294)","v":""},{"$f":"IF(syoriyou!C1294=\"\",\"\",syoriyou!C1294)","v":""},{"$f":"IF(syoriyou!D1294=\"\",\"\",syoriyou!D1294)","v":""},{"$f":"IF(syoriyou!E1294=\"\",\"\",syoriyou!E1294)","v":""},{"$f":"IF(syoriyou!F1294=\"\",\"\",syoriyou!F1294)","v":""},{"$f":"IF(syoriyou!G1294=\"\",\"\",syoriyou!G1294)","v":""},{"$f":"IF(syoriyou!H1294=\"\",\"\",syoriyou!H1294)","v":""},{"$f":"IF(syoriyou!I1294=\"\",\"\",syoriyou!I1294)","v":""},{"$f":"IF(syoriyou!J1294=\"\",\"\",syoriyou!N1294)","v":""}]
[{"$f":"IF(syoriyou!A1295=\"\",\"\",syoriyou!A1295)","v":""},{"$f":"IF(syoriyou!B1295=\"\",\"\",syoriyou!B1295)","v":""},{"$f":"IF(syoriyou!C1295=\"\",\"\",syoriyou!C1295)","v":""},{"$f":"IF(syoriyou!D1295=\"\",\"\",syoriyou!D1295)","v":""},{"$f":"IF(syoriyou!E1295=\"\",\"\",syoriyou!E1295)","v":""},{"$f":"IF(syoriyou!F1295=\"\",\"\",syoriyou!F1295)","v":""},{"$f":"IF(syoriyou!G1295=\"\",\"\",syoriyou!G1295)","v":""},{"$f":"IF(syoriyou!H1295=\"\",\"\",syoriyou!H1295)","v":""},{"$f":"IF(syoriyou!I1295=\"\",\"\",syoriyou!I1295)","v":""},{"$f":"IF(syoriyou!J1295=\"\",\"\",syoriyou!N1295)","v":""}]
[{"$f":"IF(syoriyou!A1296=\"\",\"\",syoriyou!A1296)","v":""},{"$f":"IF(syoriyou!B1296=\"\",\"\",syoriyou!B1296)","v":""},{"$f":"IF(syoriyou!C1296=\"\",\"\",syoriyou!C1296)","v":""},{"$f":"IF(syoriyou!D1296=\"\",\"\",syoriyou!D1296)","v":""},{"$f":"IF(syoriyou!E1296=\"\",\"\",syoriyou!E1296)","v":""},{"$f":"IF(syoriyou!F1296=\"\",\"\",syoriyou!F1296)","v":""},{"$f":"IF(syoriyou!G1296=\"\",\"\",syoriyou!G1296)","v":""},{"$f":"IF(syoriyou!H1296=\"\",\"\",syoriyou!H1296)","v":""},{"$f":"IF(syoriyou!I1296=\"\",\"\",syoriyou!I1296)","v":""},{"$f":"IF(syoriyou!J1296=\"\",\"\",syoriyou!N1296)","v":""}]
[{"$f":"IF(syoriyou!A1297=\"\",\"\",syoriyou!A1297)","v":""},{"$f":"IF(syoriyou!B1297=\"\",\"\",syoriyou!B1297)","v":""},{"$f":"IF(syoriyou!C1297=\"\",\"\",syoriyou!C1297)","v":""},{"$f":"IF(syoriyou!D1297=\"\",\"\",syoriyou!D1297)","v":""},{"$f":"IF(syoriyou!E1297=\"\",\"\",syoriyou!E1297)","v":""},{"$f":"IF(syoriyou!F1297=\"\",\"\",syoriyou!F1297)","v":""},{"$f":"IF(syoriyou!G1297=\"\",\"\",syoriyou!G1297)","v":""},{"$f":"IF(syoriyou!H1297=\"\",\"\",syoriyou!H1297)","v":""},{"$f":"IF(syoriyou!I1297=\"\",\"\",syoriyou!I1297)","v":""},{"$f":"IF(syoriyou!J1297=\"\",\"\",syoriyou!N1297)","v":""}]
[{"$f":"IF(syoriyou!A1298=\"\",\"\",syoriyou!A1298)","v":""},{"$f":"IF(syoriyou!B1298=\"\",\"\",syoriyou!B1298)","v":""},{"$f":"IF(syoriyou!C1298=\"\",\"\",syoriyou!C1298)","v":""},{"$f":"IF(syoriyou!D1298=\"\",\"\",syoriyou!D1298)","v":""},{"$f":"IF(syoriyou!E1298=\"\",\"\",syoriyou!E1298)","v":""},{"$f":"IF(syoriyou!F1298=\"\",\"\",syoriyou!F1298)","v":""},{"$f":"IF(syoriyou!G1298=\"\",\"\",syoriyou!G1298)","v":""},{"$f":"IF(syoriyou!H1298=\"\",\"\",syoriyou!H1298)","v":""},{"$f":"IF(syoriyou!I1298=\"\",\"\",syoriyou!I1298)","v":""},{"$f":"IF(syoriyou!J1298=\"\",\"\",syoriyou!N1298)","v":""}]
[{"$f":"IF(syoriyou!A1299=\"\",\"\",syoriyou!A1299)","v":""},{"$f":"IF(syoriyou!B1299=\"\",\"\",syoriyou!B1299)","v":""},{"$f":"IF(syoriyou!C1299=\"\",\"\",syoriyou!C1299)","v":""},{"$f":"IF(syoriyou!D1299=\"\",\"\",syoriyou!D1299)","v":""},{"$f":"IF(syoriyou!E1299=\"\",\"\",syoriyou!E1299)","v":""},{"$f":"IF(syoriyou!F1299=\"\",\"\",syoriyou!F1299)","v":""},{"$f":"IF(syoriyou!G1299=\"\",\"\",syoriyou!G1299)","v":""},{"$f":"IF(syoriyou!H1299=\"\",\"\",syoriyou!H1299)","v":""},{"$f":"IF(syoriyou!I1299=\"\",\"\",syoriyou!I1299)","v":""},{"$f":"IF(syoriyou!J1299=\"\",\"\",syoriyou!N1299)","v":""}]
[{"$f":"IF(syoriyou!A1300=\"\",\"\",syoriyou!A1300)","v":""},{"$f":"IF(syoriyou!B1300=\"\",\"\",syoriyou!B1300)","v":""},{"$f":"IF(syoriyou!C1300=\"\",\"\",syoriyou!C1300)","v":""},{"$f":"IF(syoriyou!D1300=\"\",\"\",syoriyou!D1300)","v":""},{"$f":"IF(syoriyou!E1300=\"\",\"\",syoriyou!E1300)","v":""},{"$f":"IF(syoriyou!F1300=\"\",\"\",syoriyou!F1300)","v":""},{"$f":"IF(syoriyou!G1300=\"\",\"\",syoriyou!G1300)","v":""},{"$f":"IF(syoriyou!H1300=\"\",\"\",syoriyou!H1300)","v":""},{"$f":"IF(syoriyou!I1300=\"\",\"\",syoriyou!I1300)","v":""},{"$f":"IF(syoriyou!J1300=\"\",\"\",syoriyou!N1300)","v":""}]
[{"$f":"IF(syoriyou!A1301=\"\",\"\",syoriyou!A1301)","v":""},{"$f":"IF(syoriyou!B1301=\"\",\"\",syoriyou!B1301)","v":""},{"$f":"IF(syoriyou!C1301=\"\",\"\",syoriyou!C1301)","v":""},{"$f":"IF(syoriyou!D1301=\"\",\"\",syoriyou!D1301)","v":""},{"$f":"IF(syoriyou!E1301=\"\",\"\",syoriyou!E1301)","v":""},{"$f":"IF(syoriyou!F1301=\"\",\"\",syoriyou!F1301)","v":""},{"$f":"IF(syoriyou!G1301=\"\",\"\",syoriyou!G1301)","v":""},{"$f":"IF(syoriyou!H1301=\"\",\"\",syoriyou!H1301)","v":""},{"$f":"IF(syoriyou!I1301=\"\",\"\",syoriyou!I1301)","v":""},{"$f":"IF(syoriyou!J1301=\"\",\"\",syoriyou!N1301)","v":""}]
[{"$f":"IF(syoriyou!A1302=\"\",\"\",syoriyou!A1302)","v":""},{"$f":"IF(syoriyou!B1302=\"\",\"\",syoriyou!B1302)","v":""},{"$f":"IF(syoriyou!C1302=\"\",\"\",syoriyou!C1302)","v":""},{"$f":"IF(syoriyou!D1302=\"\",\"\",syoriyou!D1302)","v":""},{"$f":"IF(syoriyou!E1302=\"\",\"\",syoriyou!E1302)","v":""},{"$f":"IF(syoriyou!F1302=\"\",\"\",syoriyou!F1302)","v":""},{"$f":"IF(syoriyou!G1302=\"\",\"\",syoriyou!G1302)","v":""},{"$f":"IF(syoriyou!H1302=\"\",\"\",syoriyou!H1302)","v":""},{"$f":"IF(syoriyou!I1302=\"\",\"\",syoriyou!I1302)","v":""},{"$f":"IF(syoriyou!J1302=\"\",\"\",syoriyou!N1302)","v":""}]
[{"$f":"IF(syoriyou!A1303=\"\",\"\",syoriyou!A1303)","v":""},{"$f":"IF(syoriyou!B1303=\"\",\"\",syoriyou!B1303)","v":""},{"$f":"IF(syoriyou!C1303=\"\",\"\",syoriyou!C1303)","v":""},{"$f":"IF(syoriyou!D1303=\"\",\"\",syoriyou!D1303)","v":""},{"$f":"IF(syoriyou!E1303=\"\",\"\",syoriyou!E1303)","v":""},{"$f":"IF(syoriyou!F1303=\"\",\"\",syoriyou!F1303)","v":""},{"$f":"IF(syoriyou!G1303=\"\",\"\",syoriyou!G1303)","v":""},{"$f":"IF(syoriyou!H1303=\"\",\"\",syoriyou!H1303)","v":""},{"$f":"IF(syoriyou!I1303=\"\",\"\",syoriyou!I1303)","v":""},{"$f":"IF(syoriyou!J1303=\"\",\"\",syoriyou!N1303)","v":""}]
[{"$f":"IF(syoriyou!A1304=\"\",\"\",syoriyou!A1304)","v":""},{"$f":"IF(syoriyou!B1304=\"\",\"\",syoriyou!B1304)","v":""},{"$f":"IF(syoriyou!C1304=\"\",\"\",syoriyou!C1304)","v":""},{"$f":"IF(syoriyou!D1304=\"\",\"\",syoriyou!D1304)","v":""},{"$f":"IF(syoriyou!E1304=\"\",\"\",syoriyou!E1304)","v":""},{"$f":"IF(syoriyou!F1304=\"\",\"\",syoriyou!F1304)","v":""},{"$f":"IF(syoriyou!G1304=\"\",\"\",syoriyou!G1304)","v":""},{"$f":"IF(syoriyou!H1304=\"\",\"\",syoriyou!H1304)","v":""},{"$f":"IF(syoriyou!I1304=\"\",\"\",syoriyou!I1304)","v":""},{"$f":"IF(syoriyou!J1304=\"\",\"\",syoriyou!N1304)","v":""}]
[{"$f":"IF(syoriyou!A1305=\"\",\"\",syoriyou!A1305)","v":""},{"$f":"IF(syoriyou!B1305=\"\",\"\",syoriyou!B1305)","v":""},{"$f":"IF(syoriyou!C1305=\"\",\"\",syoriyou!C1305)","v":""},{"$f":"IF(syoriyou!D1305=\"\",\"\",syoriyou!D1305)","v":""},{"$f":"IF(syoriyou!E1305=\"\",\"\",syoriyou!E1305)","v":""},{"$f":"IF(syoriyou!F1305=\"\",\"\",syoriyou!F1305)","v":""},{"$f":"IF(syoriyou!G1305=\"\",\"\",syoriyou!G1305)","v":""},{"$f":"IF(syoriyou!H1305=\"\",\"\",syoriyou!H1305)","v":""},{"$f":"IF(syoriyou!I1305=\"\",\"\",syoriyou!I1305)","v":""},{"$f":"IF(syoriyou!J1305=\"\",\"\",syoriyou!N1305)","v":""}]
[{"$f":"IF(syoriyou!A1306=\"\",\"\",syoriyou!A1306)","v":""},{"$f":"IF(syoriyou!B1306=\"\",\"\",syoriyou!B1306)","v":""},{"$f":"IF(syoriyou!C1306=\"\",\"\",syoriyou!C1306)","v":""},{"$f":"IF(syoriyou!D1306=\"\",\"\",syoriyou!D1306)","v":""},{"$f":"IF(syoriyou!E1306=\"\",\"\",syoriyou!E1306)","v":""},{"$f":"IF(syoriyou!F1306=\"\",\"\",syoriyou!F1306)","v":""},{"$f":"IF(syoriyou!G1306=\"\",\"\",syoriyou!G1306)","v":""},{"$f":"IF(syoriyou!H1306=\"\",\"\",syoriyou!H1306)","v":""},{"$f":"IF(syoriyou!I1306=\"\",\"\",syoriyou!I1306)","v":""},{"$f":"IF(syoriyou!J1306=\"\",\"\",syoriyou!N1306)","v":""}]
[{"$f":"IF(syoriyou!A1307=\"\",\"\",syoriyou!A1307)","v":""},{"$f":"IF(syoriyou!B1307=\"\",\"\",syoriyou!B1307)","v":""},{"$f":"IF(syoriyou!C1307=\"\",\"\",syoriyou!C1307)","v":""},{"$f":"IF(syoriyou!D1307=\"\",\"\",syoriyou!D1307)","v":""},{"$f":"IF(syoriyou!E1307=\"\",\"\",syoriyou!E1307)","v":""},{"$f":"IF(syoriyou!F1307=\"\",\"\",syoriyou!F1307)","v":""},{"$f":"IF(syoriyou!G1307=\"\",\"\",syoriyou!G1307)","v":""},{"$f":"IF(syoriyou!H1307=\"\",\"\",syoriyou!H1307)","v":""},{"$f":"IF(syoriyou!I1307=\"\",\"\",syoriyou!I1307)","v":""},{"$f":"IF(syoriyou!J1307=\"\",\"\",syoriyou!N1307)","v":""}]
[{"$f":"IF(syoriyou!A1308=\"\",\"\",syoriyou!A1308)","v":""},{"$f":"IF(syoriyou!B1308=\"\",\"\",syoriyou!B1308)","v":""},{"$f":"IF(syoriyou!C1308=\"\",\"\",syoriyou!C1308)","v":""},{"$f":"IF(syoriyou!D1308=\"\",\"\",syoriyou!D1308)","v":""},{"$f":"IF(syoriyou!E1308=\"\",\"\",syoriyou!E1308)","v":""},{"$f":"IF(syoriyou!F1308=\"\",\"\",syoriyou!F1308)","v":""},{"$f":"IF(syoriyou!G1308=\"\",\"\",syoriyou!G1308)","v":""},{"$f":"IF(syoriyou!H1308=\"\",\"\",syoriyou!H1308)","v":""},{"$f":"IF(syoriyou!I1308=\"\",\"\",syoriyou!I1308)","v":""},{"$f":"IF(syoriyou!J1308=\"\",\"\",syoriyou!N1308)","v":""}]
[{"$f":"IF(syoriyou!A1309=\"\",\"\",syoriyou!A1309)","v":""},{"$f":"IF(syoriyou!B1309=\"\",\"\",syoriyou!B1309)","v":""},{"$f":"IF(syoriyou!C1309=\"\",\"\",syoriyou!C1309)","v":""},{"$f":"IF(syoriyou!D1309=\"\",\"\",syoriyou!D1309)","v":""},{"$f":"IF(syoriyou!E1309=\"\",\"\",syoriyou!E1309)","v":""},{"$f":"IF(syoriyou!F1309=\"\",\"\",syoriyou!F1309)","v":""},{"$f":"IF(syoriyou!G1309=\"\",\"\",syoriyou!G1309)","v":""},{"$f":"IF(syoriyou!H1309=\"\",\"\",syoriyou!H1309)","v":""},{"$f":"IF(syoriyou!I1309=\"\",\"\",syoriyou!I1309)","v":""},{"$f":"IF(syoriyou!J1309=\"\",\"\",syoriyou!N1309)","v":""}]
[{"$f":"IF(syoriyou!A1310=\"\",\"\",syoriyou!A1310)","v":""},{"$f":"IF(syoriyou!B1310=\"\",\"\",syoriyou!B1310)","v":""},{"$f":"IF(syoriyou!C1310=\"\",\"\",syoriyou!C1310)","v":""},{"$f":"IF(syoriyou!D1310=\"\",\"\",syoriyou!D1310)","v":""},{"$f":"IF(syoriyou!E1310=\"\",\"\",syoriyou!E1310)","v":""},{"$f":"IF(syoriyou!F1310=\"\",\"\",syoriyou!F1310)","v":""},{"$f":"IF(syoriyou!G1310=\"\",\"\",syoriyou!G1310)","v":""},{"$f":"IF(syoriyou!H1310=\"\",\"\",syoriyou!H1310)","v":""},{"$f":"IF(syoriyou!I1310=\"\",\"\",syoriyou!I1310)","v":""},{"$f":"IF(syoriyou!J1310=\"\",\"\",syoriyou!N1310)","v":""}]
[{"$f":"IF(syoriyou!A1311=\"\",\"\",syoriyou!A1311)","v":""},{"$f":"IF(syoriyou!B1311=\"\",\"\",syoriyou!B1311)","v":""},{"$f":"IF(syoriyou!C1311=\"\",\"\",syoriyou!C1311)","v":""},{"$f":"IF(syoriyou!D1311=\"\",\"\",syoriyou!D1311)","v":""},{"$f":"IF(syoriyou!E1311=\"\",\"\",syoriyou!E1311)","v":""},{"$f":"IF(syoriyou!F1311=\"\",\"\",syoriyou!F1311)","v":""},{"$f":"IF(syoriyou!G1311=\"\",\"\",syoriyou!G1311)","v":""},{"$f":"IF(syoriyou!H1311=\"\",\"\",syoriyou!H1311)","v":""},{"$f":"IF(syoriyou!I1311=\"\",\"\",syoriyou!I1311)","v":""},{"$f":"IF(syoriyou!J1311=\"\",\"\",syoriyou!N1311)","v":""}]
[{"$f":"IF(syoriyou!A1312=\"\",\"\",syoriyou!A1312)","v":""},{"$f":"IF(syoriyou!B1312=\"\",\"\",syoriyou!B1312)","v":""},{"$f":"IF(syoriyou!C1312=\"\",\"\",syoriyou!C1312)","v":""},{"$f":"IF(syoriyou!D1312=\"\",\"\",syoriyou!D1312)","v":""},{"$f":"IF(syoriyou!E1312=\"\",\"\",syoriyou!E1312)","v":""},{"$f":"IF(syoriyou!F1312=\"\",\"\",syoriyou!F1312)","v":""},{"$f":"IF(syoriyou!G1312=\"\",\"\",syoriyou!G1312)","v":""},{"$f":"IF(syoriyou!H1312=\"\",\"\",syoriyou!H1312)","v":""},{"$f":"IF(syoriyou!I1312=\"\",\"\",syoriyou!I1312)","v":""},{"$f":"IF(syoriyou!J1312=\"\",\"\",syoriyou!N1312)","v":""}]
[{"$f":"IF(syoriyou!A1313=\"\",\"\",syoriyou!A1313)","v":""},{"$f":"IF(syoriyou!B1313=\"\",\"\",syoriyou!B1313)","v":""},{"$f":"IF(syoriyou!C1313=\"\",\"\",syoriyou!C1313)","v":""},{"$f":"IF(syoriyou!D1313=\"\",\"\",syoriyou!D1313)","v":""},{"$f":"IF(syoriyou!E1313=\"\",\"\",syoriyou!E1313)","v":""},{"$f":"IF(syoriyou!F1313=\"\",\"\",syoriyou!F1313)","v":""},{"$f":"IF(syoriyou!G1313=\"\",\"\",syoriyou!G1313)","v":""},{"$f":"IF(syoriyou!H1313=\"\",\"\",syoriyou!H1313)","v":""},{"$f":"IF(syoriyou!I1313=\"\",\"\",syoriyou!I1313)","v":""},{"$f":"IF(syoriyou!J1313=\"\",\"\",syoriyou!N1313)","v":""}]
[{"$f":"IF(syoriyou!A1314=\"\",\"\",syoriyou!A1314)","v":""},{"$f":"IF(syoriyou!B1314=\"\",\"\",syoriyou!B1314)","v":""},{"$f":"IF(syoriyou!C1314=\"\",\"\",syoriyou!C1314)","v":""},{"$f":"IF(syoriyou!D1314=\"\",\"\",syoriyou!D1314)","v":""},{"$f":"IF(syoriyou!E1314=\"\",\"\",syoriyou!E1314)","v":""},{"$f":"IF(syoriyou!F1314=\"\",\"\",syoriyou!F1314)","v":""},{"$f":"IF(syoriyou!G1314=\"\",\"\",syoriyou!G1314)","v":""},{"$f":"IF(syoriyou!H1314=\"\",\"\",syoriyou!H1314)","v":""},{"$f":"IF(syoriyou!I1314=\"\",\"\",syoriyou!I1314)","v":""},{"$f":"IF(syoriyou!J1314=\"\",\"\",syoriyou!N1314)","v":""}]
[{"$f":"IF(syoriyou!A1315=\"\",\"\",syoriyou!A1315)","v":""},{"$f":"IF(syoriyou!B1315=\"\",\"\",syoriyou!B1315)","v":""},{"$f":"IF(syoriyou!C1315=\"\",\"\",syoriyou!C1315)","v":""},{"$f":"IF(syoriyou!D1315=\"\",\"\",syoriyou!D1315)","v":""},{"$f":"IF(syoriyou!E1315=\"\",\"\",syoriyou!E1315)","v":""},{"$f":"IF(syoriyou!F1315=\"\",\"\",syoriyou!F1315)","v":""},{"$f":"IF(syoriyou!G1315=\"\",\"\",syoriyou!G1315)","v":""},{"$f":"IF(syoriyou!H1315=\"\",\"\",syoriyou!H1315)","v":""},{"$f":"IF(syoriyou!I1315=\"\",\"\",syoriyou!I1315)","v":""},{"$f":"IF(syoriyou!J1315=\"\",\"\",syoriyou!N1315)","v":""}]
[{"$f":"IF(syoriyou!A1316=\"\",\"\",syoriyou!A1316)","v":""},{"$f":"IF(syoriyou!B1316=\"\",\"\",syoriyou!B1316)","v":""},{"$f":"IF(syoriyou!C1316=\"\",\"\",syoriyou!C1316)","v":""},{"$f":"IF(syoriyou!D1316=\"\",\"\",syoriyou!D1316)","v":""},{"$f":"IF(syoriyou!E1316=\"\",\"\",syoriyou!E1316)","v":""},{"$f":"IF(syoriyou!F1316=\"\",\"\",syoriyou!F1316)","v":""},{"$f":"IF(syoriyou!G1316=\"\",\"\",syoriyou!G1316)","v":""},{"$f":"IF(syoriyou!H1316=\"\",\"\",syoriyou!H1316)","v":""},{"$f":"IF(syoriyou!I1316=\"\",\"\",syoriyou!I1316)","v":""},{"$f":"IF(syoriyou!J1316=\"\",\"\",syoriyou!N1316)","v":""}]
[{"$f":"IF(syoriyou!A1317=\"\",\"\",syoriyou!A1317)","v":""},{"$f":"IF(syoriyou!B1317=\"\",\"\",syoriyou!B1317)","v":""},{"$f":"IF(syoriyou!C1317=\"\",\"\",syoriyou!C1317)","v":""},{"$f":"IF(syoriyou!D1317=\"\",\"\",syoriyou!D1317)","v":""},{"$f":"IF(syoriyou!E1317=\"\",\"\",syoriyou!E1317)","v":""},{"$f":"IF(syoriyou!F1317=\"\",\"\",syoriyou!F1317)","v":""},{"$f":"IF(syoriyou!G1317=\"\",\"\",syoriyou!G1317)","v":""},{"$f":"IF(syoriyou!H1317=\"\",\"\",syoriyou!H1317)","v":""},{"$f":"IF(syoriyou!I1317=\"\",\"\",syoriyou!I1317)","v":""},{"$f":"IF(syoriyou!J1317=\"\",\"\",syoriyou!N1317)","v":""}]
[{"$f":"IF(syoriyou!A1318=\"\",\"\",syoriyou!A1318)","v":""},{"$f":"IF(syoriyou!B1318=\"\",\"\",syoriyou!B1318)","v":""},{"$f":"IF(syoriyou!C1318=\"\",\"\",syoriyou!C1318)","v":""},{"$f":"IF(syoriyou!D1318=\"\",\"\",syoriyou!D1318)","v":""},{"$f":"IF(syoriyou!E1318=\"\",\"\",syoriyou!E1318)","v":""},{"$f":"IF(syoriyou!F1318=\"\",\"\",syoriyou!F1318)","v":""},{"$f":"IF(syoriyou!G1318=\"\",\"\",syoriyou!G1318)","v":""},{"$f":"IF(syoriyou!H1318=\"\",\"\",syoriyou!H1318)","v":""},{"$f":"IF(syoriyou!I1318=\"\",\"\",syoriyou!I1318)","v":""},{"$f":"IF(syoriyou!J1318=\"\",\"\",syoriyou!N1318)","v":""}]
[{"$f":"IF(syoriyou!A1319=\"\",\"\",syoriyou!A1319)","v":""},{"$f":"IF(syoriyou!B1319=\"\",\"\",syoriyou!B1319)","v":""},{"$f":"IF(syoriyou!C1319=\"\",\"\",syoriyou!C1319)","v":""},{"$f":"IF(syoriyou!D1319=\"\",\"\",syoriyou!D1319)","v":""},{"$f":"IF(syoriyou!E1319=\"\",\"\",syoriyou!E1319)","v":""},{"$f":"IF(syoriyou!F1319=\"\",\"\",syoriyou!F1319)","v":""},{"$f":"IF(syoriyou!G1319=\"\",\"\",syoriyou!G1319)","v":""},{"$f":"IF(syoriyou!H1319=\"\",\"\",syoriyou!H1319)","v":""},{"$f":"IF(syoriyou!I1319=\"\",\"\",syoriyou!I1319)","v":""},{"$f":"IF(syoriyou!J1319=\"\",\"\",syoriyou!N1319)","v":""}]
[{"$f":"IF(syoriyou!A1320=\"\",\"\",syoriyou!A1320)","v":""},{"$f":"IF(syoriyou!B1320=\"\",\"\",syoriyou!B1320)","v":""},{"$f":"IF(syoriyou!C1320=\"\",\"\",syoriyou!C1320)","v":""},{"$f":"IF(syoriyou!D1320=\"\",\"\",syoriyou!D1320)","v":""},{"$f":"IF(syoriyou!E1320=\"\",\"\",syoriyou!E1320)","v":""},{"$f":"IF(syoriyou!F1320=\"\",\"\",syoriyou!F1320)","v":""},{"$f":"IF(syoriyou!G1320=\"\",\"\",syoriyou!G1320)","v":""},{"$f":"IF(syoriyou!H1320=\"\",\"\",syoriyou!H1320)","v":""},{"$f":"IF(syoriyou!I1320=\"\",\"\",syoriyou!I1320)","v":""},{"$f":"IF(syoriyou!J1320=\"\",\"\",syoriyou!N1320)","v":""}]
[{"$f":"IF(syoriyou!A1321=\"\",\"\",syoriyou!A1321)","v":""},{"$f":"IF(syoriyou!B1321=\"\",\"\",syoriyou!B1321)","v":""},{"$f":"IF(syoriyou!C1321=\"\",\"\",syoriyou!C1321)","v":""},{"$f":"IF(syoriyou!D1321=\"\",\"\",syoriyou!D1321)","v":""},{"$f":"IF(syoriyou!E1321=\"\",\"\",syoriyou!E1321)","v":""},{"$f":"IF(syoriyou!F1321=\"\",\"\",syoriyou!F1321)","v":""},{"$f":"IF(syoriyou!G1321=\"\",\"\",syoriyou!G1321)","v":""},{"$f":"IF(syoriyou!H1321=\"\",\"\",syoriyou!H1321)","v":""},{"$f":"IF(syoriyou!I1321=\"\",\"\",syoriyou!I1321)","v":""},{"$f":"IF(syoriyou!J1321=\"\",\"\",syoriyou!N1321)","v":""}]
[{"$f":"IF(syoriyou!A1322=\"\",\"\",syoriyou!A1322)","v":""},{"$f":"IF(syoriyou!B1322=\"\",\"\",syoriyou!B1322)","v":""},{"$f":"IF(syoriyou!C1322=\"\",\"\",syoriyou!C1322)","v":""},{"$f":"IF(syoriyou!D1322=\"\",\"\",syoriyou!D1322)","v":""},{"$f":"IF(syoriyou!E1322=\"\",\"\",syoriyou!E1322)","v":""},{"$f":"IF(syoriyou!F1322=\"\",\"\",syoriyou!F1322)","v":""},{"$f":"IF(syoriyou!G1322=\"\",\"\",syoriyou!G1322)","v":""},{"$f":"IF(syoriyou!H1322=\"\",\"\",syoriyou!H1322)","v":""},{"$f":"IF(syoriyou!I1322=\"\",\"\",syoriyou!I1322)","v":""},{"$f":"IF(syoriyou!J1322=\"\",\"\",syoriyou!N1322)","v":""}]
[{"$f":"IF(syoriyou!A1323=\"\",\"\",syoriyou!A1323)","v":""},{"$f":"IF(syoriyou!B1323=\"\",\"\",syoriyou!B1323)","v":""},{"$f":"IF(syoriyou!C1323=\"\",\"\",syoriyou!C1323)","v":""},{"$f":"IF(syoriyou!D1323=\"\",\"\",syoriyou!D1323)","v":""},{"$f":"IF(syoriyou!E1323=\"\",\"\",syoriyou!E1323)","v":""},{"$f":"IF(syoriyou!F1323=\"\",\"\",syoriyou!F1323)","v":""},{"$f":"IF(syoriyou!G1323=\"\",\"\",syoriyou!G1323)","v":""},{"$f":"IF(syoriyou!H1323=\"\",\"\",syoriyou!H1323)","v":""},{"$f":"IF(syoriyou!I1323=\"\",\"\",syoriyou!I1323)","v":""},{"$f":"IF(syoriyou!J1323=\"\",\"\",syoriyou!N1323)","v":""}]
[{"$f":"IF(syoriyou!A1324=\"\",\"\",syoriyou!A1324)","v":""},{"$f":"IF(syoriyou!B1324=\"\",\"\",syoriyou!B1324)","v":""},{"$f":"IF(syoriyou!C1324=\"\",\"\",syoriyou!C1324)","v":""},{"$f":"IF(syoriyou!D1324=\"\",\"\",syoriyou!D1324)","v":""},{"$f":"IF(syoriyou!E1324=\"\",\"\",syoriyou!E1324)","v":""},{"$f":"IF(syoriyou!F1324=\"\",\"\",syoriyou!F1324)","v":""},{"$f":"IF(syoriyou!G1324=\"\",\"\",syoriyou!G1324)","v":""},{"$f":"IF(syoriyou!H1324=\"\",\"\",syoriyou!H1324)","v":""},{"$f":"IF(syoriyou!I1324=\"\",\"\",syoriyou!I1324)","v":""},{"$f":"IF(syoriyou!J1324=\"\",\"\",syoriyou!N1324)","v":""}]
[{"$f":"IF(syoriyou!A1325=\"\",\"\",syoriyou!A1325)","v":""},{"$f":"IF(syoriyou!B1325=\"\",\"\",syoriyou!B1325)","v":""},{"$f":"IF(syoriyou!C1325=\"\",\"\",syoriyou!C1325)","v":""},{"$f":"IF(syoriyou!D1325=\"\",\"\",syoriyou!D1325)","v":""},{"$f":"IF(syoriyou!E1325=\"\",\"\",syoriyou!E1325)","v":""},{"$f":"IF(syoriyou!F1325=\"\",\"\",syoriyou!F1325)","v":""},{"$f":"IF(syoriyou!G1325=\"\",\"\",syoriyou!G1325)","v":""},{"$f":"IF(syoriyou!H1325=\"\",\"\",syoriyou!H1325)","v":""},{"$f":"IF(syoriyou!I1325=\"\",\"\",syoriyou!I1325)","v":""},{"$f":"IF(syoriyou!J1325=\"\",\"\",syoriyou!N1325)","v":""}]
[{"$f":"IF(syoriyou!A1326=\"\",\"\",syoriyou!A1326)","v":""},{"$f":"IF(syoriyou!B1326=\"\",\"\",syoriyou!B1326)","v":""},{"$f":"IF(syoriyou!C1326=\"\",\"\",syoriyou!C1326)","v":""},{"$f":"IF(syoriyou!D1326=\"\",\"\",syoriyou!D1326)","v":""},{"$f":"IF(syoriyou!E1326=\"\",\"\",syoriyou!E1326)","v":""},{"$f":"IF(syoriyou!F1326=\"\",\"\",syoriyou!F1326)","v":""},{"$f":"IF(syoriyou!G1326=\"\",\"\",syoriyou!G1326)","v":""},{"$f":"IF(syoriyou!H1326=\"\",\"\",syoriyou!H1326)","v":""},{"$f":"IF(syoriyou!I1326=\"\",\"\",syoriyou!I1326)","v":""},{"$f":"IF(syoriyou!J1326=\"\",\"\",syoriyou!N1326)","v":""}]
[{"$f":"IF(syoriyou!A1327=\"\",\"\",syoriyou!A1327)","v":""},{"$f":"IF(syoriyou!B1327=\"\",\"\",syoriyou!B1327)","v":""},{"$f":"IF(syoriyou!C1327=\"\",\"\",syoriyou!C1327)","v":""},{"$f":"IF(syoriyou!D1327=\"\",\"\",syoriyou!D1327)","v":""},{"$f":"IF(syoriyou!E1327=\"\",\"\",syoriyou!E1327)","v":""},{"$f":"IF(syoriyou!F1327=\"\",\"\",syoriyou!F1327)","v":""},{"$f":"IF(syoriyou!G1327=\"\",\"\",syoriyou!G1327)","v":""},{"$f":"IF(syoriyou!H1327=\"\",\"\",syoriyou!H1327)","v":""},{"$f":"IF(syoriyou!I1327=\"\",\"\",syoriyou!I1327)","v":""},{"$f":"IF(syoriyou!J1327=\"\",\"\",syoriyou!N1327)","v":""}]
[{"$f":"IF(syoriyou!A1328=\"\",\"\",syoriyou!A1328)","v":""},{"$f":"IF(syoriyou!B1328=\"\",\"\",syoriyou!B1328)","v":""},{"$f":"IF(syoriyou!C1328=\"\",\"\",syoriyou!C1328)","v":""},{"$f":"IF(syoriyou!D1328=\"\",\"\",syoriyou!D1328)","v":""},{"$f":"IF(syoriyou!E1328=\"\",\"\",syoriyou!E1328)","v":""},{"$f":"IF(syoriyou!F1328=\"\",\"\",syoriyou!F1328)","v":""},{"$f":"IF(syoriyou!G1328=\"\",\"\",syoriyou!G1328)","v":""},{"$f":"IF(syoriyou!H1328=\"\",\"\",syoriyou!H1328)","v":""},{"$f":"IF(syoriyou!I1328=\"\",\"\",syoriyou!I1328)","v":""},{"$f":"IF(syoriyou!J1328=\"\",\"\",syoriyou!N1328)","v":""}]
[{"$f":"IF(syoriyou!A1329=\"\",\"\",syoriyou!A1329)","v":""},{"$f":"IF(syoriyou!B1329=\"\",\"\",syoriyou!B1329)","v":""},{"$f":"IF(syoriyou!C1329=\"\",\"\",syoriyou!C1329)","v":""},{"$f":"IF(syoriyou!D1329=\"\",\"\",syoriyou!D1329)","v":""},{"$f":"IF(syoriyou!E1329=\"\",\"\",syoriyou!E1329)","v":""},{"$f":"IF(syoriyou!F1329=\"\",\"\",syoriyou!F1329)","v":""},{"$f":"IF(syoriyou!G1329=\"\",\"\",syoriyou!G1329)","v":""},{"$f":"IF(syoriyou!H1329=\"\",\"\",syoriyou!H1329)","v":""},{"$f":"IF(syoriyou!I1329=\"\",\"\",syoriyou!I1329)","v":""},{"$f":"IF(syoriyou!J1329=\"\",\"\",syoriyou!N1329)","v":""}]
[{"$f":"IF(syoriyou!A1330=\"\",\"\",syoriyou!A1330)","v":""},{"$f":"IF(syoriyou!B1330=\"\",\"\",syoriyou!B1330)","v":""},{"$f":"IF(syoriyou!C1330=\"\",\"\",syoriyou!C1330)","v":""},{"$f":"IF(syoriyou!D1330=\"\",\"\",syoriyou!D1330)","v":""},{"$f":"IF(syoriyou!E1330=\"\",\"\",syoriyou!E1330)","v":""},{"$f":"IF(syoriyou!F1330=\"\",\"\",syoriyou!F1330)","v":""},{"$f":"IF(syoriyou!G1330=\"\",\"\",syoriyou!G1330)","v":""},{"$f":"IF(syoriyou!H1330=\"\",\"\",syoriyou!H1330)","v":""},{"$f":"IF(syoriyou!I1330=\"\",\"\",syoriyou!I1330)","v":""},{"$f":"IF(syoriyou!J1330=\"\",\"\",syoriyou!N1330)","v":""}]
[{"$f":"IF(syoriyou!A1331=\"\",\"\",syoriyou!A1331)","v":""},{"$f":"IF(syoriyou!B1331=\"\",\"\",syoriyou!B1331)","v":""},{"$f":"IF(syoriyou!C1331=\"\",\"\",syoriyou!C1331)","v":""},{"$f":"IF(syoriyou!D1331=\"\",\"\",syoriyou!D1331)","v":""},{"$f":"IF(syoriyou!E1331=\"\",\"\",syoriyou!E1331)","v":""},{"$f":"IF(syoriyou!F1331=\"\",\"\",syoriyou!F1331)","v":""},{"$f":"IF(syoriyou!G1331=\"\",\"\",syoriyou!G1331)","v":""},{"$f":"IF(syoriyou!H1331=\"\",\"\",syoriyou!H1331)","v":""},{"$f":"IF(syoriyou!I1331=\"\",\"\",syoriyou!I1331)","v":""},{"$f":"IF(syoriyou!J1331=\"\",\"\",syoriyou!N1331)","v":""}]
[{"$f":"IF(syoriyou!A1332=\"\",\"\",syoriyou!A1332)","v":""},{"$f":"IF(syoriyou!B1332=\"\",\"\",syoriyou!B1332)","v":""},{"$f":"IF(syoriyou!C1332=\"\",\"\",syoriyou!C1332)","v":""},{"$f":"IF(syoriyou!D1332=\"\",\"\",syoriyou!D1332)","v":""},{"$f":"IF(syoriyou!E1332=\"\",\"\",syoriyou!E1332)","v":""},{"$f":"IF(syoriyou!F1332=\"\",\"\",syoriyou!F1332)","v":""},{"$f":"IF(syoriyou!G1332=\"\",\"\",syoriyou!G1332)","v":""},{"$f":"IF(syoriyou!H1332=\"\",\"\",syoriyou!H1332)","v":""},{"$f":"IF(syoriyou!I1332=\"\",\"\",syoriyou!I1332)","v":""},{"$f":"IF(syoriyou!J1332=\"\",\"\",syoriyou!N1332)","v":""}]
[{"$f":"IF(syoriyou!A1333=\"\",\"\",syoriyou!A1333)","v":""},{"$f":"IF(syoriyou!B1333=\"\",\"\",syoriyou!B1333)","v":""},{"$f":"IF(syoriyou!C1333=\"\",\"\",syoriyou!C1333)","v":""},{"$f":"IF(syoriyou!D1333=\"\",\"\",syoriyou!D1333)","v":""},{"$f":"IF(syoriyou!E1333=\"\",\"\",syoriyou!E1333)","v":""},{"$f":"IF(syoriyou!F1333=\"\",\"\",syoriyou!F1333)","v":""},{"$f":"IF(syoriyou!G1333=\"\",\"\",syoriyou!G1333)","v":""},{"$f":"IF(syoriyou!H1333=\"\",\"\",syoriyou!H1333)","v":""},{"$f":"IF(syoriyou!I1333=\"\",\"\",syoriyou!I1333)","v":""},{"$f":"IF(syoriyou!J1333=\"\",\"\",syoriyou!N1333)","v":""}]
[{"$f":"IF(syoriyou!A1334=\"\",\"\",syoriyou!A1334)","v":""},{"$f":"IF(syoriyou!B1334=\"\",\"\",syoriyou!B1334)","v":""},{"$f":"IF(syoriyou!C1334=\"\",\"\",syoriyou!C1334)","v":""},{"$f":"IF(syoriyou!D1334=\"\",\"\",syoriyou!D1334)","v":""},{"$f":"IF(syoriyou!E1334=\"\",\"\",syoriyou!E1334)","v":""},{"$f":"IF(syoriyou!F1334=\"\",\"\",syoriyou!F1334)","v":""},{"$f":"IF(syoriyou!G1334=\"\",\"\",syoriyou!G1334)","v":""},{"$f":"IF(syoriyou!H1334=\"\",\"\",syoriyou!H1334)","v":""},{"$f":"IF(syoriyou!I1334=\"\",\"\",syoriyou!I1334)","v":""},{"$f":"IF(syoriyou!J1334=\"\",\"\",syoriyou!N1334)","v":""}]
[{"$f":"IF(syoriyou!A1335=\"\",\"\",syoriyou!A1335)","v":""},{"$f":"IF(syoriyou!B1335=\"\",\"\",syoriyou!B1335)","v":""},{"$f":"IF(syoriyou!C1335=\"\",\"\",syoriyou!C1335)","v":""},{"$f":"IF(syoriyou!D1335=\"\",\"\",syoriyou!D1335)","v":""},{"$f":"IF(syoriyou!E1335=\"\",\"\",syoriyou!E1335)","v":""},{"$f":"IF(syoriyou!F1335=\"\",\"\",syoriyou!F1335)","v":""},{"$f":"IF(syoriyou!G1335=\"\",\"\",syoriyou!G1335)","v":""},{"$f":"IF(syoriyou!H1335=\"\",\"\",syoriyou!H1335)","v":""},{"$f":"IF(syoriyou!I1335=\"\",\"\",syoriyou!I1335)","v":""},{"$f":"IF(syoriyou!J1335=\"\",\"\",syoriyou!N1335)","v":""}]
[{"$f":"IF(syoriyou!A1336=\"\",\"\",syoriyou!A1336)","v":""},{"$f":"IF(syoriyou!B1336=\"\",\"\",syoriyou!B1336)","v":""},{"$f":"IF(syoriyou!C1336=\"\",\"\",syoriyou!C1336)","v":""},{"$f":"IF(syoriyou!D1336=\"\",\"\",syoriyou!D1336)","v":""},{"$f":"IF(syoriyou!E1336=\"\",\"\",syoriyou!E1336)","v":""},{"$f":"IF(syoriyou!F1336=\"\",\"\",syoriyou!F1336)","v":""},{"$f":"IF(syoriyou!G1336=\"\",\"\",syoriyou!G1336)","v":""},{"$f":"IF(syoriyou!H1336=\"\",\"\",syoriyou!H1336)","v":""},{"$f":"IF(syoriyou!I1336=\"\",\"\",syoriyou!I1336)","v":""},{"$f":"IF(syoriyou!J1336=\"\",\"\",syoriyou!N1336)","v":""}]
[{"$f":"IF(syoriyou!A1337=\"\",\"\",syoriyou!A1337)","v":""},{"$f":"IF(syoriyou!B1337=\"\",\"\",syoriyou!B1337)","v":""},{"$f":"IF(syoriyou!C1337=\"\",\"\",syoriyou!C1337)","v":""},{"$f":"IF(syoriyou!D1337=\"\",\"\",syoriyou!D1337)","v":""},{"$f":"IF(syoriyou!E1337=\"\",\"\",syoriyou!E1337)","v":""},{"$f":"IF(syoriyou!F1337=\"\",\"\",syoriyou!F1337)","v":""},{"$f":"IF(syoriyou!G1337=\"\",\"\",syoriyou!G1337)","v":""},{"$f":"IF(syoriyou!H1337=\"\",\"\",syoriyou!H1337)","v":""},{"$f":"IF(syoriyou!I1337=\"\",\"\",syoriyou!I1337)","v":""},{"$f":"IF(syoriyou!J1337=\"\",\"\",syoriyou!N1337)","v":""}]
[{"$f":"IF(syoriyou!A1338=\"\",\"\",syoriyou!A1338)","v":""},{"$f":"IF(syoriyou!B1338=\"\",\"\",syoriyou!B1338)","v":""},{"$f":"IF(syoriyou!C1338=\"\",\"\",syoriyou!C1338)","v":""},{"$f":"IF(syoriyou!D1338=\"\",\"\",syoriyou!D1338)","v":""},{"$f":"IF(syoriyou!E1338=\"\",\"\",syoriyou!E1338)","v":""},{"$f":"IF(syoriyou!F1338=\"\",\"\",syoriyou!F1338)","v":""},{"$f":"IF(syoriyou!G1338=\"\",\"\",syoriyou!G1338)","v":""},{"$f":"IF(syoriyou!H1338=\"\",\"\",syoriyou!H1338)","v":""},{"$f":"IF(syoriyou!I1338=\"\",\"\",syoriyou!I1338)","v":""},{"$f":"IF(syoriyou!J1338=\"\",\"\",syoriyou!N1338)","v":""}]
[{"$f":"IF(syoriyou!A1339=\"\",\"\",syoriyou!A1339)","v":""},{"$f":"IF(syoriyou!B1339=\"\",\"\",syoriyou!B1339)","v":""},{"$f":"IF(syoriyou!C1339=\"\",\"\",syoriyou!C1339)","v":""},{"$f":"IF(syoriyou!D1339=\"\",\"\",syoriyou!D1339)","v":""},{"$f":"IF(syoriyou!E1339=\"\",\"\",syoriyou!E1339)","v":""},{"$f":"IF(syoriyou!F1339=\"\",\"\",syoriyou!F1339)","v":""},{"$f":"IF(syoriyou!G1339=\"\",\"\",syoriyou!G1339)","v":""},{"$f":"IF(syoriyou!H1339=\"\",\"\",syoriyou!H1339)","v":""},{"$f":"IF(syoriyou!I1339=\"\",\"\",syoriyou!I1339)","v":""},{"$f":"IF(syoriyou!J1339=\"\",\"\",syoriyou!N1339)","v":""}]
[{"$f":"IF(syoriyou!A1340=\"\",\"\",syoriyou!A1340)","v":""},{"$f":"IF(syoriyou!B1340=\"\",\"\",syoriyou!B1340)","v":""},{"$f":"IF(syoriyou!C1340=\"\",\"\",syoriyou!C1340)","v":""},{"$f":"IF(syoriyou!D1340=\"\",\"\",syoriyou!D1340)","v":""},{"$f":"IF(syoriyou!E1340=\"\",\"\",syoriyou!E1340)","v":""},{"$f":"IF(syoriyou!F1340=\"\",\"\",syoriyou!F1340)","v":""},{"$f":"IF(syoriyou!G1340=\"\",\"\",syoriyou!G1340)","v":""},{"$f":"IF(syoriyou!H1340=\"\",\"\",syoriyou!H1340)","v":""},{"$f":"IF(syoriyou!I1340=\"\",\"\",syoriyou!I1340)","v":""},{"$f":"IF(syoriyou!J1340=\"\",\"\",syoriyou!N1340)","v":""}]
[{"$f":"IF(syoriyou!A1341=\"\",\"\",syoriyou!A1341)","v":""},{"$f":"IF(syoriyou!B1341=\"\",\"\",syoriyou!B1341)","v":""},{"$f":"IF(syoriyou!C1341=\"\",\"\",syoriyou!C1341)","v":""},{"$f":"IF(syoriyou!D1341=\"\",\"\",syoriyou!D1341)","v":""},{"$f":"IF(syoriyou!E1341=\"\",\"\",syoriyou!E1341)","v":""},{"$f":"IF(syoriyou!F1341=\"\",\"\",syoriyou!F1341)","v":""},{"$f":"IF(syoriyou!G1341=\"\",\"\",syoriyou!G1341)","v":""},{"$f":"IF(syoriyou!H1341=\"\",\"\",syoriyou!H1341)","v":""},{"$f":"IF(syoriyou!I1341=\"\",\"\",syoriyou!I1341)","v":""},{"$f":"IF(syoriyou!J1341=\"\",\"\",syoriyou!N1341)","v":""}]
[{"$f":"IF(syoriyou!A1342=\"\",\"\",syoriyou!A1342)","v":""},{"$f":"IF(syoriyou!B1342=\"\",\"\",syoriyou!B1342)","v":""},{"$f":"IF(syoriyou!C1342=\"\",\"\",syoriyou!C1342)","v":""},{"$f":"IF(syoriyou!D1342=\"\",\"\",syoriyou!D1342)","v":""},{"$f":"IF(syoriyou!E1342=\"\",\"\",syoriyou!E1342)","v":""},{"$f":"IF(syoriyou!F1342=\"\",\"\",syoriyou!F1342)","v":""},{"$f":"IF(syoriyou!G1342=\"\",\"\",syoriyou!G1342)","v":""},{"$f":"IF(syoriyou!H1342=\"\",\"\",syoriyou!H1342)","v":""},{"$f":"IF(syoriyou!I1342=\"\",\"\",syoriyou!I1342)","v":""},{"$f":"IF(syoriyou!J1342=\"\",\"\",syoriyou!N1342)","v":""}]
[{"$f":"IF(syoriyou!A1343=\"\",\"\",syoriyou!A1343)","v":""},{"$f":"IF(syoriyou!B1343=\"\",\"\",syoriyou!B1343)","v":""},{"$f":"IF(syoriyou!C1343=\"\",\"\",syoriyou!C1343)","v":""},{"$f":"IF(syoriyou!D1343=\"\",\"\",syoriyou!D1343)","v":""},{"$f":"IF(syoriyou!E1343=\"\",\"\",syoriyou!E1343)","v":""},{"$f":"IF(syoriyou!F1343=\"\",\"\",syoriyou!F1343)","v":""},{"$f":"IF(syoriyou!G1343=\"\",\"\",syoriyou!G1343)","v":""},{"$f":"IF(syoriyou!H1343=\"\",\"\",syoriyou!H1343)","v":""},{"$f":"IF(syoriyou!I1343=\"\",\"\",syoriyou!I1343)","v":""},{"$f":"IF(syoriyou!J1343=\"\",\"\",syoriyou!N1343)","v":""}]
[{"$f":"IF(syoriyou!A1344=\"\",\"\",syoriyou!A1344)","v":""},{"$f":"IF(syoriyou!B1344=\"\",\"\",syoriyou!B1344)","v":""},{"$f":"IF(syoriyou!C1344=\"\",\"\",syoriyou!C1344)","v":""},{"$f":"IF(syoriyou!D1344=\"\",\"\",syoriyou!D1344)","v":""},{"$f":"IF(syoriyou!E1344=\"\",\"\",syoriyou!E1344)","v":""},{"$f":"IF(syoriyou!F1344=\"\",\"\",syoriyou!F1344)","v":""},{"$f":"IF(syoriyou!G1344=\"\",\"\",syoriyou!G1344)","v":""},{"$f":"IF(syoriyou!H1344=\"\",\"\",syoriyou!H1344)","v":""},{"$f":"IF(syoriyou!I1344=\"\",\"\",syoriyou!I1344)","v":""},{"$f":"IF(syoriyou!J1344=\"\",\"\",syoriyou!N1344)","v":""}]
[{"$f":"IF(syoriyou!A1345=\"\",\"\",syoriyou!A1345)","v":""},{"$f":"IF(syoriyou!B1345=\"\",\"\",syoriyou!B1345)","v":""},{"$f":"IF(syoriyou!C1345=\"\",\"\",syoriyou!C1345)","v":""},{"$f":"IF(syoriyou!D1345=\"\",\"\",syoriyou!D1345)","v":""},{"$f":"IF(syoriyou!E1345=\"\",\"\",syoriyou!E1345)","v":""},{"$f":"IF(syoriyou!F1345=\"\",\"\",syoriyou!F1345)","v":""},{"$f":"IF(syoriyou!G1345=\"\",\"\",syoriyou!G1345)","v":""},{"$f":"IF(syoriyou!H1345=\"\",\"\",syoriyou!H1345)","v":""},{"$f":"IF(syoriyou!I1345=\"\",\"\",syoriyou!I1345)","v":""},{"$f":"IF(syoriyou!J1345=\"\",\"\",syoriyou!N1345)","v":""}]
[{"$f":"IF(syoriyou!A1346=\"\",\"\",syoriyou!A1346)","v":""},{"$f":"IF(syoriyou!B1346=\"\",\"\",syoriyou!B1346)","v":""},{"$f":"IF(syoriyou!C1346=\"\",\"\",syoriyou!C1346)","v":""},{"$f":"IF(syoriyou!D1346=\"\",\"\",syoriyou!D1346)","v":""},{"$f":"IF(syoriyou!E1346=\"\",\"\",syoriyou!E1346)","v":""},{"$f":"IF(syoriyou!F1346=\"\",\"\",syoriyou!F1346)","v":""},{"$f":"IF(syoriyou!G1346=\"\",\"\",syoriyou!G1346)","v":""},{"$f":"IF(syoriyou!H1346=\"\",\"\",syoriyou!H1346)","v":""},{"$f":"IF(syoriyou!I1346=\"\",\"\",syoriyou!I1346)","v":""},{"$f":"IF(syoriyou!J1346=\"\",\"\",syoriyou!N1346)","v":""}]
[{"$f":"IF(syoriyou!A1347=\"\",\"\",syoriyou!A1347)","v":""},{"$f":"IF(syoriyou!B1347=\"\",\"\",syoriyou!B1347)","v":""},{"$f":"IF(syoriyou!C1347=\"\",\"\",syoriyou!C1347)","v":""},{"$f":"IF(syoriyou!D1347=\"\",\"\",syoriyou!D1347)","v":""},{"$f":"IF(syoriyou!E1347=\"\",\"\",syoriyou!E1347)","v":""},{"$f":"IF(syoriyou!F1347=\"\",\"\",syoriyou!F1347)","v":""},{"$f":"IF(syoriyou!G1347=\"\",\"\",syoriyou!G1347)","v":""},{"$f":"IF(syoriyou!H1347=\"\",\"\",syoriyou!H1347)","v":""},{"$f":"IF(syoriyou!I1347=\"\",\"\",syoriyou!I1347)","v":""},{"$f":"IF(syoriyou!J1347=\"\",\"\",syoriyou!N1347)","v":""}]
[{"$f":"IF(syoriyou!A1348=\"\",\"\",syoriyou!A1348)","v":""},{"$f":"IF(syoriyou!B1348=\"\",\"\",syoriyou!B1348)","v":""},{"$f":"IF(syoriyou!C1348=\"\",\"\",syoriyou!C1348)","v":""},{"$f":"IF(syoriyou!D1348=\"\",\"\",syoriyou!D1348)","v":""},{"$f":"IF(syoriyou!E1348=\"\",\"\",syoriyou!E1348)","v":""},{"$f":"IF(syoriyou!F1348=\"\",\"\",syoriyou!F1348)","v":""},{"$f":"IF(syoriyou!G1348=\"\",\"\",syoriyou!G1348)","v":""},{"$f":"IF(syoriyou!H1348=\"\",\"\",syoriyou!H1348)","v":""},{"$f":"IF(syoriyou!I1348=\"\",\"\",syoriyou!I1348)","v":""},{"$f":"IF(syoriyou!J1348=\"\",\"\",syoriyou!N1348)","v":""}]
[{"$f":"IF(syoriyou!A1349=\"\",\"\",syoriyou!A1349)","v":""},{"$f":"IF(syoriyou!B1349=\"\",\"\",syoriyou!B1349)","v":""},{"$f":"IF(syoriyou!C1349=\"\",\"\",syoriyou!C1349)","v":""},{"$f":"IF(syoriyou!D1349=\"\",\"\",syoriyou!D1349)","v":""},{"$f":"IF(syoriyou!E1349=\"\",\"\",syoriyou!E1349)","v":""},{"$f":"IF(syoriyou!F1349=\"\",\"\",syoriyou!F1349)","v":""},{"$f":"IF(syoriyou!G1349=\"\",\"\",syoriyou!G1349)","v":""},{"$f":"IF(syoriyou!H1349=\"\",\"\",syoriyou!H1349)","v":""},{"$f":"IF(syoriyou!I1349=\"\",\"\",syoriyou!I1349)","v":""},{"$f":"IF(syoriyou!J1349=\"\",\"\",syoriyou!N1349)","v":""}]
[{"$f":"IF(syoriyou!A1350=\"\",\"\",syoriyou!A1350)","v":""},{"$f":"IF(syoriyou!B1350=\"\",\"\",syoriyou!B1350)","v":""},{"$f":"IF(syoriyou!C1350=\"\",\"\",syoriyou!C1350)","v":""},{"$f":"IF(syoriyou!D1350=\"\",\"\",syoriyou!D1350)","v":""},{"$f":"IF(syoriyou!E1350=\"\",\"\",syoriyou!E1350)","v":""},{"$f":"IF(syoriyou!F1350=\"\",\"\",syoriyou!F1350)","v":""},{"$f":"IF(syoriyou!G1350=\"\",\"\",syoriyou!G1350)","v":""},{"$f":"IF(syoriyou!H1350=\"\",\"\",syoriyou!H1350)","v":""},{"$f":"IF(syoriyou!I1350=\"\",\"\",syoriyou!I1350)","v":""},{"$f":"IF(syoriyou!J1350=\"\",\"\",syoriyou!N1350)","v":""}]
[{"$f":"IF(syoriyou!A1351=\"\",\"\",syoriyou!A1351)","v":""},{"$f":"IF(syoriyou!B1351=\"\",\"\",syoriyou!B1351)","v":""},{"$f":"IF(syoriyou!C1351=\"\",\"\",syoriyou!C1351)","v":""},{"$f":"IF(syoriyou!D1351=\"\",\"\",syoriyou!D1351)","v":""},{"$f":"IF(syoriyou!E1351=\"\",\"\",syoriyou!E1351)","v":""},{"$f":"IF(syoriyou!F1351=\"\",\"\",syoriyou!F1351)","v":""},{"$f":"IF(syoriyou!G1351=\"\",\"\",syoriyou!G1351)","v":""},{"$f":"IF(syoriyou!H1351=\"\",\"\",syoriyou!H1351)","v":""},{"$f":"IF(syoriyou!I1351=\"\",\"\",syoriyou!I1351)","v":""},{"$f":"IF(syoriyou!J1351=\"\",\"\",syoriyou!N1351)","v":""}]
[{"$f":"IF(syoriyou!A1352=\"\",\"\",syoriyou!A1352)","v":""},{"$f":"IF(syoriyou!B1352=\"\",\"\",syoriyou!B1352)","v":""},{"$f":"IF(syoriyou!C1352=\"\",\"\",syoriyou!C1352)","v":""},{"$f":"IF(syoriyou!D1352=\"\",\"\",syoriyou!D1352)","v":""},{"$f":"IF(syoriyou!E1352=\"\",\"\",syoriyou!E1352)","v":""},{"$f":"IF(syoriyou!F1352=\"\",\"\",syoriyou!F1352)","v":""},{"$f":"IF(syoriyou!G1352=\"\",\"\",syoriyou!G1352)","v":""},{"$f":"IF(syoriyou!H1352=\"\",\"\",syoriyou!H1352)","v":""},{"$f":"IF(syoriyou!I1352=\"\",\"\",syoriyou!I1352)","v":""},{"$f":"IF(syoriyou!J1352=\"\",\"\",syoriyou!N1352)","v":""}]
[{"$f":"IF(syoriyou!A1353=\"\",\"\",syoriyou!A1353)","v":""},{"$f":"IF(syoriyou!B1353=\"\",\"\",syoriyou!B1353)","v":""},{"$f":"IF(syoriyou!C1353=\"\",\"\",syoriyou!C1353)","v":""},{"$f":"IF(syoriyou!D1353=\"\",\"\",syoriyou!D1353)","v":""},{"$f":"IF(syoriyou!E1353=\"\",\"\",syoriyou!E1353)","v":""},{"$f":"IF(syoriyou!F1353=\"\",\"\",syoriyou!F1353)","v":""},{"$f":"IF(syoriyou!G1353=\"\",\"\",syoriyou!G1353)","v":""},{"$f":"IF(syoriyou!H1353=\"\",\"\",syoriyou!H1353)","v":""},{"$f":"IF(syoriyou!I1353=\"\",\"\",syoriyou!I1353)","v":""},{"$f":"IF(syoriyou!J1353=\"\",\"\",syoriyou!N1353)","v":""}]
[{"$f":"IF(syoriyou!A1354=\"\",\"\",syoriyou!A1354)","v":""},{"$f":"IF(syoriyou!B1354=\"\",\"\",syoriyou!B1354)","v":""},{"$f":"IF(syoriyou!C1354=\"\",\"\",syoriyou!C1354)","v":""},{"$f":"IF(syoriyou!D1354=\"\",\"\",syoriyou!D1354)","v":""},{"$f":"IF(syoriyou!E1354=\"\",\"\",syoriyou!E1354)","v":""},{"$f":"IF(syoriyou!F1354=\"\",\"\",syoriyou!F1354)","v":""},{"$f":"IF(syoriyou!G1354=\"\",\"\",syoriyou!G1354)","v":""},{"$f":"IF(syoriyou!H1354=\"\",\"\",syoriyou!H1354)","v":""},{"$f":"IF(syoriyou!I1354=\"\",\"\",syoriyou!I1354)","v":""},{"$f":"IF(syoriyou!J1354=\"\",\"\",syoriyou!N1354)","v":""}]
[{"$f":"IF(syoriyou!A1355=\"\",\"\",syoriyou!A1355)","v":""},{"$f":"IF(syoriyou!B1355=\"\",\"\",syoriyou!B1355)","v":""},{"$f":"IF(syoriyou!C1355=\"\",\"\",syoriyou!C1355)","v":""},{"$f":"IF(syoriyou!D1355=\"\",\"\",syoriyou!D1355)","v":""},{"$f":"IF(syoriyou!E1355=\"\",\"\",syoriyou!E1355)","v":""},{"$f":"IF(syoriyou!F1355=\"\",\"\",syoriyou!F1355)","v":""},{"$f":"IF(syoriyou!G1355=\"\",\"\",syoriyou!G1355)","v":""},{"$f":"IF(syoriyou!H1355=\"\",\"\",syoriyou!H1355)","v":""},{"$f":"IF(syoriyou!I1355=\"\",\"\",syoriyou!I1355)","v":""},{"$f":"IF(syoriyou!J1355=\"\",\"\",syoriyou!N1355)","v":""}]
[{"$f":"IF(syoriyou!A1356=\"\",\"\",syoriyou!A1356)","v":""},{"$f":"IF(syoriyou!B1356=\"\",\"\",syoriyou!B1356)","v":""},{"$f":"IF(syoriyou!C1356=\"\",\"\",syoriyou!C1356)","v":""},{"$f":"IF(syoriyou!D1356=\"\",\"\",syoriyou!D1356)","v":""},{"$f":"IF(syoriyou!E1356=\"\",\"\",syoriyou!E1356)","v":""},{"$f":"IF(syoriyou!F1356=\"\",\"\",syoriyou!F1356)","v":""},{"$f":"IF(syoriyou!G1356=\"\",\"\",syoriyou!G1356)","v":""},{"$f":"IF(syoriyou!H1356=\"\",\"\",syoriyou!H1356)","v":""},{"$f":"IF(syoriyou!I1356=\"\",\"\",syoriyou!I1356)","v":""},{"$f":"IF(syoriyou!J1356=\"\",\"\",syoriyou!N1356)","v":""}]
[{"$f":"IF(syoriyou!A1357=\"\",\"\",syoriyou!A1357)","v":""},{"$f":"IF(syoriyou!B1357=\"\",\"\",syoriyou!B1357)","v":""},{"$f":"IF(syoriyou!C1357=\"\",\"\",syoriyou!C1357)","v":""},{"$f":"IF(syoriyou!D1357=\"\",\"\",syoriyou!D1357)","v":""},{"$f":"IF(syoriyou!E1357=\"\",\"\",syoriyou!E1357)","v":""},{"$f":"IF(syoriyou!F1357=\"\",\"\",syoriyou!F1357)","v":""},{"$f":"IF(syoriyou!G1357=\"\",\"\",syoriyou!G1357)","v":""},{"$f":"IF(syoriyou!H1357=\"\",\"\",syoriyou!H1357)","v":""},{"$f":"IF(syoriyou!I1357=\"\",\"\",syoriyou!I1357)","v":""},{"$f":"IF(syoriyou!J1357=\"\",\"\",syoriyou!N1357)","v":""}]
[{"$f":"IF(syoriyou!A1358=\"\",\"\",syoriyou!A1358)","v":""},{"$f":"IF(syoriyou!B1358=\"\",\"\",syoriyou!B1358)","v":""},{"$f":"IF(syoriyou!C1358=\"\",\"\",syoriyou!C1358)","v":""},{"$f":"IF(syoriyou!D1358=\"\",\"\",syoriyou!D1358)","v":""},{"$f":"IF(syoriyou!E1358=\"\",\"\",syoriyou!E1358)","v":""},{"$f":"IF(syoriyou!F1358=\"\",\"\",syoriyou!F1358)","v":""},{"$f":"IF(syoriyou!G1358=\"\",\"\",syoriyou!G1358)","v":""},{"$f":"IF(syoriyou!H1358=\"\",\"\",syoriyou!H1358)","v":""},{"$f":"IF(syoriyou!I1358=\"\",\"\",syoriyou!I1358)","v":""},{"$f":"IF(syoriyou!J1358=\"\",\"\",syoriyou!N1358)","v":""}]
[{"$f":"IF(syoriyou!A1359=\"\",\"\",syoriyou!A1359)","v":""},{"$f":"IF(syoriyou!B1359=\"\",\"\",syoriyou!B1359)","v":""},{"$f":"IF(syoriyou!C1359=\"\",\"\",syoriyou!C1359)","v":""},{"$f":"IF(syoriyou!D1359=\"\",\"\",syoriyou!D1359)","v":""},{"$f":"IF(syoriyou!E1359=\"\",\"\",syoriyou!E1359)","v":""},{"$f":"IF(syoriyou!F1359=\"\",\"\",syoriyou!F1359)","v":""},{"$f":"IF(syoriyou!G1359=\"\",\"\",syoriyou!G1359)","v":""},{"$f":"IF(syoriyou!H1359=\"\",\"\",syoriyou!H1359)","v":""},{"$f":"IF(syoriyou!I1359=\"\",\"\",syoriyou!I1359)","v":""},{"$f":"IF(syoriyou!J1359=\"\",\"\",syoriyou!N1359)","v":""}]
[{"$f":"IF(syoriyou!A1360=\"\",\"\",syoriyou!A1360)","v":""},{"$f":"IF(syoriyou!B1360=\"\",\"\",syoriyou!B1360)","v":""},{"$f":"IF(syoriyou!C1360=\"\",\"\",syoriyou!C1360)","v":""},{"$f":"IF(syoriyou!D1360=\"\",\"\",syoriyou!D1360)","v":""},{"$f":"IF(syoriyou!E1360=\"\",\"\",syoriyou!E1360)","v":""},{"$f":"IF(syoriyou!F1360=\"\",\"\",syoriyou!F1360)","v":""},{"$f":"IF(syoriyou!G1360=\"\",\"\",syoriyou!G1360)","v":""},{"$f":"IF(syoriyou!H1360=\"\",\"\",syoriyou!H1360)","v":""},{"$f":"IF(syoriyou!I1360=\"\",\"\",syoriyou!I1360)","v":""},{"$f":"IF(syoriyou!J1360=\"\",\"\",syoriyou!N1360)","v":""}]
[{"$f":"IF(syoriyou!A1361=\"\",\"\",syoriyou!A1361)","v":""},{"$f":"IF(syoriyou!B1361=\"\",\"\",syoriyou!B1361)","v":""},{"$f":"IF(syoriyou!C1361=\"\",\"\",syoriyou!C1361)","v":""},{"$f":"IF(syoriyou!D1361=\"\",\"\",syoriyou!D1361)","v":""},{"$f":"IF(syoriyou!E1361=\"\",\"\",syoriyou!E1361)","v":""},{"$f":"IF(syoriyou!F1361=\"\",\"\",syoriyou!F1361)","v":""},{"$f":"IF(syoriyou!G1361=\"\",\"\",syoriyou!G1361)","v":""},{"$f":"IF(syoriyou!H1361=\"\",\"\",syoriyou!H1361)","v":""},{"$f":"IF(syoriyou!I1361=\"\",\"\",syoriyou!I1361)","v":""},{"$f":"IF(syoriyou!J1361=\"\",\"\",syoriyou!N1361)","v":""}]
[{"$f":"IF(syoriyou!A1362=\"\",\"\",syoriyou!A1362)","v":""},{"$f":"IF(syoriyou!B1362=\"\",\"\",syoriyou!B1362)","v":""},{"$f":"IF(syoriyou!C1362=\"\",\"\",syoriyou!C1362)","v":""},{"$f":"IF(syoriyou!D1362=\"\",\"\",syoriyou!D1362)","v":""},{"$f":"IF(syoriyou!E1362=\"\",\"\",syoriyou!E1362)","v":""},{"$f":"IF(syoriyou!F1362=\"\",\"\",syoriyou!F1362)","v":""},{"$f":"IF(syoriyou!G1362=\"\",\"\",syoriyou!G1362)","v":""},{"$f":"IF(syoriyou!H1362=\"\",\"\",syoriyou!H1362)","v":""},{"$f":"IF(syoriyou!I1362=\"\",\"\",syoriyou!I1362)","v":""},{"$f":"IF(syoriyou!J1362=\"\",\"\",syoriyou!N1362)","v":""}]
[{"$f":"IF(syoriyou!A1363=\"\",\"\",syoriyou!A1363)","v":""},{"$f":"IF(syoriyou!B1363=\"\",\"\",syoriyou!B1363)","v":""},{"$f":"IF(syoriyou!C1363=\"\",\"\",syoriyou!C1363)","v":""},{"$f":"IF(syoriyou!D1363=\"\",\"\",syoriyou!D1363)","v":""},{"$f":"IF(syoriyou!E1363=\"\",\"\",syoriyou!E1363)","v":""},{"$f":"IF(syoriyou!F1363=\"\",\"\",syoriyou!F1363)","v":""},{"$f":"IF(syoriyou!G1363=\"\",\"\",syoriyou!G1363)","v":""},{"$f":"IF(syoriyou!H1363=\"\",\"\",syoriyou!H1363)","v":""},{"$f":"IF(syoriyou!I1363=\"\",\"\",syoriyou!I1363)","v":""},{"$f":"IF(syoriyou!J1363=\"\",\"\",syoriyou!N1363)","v":""}]
[{"$f":"IF(syoriyou!A1364=\"\",\"\",syoriyou!A1364)","v":""},{"$f":"IF(syoriyou!B1364=\"\",\"\",syoriyou!B1364)","v":""},{"$f":"IF(syoriyou!C1364=\"\",\"\",syoriyou!C1364)","v":""},{"$f":"IF(syoriyou!D1364=\"\",\"\",syoriyou!D1364)","v":""},{"$f":"IF(syoriyou!E1364=\"\",\"\",syoriyou!E1364)","v":""},{"$f":"IF(syoriyou!F1364=\"\",\"\",syoriyou!F1364)","v":""},{"$f":"IF(syoriyou!G1364=\"\",\"\",syoriyou!G1364)","v":""},{"$f":"IF(syoriyou!H1364=\"\",\"\",syoriyou!H1364)","v":""},{"$f":"IF(syoriyou!I1364=\"\",\"\",syoriyou!I1364)","v":""},{"$f":"IF(syoriyou!J1364=\"\",\"\",syoriyou!N1364)","v":""}]
[{"$f":"IF(syoriyou!A1365=\"\",\"\",syoriyou!A1365)","v":""},{"$f":"IF(syoriyou!B1365=\"\",\"\",syoriyou!B1365)","v":""},{"$f":"IF(syoriyou!C1365=\"\",\"\",syoriyou!C1365)","v":""},{"$f":"IF(syoriyou!D1365=\"\",\"\",syoriyou!D1365)","v":""},{"$f":"IF(syoriyou!E1365=\"\",\"\",syoriyou!E1365)","v":""},{"$f":"IF(syoriyou!F1365=\"\",\"\",syoriyou!F1365)","v":""},{"$f":"IF(syoriyou!G1365=\"\",\"\",syoriyou!G1365)","v":""},{"$f":"IF(syoriyou!H1365=\"\",\"\",syoriyou!H1365)","v":""},{"$f":"IF(syoriyou!I1365=\"\",\"\",syoriyou!I1365)","v":""},{"$f":"IF(syoriyou!J1365=\"\",\"\",syoriyou!N1365)","v":""}]
[{"$f":"IF(syoriyou!A1366=\"\",\"\",syoriyou!A1366)","v":""},{"$f":"IF(syoriyou!B1366=\"\",\"\",syoriyou!B1366)","v":""},{"$f":"IF(syoriyou!C1366=\"\",\"\",syoriyou!C1366)","v":""},{"$f":"IF(syoriyou!D1366=\"\",\"\",syoriyou!D1366)","v":""},{"$f":"IF(syoriyou!E1366=\"\",\"\",syoriyou!E1366)","v":""},{"$f":"IF(syoriyou!F1366=\"\",\"\",syoriyou!F1366)","v":""},{"$f":"IF(syoriyou!G1366=\"\",\"\",syoriyou!G1366)","v":""},{"$f":"IF(syoriyou!H1366=\"\",\"\",syoriyou!H1366)","v":""},{"$f":"IF(syoriyou!I1366=\"\",\"\",syoriyou!I1366)","v":""},{"$f":"IF(syoriyou!J1366=\"\",\"\",syoriyou!N1366)","v":""}]
[{"$f":"IF(syoriyou!A1367=\"\",\"\",syoriyou!A1367)","v":""},{"$f":"IF(syoriyou!B1367=\"\",\"\",syoriyou!B1367)","v":""},{"$f":"IF(syoriyou!C1367=\"\",\"\",syoriyou!C1367)","v":""},{"$f":"IF(syoriyou!D1367=\"\",\"\",syoriyou!D1367)","v":""},{"$f":"IF(syoriyou!E1367=\"\",\"\",syoriyou!E1367)","v":""},{"$f":"IF(syoriyou!F1367=\"\",\"\",syoriyou!F1367)","v":""},{"$f":"IF(syoriyou!G1367=\"\",\"\",syoriyou!G1367)","v":""},{"$f":"IF(syoriyou!H1367=\"\",\"\",syoriyou!H1367)","v":""},{"$f":"IF(syoriyou!I1367=\"\",\"\",syoriyou!I1367)","v":""},{"$f":"IF(syoriyou!J1367=\"\",\"\",syoriyou!N1367)","v":""}]
[{"$f":"IF(syoriyou!A1368=\"\",\"\",syoriyou!A1368)","v":""},{"$f":"IF(syoriyou!B1368=\"\",\"\",syoriyou!B1368)","v":""},{"$f":"IF(syoriyou!C1368=\"\",\"\",syoriyou!C1368)","v":""},{"$f":"IF(syoriyou!D1368=\"\",\"\",syoriyou!D1368)","v":""},{"$f":"IF(syoriyou!E1368=\"\",\"\",syoriyou!E1368)","v":""},{"$f":"IF(syoriyou!F1368=\"\",\"\",syoriyou!F1368)","v":""},{"$f":"IF(syoriyou!G1368=\"\",\"\",syoriyou!G1368)","v":""},{"$f":"IF(syoriyou!H1368=\"\",\"\",syoriyou!H1368)","v":""},{"$f":"IF(syoriyou!I1368=\"\",\"\",syoriyou!I1368)","v":""},{"$f":"IF(syoriyou!J1368=\"\",\"\",syoriyou!N1368)","v":""}]
[{"$f":"IF(syoriyou!A1369=\"\",\"\",syoriyou!A1369)","v":""},{"$f":"IF(syoriyou!B1369=\"\",\"\",syoriyou!B1369)","v":""},{"$f":"IF(syoriyou!C1369=\"\",\"\",syoriyou!C1369)","v":""},{"$f":"IF(syoriyou!D1369=\"\",\"\",syoriyou!D1369)","v":""},{"$f":"IF(syoriyou!E1369=\"\",\"\",syoriyou!E1369)","v":""},{"$f":"IF(syoriyou!F1369=\"\",\"\",syoriyou!F1369)","v":""},{"$f":"IF(syoriyou!G1369=\"\",\"\",syoriyou!G1369)","v":""},{"$f":"IF(syoriyou!H1369=\"\",\"\",syoriyou!H1369)","v":""},{"$f":"IF(syoriyou!I1369=\"\",\"\",syoriyou!I1369)","v":""},{"$f":"IF(syoriyou!J1369=\"\",\"\",syoriyou!N1369)","v":""}]
[{"$f":"IF(syoriyou!A1370=\"\",\"\",syoriyou!A1370)","v":""},{"$f":"IF(syoriyou!B1370=\"\",\"\",syoriyou!B1370)","v":""},{"$f":"IF(syoriyou!C1370=\"\",\"\",syoriyou!C1370)","v":""},{"$f":"IF(syoriyou!D1370=\"\",\"\",syoriyou!D1370)","v":""},{"$f":"IF(syoriyou!E1370=\"\",\"\",syoriyou!E1370)","v":""},{"$f":"IF(syoriyou!F1370=\"\",\"\",syoriyou!F1370)","v":""},{"$f":"IF(syoriyou!G1370=\"\",\"\",syoriyou!G1370)","v":""},{"$f":"IF(syoriyou!H1370=\"\",\"\",syoriyou!H1370)","v":""},{"$f":"IF(syoriyou!I1370=\"\",\"\",syoriyou!I1370)","v":""},{"$f":"IF(syoriyou!J1370=\"\",\"\",syoriyou!N1370)","v":""}]
[{"$f":"IF(syoriyou!A1371=\"\",\"\",syoriyou!A1371)","v":""},{"$f":"IF(syoriyou!B1371=\"\",\"\",syoriyou!B1371)","v":""},{"$f":"IF(syoriyou!C1371=\"\",\"\",syoriyou!C1371)","v":""},{"$f":"IF(syoriyou!D1371=\"\",\"\",syoriyou!D1371)","v":""},{"$f":"IF(syoriyou!E1371=\"\",\"\",syoriyou!E1371)","v":""},{"$f":"IF(syoriyou!F1371=\"\",\"\",syoriyou!F1371)","v":""},{"$f":"IF(syoriyou!G1371=\"\",\"\",syoriyou!G1371)","v":""},{"$f":"IF(syoriyou!H1371=\"\",\"\",syoriyou!H1371)","v":""},{"$f":"IF(syoriyou!I1371=\"\",\"\",syoriyou!I1371)","v":""},{"$f":"IF(syoriyou!J1371=\"\",\"\",syoriyou!N1371)","v":""}]
[{"$f":"IF(syoriyou!A1372=\"\",\"\",syoriyou!A1372)","v":""},{"$f":"IF(syoriyou!B1372=\"\",\"\",syoriyou!B1372)","v":""},{"$f":"IF(syoriyou!C1372=\"\",\"\",syoriyou!C1372)","v":""},{"$f":"IF(syoriyou!D1372=\"\",\"\",syoriyou!D1372)","v":""},{"$f":"IF(syoriyou!E1372=\"\",\"\",syoriyou!E1372)","v":""},{"$f":"IF(syoriyou!F1372=\"\",\"\",syoriyou!F1372)","v":""},{"$f":"IF(syoriyou!G1372=\"\",\"\",syoriyou!G1372)","v":""},{"$f":"IF(syoriyou!H1372=\"\",\"\",syoriyou!H1372)","v":""},{"$f":"IF(syoriyou!I1372=\"\",\"\",syoriyou!I1372)","v":""},{"$f":"IF(syoriyou!J1372=\"\",\"\",syoriyou!N1372)","v":""}]
[{"$f":"IF(syoriyou!A1373=\"\",\"\",syoriyou!A1373)","v":""},{"$f":"IF(syoriyou!B1373=\"\",\"\",syoriyou!B1373)","v":""},{"$f":"IF(syoriyou!C1373=\"\",\"\",syoriyou!C1373)","v":""},{"$f":"IF(syoriyou!D1373=\"\",\"\",syoriyou!D1373)","v":""},{"$f":"IF(syoriyou!E1373=\"\",\"\",syoriyou!E1373)","v":""},{"$f":"IF(syoriyou!F1373=\"\",\"\",syoriyou!F1373)","v":""},{"$f":"IF(syoriyou!G1373=\"\",\"\",syoriyou!G1373)","v":""},{"$f":"IF(syoriyou!H1373=\"\",\"\",syoriyou!H1373)","v":""},{"$f":"IF(syoriyou!I1373=\"\",\"\",syoriyou!I1373)","v":""},{"$f":"IF(syoriyou!J1373=\"\",\"\",syoriyou!N1373)","v":""}]
[{"$f":"IF(syoriyou!A1374=\"\",\"\",syoriyou!A1374)","v":""},{"$f":"IF(syoriyou!B1374=\"\",\"\",syoriyou!B1374)","v":""},{"$f":"IF(syoriyou!C1374=\"\",\"\",syoriyou!C1374)","v":""},{"$f":"IF(syoriyou!D1374=\"\",\"\",syoriyou!D1374)","v":""},{"$f":"IF(syoriyou!E1374=\"\",\"\",syoriyou!E1374)","v":""},{"$f":"IF(syoriyou!F1374=\"\",\"\",syoriyou!F1374)","v":""},{"$f":"IF(syoriyou!G1374=\"\",\"\",syoriyou!G1374)","v":""},{"$f":"IF(syoriyou!H1374=\"\",\"\",syoriyou!H1374)","v":""},{"$f":"IF(syoriyou!I1374=\"\",\"\",syoriyou!I1374)","v":""},{"$f":"IF(syoriyou!J1374=\"\",\"\",syoriyou!N1374)","v":""}]
[{"$f":"IF(syoriyou!A1375=\"\",\"\",syoriyou!A1375)","v":""},{"$f":"IF(syoriyou!B1375=\"\",\"\",syoriyou!B1375)","v":""},{"$f":"IF(syoriyou!C1375=\"\",\"\",syoriyou!C1375)","v":""},{"$f":"IF(syoriyou!D1375=\"\",\"\",syoriyou!D1375)","v":""},{"$f":"IF(syoriyou!E1375=\"\",\"\",syoriyou!E1375)","v":""},{"$f":"IF(syoriyou!F1375=\"\",\"\",syoriyou!F1375)","v":""},{"$f":"IF(syoriyou!G1375=\"\",\"\",syoriyou!G1375)","v":""},{"$f":"IF(syoriyou!H1375=\"\",\"\",syoriyou!H1375)","v":""},{"$f":"IF(syoriyou!I1375=\"\",\"\",syoriyou!I1375)","v":""},{"$f":"IF(syoriyou!J1375=\"\",\"\",syoriyou!N1375)","v":""}]
[{"$f":"IF(syoriyou!A1376=\"\",\"\",syoriyou!A1376)","v":""},{"$f":"IF(syoriyou!B1376=\"\",\"\",syoriyou!B1376)","v":""},{"$f":"IF(syoriyou!C1376=\"\",\"\",syoriyou!C1376)","v":""},{"$f":"IF(syoriyou!D1376=\"\",\"\",syoriyou!D1376)","v":""},{"$f":"IF(syoriyou!E1376=\"\",\"\",syoriyou!E1376)","v":""},{"$f":"IF(syoriyou!F1376=\"\",\"\",syoriyou!F1376)","v":""},{"$f":"IF(syoriyou!G1376=\"\",\"\",syoriyou!G1376)","v":""},{"$f":"IF(syoriyou!H1376=\"\",\"\",syoriyou!H1376)","v":""},{"$f":"IF(syoriyou!I1376=\"\",\"\",syoriyou!I1376)","v":""},{"$f":"IF(syoriyou!J1376=\"\",\"\",syoriyou!N1376)","v":""}]
[{"$f":"IF(syoriyou!A1377=\"\",\"\",syoriyou!A1377)","v":""},{"$f":"IF(syoriyou!B1377=\"\",\"\",syoriyou!B1377)","v":""},{"$f":"IF(syoriyou!C1377=\"\",\"\",syoriyou!C1377)","v":""},{"$f":"IF(syoriyou!D1377=\"\",\"\",syoriyou!D1377)","v":""},{"$f":"IF(syoriyou!E1377=\"\",\"\",syoriyou!E1377)","v":""},{"$f":"IF(syoriyou!F1377=\"\",\"\",syoriyou!F1377)","v":""},{"$f":"IF(syoriyou!G1377=\"\",\"\",syoriyou!G1377)","v":""},{"$f":"IF(syoriyou!H1377=\"\",\"\",syoriyou!H1377)","v":""},{"$f":"IF(syoriyou!I1377=\"\",\"\",syoriyou!I1377)","v":""},{"$f":"IF(syoriyou!J1377=\"\",\"\",syoriyou!N1377)","v":""}]
[{"$f":"IF(syoriyou!A1378=\"\",\"\",syoriyou!A1378)","v":""},{"$f":"IF(syoriyou!B1378=\"\",\"\",syoriyou!B1378)","v":""},{"$f":"IF(syoriyou!C1378=\"\",\"\",syoriyou!C1378)","v":""},{"$f":"IF(syoriyou!D1378=\"\",\"\",syoriyou!D1378)","v":""},{"$f":"IF(syoriyou!E1378=\"\",\"\",syoriyou!E1378)","v":""},{"$f":"IF(syoriyou!F1378=\"\",\"\",syoriyou!F1378)","v":""},{"$f":"IF(syoriyou!G1378=\"\",\"\",syoriyou!G1378)","v":""},{"$f":"IF(syoriyou!H1378=\"\",\"\",syoriyou!H1378)","v":""},{"$f":"IF(syoriyou!I1378=\"\",\"\",syoriyou!I1378)","v":""},{"$f":"IF(syoriyou!J1378=\"\",\"\",syoriyou!N1378)","v":""}]
[{"$f":"IF(syoriyou!A1379=\"\",\"\",syoriyou!A1379)","v":""},{"$f":"IF(syoriyou!B1379=\"\",\"\",syoriyou!B1379)","v":""},{"$f":"IF(syoriyou!C1379=\"\",\"\",syoriyou!C1379)","v":""},{"$f":"IF(syoriyou!D1379=\"\",\"\",syoriyou!D1379)","v":""},{"$f":"IF(syoriyou!E1379=\"\",\"\",syoriyou!E1379)","v":""},{"$f":"IF(syoriyou!F1379=\"\",\"\",syoriyou!F1379)","v":""},{"$f":"IF(syoriyou!G1379=\"\",\"\",syoriyou!G1379)","v":""},{"$f":"IF(syoriyou!H1379=\"\",\"\",syoriyou!H1379)","v":""},{"$f":"IF(syoriyou!I1379=\"\",\"\",syoriyou!I1379)","v":""},{"$f":"IF(syoriyou!J1379=\"\",\"\",syoriyou!N1379)","v":""}]
[{"$f":"IF(syoriyou!A1380=\"\",\"\",syoriyou!A1380)","v":""},{"$f":"IF(syoriyou!B1380=\"\",\"\",syoriyou!B1380)","v":""},{"$f":"IF(syoriyou!C1380=\"\",\"\",syoriyou!C1380)","v":""},{"$f":"IF(syoriyou!D1380=\"\",\"\",syoriyou!D1380)","v":""},{"$f":"IF(syoriyou!E1380=\"\",\"\",syoriyou!E1380)","v":""},{"$f":"IF(syoriyou!F1380=\"\",\"\",syoriyou!F1380)","v":""},{"$f":"IF(syoriyou!G1380=\"\",\"\",syoriyou!G1380)","v":""},{"$f":"IF(syoriyou!H1380=\"\",\"\",syoriyou!H1380)","v":""},{"$f":"IF(syoriyou!I1380=\"\",\"\",syoriyou!I1380)","v":""},{"$f":"IF(syoriyou!J1380=\"\",\"\",syoriyou!N1380)","v":""}]
[{"$f":"IF(syoriyou!A1381=\"\",\"\",syoriyou!A1381)","v":""},{"$f":"IF(syoriyou!B1381=\"\",\"\",syoriyou!B1381)","v":""},{"$f":"IF(syoriyou!C1381=\"\",\"\",syoriyou!C1381)","v":""},{"$f":"IF(syoriyou!D1381=\"\",\"\",syoriyou!D1381)","v":""},{"$f":"IF(syoriyou!E1381=\"\",\"\",syoriyou!E1381)","v":""},{"$f":"IF(syoriyou!F1381=\"\",\"\",syoriyou!F1381)","v":""},{"$f":"IF(syoriyou!G1381=\"\",\"\",syoriyou!G1381)","v":""},{"$f":"IF(syoriyou!H1381=\"\",\"\",syoriyou!H1381)","v":""},{"$f":"IF(syoriyou!I1381=\"\",\"\",syoriyou!I1381)","v":""},{"$f":"IF(syoriyou!J1381=\"\",\"\",syoriyou!N1381)","v":""}]
[{"$f":"IF(syoriyou!A1382=\"\",\"\",syoriyou!A1382)","v":""},{"$f":"IF(syoriyou!B1382=\"\",\"\",syoriyou!B1382)","v":""},{"$f":"IF(syoriyou!C1382=\"\",\"\",syoriyou!C1382)","v":""},{"$f":"IF(syoriyou!D1382=\"\",\"\",syoriyou!D1382)","v":""},{"$f":"IF(syoriyou!E1382=\"\",\"\",syoriyou!E1382)","v":""},{"$f":"IF(syoriyou!F1382=\"\",\"\",syoriyou!F1382)","v":""},{"$f":"IF(syoriyou!G1382=\"\",\"\",syoriyou!G1382)","v":""},{"$f":"IF(syoriyou!H1382=\"\",\"\",syoriyou!H1382)","v":""},{"$f":"IF(syoriyou!I1382=\"\",\"\",syoriyou!I1382)","v":""},{"$f":"IF(syoriyou!J1382=\"\",\"\",syoriyou!N1382)","v":""}]
[{"$f":"IF(syoriyou!A1383=\"\",\"\",syoriyou!A1383)","v":""},{"$f":"IF(syoriyou!B1383=\"\",\"\",syoriyou!B1383)","v":""},{"$f":"IF(syoriyou!C1383=\"\",\"\",syoriyou!C1383)","v":""},{"$f":"IF(syoriyou!D1383=\"\",\"\",syoriyou!D1383)","v":""},{"$f":"IF(syoriyou!E1383=\"\",\"\",syoriyou!E1383)","v":""},{"$f":"IF(syoriyou!F1383=\"\",\"\",syoriyou!F1383)","v":""},{"$f":"IF(syoriyou!G1383=\"\",\"\",syoriyou!G1383)","v":""},{"$f":"IF(syoriyou!H1383=\"\",\"\",syoriyou!H1383)","v":""},{"$f":"IF(syoriyou!I1383=\"\",\"\",syoriyou!I1383)","v":""},{"$f":"IF(syoriyou!J1383=\"\",\"\",syoriyou!N1383)","v":""}]
[{"$f":"IF(syoriyou!A1384=\"\",\"\",syoriyou!A1384)","v":""},{"$f":"IF(syoriyou!B1384=\"\",\"\",syoriyou!B1384)","v":""},{"$f":"IF(syoriyou!C1384=\"\",\"\",syoriyou!C1384)","v":""},{"$f":"IF(syoriyou!D1384=\"\",\"\",syoriyou!D1384)","v":""},{"$f":"IF(syoriyou!E1384=\"\",\"\",syoriyou!E1384)","v":""},{"$f":"IF(syoriyou!F1384=\"\",\"\",syoriyou!F1384)","v":""},{"$f":"IF(syoriyou!G1384=\"\",\"\",syoriyou!G1384)","v":""},{"$f":"IF(syoriyou!H1384=\"\",\"\",syoriyou!H1384)","v":""},{"$f":"IF(syoriyou!I1384=\"\",\"\",syoriyou!I1384)","v":""},{"$f":"IF(syoriyou!J1384=\"\",\"\",syoriyou!N1384)","v":""}]
[{"$f":"IF(syoriyou!A1385=\"\",\"\",syoriyou!A1385)","v":""},{"$f":"IF(syoriyou!B1385=\"\",\"\",syoriyou!B1385)","v":""},{"$f":"IF(syoriyou!C1385=\"\",\"\",syoriyou!C1385)","v":""},{"$f":"IF(syoriyou!D1385=\"\",\"\",syoriyou!D1385)","v":""},{"$f":"IF(syoriyou!E1385=\"\",\"\",syoriyou!E1385)","v":""},{"$f":"IF(syoriyou!F1385=\"\",\"\",syoriyou!F1385)","v":""},{"$f":"IF(syoriyou!G1385=\"\",\"\",syoriyou!G1385)","v":""},{"$f":"IF(syoriyou!H1385=\"\",\"\",syoriyou!H1385)","v":""},{"$f":"IF(syoriyou!I1385=\"\",\"\",syoriyou!I1385)","v":""},{"$f":"IF(syoriyou!J1385=\"\",\"\",syoriyou!N1385)","v":""}]
[{"$f":"IF(syoriyou!A1386=\"\",\"\",syoriyou!A1386)","v":""},{"$f":"IF(syoriyou!B1386=\"\",\"\",syoriyou!B1386)","v":""},{"$f":"IF(syoriyou!C1386=\"\",\"\",syoriyou!C1386)","v":""},{"$f":"IF(syoriyou!D1386=\"\",\"\",syoriyou!D1386)","v":""},{"$f":"IF(syoriyou!E1386=\"\",\"\",syoriyou!E1386)","v":""},{"$f":"IF(syoriyou!F1386=\"\",\"\",syoriyou!F1386)","v":""},{"$f":"IF(syoriyou!G1386=\"\",\"\",syoriyou!G1386)","v":""},{"$f":"IF(syoriyou!H1386=\"\",\"\",syoriyou!H1386)","v":""},{"$f":"IF(syoriyou!I1386=\"\",\"\",syoriyou!I1386)","v":""},{"$f":"IF(syoriyou!J1386=\"\",\"\",syoriyou!N1386)","v":""}]
[{"$f":"IF(syoriyou!A1387=\"\",\"\",syoriyou!A1387)","v":""},{"$f":"IF(syoriyou!B1387=\"\",\"\",syoriyou!B1387)","v":""},{"$f":"IF(syoriyou!C1387=\"\",\"\",syoriyou!C1387)","v":""},{"$f":"IF(syoriyou!D1387=\"\",\"\",syoriyou!D1387)","v":""},{"$f":"IF(syoriyou!E1387=\"\",\"\",syoriyou!E1387)","v":""},{"$f":"IF(syoriyou!F1387=\"\",\"\",syoriyou!F1387)","v":""},{"$f":"IF(syoriyou!G1387=\"\",\"\",syoriyou!G1387)","v":""},{"$f":"IF(syoriyou!H1387=\"\",\"\",syoriyou!H1387)","v":""},{"$f":"IF(syoriyou!I1387=\"\",\"\",syoriyou!I1387)","v":""},{"$f":"IF(syoriyou!J1387=\"\",\"\",syoriyou!N1387)","v":""}]
[{"$f":"IF(syoriyou!A1388=\"\",\"\",syoriyou!A1388)","v":""},{"$f":"IF(syoriyou!B1388=\"\",\"\",syoriyou!B1388)","v":""},{"$f":"IF(syoriyou!C1388=\"\",\"\",syoriyou!C1388)","v":""},{"$f":"IF(syoriyou!D1388=\"\",\"\",syoriyou!D1388)","v":""},{"$f":"IF(syoriyou!E1388=\"\",\"\",syoriyou!E1388)","v":""},{"$f":"IF(syoriyou!F1388=\"\",\"\",syoriyou!F1388)","v":""},{"$f":"IF(syoriyou!G1388=\"\",\"\",syoriyou!G1388)","v":""},{"$f":"IF(syoriyou!H1388=\"\",\"\",syoriyou!H1388)","v":""},{"$f":"IF(syoriyou!I1388=\"\",\"\",syoriyou!I1388)","v":""},{"$f":"IF(syoriyou!J1388=\"\",\"\",syoriyou!N1388)","v":""}]
[{"$f":"IF(syoriyou!A1389=\"\",\"\",syoriyou!A1389)","v":""},{"$f":"IF(syoriyou!B1389=\"\",\"\",syoriyou!B1389)","v":""},{"$f":"IF(syoriyou!C1389=\"\",\"\",syoriyou!C1389)","v":""},{"$f":"IF(syoriyou!D1389=\"\",\"\",syoriyou!D1389)","v":""},{"$f":"IF(syoriyou!E1389=\"\",\"\",syoriyou!E1389)","v":""},{"$f":"IF(syoriyou!F1389=\"\",\"\",syoriyou!F1389)","v":""},{"$f":"IF(syoriyou!G1389=\"\",\"\",syoriyou!G1389)","v":""},{"$f":"IF(syoriyou!H1389=\"\",\"\",syoriyou!H1389)","v":""},{"$f":"IF(syoriyou!I1389=\"\",\"\",syoriyou!I1389)","v":""},{"$f":"IF(syoriyou!J1389=\"\",\"\",syoriyou!N1389)","v":""}]
[{"$f":"IF(syoriyou!A1390=\"\",\"\",syoriyou!A1390)","v":""},{"$f":"IF(syoriyou!B1390=\"\",\"\",syoriyou!B1390)","v":""},{"$f":"IF(syoriyou!C1390=\"\",\"\",syoriyou!C1390)","v":""},{"$f":"IF(syoriyou!D1390=\"\",\"\",syoriyou!D1390)","v":""},{"$f":"IF(syoriyou!E1390=\"\",\"\",syoriyou!E1390)","v":""},{"$f":"IF(syoriyou!F1390=\"\",\"\",syoriyou!F1390)","v":""},{"$f":"IF(syoriyou!G1390=\"\",\"\",syoriyou!G1390)","v":""},{"$f":"IF(syoriyou!H1390=\"\",\"\",syoriyou!H1390)","v":""},{"$f":"IF(syoriyou!I1390=\"\",\"\",syoriyou!I1390)","v":""},{"$f":"IF(syoriyou!J1390=\"\",\"\",syoriyou!N1390)","v":""}]
[{"$f":"IF(syoriyou!A1391=\"\",\"\",syoriyou!A1391)","v":""},{"$f":"IF(syoriyou!B1391=\"\",\"\",syoriyou!B1391)","v":""},{"$f":"IF(syoriyou!C1391=\"\",\"\",syoriyou!C1391)","v":""},{"$f":"IF(syoriyou!D1391=\"\",\"\",syoriyou!D1391)","v":""},{"$f":"IF(syoriyou!E1391=\"\",\"\",syoriyou!E1391)","v":""},{"$f":"IF(syoriyou!F1391=\"\",\"\",syoriyou!F1391)","v":""},{"$f":"IF(syoriyou!G1391=\"\",\"\",syoriyou!G1391)","v":""},{"$f":"IF(syoriyou!H1391=\"\",\"\",syoriyou!H1391)","v":""},{"$f":"IF(syoriyou!I1391=\"\",\"\",syoriyou!I1391)","v":""},{"$f":"IF(syoriyou!J1391=\"\",\"\",syoriyou!N1391)","v":""}]
[{"$f":"IF(syoriyou!A1392=\"\",\"\",syoriyou!A1392)","v":""},{"$f":"IF(syoriyou!B1392=\"\",\"\",syoriyou!B1392)","v":""},{"$f":"IF(syoriyou!C1392=\"\",\"\",syoriyou!C1392)","v":""},{"$f":"IF(syoriyou!D1392=\"\",\"\",syoriyou!D1392)","v":""},{"$f":"IF(syoriyou!E1392=\"\",\"\",syoriyou!E1392)","v":""},{"$f":"IF(syoriyou!F1392=\"\",\"\",syoriyou!F1392)","v":""},{"$f":"IF(syoriyou!G1392=\"\",\"\",syoriyou!G1392)","v":""},{"$f":"IF(syoriyou!H1392=\"\",\"\",syoriyou!H1392)","v":""},{"$f":"IF(syoriyou!I1392=\"\",\"\",syoriyou!I1392)","v":""},{"$f":"IF(syoriyou!J1392=\"\",\"\",syoriyou!N1392)","v":""}]
[{"$f":"IF(syoriyou!A1393=\"\",\"\",syoriyou!A1393)","v":""},{"$f":"IF(syoriyou!B1393=\"\",\"\",syoriyou!B1393)","v":""},{"$f":"IF(syoriyou!C1393=\"\",\"\",syoriyou!C1393)","v":""},{"$f":"IF(syoriyou!D1393=\"\",\"\",syoriyou!D1393)","v":""},{"$f":"IF(syoriyou!E1393=\"\",\"\",syoriyou!E1393)","v":""},{"$f":"IF(syoriyou!F1393=\"\",\"\",syoriyou!F1393)","v":""},{"$f":"IF(syoriyou!G1393=\"\",\"\",syoriyou!G1393)","v":""},{"$f":"IF(syoriyou!H1393=\"\",\"\",syoriyou!H1393)","v":""},{"$f":"IF(syoriyou!I1393=\"\",\"\",syoriyou!I1393)","v":""},{"$f":"IF(syoriyou!J1393=\"\",\"\",syoriyou!N1393)","v":""}]
[{"$f":"IF(syoriyou!A1394=\"\",\"\",syoriyou!A1394)","v":""},{"$f":"IF(syoriyou!B1394=\"\",\"\",syoriyou!B1394)","v":""},{"$f":"IF(syoriyou!C1394=\"\",\"\",syoriyou!C1394)","v":""},{"$f":"IF(syoriyou!D1394=\"\",\"\",syoriyou!D1394)","v":""},{"$f":"IF(syoriyou!E1394=\"\",\"\",syoriyou!E1394)","v":""},{"$f":"IF(syoriyou!F1394=\"\",\"\",syoriyou!F1394)","v":""},{"$f":"IF(syoriyou!G1394=\"\",\"\",syoriyou!G1394)","v":""},{"$f":"IF(syoriyou!H1394=\"\",\"\",syoriyou!H1394)","v":""},{"$f":"IF(syoriyou!I1394=\"\",\"\",syoriyou!I1394)","v":""},{"$f":"IF(syoriyou!J1394=\"\",\"\",syoriyou!N1394)","v":""}]
[{"$f":"IF(syoriyou!A1395=\"\",\"\",syoriyou!A1395)","v":""},{"$f":"IF(syoriyou!B1395=\"\",\"\",syoriyou!B1395)","v":""},{"$f":"IF(syoriyou!C1395=\"\",\"\",syoriyou!C1395)","v":""},{"$f":"IF(syoriyou!D1395=\"\",\"\",syoriyou!D1395)","v":""},{"$f":"IF(syoriyou!E1395=\"\",\"\",syoriyou!E1395)","v":""},{"$f":"IF(syoriyou!F1395=\"\",\"\",syoriyou!F1395)","v":""},{"$f":"IF(syoriyou!G1395=\"\",\"\",syoriyou!G1395)","v":""},{"$f":"IF(syoriyou!H1395=\"\",\"\",syoriyou!H1395)","v":""},{"$f":"IF(syoriyou!I1395=\"\",\"\",syoriyou!I1395)","v":""},{"$f":"IF(syoriyou!J1395=\"\",\"\",syoriyou!N1395)","v":""}]
[{"$f":"IF(syoriyou!A1396=\"\",\"\",syoriyou!A1396)","v":""},{"$f":"IF(syoriyou!B1396=\"\",\"\",syoriyou!B1396)","v":""},{"$f":"IF(syoriyou!C1396=\"\",\"\",syoriyou!C1396)","v":""},{"$f":"IF(syoriyou!D1396=\"\",\"\",syoriyou!D1396)","v":""},{"$f":"IF(syoriyou!E1396=\"\",\"\",syoriyou!E1396)","v":""},{"$f":"IF(syoriyou!F1396=\"\",\"\",syoriyou!F1396)","v":""},{"$f":"IF(syoriyou!G1396=\"\",\"\",syoriyou!G1396)","v":""},{"$f":"IF(syoriyou!H1396=\"\",\"\",syoriyou!H1396)","v":""},{"$f":"IF(syoriyou!I1396=\"\",\"\",syoriyou!I1396)","v":""},{"$f":"IF(syoriyou!J1396=\"\",\"\",syoriyou!N1396)","v":""}]
[{"$f":"IF(syoriyou!A1397=\"\",\"\",syoriyou!A1397)","v":""},{"$f":"IF(syoriyou!B1397=\"\",\"\",syoriyou!B1397)","v":""},{"$f":"IF(syoriyou!C1397=\"\",\"\",syoriyou!C1397)","v":""},{"$f":"IF(syoriyou!D1397=\"\",\"\",syoriyou!D1397)","v":""},{"$f":"IF(syoriyou!E1397=\"\",\"\",syoriyou!E1397)","v":""},{"$f":"IF(syoriyou!F1397=\"\",\"\",syoriyou!F1397)","v":""},{"$f":"IF(syoriyou!G1397=\"\",\"\",syoriyou!G1397)","v":""},{"$f":"IF(syoriyou!H1397=\"\",\"\",syoriyou!H1397)","v":""},{"$f":"IF(syoriyou!I1397=\"\",\"\",syoriyou!I1397)","v":""},{"$f":"IF(syoriyou!J1397=\"\",\"\",syoriyou!N1397)","v":""}]
[{"$f":"IF(syoriyou!A1398=\"\",\"\",syoriyou!A1398)","v":""},{"$f":"IF(syoriyou!B1398=\"\",\"\",syoriyou!B1398)","v":""},{"$f":"IF(syoriyou!C1398=\"\",\"\",syoriyou!C1398)","v":""},{"$f":"IF(syoriyou!D1398=\"\",\"\",syoriyou!D1398)","v":""},{"$f":"IF(syoriyou!E1398=\"\",\"\",syoriyou!E1398)","v":""},{"$f":"IF(syoriyou!F1398=\"\",\"\",syoriyou!F1398)","v":""},{"$f":"IF(syoriyou!G1398=\"\",\"\",syoriyou!G1398)","v":""},{"$f":"IF(syoriyou!H1398=\"\",\"\",syoriyou!H1398)","v":""},{"$f":"IF(syoriyou!I1398=\"\",\"\",syoriyou!I1398)","v":""},{"$f":"IF(syoriyou!J1398=\"\",\"\",syoriyou!N1398)","v":""}]
[{"$f":"IF(syoriyou!A1399=\"\",\"\",syoriyou!A1399)","v":""},{"$f":"IF(syoriyou!B1399=\"\",\"\",syoriyou!B1399)","v":""},{"$f":"IF(syoriyou!C1399=\"\",\"\",syoriyou!C1399)","v":""},{"$f":"IF(syoriyou!D1399=\"\",\"\",syoriyou!D1399)","v":""},{"$f":"IF(syoriyou!E1399=\"\",\"\",syoriyou!E1399)","v":""},{"$f":"IF(syoriyou!F1399=\"\",\"\",syoriyou!F1399)","v":""},{"$f":"IF(syoriyou!G1399=\"\",\"\",syoriyou!G1399)","v":""},{"$f":"IF(syoriyou!H1399=\"\",\"\",syoriyou!H1399)","v":""},{"$f":"IF(syoriyou!I1399=\"\",\"\",syoriyou!I1399)","v":""},{"$f":"IF(syoriyou!J1399=\"\",\"\",syoriyou!N1399)","v":""}]
[{"$f":"IF(syoriyou!A1400=\"\",\"\",syoriyou!A1400)","v":""},{"$f":"IF(syoriyou!B1400=\"\",\"\",syoriyou!B1400)","v":""},{"$f":"IF(syoriyou!C1400=\"\",\"\",syoriyou!C1400)","v":""},{"$f":"IF(syoriyou!D1400=\"\",\"\",syoriyou!D1400)","v":""},{"$f":"IF(syoriyou!E1400=\"\",\"\",syoriyou!E1400)","v":""},{"$f":"IF(syoriyou!F1400=\"\",\"\",syoriyou!F1400)","v":""},{"$f":"IF(syoriyou!G1400=\"\",\"\",syoriyou!G1400)","v":""},{"$f":"IF(syoriyou!H1400=\"\",\"\",syoriyou!H1400)","v":""},{"$f":"IF(syoriyou!I1400=\"\",\"\",syoriyou!I1400)","v":""},{"$f":"IF(syoriyou!J1400=\"\",\"\",syoriyou!N1400)","v":""}]
[{"$f":"IF(syoriyou!A1401=\"\",\"\",syoriyou!A1401)","v":""},{"$f":"IF(syoriyou!B1401=\"\",\"\",syoriyou!B1401)","v":""},{"$f":"IF(syoriyou!C1401=\"\",\"\",syoriyou!C1401)","v":""},{"$f":"IF(syoriyou!D1401=\"\",\"\",syoriyou!D1401)","v":""},{"$f":"IF(syoriyou!E1401=\"\",\"\",syoriyou!E1401)","v":""},{"$f":"IF(syoriyou!F1401=\"\",\"\",syoriyou!F1401)","v":""},{"$f":"IF(syoriyou!G1401=\"\",\"\",syoriyou!G1401)","v":""},{"$f":"IF(syoriyou!H1401=\"\",\"\",syoriyou!H1401)","v":""},{"$f":"IF(syoriyou!I1401=\"\",\"\",syoriyou!I1401)","v":""},{"$f":"IF(syoriyou!J1401=\"\",\"\",syoriyou!N1401)","v":""}]
[{"$f":"IF(syoriyou!A1402=\"\",\"\",syoriyou!A1402)","v":""},{"$f":"IF(syoriyou!B1402=\"\",\"\",syoriyou!B1402)","v":""},{"$f":"IF(syoriyou!C1402=\"\",\"\",syoriyou!C1402)","v":""},{"$f":"IF(syoriyou!D1402=\"\",\"\",syoriyou!D1402)","v":""},{"$f":"IF(syoriyou!E1402=\"\",\"\",syoriyou!E1402)","v":""},{"$f":"IF(syoriyou!F1402=\"\",\"\",syoriyou!F1402)","v":""},{"$f":"IF(syoriyou!G1402=\"\",\"\",syoriyou!G1402)","v":""},{"$f":"IF(syoriyou!H1402=\"\",\"\",syoriyou!H1402)","v":""},{"$f":"IF(syoriyou!I1402=\"\",\"\",syoriyou!I1402)","v":""},{"$f":"IF(syoriyou!J1402=\"\",\"\",syoriyou!N1402)","v":""}]
[{"$f":"IF(syoriyou!A1403=\"\",\"\",syoriyou!A1403)","v":""},{"$f":"IF(syoriyou!B1403=\"\",\"\",syoriyou!B1403)","v":""},{"$f":"IF(syoriyou!C1403=\"\",\"\",syoriyou!C1403)","v":""},{"$f":"IF(syoriyou!D1403=\"\",\"\",syoriyou!D1403)","v":""},{"$f":"IF(syoriyou!E1403=\"\",\"\",syoriyou!E1403)","v":""},{"$f":"IF(syoriyou!F1403=\"\",\"\",syoriyou!F1403)","v":""},{"$f":"IF(syoriyou!G1403=\"\",\"\",syoriyou!G1403)","v":""},{"$f":"IF(syoriyou!H1403=\"\",\"\",syoriyou!H1403)","v":""},{"$f":"IF(syoriyou!I1403=\"\",\"\",syoriyou!I1403)","v":""},{"$f":"IF(syoriyou!J1403=\"\",\"\",syoriyou!N1403)","v":""}]
[{"$f":"IF(syoriyou!A1404=\"\",\"\",syoriyou!A1404)","v":""},{"$f":"IF(syoriyou!B1404=\"\",\"\",syoriyou!B1404)","v":""},{"$f":"IF(syoriyou!C1404=\"\",\"\",syoriyou!C1404)","v":""},{"$f":"IF(syoriyou!D1404=\"\",\"\",syoriyou!D1404)","v":""},{"$f":"IF(syoriyou!E1404=\"\",\"\",syoriyou!E1404)","v":""},{"$f":"IF(syoriyou!F1404=\"\",\"\",syoriyou!F1404)","v":""},{"$f":"IF(syoriyou!G1404=\"\",\"\",syoriyou!G1404)","v":""},{"$f":"IF(syoriyou!H1404=\"\",\"\",syoriyou!H1404)","v":""},{"$f":"IF(syoriyou!I1404=\"\",\"\",syoriyou!I1404)","v":""},{"$f":"IF(syoriyou!J1404=\"\",\"\",syoriyou!N1404)","v":""}]
[{"$f":"IF(syoriyou!A1405=\"\",\"\",syoriyou!A1405)","v":""},{"$f":"IF(syoriyou!B1405=\"\",\"\",syoriyou!B1405)","v":""},{"$f":"IF(syoriyou!C1405=\"\",\"\",syoriyou!C1405)","v":""},{"$f":"IF(syoriyou!D1405=\"\",\"\",syoriyou!D1405)","v":""},{"$f":"IF(syoriyou!E1405=\"\",\"\",syoriyou!E1405)","v":""},{"$f":"IF(syoriyou!F1405=\"\",\"\",syoriyou!F1405)","v":""},{"$f":"IF(syoriyou!G1405=\"\",\"\",syoriyou!G1405)","v":""},{"$f":"IF(syoriyou!H1405=\"\",\"\",syoriyou!H1405)","v":""},{"$f":"IF(syoriyou!I1405=\"\",\"\",syoriyou!I1405)","v":""},{"$f":"IF(syoriyou!J1405=\"\",\"\",syoriyou!N1405)","v":""}]
[{"$f":"IF(syoriyou!A1406=\"\",\"\",syoriyou!A1406)","v":""},{"$f":"IF(syoriyou!B1406=\"\",\"\",syoriyou!B1406)","v":""},{"$f":"IF(syoriyou!C1406=\"\",\"\",syoriyou!C1406)","v":""},{"$f":"IF(syoriyou!D1406=\"\",\"\",syoriyou!D1406)","v":""},{"$f":"IF(syoriyou!E1406=\"\",\"\",syoriyou!E1406)","v":""},{"$f":"IF(syoriyou!F1406=\"\",\"\",syoriyou!F1406)","v":""},{"$f":"IF(syoriyou!G1406=\"\",\"\",syoriyou!G1406)","v":""},{"$f":"IF(syoriyou!H1406=\"\",\"\",syoriyou!H1406)","v":""},{"$f":"IF(syoriyou!I1406=\"\",\"\",syoriyou!I1406)","v":""},{"$f":"IF(syoriyou!J1406=\"\",\"\",syoriyou!N1406)","v":""}]
[{"$f":"IF(syoriyou!A1407=\"\",\"\",syoriyou!A1407)","v":""},{"$f":"IF(syoriyou!B1407=\"\",\"\",syoriyou!B1407)","v":""},{"$f":"IF(syoriyou!C1407=\"\",\"\",syoriyou!C1407)","v":""},{"$f":"IF(syoriyou!D1407=\"\",\"\",syoriyou!D1407)","v":""},{"$f":"IF(syoriyou!E1407=\"\",\"\",syoriyou!E1407)","v":""},{"$f":"IF(syoriyou!F1407=\"\",\"\",syoriyou!F1407)","v":""},{"$f":"IF(syoriyou!G1407=\"\",\"\",syoriyou!G1407)","v":""},{"$f":"IF(syoriyou!H1407=\"\",\"\",syoriyou!H1407)","v":""},{"$f":"IF(syoriyou!I1407=\"\",\"\",syoriyou!I1407)","v":""},{"$f":"IF(syoriyou!J1407=\"\",\"\",syoriyou!N1407)","v":""}]
[{"$f":"IF(syoriyou!A1408=\"\",\"\",syoriyou!A1408)","v":""},{"$f":"IF(syoriyou!B1408=\"\",\"\",syoriyou!B1408)","v":""},{"$f":"IF(syoriyou!C1408=\"\",\"\",syoriyou!C1408)","v":""},{"$f":"IF(syoriyou!D1408=\"\",\"\",syoriyou!D1408)","v":""},{"$f":"IF(syoriyou!E1408=\"\",\"\",syoriyou!E1408)","v":""},{"$f":"IF(syoriyou!F1408=\"\",\"\",syoriyou!F1408)","v":""},{"$f":"IF(syoriyou!G1408=\"\",\"\",syoriyou!G1408)","v":""},{"$f":"IF(syoriyou!H1408=\"\",\"\",syoriyou!H1408)","v":""},{"$f":"IF(syoriyou!I1408=\"\",\"\",syoriyou!I1408)","v":""},{"$f":"IF(syoriyou!J1408=\"\",\"\",syoriyou!N1408)","v":""}]
[{"$f":"IF(syoriyou!A1409=\"\",\"\",syoriyou!A1409)","v":""},{"$f":"IF(syoriyou!B1409=\"\",\"\",syoriyou!B1409)","v":""},{"$f":"IF(syoriyou!C1409=\"\",\"\",syoriyou!C1409)","v":""},{"$f":"IF(syoriyou!D1409=\"\",\"\",syoriyou!D1409)","v":""},{"$f":"IF(syoriyou!E1409=\"\",\"\",syoriyou!E1409)","v":""},{"$f":"IF(syoriyou!F1409=\"\",\"\",syoriyou!F1409)","v":""},{"$f":"IF(syoriyou!G1409=\"\",\"\",syoriyou!G1409)","v":""},{"$f":"IF(syoriyou!H1409=\"\",\"\",syoriyou!H1409)","v":""},{"$f":"IF(syoriyou!I1409=\"\",\"\",syoriyou!I1409)","v":""},{"$f":"IF(syoriyou!J1409=\"\",\"\",syoriyou!N1409)","v":""}]
[{"$f":"IF(syoriyou!A1410=\"\",\"\",syoriyou!A1410)","v":""},{"$f":"IF(syoriyou!B1410=\"\",\"\",syoriyou!B1410)","v":""},{"$f":"IF(syoriyou!C1410=\"\",\"\",syoriyou!C1410)","v":""},{"$f":"IF(syoriyou!D1410=\"\",\"\",syoriyou!D1410)","v":""},{"$f":"IF(syoriyou!E1410=\"\",\"\",syoriyou!E1410)","v":""},{"$f":"IF(syoriyou!F1410=\"\",\"\",syoriyou!F1410)","v":""},{"$f":"IF(syoriyou!G1410=\"\",\"\",syoriyou!G1410)","v":""},{"$f":"IF(syoriyou!H1410=\"\",\"\",syoriyou!H1410)","v":""},{"$f":"IF(syoriyou!I1410=\"\",\"\",syoriyou!I1410)","v":""},{"$f":"IF(syoriyou!J1410=\"\",\"\",syoriyou!N1410)","v":""}]
[{"$f":"IF(syoriyou!A1411=\"\",\"\",syoriyou!A1411)","v":""},{"$f":"IF(syoriyou!B1411=\"\",\"\",syoriyou!B1411)","v":""},{"$f":"IF(syoriyou!C1411=\"\",\"\",syoriyou!C1411)","v":""},{"$f":"IF(syoriyou!D1411=\"\",\"\",syoriyou!D1411)","v":""},{"$f":"IF(syoriyou!E1411=\"\",\"\",syoriyou!E1411)","v":""},{"$f":"IF(syoriyou!F1411=\"\",\"\",syoriyou!F1411)","v":""},{"$f":"IF(syoriyou!G1411=\"\",\"\",syoriyou!G1411)","v":""},{"$f":"IF(syoriyou!H1411=\"\",\"\",syoriyou!H1411)","v":""},{"$f":"IF(syoriyou!I1411=\"\",\"\",syoriyou!I1411)","v":""},{"$f":"IF(syoriyou!J1411=\"\",\"\",syoriyou!N1411)","v":""}]
[{"$f":"IF(syoriyou!A1412=\"\",\"\",syoriyou!A1412)","v":""},{"$f":"IF(syoriyou!B1412=\"\",\"\",syoriyou!B1412)","v":""},{"$f":"IF(syoriyou!C1412=\"\",\"\",syoriyou!C1412)","v":""},{"$f":"IF(syoriyou!D1412=\"\",\"\",syoriyou!D1412)","v":""},{"$f":"IF(syoriyou!E1412=\"\",\"\",syoriyou!E1412)","v":""},{"$f":"IF(syoriyou!F1412=\"\",\"\",syoriyou!F1412)","v":""},{"$f":"IF(syoriyou!G1412=\"\",\"\",syoriyou!G1412)","v":""},{"$f":"IF(syoriyou!H1412=\"\",\"\",syoriyou!H1412)","v":""},{"$f":"IF(syoriyou!I1412=\"\",\"\",syoriyou!I1412)","v":""},{"$f":"IF(syoriyou!J1412=\"\",\"\",syoriyou!N1412)","v":""}]
[{"$f":"IF(syoriyou!A1413=\"\",\"\",syoriyou!A1413)","v":""},{"$f":"IF(syoriyou!B1413=\"\",\"\",syoriyou!B1413)","v":""},{"$f":"IF(syoriyou!C1413=\"\",\"\",syoriyou!C1413)","v":""},{"$f":"IF(syoriyou!D1413=\"\",\"\",syoriyou!D1413)","v":""},{"$f":"IF(syoriyou!E1413=\"\",\"\",syoriyou!E1413)","v":""},{"$f":"IF(syoriyou!F1413=\"\",\"\",syoriyou!F1413)","v":""},{"$f":"IF(syoriyou!G1413=\"\",\"\",syoriyou!G1413)","v":""},{"$f":"IF(syoriyou!H1413=\"\",\"\",syoriyou!H1413)","v":""},{"$f":"IF(syoriyou!I1413=\"\",\"\",syoriyou!I1413)","v":""},{"$f":"IF(syoriyou!J1413=\"\",\"\",syoriyou!N1413)","v":""}]
[{"$f":"IF(syoriyou!A1414=\"\",\"\",syoriyou!A1414)","v":""},{"$f":"IF(syoriyou!B1414=\"\",\"\",syoriyou!B1414)","v":""},{"$f":"IF(syoriyou!C1414=\"\",\"\",syoriyou!C1414)","v":""},{"$f":"IF(syoriyou!D1414=\"\",\"\",syoriyou!D1414)","v":""},{"$f":"IF(syoriyou!E1414=\"\",\"\",syoriyou!E1414)","v":""},{"$f":"IF(syoriyou!F1414=\"\",\"\",syoriyou!F1414)","v":""},{"$f":"IF(syoriyou!G1414=\"\",\"\",syoriyou!G1414)","v":""},{"$f":"IF(syoriyou!H1414=\"\",\"\",syoriyou!H1414)","v":""},{"$f":"IF(syoriyou!I1414=\"\",\"\",syoriyou!I1414)","v":""},{"$f":"IF(syoriyou!J1414=\"\",\"\",syoriyou!N1414)","v":""}]
[{"$f":"IF(syoriyou!A1415=\"\",\"\",syoriyou!A1415)","v":""},{"$f":"IF(syoriyou!B1415=\"\",\"\",syoriyou!B1415)","v":""},{"$f":"IF(syoriyou!C1415=\"\",\"\",syoriyou!C1415)","v":""},{"$f":"IF(syoriyou!D1415=\"\",\"\",syoriyou!D1415)","v":""},{"$f":"IF(syoriyou!E1415=\"\",\"\",syoriyou!E1415)","v":""},{"$f":"IF(syoriyou!F1415=\"\",\"\",syoriyou!F1415)","v":""},{"$f":"IF(syoriyou!G1415=\"\",\"\",syoriyou!G1415)","v":""},{"$f":"IF(syoriyou!H1415=\"\",\"\",syoriyou!H1415)","v":""},{"$f":"IF(syoriyou!I1415=\"\",\"\",syoriyou!I1415)","v":""},{"$f":"IF(syoriyou!J1415=\"\",\"\",syoriyou!N1415)","v":""}]
[{"$f":"IF(syoriyou!A1416=\"\",\"\",syoriyou!A1416)","v":""},{"$f":"IF(syoriyou!B1416=\"\",\"\",syoriyou!B1416)","v":""},{"$f":"IF(syoriyou!C1416=\"\",\"\",syoriyou!C1416)","v":""},{"$f":"IF(syoriyou!D1416=\"\",\"\",syoriyou!D1416)","v":""},{"$f":"IF(syoriyou!E1416=\"\",\"\",syoriyou!E1416)","v":""},{"$f":"IF(syoriyou!F1416=\"\",\"\",syoriyou!F1416)","v":""},{"$f":"IF(syoriyou!G1416=\"\",\"\",syoriyou!G1416)","v":""},{"$f":"IF(syoriyou!H1416=\"\",\"\",syoriyou!H1416)","v":""},{"$f":"IF(syoriyou!I1416=\"\",\"\",syoriyou!I1416)","v":""},{"$f":"IF(syoriyou!J1416=\"\",\"\",syoriyou!N1416)","v":""}]
[{"$f":"IF(syoriyou!A1417=\"\",\"\",syoriyou!A1417)","v":""},{"$f":"IF(syoriyou!B1417=\"\",\"\",syoriyou!B1417)","v":""},{"$f":"IF(syoriyou!C1417=\"\",\"\",syoriyou!C1417)","v":""},{"$f":"IF(syoriyou!D1417=\"\",\"\",syoriyou!D1417)","v":""},{"$f":"IF(syoriyou!E1417=\"\",\"\",syoriyou!E1417)","v":""},{"$f":"IF(syoriyou!F1417=\"\",\"\",syoriyou!F1417)","v":""},{"$f":"IF(syoriyou!G1417=\"\",\"\",syoriyou!G1417)","v":""},{"$f":"IF(syoriyou!H1417=\"\",\"\",syoriyou!H1417)","v":""},{"$f":"IF(syoriyou!I1417=\"\",\"\",syoriyou!I1417)","v":""},{"$f":"IF(syoriyou!J1417=\"\",\"\",syoriyou!N1417)","v":""}]
[{"$f":"IF(syoriyou!A1418=\"\",\"\",syoriyou!A1418)","v":""},{"$f":"IF(syoriyou!B1418=\"\",\"\",syoriyou!B1418)","v":""},{"$f":"IF(syoriyou!C1418=\"\",\"\",syoriyou!C1418)","v":""},{"$f":"IF(syoriyou!D1418=\"\",\"\",syoriyou!D1418)","v":""},{"$f":"IF(syoriyou!E1418=\"\",\"\",syoriyou!E1418)","v":""},{"$f":"IF(syoriyou!F1418=\"\",\"\",syoriyou!F1418)","v":""},{"$f":"IF(syoriyou!G1418=\"\",\"\",syoriyou!G1418)","v":""},{"$f":"IF(syoriyou!H1418=\"\",\"\",syoriyou!H1418)","v":""},{"$f":"IF(syoriyou!I1418=\"\",\"\",syoriyou!I1418)","v":""},{"$f":"IF(syoriyou!J1418=\"\",\"\",syoriyou!N1418)","v":""}]
[{"$f":"IF(syoriyou!A1419=\"\",\"\",syoriyou!A1419)","v":""},{"$f":"IF(syoriyou!B1419=\"\",\"\",syoriyou!B1419)","v":""},{"$f":"IF(syoriyou!C1419=\"\",\"\",syoriyou!C1419)","v":""},{"$f":"IF(syoriyou!D1419=\"\",\"\",syoriyou!D1419)","v":""},{"$f":"IF(syoriyou!E1419=\"\",\"\",syoriyou!E1419)","v":""},{"$f":"IF(syoriyou!F1419=\"\",\"\",syoriyou!F1419)","v":""},{"$f":"IF(syoriyou!G1419=\"\",\"\",syoriyou!G1419)","v":""},{"$f":"IF(syoriyou!H1419=\"\",\"\",syoriyou!H1419)","v":""},{"$f":"IF(syoriyou!I1419=\"\",\"\",syoriyou!I1419)","v":""},{"$f":"IF(syoriyou!J1419=\"\",\"\",syoriyou!N1419)","v":""}]
[{"$f":"IF(syoriyou!A1420=\"\",\"\",syoriyou!A1420)","v":""},{"$f":"IF(syoriyou!B1420=\"\",\"\",syoriyou!B1420)","v":""},{"$f":"IF(syoriyou!C1420=\"\",\"\",syoriyou!C1420)","v":""},{"$f":"IF(syoriyou!D1420=\"\",\"\",syoriyou!D1420)","v":""},{"$f":"IF(syoriyou!E1420=\"\",\"\",syoriyou!E1420)","v":""},{"$f":"IF(syoriyou!F1420=\"\",\"\",syoriyou!F1420)","v":""},{"$f":"IF(syoriyou!G1420=\"\",\"\",syoriyou!G1420)","v":""},{"$f":"IF(syoriyou!H1420=\"\",\"\",syoriyou!H1420)","v":""},{"$f":"IF(syoriyou!I1420=\"\",\"\",syoriyou!I1420)","v":""},{"$f":"IF(syoriyou!J1420=\"\",\"\",syoriyou!N1420)","v":""}]
[{"$f":"IF(syoriyou!A1421=\"\",\"\",syoriyou!A1421)","v":""},{"$f":"IF(syoriyou!B1421=\"\",\"\",syoriyou!B1421)","v":""},{"$f":"IF(syoriyou!C1421=\"\",\"\",syoriyou!C1421)","v":""},{"$f":"IF(syoriyou!D1421=\"\",\"\",syoriyou!D1421)","v":""},{"$f":"IF(syoriyou!E1421=\"\",\"\",syoriyou!E1421)","v":""},{"$f":"IF(syoriyou!F1421=\"\",\"\",syoriyou!F1421)","v":""},{"$f":"IF(syoriyou!G1421=\"\",\"\",syoriyou!G1421)","v":""},{"$f":"IF(syoriyou!H1421=\"\",\"\",syoriyou!H1421)","v":""},{"$f":"IF(syoriyou!I1421=\"\",\"\",syoriyou!I1421)","v":""},{"$f":"IF(syoriyou!J1421=\"\",\"\",syoriyou!N1421)","v":""}]
[{"$f":"IF(syoriyou!A1422=\"\",\"\",syoriyou!A1422)","v":""},{"$f":"IF(syoriyou!B1422=\"\",\"\",syoriyou!B1422)","v":""},{"$f":"IF(syoriyou!C1422=\"\",\"\",syoriyou!C1422)","v":""},{"$f":"IF(syoriyou!D1422=\"\",\"\",syoriyou!D1422)","v":""},{"$f":"IF(syoriyou!E1422=\"\",\"\",syoriyou!E1422)","v":""},{"$f":"IF(syoriyou!F1422=\"\",\"\",syoriyou!F1422)","v":""},{"$f":"IF(syoriyou!G1422=\"\",\"\",syoriyou!G1422)","v":""},{"$f":"IF(syoriyou!H1422=\"\",\"\",syoriyou!H1422)","v":""},{"$f":"IF(syoriyou!I1422=\"\",\"\",syoriyou!I1422)","v":""},{"$f":"IF(syoriyou!J1422=\"\",\"\",syoriyou!N1422)","v":""}]
[{"$f":"IF(syoriyou!A1423=\"\",\"\",syoriyou!A1423)","v":""},{"$f":"IF(syoriyou!B1423=\"\",\"\",syoriyou!B1423)","v":""},{"$f":"IF(syoriyou!C1423=\"\",\"\",syoriyou!C1423)","v":""},{"$f":"IF(syoriyou!D1423=\"\",\"\",syoriyou!D1423)","v":""},{"$f":"IF(syoriyou!E1423=\"\",\"\",syoriyou!E1423)","v":""},{"$f":"IF(syoriyou!F1423=\"\",\"\",syoriyou!F1423)","v":""},{"$f":"IF(syoriyou!G1423=\"\",\"\",syoriyou!G1423)","v":""},{"$f":"IF(syoriyou!H1423=\"\",\"\",syoriyou!H1423)","v":""},{"$f":"IF(syoriyou!I1423=\"\",\"\",syoriyou!I1423)","v":""},{"$f":"IF(syoriyou!J1423=\"\",\"\",syoriyou!N1423)","v":""}]
[{"$f":"IF(syoriyou!A1424=\"\",\"\",syoriyou!A1424)","v":""},{"$f":"IF(syoriyou!B1424=\"\",\"\",syoriyou!B1424)","v":""},{"$f":"IF(syoriyou!C1424=\"\",\"\",syoriyou!C1424)","v":""},{"$f":"IF(syoriyou!D1424=\"\",\"\",syoriyou!D1424)","v":""},{"$f":"IF(syoriyou!E1424=\"\",\"\",syoriyou!E1424)","v":""},{"$f":"IF(syoriyou!F1424=\"\",\"\",syoriyou!F1424)","v":""},{"$f":"IF(syoriyou!G1424=\"\",\"\",syoriyou!G1424)","v":""},{"$f":"IF(syoriyou!H1424=\"\",\"\",syoriyou!H1424)","v":""},{"$f":"IF(syoriyou!I1424=\"\",\"\",syoriyou!I1424)","v":""},{"$f":"IF(syoriyou!J1424=\"\",\"\",syoriyou!N1424)","v":""}]
[{"$f":"IF(syoriyou!A1425=\"\",\"\",syoriyou!A1425)","v":""},{"$f":"IF(syoriyou!B1425=\"\",\"\",syoriyou!B1425)","v":""},{"$f":"IF(syoriyou!C1425=\"\",\"\",syoriyou!C1425)","v":""},{"$f":"IF(syoriyou!D1425=\"\",\"\",syoriyou!D1425)","v":""},{"$f":"IF(syoriyou!E1425=\"\",\"\",syoriyou!E1425)","v":""},{"$f":"IF(syoriyou!F1425=\"\",\"\",syoriyou!F1425)","v":""},{"$f":"IF(syoriyou!G1425=\"\",\"\",syoriyou!G1425)","v":""},{"$f":"IF(syoriyou!H1425=\"\",\"\",syoriyou!H1425)","v":""},{"$f":"IF(syoriyou!I1425=\"\",\"\",syoriyou!I1425)","v":""},{"$f":"IF(syoriyou!J1425=\"\",\"\",syoriyou!N1425)","v":""}]
[{"$f":"IF(syoriyou!A1426=\"\",\"\",syoriyou!A1426)","v":""},{"$f":"IF(syoriyou!B1426=\"\",\"\",syoriyou!B1426)","v":""},{"$f":"IF(syoriyou!C1426=\"\",\"\",syoriyou!C1426)","v":""},{"$f":"IF(syoriyou!D1426=\"\",\"\",syoriyou!D1426)","v":""},{"$f":"IF(syoriyou!E1426=\"\",\"\",syoriyou!E1426)","v":""},{"$f":"IF(syoriyou!F1426=\"\",\"\",syoriyou!F1426)","v":""},{"$f":"IF(syoriyou!G1426=\"\",\"\",syoriyou!G1426)","v":""},{"$f":"IF(syoriyou!H1426=\"\",\"\",syoriyou!H1426)","v":""},{"$f":"IF(syoriyou!I1426=\"\",\"\",syoriyou!I1426)","v":""},{"$f":"IF(syoriyou!J1426=\"\",\"\",syoriyou!N1426)","v":""}]
[{"$f":"IF(syoriyou!A1427=\"\",\"\",syoriyou!A1427)","v":""},{"$f":"IF(syoriyou!B1427=\"\",\"\",syoriyou!B1427)","v":""},{"$f":"IF(syoriyou!C1427=\"\",\"\",syoriyou!C1427)","v":""},{"$f":"IF(syoriyou!D1427=\"\",\"\",syoriyou!D1427)","v":""},{"$f":"IF(syoriyou!E1427=\"\",\"\",syoriyou!E1427)","v":""},{"$f":"IF(syoriyou!F1427=\"\",\"\",syoriyou!F1427)","v":""},{"$f":"IF(syoriyou!G1427=\"\",\"\",syoriyou!G1427)","v":""},{"$f":"IF(syoriyou!H1427=\"\",\"\",syoriyou!H1427)","v":""},{"$f":"IF(syoriyou!I1427=\"\",\"\",syoriyou!I1427)","v":""},{"$f":"IF(syoriyou!J1427=\"\",\"\",syoriyou!N1427)","v":""}]
[{"$f":"IF(syoriyou!A1428=\"\",\"\",syoriyou!A1428)","v":""},{"$f":"IF(syoriyou!B1428=\"\",\"\",syoriyou!B1428)","v":""},{"$f":"IF(syoriyou!C1428=\"\",\"\",syoriyou!C1428)","v":""},{"$f":"IF(syoriyou!D1428=\"\",\"\",syoriyou!D1428)","v":""},{"$f":"IF(syoriyou!E1428=\"\",\"\",syoriyou!E1428)","v":""},{"$f":"IF(syoriyou!F1428=\"\",\"\",syoriyou!F1428)","v":""},{"$f":"IF(syoriyou!G1428=\"\",\"\",syoriyou!G1428)","v":""},{"$f":"IF(syoriyou!H1428=\"\",\"\",syoriyou!H1428)","v":""},{"$f":"IF(syoriyou!I1428=\"\",\"\",syoriyou!I1428)","v":""},{"$f":"IF(syoriyou!J1428=\"\",\"\",syoriyou!N1428)","v":""}]
[{"$f":"IF(syoriyou!A1429=\"\",\"\",syoriyou!A1429)","v":""},{"$f":"IF(syoriyou!B1429=\"\",\"\",syoriyou!B1429)","v":""},{"$f":"IF(syoriyou!C1429=\"\",\"\",syoriyou!C1429)","v":""},{"$f":"IF(syoriyou!D1429=\"\",\"\",syoriyou!D1429)","v":""},{"$f":"IF(syoriyou!E1429=\"\",\"\",syoriyou!E1429)","v":""},{"$f":"IF(syoriyou!F1429=\"\",\"\",syoriyou!F1429)","v":""},{"$f":"IF(syoriyou!G1429=\"\",\"\",syoriyou!G1429)","v":""},{"$f":"IF(syoriyou!H1429=\"\",\"\",syoriyou!H1429)","v":""},{"$f":"IF(syoriyou!I1429=\"\",\"\",syoriyou!I1429)","v":""},{"$f":"IF(syoriyou!J1429=\"\",\"\",syoriyou!N1429)","v":""}]
[{"$f":"IF(syoriyou!A1430=\"\",\"\",syoriyou!A1430)","v":""},{"$f":"IF(syoriyou!B1430=\"\",\"\",syoriyou!B1430)","v":""},{"$f":"IF(syoriyou!C1430=\"\",\"\",syoriyou!C1430)","v":""},{"$f":"IF(syoriyou!D1430=\"\",\"\",syoriyou!D1430)","v":""},{"$f":"IF(syoriyou!E1430=\"\",\"\",syoriyou!E1430)","v":""},{"$f":"IF(syoriyou!F1430=\"\",\"\",syoriyou!F1430)","v":""},{"$f":"IF(syoriyou!G1430=\"\",\"\",syoriyou!G1430)","v":""},{"$f":"IF(syoriyou!H1430=\"\",\"\",syoriyou!H1430)","v":""},{"$f":"IF(syoriyou!I1430=\"\",\"\",syoriyou!I1430)","v":""},{"$f":"IF(syoriyou!J1430=\"\",\"\",syoriyou!N1430)","v":""}]
[{"$f":"IF(syoriyou!A1431=\"\",\"\",syoriyou!A1431)","v":""},{"$f":"IF(syoriyou!B1431=\"\",\"\",syoriyou!B1431)","v":""},{"$f":"IF(syoriyou!C1431=\"\",\"\",syoriyou!C1431)","v":""},{"$f":"IF(syoriyou!D1431=\"\",\"\",syoriyou!D1431)","v":""},{"$f":"IF(syoriyou!E1431=\"\",\"\",syoriyou!E1431)","v":""},{"$f":"IF(syoriyou!F1431=\"\",\"\",syoriyou!F1431)","v":""},{"$f":"IF(syoriyou!G1431=\"\",\"\",syoriyou!G1431)","v":""},{"$f":"IF(syoriyou!H1431=\"\",\"\",syoriyou!H1431)","v":""},{"$f":"IF(syoriyou!I1431=\"\",\"\",syoriyou!I1431)","v":""},{"$f":"IF(syoriyou!J1431=\"\",\"\",syoriyou!N1431)","v":""}]
[{"$f":"IF(syoriyou!A1432=\"\",\"\",syoriyou!A1432)","v":""},{"$f":"IF(syoriyou!B1432=\"\",\"\",syoriyou!B1432)","v":""},{"$f":"IF(syoriyou!C1432=\"\",\"\",syoriyou!C1432)","v":""},{"$f":"IF(syoriyou!D1432=\"\",\"\",syoriyou!D1432)","v":""},{"$f":"IF(syoriyou!E1432=\"\",\"\",syoriyou!E1432)","v":""},{"$f":"IF(syoriyou!F1432=\"\",\"\",syoriyou!F1432)","v":""},{"$f":"IF(syoriyou!G1432=\"\",\"\",syoriyou!G1432)","v":""},{"$f":"IF(syoriyou!H1432=\"\",\"\",syoriyou!H1432)","v":""},{"$f":"IF(syoriyou!I1432=\"\",\"\",syoriyou!I1432)","v":""},{"$f":"IF(syoriyou!J1432=\"\",\"\",syoriyou!N1432)","v":""}]
[{"$f":"IF(syoriyou!A1433=\"\",\"\",syoriyou!A1433)","v":""},{"$f":"IF(syoriyou!B1433=\"\",\"\",syoriyou!B1433)","v":""},{"$f":"IF(syoriyou!C1433=\"\",\"\",syoriyou!C1433)","v":""},{"$f":"IF(syoriyou!D1433=\"\",\"\",syoriyou!D1433)","v":""},{"$f":"IF(syoriyou!E1433=\"\",\"\",syoriyou!E1433)","v":""},{"$f":"IF(syoriyou!F1433=\"\",\"\",syoriyou!F1433)","v":""},{"$f":"IF(syoriyou!G1433=\"\",\"\",syoriyou!G1433)","v":""},{"$f":"IF(syoriyou!H1433=\"\",\"\",syoriyou!H1433)","v":""},{"$f":"IF(syoriyou!I1433=\"\",\"\",syoriyou!I1433)","v":""},{"$f":"IF(syoriyou!J1433=\"\",\"\",syoriyou!N1433)","v":""}]
[{"$f":"IF(syoriyou!A1434=\"\",\"\",syoriyou!A1434)","v":""},{"$f":"IF(syoriyou!B1434=\"\",\"\",syoriyou!B1434)","v":""},{"$f":"IF(syoriyou!C1434=\"\",\"\",syoriyou!C1434)","v":""},{"$f":"IF(syoriyou!D1434=\"\",\"\",syoriyou!D1434)","v":""},{"$f":"IF(syoriyou!E1434=\"\",\"\",syoriyou!E1434)","v":""},{"$f":"IF(syoriyou!F1434=\"\",\"\",syoriyou!F1434)","v":""},{"$f":"IF(syoriyou!G1434=\"\",\"\",syoriyou!G1434)","v":""},{"$f":"IF(syoriyou!H1434=\"\",\"\",syoriyou!H1434)","v":""},{"$f":"IF(syoriyou!I1434=\"\",\"\",syoriyou!I1434)","v":""},{"$f":"IF(syoriyou!J1434=\"\",\"\",syoriyou!N1434)","v":""}]
[{"$f":"IF(syoriyou!A1435=\"\",\"\",syoriyou!A1435)","v":""},{"$f":"IF(syoriyou!B1435=\"\",\"\",syoriyou!B1435)","v":""},{"$f":"IF(syoriyou!C1435=\"\",\"\",syoriyou!C1435)","v":""},{"$f":"IF(syoriyou!D1435=\"\",\"\",syoriyou!D1435)","v":""},{"$f":"IF(syoriyou!E1435=\"\",\"\",syoriyou!E1435)","v":""},{"$f":"IF(syoriyou!F1435=\"\",\"\",syoriyou!F1435)","v":""},{"$f":"IF(syoriyou!G1435=\"\",\"\",syoriyou!G1435)","v":""},{"$f":"IF(syoriyou!H1435=\"\",\"\",syoriyou!H1435)","v":""},{"$f":"IF(syoriyou!I1435=\"\",\"\",syoriyou!I1435)","v":""},{"$f":"IF(syoriyou!J1435=\"\",\"\",syoriyou!N1435)","v":""}]
[{"$f":"IF(syoriyou!A1436=\"\",\"\",syoriyou!A1436)","v":""},{"$f":"IF(syoriyou!B1436=\"\",\"\",syoriyou!B1436)","v":""},{"$f":"IF(syoriyou!C1436=\"\",\"\",syoriyou!C1436)","v":""},{"$f":"IF(syoriyou!D1436=\"\",\"\",syoriyou!D1436)","v":""},{"$f":"IF(syoriyou!E1436=\"\",\"\",syoriyou!E1436)","v":""},{"$f":"IF(syoriyou!F1436=\"\",\"\",syoriyou!F1436)","v":""},{"$f":"IF(syoriyou!G1436=\"\",\"\",syoriyou!G1436)","v":""},{"$f":"IF(syoriyou!H1436=\"\",\"\",syoriyou!H1436)","v":""},{"$f":"IF(syoriyou!I1436=\"\",\"\",syoriyou!I1436)","v":""},{"$f":"IF(syoriyou!J1436=\"\",\"\",syoriyou!N1436)","v":""}]
[{"$f":"IF(syoriyou!A1437=\"\",\"\",syoriyou!A1437)","v":""},{"$f":"IF(syoriyou!B1437=\"\",\"\",syoriyou!B1437)","v":""},{"$f":"IF(syoriyou!C1437=\"\",\"\",syoriyou!C1437)","v":""},{"$f":"IF(syoriyou!D1437=\"\",\"\",syoriyou!D1437)","v":""},{"$f":"IF(syoriyou!E1437=\"\",\"\",syoriyou!E1437)","v":""},{"$f":"IF(syoriyou!F1437=\"\",\"\",syoriyou!F1437)","v":""},{"$f":"IF(syoriyou!G1437=\"\",\"\",syoriyou!G1437)","v":""},{"$f":"IF(syoriyou!H1437=\"\",\"\",syoriyou!H1437)","v":""},{"$f":"IF(syoriyou!I1437=\"\",\"\",syoriyou!I1437)","v":""},{"$f":"IF(syoriyou!J1437=\"\",\"\",syoriyou!N1437)","v":""}]
[{"$f":"IF(syoriyou!A1438=\"\",\"\",syoriyou!A1438)","v":""},{"$f":"IF(syoriyou!B1438=\"\",\"\",syoriyou!B1438)","v":""},{"$f":"IF(syoriyou!C1438=\"\",\"\",syoriyou!C1438)","v":""},{"$f":"IF(syoriyou!D1438=\"\",\"\",syoriyou!D1438)","v":""},{"$f":"IF(syoriyou!E1438=\"\",\"\",syoriyou!E1438)","v":""},{"$f":"IF(syoriyou!F1438=\"\",\"\",syoriyou!F1438)","v":""},{"$f":"IF(syoriyou!G1438=\"\",\"\",syoriyou!G1438)","v":""},{"$f":"IF(syoriyou!H1438=\"\",\"\",syoriyou!H1438)","v":""},{"$f":"IF(syoriyou!I1438=\"\",\"\",syoriyou!I1438)","v":""},{"$f":"IF(syoriyou!J1438=\"\",\"\",syoriyou!N1438)","v":""}]
[{"$f":"IF(syoriyou!A1439=\"\",\"\",syoriyou!A1439)","v":""},{"$f":"IF(syoriyou!B1439=\"\",\"\",syoriyou!B1439)","v":""},{"$f":"IF(syoriyou!C1439=\"\",\"\",syoriyou!C1439)","v":""},{"$f":"IF(syoriyou!D1439=\"\",\"\",syoriyou!D1439)","v":""},{"$f":"IF(syoriyou!E1439=\"\",\"\",syoriyou!E1439)","v":""},{"$f":"IF(syoriyou!F1439=\"\",\"\",syoriyou!F1439)","v":""},{"$f":"IF(syoriyou!G1439=\"\",\"\",syoriyou!G1439)","v":""},{"$f":"IF(syoriyou!H1439=\"\",\"\",syoriyou!H1439)","v":""},{"$f":"IF(syoriyou!I1439=\"\",\"\",syoriyou!I1439)","v":""},{"$f":"IF(syoriyou!J1439=\"\",\"\",syoriyou!N1439)","v":""}]
[{"$f":"IF(syoriyou!A1440=\"\",\"\",syoriyou!A1440)","v":""},{"$f":"IF(syoriyou!B1440=\"\",\"\",syoriyou!B1440)","v":""},{"$f":"IF(syoriyou!C1440=\"\",\"\",syoriyou!C1440)","v":""},{"$f":"IF(syoriyou!D1440=\"\",\"\",syoriyou!D1440)","v":""},{"$f":"IF(syoriyou!E1440=\"\",\"\",syoriyou!E1440)","v":""},{"$f":"IF(syoriyou!F1440=\"\",\"\",syoriyou!F1440)","v":""},{"$f":"IF(syoriyou!G1440=\"\",\"\",syoriyou!G1440)","v":""},{"$f":"IF(syoriyou!H1440=\"\",\"\",syoriyou!H1440)","v":""},{"$f":"IF(syoriyou!I1440=\"\",\"\",syoriyou!I1440)","v":""},{"$f":"IF(syoriyou!J1440=\"\",\"\",syoriyou!N1440)","v":""}]
[{"$f":"IF(syoriyou!A1441=\"\",\"\",syoriyou!A1441)","v":""},{"$f":"IF(syoriyou!B1441=\"\",\"\",syoriyou!B1441)","v":""},{"$f":"IF(syoriyou!C1441=\"\",\"\",syoriyou!C1441)","v":""},{"$f":"IF(syoriyou!D1441=\"\",\"\",syoriyou!D1441)","v":""},{"$f":"IF(syoriyou!E1441=\"\",\"\",syoriyou!E1441)","v":""},{"$f":"IF(syoriyou!F1441=\"\",\"\",syoriyou!F1441)","v":""},{"$f":"IF(syoriyou!G1441=\"\",\"\",syoriyou!G1441)","v":""},{"$f":"IF(syoriyou!H1441=\"\",\"\",syoriyou!H1441)","v":""},{"$f":"IF(syoriyou!I1441=\"\",\"\",syoriyou!I1441)","v":""},{"$f":"IF(syoriyou!J1441=\"\",\"\",syoriyou!N1441)","v":""}]
[{"$f":"IF(syoriyou!A1442=\"\",\"\",syoriyou!A1442)","v":""},{"$f":"IF(syoriyou!B1442=\"\",\"\",syoriyou!B1442)","v":""},{"$f":"IF(syoriyou!C1442=\"\",\"\",syoriyou!C1442)","v":""},{"$f":"IF(syoriyou!D1442=\"\",\"\",syoriyou!D1442)","v":""},{"$f":"IF(syoriyou!E1442=\"\",\"\",syoriyou!E1442)","v":""},{"$f":"IF(syoriyou!F1442=\"\",\"\",syoriyou!F1442)","v":""},{"$f":"IF(syoriyou!G1442=\"\",\"\",syoriyou!G1442)","v":""},{"$f":"IF(syoriyou!H1442=\"\",\"\",syoriyou!H1442)","v":""},{"$f":"IF(syoriyou!I1442=\"\",\"\",syoriyou!I1442)","v":""},{"$f":"IF(syoriyou!J1442=\"\",\"\",syoriyou!N1442)","v":""}]
[{"$f":"IF(syoriyou!A1443=\"\",\"\",syoriyou!A1443)","v":""},{"$f":"IF(syoriyou!B1443=\"\",\"\",syoriyou!B1443)","v":""},{"$f":"IF(syoriyou!C1443=\"\",\"\",syoriyou!C1443)","v":""},{"$f":"IF(syoriyou!D1443=\"\",\"\",syoriyou!D1443)","v":""},{"$f":"IF(syoriyou!E1443=\"\",\"\",syoriyou!E1443)","v":""},{"$f":"IF(syoriyou!F1443=\"\",\"\",syoriyou!F1443)","v":""},{"$f":"IF(syoriyou!G1443=\"\",\"\",syoriyou!G1443)","v":""},{"$f":"IF(syoriyou!H1443=\"\",\"\",syoriyou!H1443)","v":""},{"$f":"IF(syoriyou!I1443=\"\",\"\",syoriyou!I1443)","v":""},{"$f":"IF(syoriyou!J1443=\"\",\"\",syoriyou!N1443)","v":""}]
[{"$f":"IF(syoriyou!A1444=\"\",\"\",syoriyou!A1444)","v":""},{"$f":"IF(syoriyou!B1444=\"\",\"\",syoriyou!B1444)","v":""},{"$f":"IF(syoriyou!C1444=\"\",\"\",syoriyou!C1444)","v":""},{"$f":"IF(syoriyou!D1444=\"\",\"\",syoriyou!D1444)","v":""},{"$f":"IF(syoriyou!E1444=\"\",\"\",syoriyou!E1444)","v":""},{"$f":"IF(syoriyou!F1444=\"\",\"\",syoriyou!F1444)","v":""},{"$f":"IF(syoriyou!G1444=\"\",\"\",syoriyou!G1444)","v":""},{"$f":"IF(syoriyou!H1444=\"\",\"\",syoriyou!H1444)","v":""},{"$f":"IF(syoriyou!I1444=\"\",\"\",syoriyou!I1444)","v":""},{"$f":"IF(syoriyou!J1444=\"\",\"\",syoriyou!N1444)","v":""}]
[{"$f":"IF(syoriyou!A1445=\"\",\"\",syoriyou!A1445)","v":""},{"$f":"IF(syoriyou!B1445=\"\",\"\",syoriyou!B1445)","v":""},{"$f":"IF(syoriyou!C1445=\"\",\"\",syoriyou!C1445)","v":""},{"$f":"IF(syoriyou!D1445=\"\",\"\",syoriyou!D1445)","v":""},{"$f":"IF(syoriyou!E1445=\"\",\"\",syoriyou!E1445)","v":""},{"$f":"IF(syoriyou!F1445=\"\",\"\",syoriyou!F1445)","v":""},{"$f":"IF(syoriyou!G1445=\"\",\"\",syoriyou!G1445)","v":""},{"$f":"IF(syoriyou!H1445=\"\",\"\",syoriyou!H1445)","v":""},{"$f":"IF(syoriyou!I1445=\"\",\"\",syoriyou!I1445)","v":""},{"$f":"IF(syoriyou!J1445=\"\",\"\",syoriyou!N1445)","v":""}]
[{"$f":"IF(syoriyou!A1446=\"\",\"\",syoriyou!A1446)","v":""},{"$f":"IF(syoriyou!B1446=\"\",\"\",syoriyou!B1446)","v":""},{"$f":"IF(syoriyou!C1446=\"\",\"\",syoriyou!C1446)","v":""},{"$f":"IF(syoriyou!D1446=\"\",\"\",syoriyou!D1446)","v":""},{"$f":"IF(syoriyou!E1446=\"\",\"\",syoriyou!E1446)","v":""},{"$f":"IF(syoriyou!F1446=\"\",\"\",syoriyou!F1446)","v":""},{"$f":"IF(syoriyou!G1446=\"\",\"\",syoriyou!G1446)","v":""},{"$f":"IF(syoriyou!H1446=\"\",\"\",syoriyou!H1446)","v":""},{"$f":"IF(syoriyou!I1446=\"\",\"\",syoriyou!I1446)","v":""},{"$f":"IF(syoriyou!J1446=\"\",\"\",syoriyou!N1446)","v":""}]
[{"$f":"IF(syoriyou!A1447=\"\",\"\",syoriyou!A1447)","v":""},{"$f":"IF(syoriyou!B1447=\"\",\"\",syoriyou!B1447)","v":""},{"$f":"IF(syoriyou!C1447=\"\",\"\",syoriyou!C1447)","v":""},{"$f":"IF(syoriyou!D1447=\"\",\"\",syoriyou!D1447)","v":""},{"$f":"IF(syoriyou!E1447=\"\",\"\",syoriyou!E1447)","v":""},{"$f":"IF(syoriyou!F1447=\"\",\"\",syoriyou!F1447)","v":""},{"$f":"IF(syoriyou!G1447=\"\",\"\",syoriyou!G1447)","v":""},{"$f":"IF(syoriyou!H1447=\"\",\"\",syoriyou!H1447)","v":""},{"$f":"IF(syoriyou!I1447=\"\",\"\",syoriyou!I1447)","v":""},{"$f":"IF(syoriyou!J1447=\"\",\"\",syoriyou!N1447)","v":""}]
[{"$f":"IF(syoriyou!A1448=\"\",\"\",syoriyou!A1448)","v":""},{"$f":"IF(syoriyou!B1448=\"\",\"\",syoriyou!B1448)","v":""},{"$f":"IF(syoriyou!C1448=\"\",\"\",syoriyou!C1448)","v":""},{"$f":"IF(syoriyou!D1448=\"\",\"\",syoriyou!D1448)","v":""},{"$f":"IF(syoriyou!E1448=\"\",\"\",syoriyou!E1448)","v":""},{"$f":"IF(syoriyou!F1448=\"\",\"\",syoriyou!F1448)","v":""},{"$f":"IF(syoriyou!G1448=\"\",\"\",syoriyou!G1448)","v":""},{"$f":"IF(syoriyou!H1448=\"\",\"\",syoriyou!H1448)","v":""},{"$f":"IF(syoriyou!I1448=\"\",\"\",syoriyou!I1448)","v":""},{"$f":"IF(syoriyou!J1448=\"\",\"\",syoriyou!N1448)","v":""}]
[{"$f":"IF(syoriyou!A1449=\"\",\"\",syoriyou!A1449)","v":""},{"$f":"IF(syoriyou!B1449=\"\",\"\",syoriyou!B1449)","v":""},{"$f":"IF(syoriyou!C1449=\"\",\"\",syoriyou!C1449)","v":""},{"$f":"IF(syoriyou!D1449=\"\",\"\",syoriyou!D1449)","v":""},{"$f":"IF(syoriyou!E1449=\"\",\"\",syoriyou!E1449)","v":""},{"$f":"IF(syoriyou!F1449=\"\",\"\",syoriyou!F1449)","v":""},{"$f":"IF(syoriyou!G1449=\"\",\"\",syoriyou!G1449)","v":""},{"$f":"IF(syoriyou!H1449=\"\",\"\",syoriyou!H1449)","v":""},{"$f":"IF(syoriyou!I1449=\"\",\"\",syoriyou!I1449)","v":""},{"$f":"IF(syoriyou!J1449=\"\",\"\",syoriyou!N1449)","v":""}]
[{"$f":"IF(syoriyou!A1450=\"\",\"\",syoriyou!A1450)","v":""},{"$f":"IF(syoriyou!B1450=\"\",\"\",syoriyou!B1450)","v":""},{"$f":"IF(syoriyou!C1450=\"\",\"\",syoriyou!C1450)","v":""},{"$f":"IF(syoriyou!D1450=\"\",\"\",syoriyou!D1450)","v":""},{"$f":"IF(syoriyou!E1450=\"\",\"\",syoriyou!E1450)","v":""},{"$f":"IF(syoriyou!F1450=\"\",\"\",syoriyou!F1450)","v":""},{"$f":"IF(syoriyou!G1450=\"\",\"\",syoriyou!G1450)","v":""},{"$f":"IF(syoriyou!H1450=\"\",\"\",syoriyou!H1450)","v":""},{"$f":"IF(syoriyou!I1450=\"\",\"\",syoriyou!I1450)","v":""},{"$f":"IF(syoriyou!J1450=\"\",\"\",syoriyou!N1450)","v":""}]
[{"$f":"IF(syoriyou!A1451=\"\",\"\",syoriyou!A1451)","v":""},{"$f":"IF(syoriyou!B1451=\"\",\"\",syoriyou!B1451)","v":""},{"$f":"IF(syoriyou!C1451=\"\",\"\",syoriyou!C1451)","v":""},{"$f":"IF(syoriyou!D1451=\"\",\"\",syoriyou!D1451)","v":""},{"$f":"IF(syoriyou!E1451=\"\",\"\",syoriyou!E1451)","v":""},{"$f":"IF(syoriyou!F1451=\"\",\"\",syoriyou!F1451)","v":""},{"$f":"IF(syoriyou!G1451=\"\",\"\",syoriyou!G1451)","v":""},{"$f":"IF(syoriyou!H1451=\"\",\"\",syoriyou!H1451)","v":""},{"$f":"IF(syoriyou!I1451=\"\",\"\",syoriyou!I1451)","v":""},{"$f":"IF(syoriyou!J1451=\"\",\"\",syoriyou!N1451)","v":""}]
[{"$f":"IF(syoriyou!A1452=\"\",\"\",syoriyou!A1452)","v":""},{"$f":"IF(syoriyou!B1452=\"\",\"\",syoriyou!B1452)","v":""},{"$f":"IF(syoriyou!C1452=\"\",\"\",syoriyou!C1452)","v":""},{"$f":"IF(syoriyou!D1452=\"\",\"\",syoriyou!D1452)","v":""},{"$f":"IF(syoriyou!E1452=\"\",\"\",syoriyou!E1452)","v":""},{"$f":"IF(syoriyou!F1452=\"\",\"\",syoriyou!F1452)","v":""},{"$f":"IF(syoriyou!G1452=\"\",\"\",syoriyou!G1452)","v":""},{"$f":"IF(syoriyou!H1452=\"\",\"\",syoriyou!H1452)","v":""},{"$f":"IF(syoriyou!I1452=\"\",\"\",syoriyou!I1452)","v":""},{"$f":"IF(syoriyou!J1452=\"\",\"\",syoriyou!N1452)","v":""}]
[{"$f":"IF(syoriyou!A1453=\"\",\"\",syoriyou!A1453)","v":""},{"$f":"IF(syoriyou!B1453=\"\",\"\",syoriyou!B1453)","v":""},{"$f":"IF(syoriyou!C1453=\"\",\"\",syoriyou!C1453)","v":""},{"$f":"IF(syoriyou!D1453=\"\",\"\",syoriyou!D1453)","v":""},{"$f":"IF(syoriyou!E1453=\"\",\"\",syoriyou!E1453)","v":""},{"$f":"IF(syoriyou!F1453=\"\",\"\",syoriyou!F1453)","v":""},{"$f":"IF(syoriyou!G1453=\"\",\"\",syoriyou!G1453)","v":""},{"$f":"IF(syoriyou!H1453=\"\",\"\",syoriyou!H1453)","v":""},{"$f":"IF(syoriyou!I1453=\"\",\"\",syoriyou!I1453)","v":""},{"$f":"IF(syoriyou!J1453=\"\",\"\",syoriyou!N1453)","v":""}]
[{"$f":"IF(syoriyou!A1454=\"\",\"\",syoriyou!A1454)","v":""},{"$f":"IF(syoriyou!B1454=\"\",\"\",syoriyou!B1454)","v":""},{"$f":"IF(syoriyou!C1454=\"\",\"\",syoriyou!C1454)","v":""},{"$f":"IF(syoriyou!D1454=\"\",\"\",syoriyou!D1454)","v":""},{"$f":"IF(syoriyou!E1454=\"\",\"\",syoriyou!E1454)","v":""},{"$f":"IF(syoriyou!F1454=\"\",\"\",syoriyou!F1454)","v":""},{"$f":"IF(syoriyou!G1454=\"\",\"\",syoriyou!G1454)","v":""},{"$f":"IF(syoriyou!H1454=\"\",\"\",syoriyou!H1454)","v":""},{"$f":"IF(syoriyou!I1454=\"\",\"\",syoriyou!I1454)","v":""},{"$f":"IF(syoriyou!J1454=\"\",\"\",syoriyou!N1454)","v":""}]
[{"$f":"IF(syoriyou!A1455=\"\",\"\",syoriyou!A1455)","v":""},{"$f":"IF(syoriyou!B1455=\"\",\"\",syoriyou!B1455)","v":""},{"$f":"IF(syoriyou!C1455=\"\",\"\",syoriyou!C1455)","v":""},{"$f":"IF(syoriyou!D1455=\"\",\"\",syoriyou!D1455)","v":""},{"$f":"IF(syoriyou!E1455=\"\",\"\",syoriyou!E1455)","v":""},{"$f":"IF(syoriyou!F1455=\"\",\"\",syoriyou!F1455)","v":""},{"$f":"IF(syoriyou!G1455=\"\",\"\",syoriyou!G1455)","v":""},{"$f":"IF(syoriyou!H1455=\"\",\"\",syoriyou!H1455)","v":""},{"$f":"IF(syoriyou!I1455=\"\",\"\",syoriyou!I1455)","v":""},{"$f":"IF(syoriyou!J1455=\"\",\"\",syoriyou!N1455)","v":""}]
[{"$f":"IF(syoriyou!A1456=\"\",\"\",syoriyou!A1456)","v":""},{"$f":"IF(syoriyou!B1456=\"\",\"\",syoriyou!B1456)","v":""},{"$f":"IF(syoriyou!C1456=\"\",\"\",syoriyou!C1456)","v":""},{"$f":"IF(syoriyou!D1456=\"\",\"\",syoriyou!D1456)","v":""},{"$f":"IF(syoriyou!E1456=\"\",\"\",syoriyou!E1456)","v":""},{"$f":"IF(syoriyou!F1456=\"\",\"\",syoriyou!F1456)","v":""},{"$f":"IF(syoriyou!G1456=\"\",\"\",syoriyou!G1456)","v":""},{"$f":"IF(syoriyou!H1456=\"\",\"\",syoriyou!H1456)","v":""},{"$f":"IF(syoriyou!I1456=\"\",\"\",syoriyou!I1456)","v":""},{"$f":"IF(syoriyou!J1456=\"\",\"\",syoriyou!N1456)","v":""}]
[{"$f":"IF(syoriyou!A1457=\"\",\"\",syoriyou!A1457)","v":""},{"$f":"IF(syoriyou!B1457=\"\",\"\",syoriyou!B1457)","v":""},{"$f":"IF(syoriyou!C1457=\"\",\"\",syoriyou!C1457)","v":""},{"$f":"IF(syoriyou!D1457=\"\",\"\",syoriyou!D1457)","v":""},{"$f":"IF(syoriyou!E1457=\"\",\"\",syoriyou!E1457)","v":""},{"$f":"IF(syoriyou!F1457=\"\",\"\",syoriyou!F1457)","v":""},{"$f":"IF(syoriyou!G1457=\"\",\"\",syoriyou!G1457)","v":""},{"$f":"IF(syoriyou!H1457=\"\",\"\",syoriyou!H1457)","v":""},{"$f":"IF(syoriyou!I1457=\"\",\"\",syoriyou!I1457)","v":""},{"$f":"IF(syoriyou!J1457=\"\",\"\",syoriyou!N1457)","v":""}]
[{"$f":"IF(syoriyou!A1458=\"\",\"\",syoriyou!A1458)","v":""},{"$f":"IF(syoriyou!B1458=\"\",\"\",syoriyou!B1458)","v":""},{"$f":"IF(syoriyou!C1458=\"\",\"\",syoriyou!C1458)","v":""},{"$f":"IF(syoriyou!D1458=\"\",\"\",syoriyou!D1458)","v":""},{"$f":"IF(syoriyou!E1458=\"\",\"\",syoriyou!E1458)","v":""},{"$f":"IF(syoriyou!F1458=\"\",\"\",syoriyou!F1458)","v":""},{"$f":"IF(syoriyou!G1458=\"\",\"\",syoriyou!G1458)","v":""},{"$f":"IF(syoriyou!H1458=\"\",\"\",syoriyou!H1458)","v":""},{"$f":"IF(syoriyou!I1458=\"\",\"\",syoriyou!I1458)","v":""},{"$f":"IF(syoriyou!J1458=\"\",\"\",syoriyou!N1458)","v":""}]
[{"$f":"IF(syoriyou!A1459=\"\",\"\",syoriyou!A1459)","v":""},{"$f":"IF(syoriyou!B1459=\"\",\"\",syoriyou!B1459)","v":""},{"$f":"IF(syoriyou!C1459=\"\",\"\",syoriyou!C1459)","v":""},{"$f":"IF(syoriyou!D1459=\"\",\"\",syoriyou!D1459)","v":""},{"$f":"IF(syoriyou!E1459=\"\",\"\",syoriyou!E1459)","v":""},{"$f":"IF(syoriyou!F1459=\"\",\"\",syoriyou!F1459)","v":""},{"$f":"IF(syoriyou!G1459=\"\",\"\",syoriyou!G1459)","v":""},{"$f":"IF(syoriyou!H1459=\"\",\"\",syoriyou!H1459)","v":""},{"$f":"IF(syoriyou!I1459=\"\",\"\",syoriyou!I1459)","v":""},{"$f":"IF(syoriyou!J1459=\"\",\"\",syoriyou!N1459)","v":""}]
[{"$f":"IF(syoriyou!A1460=\"\",\"\",syoriyou!A1460)","v":""},{"$f":"IF(syoriyou!B1460=\"\",\"\",syoriyou!B1460)","v":""},{"$f":"IF(syoriyou!C1460=\"\",\"\",syoriyou!C1460)","v":""},{"$f":"IF(syoriyou!D1460=\"\",\"\",syoriyou!D1460)","v":""},{"$f":"IF(syoriyou!E1460=\"\",\"\",syoriyou!E1460)","v":""},{"$f":"IF(syoriyou!F1460=\"\",\"\",syoriyou!F1460)","v":""},{"$f":"IF(syoriyou!G1460=\"\",\"\",syoriyou!G1460)","v":""},{"$f":"IF(syoriyou!H1460=\"\",\"\",syoriyou!H1460)","v":""},{"$f":"IF(syoriyou!I1460=\"\",\"\",syoriyou!I1460)","v":""},{"$f":"IF(syoriyou!J1460=\"\",\"\",syoriyou!N1460)","v":""}]
[{"$f":"IF(syoriyou!A1461=\"\",\"\",syoriyou!A1461)","v":""},{"$f":"IF(syoriyou!B1461=\"\",\"\",syoriyou!B1461)","v":""},{"$f":"IF(syoriyou!C1461=\"\",\"\",syoriyou!C1461)","v":""},{"$f":"IF(syoriyou!D1461=\"\",\"\",syoriyou!D1461)","v":""},{"$f":"IF(syoriyou!E1461=\"\",\"\",syoriyou!E1461)","v":""},{"$f":"IF(syoriyou!F1461=\"\",\"\",syoriyou!F1461)","v":""},{"$f":"IF(syoriyou!G1461=\"\",\"\",syoriyou!G1461)","v":""},{"$f":"IF(syoriyou!H1461=\"\",\"\",syoriyou!H1461)","v":""},{"$f":"IF(syoriyou!I1461=\"\",\"\",syoriyou!I1461)","v":""},{"$f":"IF(syoriyou!J1461=\"\",\"\",syoriyou!N1461)","v":""}]
[{"$f":"IF(syoriyou!A1462=\"\",\"\",syoriyou!A1462)","v":""},{"$f":"IF(syoriyou!B1462=\"\",\"\",syoriyou!B1462)","v":""},{"$f":"IF(syoriyou!C1462=\"\",\"\",syoriyou!C1462)","v":""},{"$f":"IF(syoriyou!D1462=\"\",\"\",syoriyou!D1462)","v":""},{"$f":"IF(syoriyou!E1462=\"\",\"\",syoriyou!E1462)","v":""},{"$f":"IF(syoriyou!F1462=\"\",\"\",syoriyou!F1462)","v":""},{"$f":"IF(syoriyou!G1462=\"\",\"\",syoriyou!G1462)","v":""},{"$f":"IF(syoriyou!H1462=\"\",\"\",syoriyou!H1462)","v":""},{"$f":"IF(syoriyou!I1462=\"\",\"\",syoriyou!I1462)","v":""},{"$f":"IF(syoriyou!J1462=\"\",\"\",syoriyou!N1462)","v":""}]
[{"$f":"IF(syoriyou!A1463=\"\",\"\",syoriyou!A1463)","v":""},{"$f":"IF(syoriyou!B1463=\"\",\"\",syoriyou!B1463)","v":""},{"$f":"IF(syoriyou!C1463=\"\",\"\",syoriyou!C1463)","v":""},{"$f":"IF(syoriyou!D1463=\"\",\"\",syoriyou!D1463)","v":""},{"$f":"IF(syoriyou!E1463=\"\",\"\",syoriyou!E1463)","v":""},{"$f":"IF(syoriyou!F1463=\"\",\"\",syoriyou!F1463)","v":""},{"$f":"IF(syoriyou!G1463=\"\",\"\",syoriyou!G1463)","v":""},{"$f":"IF(syoriyou!H1463=\"\",\"\",syoriyou!H1463)","v":""},{"$f":"IF(syoriyou!I1463=\"\",\"\",syoriyou!I1463)","v":""},{"$f":"IF(syoriyou!J1463=\"\",\"\",syoriyou!N1463)","v":""}]
[{"$f":"IF(syoriyou!A1464=\"\",\"\",syoriyou!A1464)","v":""},{"$f":"IF(syoriyou!B1464=\"\",\"\",syoriyou!B1464)","v":""},{"$f":"IF(syoriyou!C1464=\"\",\"\",syoriyou!C1464)","v":""},{"$f":"IF(syoriyou!D1464=\"\",\"\",syoriyou!D1464)","v":""},{"$f":"IF(syoriyou!E1464=\"\",\"\",syoriyou!E1464)","v":""},{"$f":"IF(syoriyou!F1464=\"\",\"\",syoriyou!F1464)","v":""},{"$f":"IF(syoriyou!G1464=\"\",\"\",syoriyou!G1464)","v":""},{"$f":"IF(syoriyou!H1464=\"\",\"\",syoriyou!H1464)","v":""},{"$f":"IF(syoriyou!I1464=\"\",\"\",syoriyou!I1464)","v":""},{"$f":"IF(syoriyou!J1464=\"\",\"\",syoriyou!N1464)","v":""}]
[{"$f":"IF(syoriyou!A1465=\"\",\"\",syoriyou!A1465)","v":""},{"$f":"IF(syoriyou!B1465=\"\",\"\",syoriyou!B1465)","v":""},{"$f":"IF(syoriyou!C1465=\"\",\"\",syoriyou!C1465)","v":""},{"$f":"IF(syoriyou!D1465=\"\",\"\",syoriyou!D1465)","v":""},{"$f":"IF(syoriyou!E1465=\"\",\"\",syoriyou!E1465)","v":""},{"$f":"IF(syoriyou!F1465=\"\",\"\",syoriyou!F1465)","v":""},{"$f":"IF(syoriyou!G1465=\"\",\"\",syoriyou!G1465)","v":""},{"$f":"IF(syoriyou!H1465=\"\",\"\",syoriyou!H1465)","v":""},{"$f":"IF(syoriyou!I1465=\"\",\"\",syoriyou!I1465)","v":""},{"$f":"IF(syoriyou!J1465=\"\",\"\",syoriyou!N1465)","v":""}]
[{"$f":"IF(syoriyou!A1466=\"\",\"\",syoriyou!A1466)","v":""},{"$f":"IF(syoriyou!B1466=\"\",\"\",syoriyou!B1466)","v":""},{"$f":"IF(syoriyou!C1466=\"\",\"\",syoriyou!C1466)","v":""},{"$f":"IF(syoriyou!D1466=\"\",\"\",syoriyou!D1466)","v":""},{"$f":"IF(syoriyou!E1466=\"\",\"\",syoriyou!E1466)","v":""},{"$f":"IF(syoriyou!F1466=\"\",\"\",syoriyou!F1466)","v":""},{"$f":"IF(syoriyou!G1466=\"\",\"\",syoriyou!G1466)","v":""},{"$f":"IF(syoriyou!H1466=\"\",\"\",syoriyou!H1466)","v":""},{"$f":"IF(syoriyou!I1466=\"\",\"\",syoriyou!I1466)","v":""},{"$f":"IF(syoriyou!J1466=\"\",\"\",syoriyou!N1466)","v":""}]
[{"$f":"IF(syoriyou!A1467=\"\",\"\",syoriyou!A1467)","v":""},{"$f":"IF(syoriyou!B1467=\"\",\"\",syoriyou!B1467)","v":""},{"$f":"IF(syoriyou!C1467=\"\",\"\",syoriyou!C1467)","v":""},{"$f":"IF(syoriyou!D1467=\"\",\"\",syoriyou!D1467)","v":""},{"$f":"IF(syoriyou!E1467=\"\",\"\",syoriyou!E1467)","v":""},{"$f":"IF(syoriyou!F1467=\"\",\"\",syoriyou!F1467)","v":""},{"$f":"IF(syoriyou!G1467=\"\",\"\",syoriyou!G1467)","v":""},{"$f":"IF(syoriyou!H1467=\"\",\"\",syoriyou!H1467)","v":""},{"$f":"IF(syoriyou!I1467=\"\",\"\",syoriyou!I1467)","v":""},{"$f":"IF(syoriyou!J1467=\"\",\"\",syoriyou!N1467)","v":""}]
[{"$f":"IF(syoriyou!A1468=\"\",\"\",syoriyou!A1468)","v":""},{"$f":"IF(syoriyou!B1468=\"\",\"\",syoriyou!B1468)","v":""},{"$f":"IF(syoriyou!C1468=\"\",\"\",syoriyou!C1468)","v":""},{"$f":"IF(syoriyou!D1468=\"\",\"\",syoriyou!D1468)","v":""},{"$f":"IF(syoriyou!E1468=\"\",\"\",syoriyou!E1468)","v":""},{"$f":"IF(syoriyou!F1468=\"\",\"\",syoriyou!F1468)","v":""},{"$f":"IF(syoriyou!G1468=\"\",\"\",syoriyou!G1468)","v":""},{"$f":"IF(syoriyou!H1468=\"\",\"\",syoriyou!H1468)","v":""},{"$f":"IF(syoriyou!I1468=\"\",\"\",syoriyou!I1468)","v":""},{"$f":"IF(syoriyou!J1468=\"\",\"\",syoriyou!N1468)","v":""}]
[{"$f":"IF(syoriyou!A1469=\"\",\"\",syoriyou!A1469)","v":""},{"$f":"IF(syoriyou!B1469=\"\",\"\",syoriyou!B1469)","v":""},{"$f":"IF(syoriyou!C1469=\"\",\"\",syoriyou!C1469)","v":""},{"$f":"IF(syoriyou!D1469=\"\",\"\",syoriyou!D1469)","v":""},{"$f":"IF(syoriyou!E1469=\"\",\"\",syoriyou!E1469)","v":""},{"$f":"IF(syoriyou!F1469=\"\",\"\",syoriyou!F1469)","v":""},{"$f":"IF(syoriyou!G1469=\"\",\"\",syoriyou!G1469)","v":""},{"$f":"IF(syoriyou!H1469=\"\",\"\",syoriyou!H1469)","v":""},{"$f":"IF(syoriyou!I1469=\"\",\"\",syoriyou!I1469)","v":""},{"$f":"IF(syoriyou!J1469=\"\",\"\",syoriyou!N1469)","v":""}]
[{"$f":"IF(syoriyou!A1470=\"\",\"\",syoriyou!A1470)","v":""},{"$f":"IF(syoriyou!B1470=\"\",\"\",syoriyou!B1470)","v":""},{"$f":"IF(syoriyou!C1470=\"\",\"\",syoriyou!C1470)","v":""},{"$f":"IF(syoriyou!D1470=\"\",\"\",syoriyou!D1470)","v":""},{"$f":"IF(syoriyou!E1470=\"\",\"\",syoriyou!E1470)","v":""},{"$f":"IF(syoriyou!F1470=\"\",\"\",syoriyou!F1470)","v":""},{"$f":"IF(syoriyou!G1470=\"\",\"\",syoriyou!G1470)","v":""},{"$f":"IF(syoriyou!H1470=\"\",\"\",syoriyou!H1470)","v":""},{"$f":"IF(syoriyou!I1470=\"\",\"\",syoriyou!I1470)","v":""},{"$f":"IF(syoriyou!J1470=\"\",\"\",syoriyou!N1470)","v":""}]
[{"$f":"IF(syoriyou!A1471=\"\",\"\",syoriyou!A1471)","v":""},{"$f":"IF(syoriyou!B1471=\"\",\"\",syoriyou!B1471)","v":""},{"$f":"IF(syoriyou!C1471=\"\",\"\",syoriyou!C1471)","v":""},{"$f":"IF(syoriyou!D1471=\"\",\"\",syoriyou!D1471)","v":""},{"$f":"IF(syoriyou!E1471=\"\",\"\",syoriyou!E1471)","v":""},{"$f":"IF(syoriyou!F1471=\"\",\"\",syoriyou!F1471)","v":""},{"$f":"IF(syoriyou!G1471=\"\",\"\",syoriyou!G1471)","v":""},{"$f":"IF(syoriyou!H1471=\"\",\"\",syoriyou!H1471)","v":""},{"$f":"IF(syoriyou!I1471=\"\",\"\",syoriyou!I1471)","v":""},{"$f":"IF(syoriyou!J1471=\"\",\"\",syoriyou!N1471)","v":""}]
[{"$f":"IF(syoriyou!A1472=\"\",\"\",syoriyou!A1472)","v":""},{"$f":"IF(syoriyou!B1472=\"\",\"\",syoriyou!B1472)","v":""},{"$f":"IF(syoriyou!C1472=\"\",\"\",syoriyou!C1472)","v":""},{"$f":"IF(syoriyou!D1472=\"\",\"\",syoriyou!D1472)","v":""},{"$f":"IF(syoriyou!E1472=\"\",\"\",syoriyou!E1472)","v":""},{"$f":"IF(syoriyou!F1472=\"\",\"\",syoriyou!F1472)","v":""},{"$f":"IF(syoriyou!G1472=\"\",\"\",syoriyou!G1472)","v":""},{"$f":"IF(syoriyou!H1472=\"\",\"\",syoriyou!H1472)","v":""},{"$f":"IF(syoriyou!I1472=\"\",\"\",syoriyou!I1472)","v":""},{"$f":"IF(syoriyou!J1472=\"\",\"\",syoriyou!N1472)","v":""}]
[{"$f":"IF(syoriyou!A1473=\"\",\"\",syoriyou!A1473)","v":""},{"$f":"IF(syoriyou!B1473=\"\",\"\",syoriyou!B1473)","v":""},{"$f":"IF(syoriyou!C1473=\"\",\"\",syoriyou!C1473)","v":""},{"$f":"IF(syoriyou!D1473=\"\",\"\",syoriyou!D1473)","v":""},{"$f":"IF(syoriyou!E1473=\"\",\"\",syoriyou!E1473)","v":""},{"$f":"IF(syoriyou!F1473=\"\",\"\",syoriyou!F1473)","v":""},{"$f":"IF(syoriyou!G1473=\"\",\"\",syoriyou!G1473)","v":""},{"$f":"IF(syoriyou!H1473=\"\",\"\",syoriyou!H1473)","v":""},{"$f":"IF(syoriyou!I1473=\"\",\"\",syoriyou!I1473)","v":""},{"$f":"IF(syoriyou!J1473=\"\",\"\",syoriyou!N1473)","v":""}]
[{"$f":"IF(syoriyou!A1474=\"\",\"\",syoriyou!A1474)","v":""},{"$f":"IF(syoriyou!B1474=\"\",\"\",syoriyou!B1474)","v":""},{"$f":"IF(syoriyou!C1474=\"\",\"\",syoriyou!C1474)","v":""},{"$f":"IF(syoriyou!D1474=\"\",\"\",syoriyou!D1474)","v":""},{"$f":"IF(syoriyou!E1474=\"\",\"\",syoriyou!E1474)","v":""},{"$f":"IF(syoriyou!F1474=\"\",\"\",syoriyou!F1474)","v":""},{"$f":"IF(syoriyou!G1474=\"\",\"\",syoriyou!G1474)","v":""},{"$f":"IF(syoriyou!H1474=\"\",\"\",syoriyou!H1474)","v":""},{"$f":"IF(syoriyou!I1474=\"\",\"\",syoriyou!I1474)","v":""},{"$f":"IF(syoriyou!J1474=\"\",\"\",syoriyou!N1474)","v":""}]
[{"$f":"IF(syoriyou!A1475=\"\",\"\",syoriyou!A1475)","v":""},{"$f":"IF(syoriyou!B1475=\"\",\"\",syoriyou!B1475)","v":""},{"$f":"IF(syoriyou!C1475=\"\",\"\",syoriyou!C1475)","v":""},{"$f":"IF(syoriyou!D1475=\"\",\"\",syoriyou!D1475)","v":""},{"$f":"IF(syoriyou!E1475=\"\",\"\",syoriyou!E1475)","v":""},{"$f":"IF(syoriyou!F1475=\"\",\"\",syoriyou!F1475)","v":""},{"$f":"IF(syoriyou!G1475=\"\",\"\",syoriyou!G1475)","v":""},{"$f":"IF(syoriyou!H1475=\"\",\"\",syoriyou!H1475)","v":""},{"$f":"IF(syoriyou!I1475=\"\",\"\",syoriyou!I1475)","v":""},{"$f":"IF(syoriyou!J1475=\"\",\"\",syoriyou!N1475)","v":""}]
[{"$f":"IF(syoriyou!A1476=\"\",\"\",syoriyou!A1476)","v":""},{"$f":"IF(syoriyou!B1476=\"\",\"\",syoriyou!B1476)","v":""},{"$f":"IF(syoriyou!C1476=\"\",\"\",syoriyou!C1476)","v":""},{"$f":"IF(syoriyou!D1476=\"\",\"\",syoriyou!D1476)","v":""},{"$f":"IF(syoriyou!E1476=\"\",\"\",syoriyou!E1476)","v":""},{"$f":"IF(syoriyou!F1476=\"\",\"\",syoriyou!F1476)","v":""},{"$f":"IF(syoriyou!G1476=\"\",\"\",syoriyou!G1476)","v":""},{"$f":"IF(syoriyou!H1476=\"\",\"\",syoriyou!H1476)","v":""},{"$f":"IF(syoriyou!I1476=\"\",\"\",syoriyou!I1476)","v":""},{"$f":"IF(syoriyou!J1476=\"\",\"\",syoriyou!N1476)","v":""}]
[{"$f":"IF(syoriyou!A1477=\"\",\"\",syoriyou!A1477)","v":""},{"$f":"IF(syoriyou!B1477=\"\",\"\",syoriyou!B1477)","v":""},{"$f":"IF(syoriyou!C1477=\"\",\"\",syoriyou!C1477)","v":""},{"$f":"IF(syoriyou!D1477=\"\",\"\",syoriyou!D1477)","v":""},{"$f":"IF(syoriyou!E1477=\"\",\"\",syoriyou!E1477)","v":""},{"$f":"IF(syoriyou!F1477=\"\",\"\",syoriyou!F1477)","v":""},{"$f":"IF(syoriyou!G1477=\"\",\"\",syoriyou!G1477)","v":""},{"$f":"IF(syoriyou!H1477=\"\",\"\",syoriyou!H1477)","v":""},{"$f":"IF(syoriyou!I1477=\"\",\"\",syoriyou!I1477)","v":""},{"$f":"IF(syoriyou!J1477=\"\",\"\",syoriyou!N1477)","v":""}]
[{"$f":"IF(syoriyou!A1478=\"\",\"\",syoriyou!A1478)","v":""},{"$f":"IF(syoriyou!B1478=\"\",\"\",syoriyou!B1478)","v":""},{"$f":"IF(syoriyou!C1478=\"\",\"\",syoriyou!C1478)","v":""},{"$f":"IF(syoriyou!D1478=\"\",\"\",syoriyou!D1478)","v":""},{"$f":"IF(syoriyou!E1478=\"\",\"\",syoriyou!E1478)","v":""},{"$f":"IF(syoriyou!F1478=\"\",\"\",syoriyou!F1478)","v":""},{"$f":"IF(syoriyou!G1478=\"\",\"\",syoriyou!G1478)","v":""},{"$f":"IF(syoriyou!H1478=\"\",\"\",syoriyou!H1478)","v":""},{"$f":"IF(syoriyou!I1478=\"\",\"\",syoriyou!I1478)","v":""},{"$f":"IF(syoriyou!J1478=\"\",\"\",syoriyou!N1478)","v":""}]
[{"$f":"IF(syoriyou!A1479=\"\",\"\",syoriyou!A1479)","v":""},{"$f":"IF(syoriyou!B1479=\"\",\"\",syoriyou!B1479)","v":""},{"$f":"IF(syoriyou!C1479=\"\",\"\",syoriyou!C1479)","v":""},{"$f":"IF(syoriyou!D1479=\"\",\"\",syoriyou!D1479)","v":""},{"$f":"IF(syoriyou!E1479=\"\",\"\",syoriyou!E1479)","v":""},{"$f":"IF(syoriyou!F1479=\"\",\"\",syoriyou!F1479)","v":""},{"$f":"IF(syoriyou!G1479=\"\",\"\",syoriyou!G1479)","v":""},{"$f":"IF(syoriyou!H1479=\"\",\"\",syoriyou!H1479)","v":""},{"$f":"IF(syoriyou!I1479=\"\",\"\",syoriyou!I1479)","v":""},{"$f":"IF(syoriyou!J1479=\"\",\"\",syoriyou!N1479)","v":""}]
[{"$f":"IF(syoriyou!A1480=\"\",\"\",syoriyou!A1480)","v":""},{"$f":"IF(syoriyou!B1480=\"\",\"\",syoriyou!B1480)","v":""},{"$f":"IF(syoriyou!C1480=\"\",\"\",syoriyou!C1480)","v":""},{"$f":"IF(syoriyou!D1480=\"\",\"\",syoriyou!D1480)","v":""},{"$f":"IF(syoriyou!E1480=\"\",\"\",syoriyou!E1480)","v":""},{"$f":"IF(syoriyou!F1480=\"\",\"\",syoriyou!F1480)","v":""},{"$f":"IF(syoriyou!G1480=\"\",\"\",syoriyou!G1480)","v":""},{"$f":"IF(syoriyou!H1480=\"\",\"\",syoriyou!H1480)","v":""},{"$f":"IF(syoriyou!I1480=\"\",\"\",syoriyou!I1480)","v":""},{"$f":"IF(syoriyou!J1480=\"\",\"\",syoriyou!N1480)","v":""}]
[{"$f":"IF(syoriyou!A1481=\"\",\"\",syoriyou!A1481)","v":""},{"$f":"IF(syoriyou!B1481=\"\",\"\",syoriyou!B1481)","v":""},{"$f":"IF(syoriyou!C1481=\"\",\"\",syoriyou!C1481)","v":""},{"$f":"IF(syoriyou!D1481=\"\",\"\",syoriyou!D1481)","v":""},{"$f":"IF(syoriyou!E1481=\"\",\"\",syoriyou!E1481)","v":""},{"$f":"IF(syoriyou!F1481=\"\",\"\",syoriyou!F1481)","v":""},{"$f":"IF(syoriyou!G1481=\"\",\"\",syoriyou!G1481)","v":""},{"$f":"IF(syoriyou!H1481=\"\",\"\",syoriyou!H1481)","v":""},{"$f":"IF(syoriyou!I1481=\"\",\"\",syoriyou!I1481)","v":""},{"$f":"IF(syoriyou!J1481=\"\",\"\",syoriyou!N1481)","v":""}]
[{"$f":"IF(syoriyou!A1482=\"\",\"\",syoriyou!A1482)","v":""},{"$f":"IF(syoriyou!B1482=\"\",\"\",syoriyou!B1482)","v":""},{"$f":"IF(syoriyou!C1482=\"\",\"\",syoriyou!C1482)","v":""},{"$f":"IF(syoriyou!D1482=\"\",\"\",syoriyou!D1482)","v":""},{"$f":"IF(syoriyou!E1482=\"\",\"\",syoriyou!E1482)","v":""},{"$f":"IF(syoriyou!F1482=\"\",\"\",syoriyou!F1482)","v":""},{"$f":"IF(syoriyou!G1482=\"\",\"\",syoriyou!G1482)","v":""},{"$f":"IF(syoriyou!H1482=\"\",\"\",syoriyou!H1482)","v":""},{"$f":"IF(syoriyou!I1482=\"\",\"\",syoriyou!I1482)","v":""},{"$f":"IF(syoriyou!J1482=\"\",\"\",syoriyou!N1482)","v":""}]
[{"$f":"IF(syoriyou!A1483=\"\",\"\",syoriyou!A1483)","v":""},{"$f":"IF(syoriyou!B1483=\"\",\"\",syoriyou!B1483)","v":""},{"$f":"IF(syoriyou!C1483=\"\",\"\",syoriyou!C1483)","v":""},{"$f":"IF(syoriyou!D1483=\"\",\"\",syoriyou!D1483)","v":""},{"$f":"IF(syoriyou!E1483=\"\",\"\",syoriyou!E1483)","v":""},{"$f":"IF(syoriyou!F1483=\"\",\"\",syoriyou!F1483)","v":""},{"$f":"IF(syoriyou!G1483=\"\",\"\",syoriyou!G1483)","v":""},{"$f":"IF(syoriyou!H1483=\"\",\"\",syoriyou!H1483)","v":""},{"$f":"IF(syoriyou!I1483=\"\",\"\",syoriyou!I1483)","v":""},{"$f":"IF(syoriyou!J1483=\"\",\"\",syoriyou!N1483)","v":""}]
[{"$f":"IF(syoriyou!A1484=\"\",\"\",syoriyou!A1484)","v":""},{"$f":"IF(syoriyou!B1484=\"\",\"\",syoriyou!B1484)","v":""},{"$f":"IF(syoriyou!C1484=\"\",\"\",syoriyou!C1484)","v":""},{"$f":"IF(syoriyou!D1484=\"\",\"\",syoriyou!D1484)","v":""},{"$f":"IF(syoriyou!E1484=\"\",\"\",syoriyou!E1484)","v":""},{"$f":"IF(syoriyou!F1484=\"\",\"\",syoriyou!F1484)","v":""},{"$f":"IF(syoriyou!G1484=\"\",\"\",syoriyou!G1484)","v":""},{"$f":"IF(syoriyou!H1484=\"\",\"\",syoriyou!H1484)","v":""},{"$f":"IF(syoriyou!I1484=\"\",\"\",syoriyou!I1484)","v":""},{"$f":"IF(syoriyou!J1484=\"\",\"\",syoriyou!N1484)","v":""}]
[{"$f":"IF(syoriyou!A1485=\"\",\"\",syoriyou!A1485)","v":""},{"$f":"IF(syoriyou!B1485=\"\",\"\",syoriyou!B1485)","v":""},{"$f":"IF(syoriyou!C1485=\"\",\"\",syoriyou!C1485)","v":""},{"$f":"IF(syoriyou!D1485=\"\",\"\",syoriyou!D1485)","v":""},{"$f":"IF(syoriyou!E1485=\"\",\"\",syoriyou!E1485)","v":""},{"$f":"IF(syoriyou!F1485=\"\",\"\",syoriyou!F1485)","v":""},{"$f":"IF(syoriyou!G1485=\"\",\"\",syoriyou!G1485)","v":""},{"$f":"IF(syoriyou!H1485=\"\",\"\",syoriyou!H1485)","v":""},{"$f":"IF(syoriyou!I1485=\"\",\"\",syoriyou!I1485)","v":""},{"$f":"IF(syoriyou!J1485=\"\",\"\",syoriyou!N1485)","v":""}]
[{"$f":"IF(syoriyou!A1486=\"\",\"\",syoriyou!A1486)","v":""},{"$f":"IF(syoriyou!B1486=\"\",\"\",syoriyou!B1486)","v":""},{"$f":"IF(syoriyou!C1486=\"\",\"\",syoriyou!C1486)","v":""},{"$f":"IF(syoriyou!D1486=\"\",\"\",syoriyou!D1486)","v":""},{"$f":"IF(syoriyou!E1486=\"\",\"\",syoriyou!E1486)","v":""},{"$f":"IF(syoriyou!F1486=\"\",\"\",syoriyou!F1486)","v":""},{"$f":"IF(syoriyou!G1486=\"\",\"\",syoriyou!G1486)","v":""},{"$f":"IF(syoriyou!H1486=\"\",\"\",syoriyou!H1486)","v":""},{"$f":"IF(syoriyou!I1486=\"\",\"\",syoriyou!I1486)","v":""},{"$f":"IF(syoriyou!J1486=\"\",\"\",syoriyou!N1486)","v":""}]
[{"$f":"IF(syoriyou!A1487=\"\",\"\",syoriyou!A1487)","v":""},{"$f":"IF(syoriyou!B1487=\"\",\"\",syoriyou!B1487)","v":""},{"$f":"IF(syoriyou!C1487=\"\",\"\",syoriyou!C1487)","v":""},{"$f":"IF(syoriyou!D1487=\"\",\"\",syoriyou!D1487)","v":""},{"$f":"IF(syoriyou!E1487=\"\",\"\",syoriyou!E1487)","v":""},{"$f":"IF(syoriyou!F1487=\"\",\"\",syoriyou!F1487)","v":""},{"$f":"IF(syoriyou!G1487=\"\",\"\",syoriyou!G1487)","v":""},{"$f":"IF(syoriyou!H1487=\"\",\"\",syoriyou!H1487)","v":""},{"$f":"IF(syoriyou!I1487=\"\",\"\",syoriyou!I1487)","v":""},{"$f":"IF(syoriyou!J1487=\"\",\"\",syoriyou!N1487)","v":""}]
[{"$f":"IF(syoriyou!A1488=\"\",\"\",syoriyou!A1488)","v":""},{"$f":"IF(syoriyou!B1488=\"\",\"\",syoriyou!B1488)","v":""},{"$f":"IF(syoriyou!C1488=\"\",\"\",syoriyou!C1488)","v":""},{"$f":"IF(syoriyou!D1488=\"\",\"\",syoriyou!D1488)","v":""},{"$f":"IF(syoriyou!E1488=\"\",\"\",syoriyou!E1488)","v":""},{"$f":"IF(syoriyou!F1488=\"\",\"\",syoriyou!F1488)","v":""},{"$f":"IF(syoriyou!G1488=\"\",\"\",syoriyou!G1488)","v":""},{"$f":"IF(syoriyou!H1488=\"\",\"\",syoriyou!H1488)","v":""},{"$f":"IF(syoriyou!I1488=\"\",\"\",syoriyou!I1488)","v":""},{"$f":"IF(syoriyou!J1488=\"\",\"\",syoriyou!N1488)","v":""}]
[{"$f":"IF(syoriyou!A1489=\"\",\"\",syoriyou!A1489)","v":""},{"$f":"IF(syoriyou!B1489=\"\",\"\",syoriyou!B1489)","v":""},{"$f":"IF(syoriyou!C1489=\"\",\"\",syoriyou!C1489)","v":""},{"$f":"IF(syoriyou!D1489=\"\",\"\",syoriyou!D1489)","v":""},{"$f":"IF(syoriyou!E1489=\"\",\"\",syoriyou!E1489)","v":""},{"$f":"IF(syoriyou!F1489=\"\",\"\",syoriyou!F1489)","v":""},{"$f":"IF(syoriyou!G1489=\"\",\"\",syoriyou!G1489)","v":""},{"$f":"IF(syoriyou!H1489=\"\",\"\",syoriyou!H1489)","v":""},{"$f":"IF(syoriyou!I1489=\"\",\"\",syoriyou!I1489)","v":""},{"$f":"IF(syoriyou!J1489=\"\",\"\",syoriyou!N1489)","v":""}]
[{"$f":"IF(syoriyou!A1490=\"\",\"\",syoriyou!A1490)","v":""},{"$f":"IF(syoriyou!B1490=\"\",\"\",syoriyou!B1490)","v":""},{"$f":"IF(syoriyou!C1490=\"\",\"\",syoriyou!C1490)","v":""},{"$f":"IF(syoriyou!D1490=\"\",\"\",syoriyou!D1490)","v":""},{"$f":"IF(syoriyou!E1490=\"\",\"\",syoriyou!E1490)","v":""},{"$f":"IF(syoriyou!F1490=\"\",\"\",syoriyou!F1490)","v":""},{"$f":"IF(syoriyou!G1490=\"\",\"\",syoriyou!G1490)","v":""},{"$f":"IF(syoriyou!H1490=\"\",\"\",syoriyou!H1490)","v":""},{"$f":"IF(syoriyou!I1490=\"\",\"\",syoriyou!I1490)","v":""},{"$f":"IF(syoriyou!J1490=\"\",\"\",syoriyou!N1490)","v":""}]
[{"$f":"IF(syoriyou!A1491=\"\",\"\",syoriyou!A1491)","v":""},{"$f":"IF(syoriyou!B1491=\"\",\"\",syoriyou!B1491)","v":""},{"$f":"IF(syoriyou!C1491=\"\",\"\",syoriyou!C1491)","v":""},{"$f":"IF(syoriyou!D1491=\"\",\"\",syoriyou!D1491)","v":""},{"$f":"IF(syoriyou!E1491=\"\",\"\",syoriyou!E1491)","v":""},{"$f":"IF(syoriyou!F1491=\"\",\"\",syoriyou!F1491)","v":""},{"$f":"IF(syoriyou!G1491=\"\",\"\",syoriyou!G1491)","v":""},{"$f":"IF(syoriyou!H1491=\"\",\"\",syoriyou!H1491)","v":""},{"$f":"IF(syoriyou!I1491=\"\",\"\",syoriyou!I1491)","v":""},{"$f":"IF(syoriyou!J1491=\"\",\"\",syoriyou!N1491)","v":""}]
[{"$f":"IF(syoriyou!A1492=\"\",\"\",syoriyou!A1492)","v":""},{"$f":"IF(syoriyou!B1492=\"\",\"\",syoriyou!B1492)","v":""},{"$f":"IF(syoriyou!C1492=\"\",\"\",syoriyou!C1492)","v":""},{"$f":"IF(syoriyou!D1492=\"\",\"\",syoriyou!D1492)","v":""},{"$f":"IF(syoriyou!E1492=\"\",\"\",syoriyou!E1492)","v":""},{"$f":"IF(syoriyou!F1492=\"\",\"\",syoriyou!F1492)","v":""},{"$f":"IF(syoriyou!G1492=\"\",\"\",syoriyou!G1492)","v":""},{"$f":"IF(syoriyou!H1492=\"\",\"\",syoriyou!H1492)","v":""},{"$f":"IF(syoriyou!I1492=\"\",\"\",syoriyou!I1492)","v":""},{"$f":"IF(syoriyou!J1492=\"\",\"\",syoriyou!N1492)","v":""}]
[{"$f":"IF(syoriyou!A1493=\"\",\"\",syoriyou!A1493)","v":""},{"$f":"IF(syoriyou!B1493=\"\",\"\",syoriyou!B1493)","v":""},{"$f":"IF(syoriyou!C1493=\"\",\"\",syoriyou!C1493)","v":""},{"$f":"IF(syoriyou!D1493=\"\",\"\",syoriyou!D1493)","v":""},{"$f":"IF(syoriyou!E1493=\"\",\"\",syoriyou!E1493)","v":""},{"$f":"IF(syoriyou!F1493=\"\",\"\",syoriyou!F1493)","v":""},{"$f":"IF(syoriyou!G1493=\"\",\"\",syoriyou!G1493)","v":""},{"$f":"IF(syoriyou!H1493=\"\",\"\",syoriyou!H1493)","v":""},{"$f":"IF(syoriyou!I1493=\"\",\"\",syoriyou!I1493)","v":""},{"$f":"IF(syoriyou!J1493=\"\",\"\",syoriyou!N1493)","v":""}]
[{"$f":"IF(syoriyou!A1494=\"\",\"\",syoriyou!A1494)","v":""},{"$f":"IF(syoriyou!B1494=\"\",\"\",syoriyou!B1494)","v":""},{"$f":"IF(syoriyou!C1494=\"\",\"\",syoriyou!C1494)","v":""},{"$f":"IF(syoriyou!D1494=\"\",\"\",syoriyou!D1494)","v":""},{"$f":"IF(syoriyou!E1494=\"\",\"\",syoriyou!E1494)","v":""},{"$f":"IF(syoriyou!F1494=\"\",\"\",syoriyou!F1494)","v":""},{"$f":"IF(syoriyou!G1494=\"\",\"\",syoriyou!G1494)","v":""},{"$f":"IF(syoriyou!H1494=\"\",\"\",syoriyou!H1494)","v":""},{"$f":"IF(syoriyou!I1494=\"\",\"\",syoriyou!I1494)","v":""},{"$f":"IF(syoriyou!J1494=\"\",\"\",syoriyou!N1494)","v":""}]
[{"$f":"IF(syoriyou!A1495=\"\",\"\",syoriyou!A1495)","v":""},{"$f":"IF(syoriyou!B1495=\"\",\"\",syoriyou!B1495)","v":""},{"$f":"IF(syoriyou!C1495=\"\",\"\",syoriyou!C1495)","v":""},{"$f":"IF(syoriyou!D1495=\"\",\"\",syoriyou!D1495)","v":""},{"$f":"IF(syoriyou!E1495=\"\",\"\",syoriyou!E1495)","v":""},{"$f":"IF(syoriyou!F1495=\"\",\"\",syoriyou!F1495)","v":""},{"$f":"IF(syoriyou!G1495=\"\",\"\",syoriyou!G1495)","v":""},{"$f":"IF(syoriyou!H1495=\"\",\"\",syoriyou!H1495)","v":""},{"$f":"IF(syoriyou!I1495=\"\",\"\",syoriyou!I1495)","v":""},{"$f":"IF(syoriyou!J1495=\"\",\"\",syoriyou!N1495)","v":""}]
[{"$f":"IF(syoriyou!A1496=\"\",\"\",syoriyou!A1496)","v":""},{"$f":"IF(syoriyou!B1496=\"\",\"\",syoriyou!B1496)","v":""},{"$f":"IF(syoriyou!C1496=\"\",\"\",syoriyou!C1496)","v":""},{"$f":"IF(syoriyou!D1496=\"\",\"\",syoriyou!D1496)","v":""},{"$f":"IF(syoriyou!E1496=\"\",\"\",syoriyou!E1496)","v":""},{"$f":"IF(syoriyou!F1496=\"\",\"\",syoriyou!F1496)","v":""},{"$f":"IF(syoriyou!G1496=\"\",\"\",syoriyou!G1496)","v":""},{"$f":"IF(syoriyou!H1496=\"\",\"\",syoriyou!H1496)","v":""},{"$f":"IF(syoriyou!I1496=\"\",\"\",syoriyou!I1496)","v":""},{"$f":"IF(syoriyou!J1496=\"\",\"\",syoriyou!N1496)","v":""}]
[{"$f":"IF(syoriyou!A1497=\"\",\"\",syoriyou!A1497)","v":""},{"$f":"IF(syoriyou!B1497=\"\",\"\",syoriyou!B1497)","v":""},{"$f":"IF(syoriyou!C1497=\"\",\"\",syoriyou!C1497)","v":""},{"$f":"IF(syoriyou!D1497=\"\",\"\",syoriyou!D1497)","v":""},{"$f":"IF(syoriyou!E1497=\"\",\"\",syoriyou!E1497)","v":""},{"$f":"IF(syoriyou!F1497=\"\",\"\",syoriyou!F1497)","v":""},{"$f":"IF(syoriyou!G1497=\"\",\"\",syoriyou!G1497)","v":""},{"$f":"IF(syoriyou!H1497=\"\",\"\",syoriyou!H1497)","v":""},{"$f":"IF(syoriyou!I1497=\"\",\"\",syoriyou!I1497)","v":""},{"$f":"IF(syoriyou!J1497=\"\",\"\",syoriyou!N1497)","v":""}]
[{"$f":"IF(syoriyou!A1498=\"\",\"\",syoriyou!A1498)","v":""},{"$f":"IF(syoriyou!B1498=\"\",\"\",syoriyou!B1498)","v":""},{"$f":"IF(syoriyou!C1498=\"\",\"\",syoriyou!C1498)","v":""},{"$f":"IF(syoriyou!D1498=\"\",\"\",syoriyou!D1498)","v":""},{"$f":"IF(syoriyou!E1498=\"\",\"\",syoriyou!E1498)","v":""},{"$f":"IF(syoriyou!F1498=\"\",\"\",syoriyou!F1498)","v":""},{"$f":"IF(syoriyou!G1498=\"\",\"\",syoriyou!G1498)","v":""},{"$f":"IF(syoriyou!H1498=\"\",\"\",syoriyou!H1498)","v":""},{"$f":"IF(syoriyou!I1498=\"\",\"\",syoriyou!I1498)","v":""},{"$f":"IF(syoriyou!J1498=\"\",\"\",syoriyou!N1498)","v":""}]
[{"$f":"IF(syoriyou!A1499=\"\",\"\",syoriyou!A1499)","v":""},{"$f":"IF(syoriyou!B1499=\"\",\"\",syoriyou!B1499)","v":""},{"$f":"IF(syoriyou!C1499=\"\",\"\",syoriyou!C1499)","v":""},{"$f":"IF(syoriyou!D1499=\"\",\"\",syoriyou!D1499)","v":""},{"$f":"IF(syoriyou!E1499=\"\",\"\",syoriyou!E1499)","v":""},{"$f":"IF(syoriyou!F1499=\"\",\"\",syoriyou!F1499)","v":""},{"$f":"IF(syoriyou!G1499=\"\",\"\",syoriyou!G1499)","v":""},{"$f":"IF(syoriyou!H1499=\"\",\"\",syoriyou!H1499)","v":""},{"$f":"IF(syoriyou!I1499=\"\",\"\",syoriyou!I1499)","v":""},{"$f":"IF(syoriyou!J1499=\"\",\"\",syoriyou!N1499)","v":""}]
[{"$f":"IF(syoriyou!A1500=\"\",\"\",syoriyou!A1500)","v":""},{"$f":"IF(syoriyou!B1500=\"\",\"\",syoriyou!B1500)","v":""},{"$f":"IF(syoriyou!C1500=\"\",\"\",syoriyou!C1500)","v":""},{"$f":"IF(syoriyou!D1500=\"\",\"\",syoriyou!D1500)","v":""},{"$f":"IF(syoriyou!E1500=\"\",\"\",syoriyou!E1500)","v":""},{"$f":"IF(syoriyou!F1500=\"\",\"\",syoriyou!F1500)","v":""},{"$f":"IF(syoriyou!G1500=\"\",\"\",syoriyou!G1500)","v":""},{"$f":"IF(syoriyou!H1500=\"\",\"\",syoriyou!H1500)","v":""},{"$f":"IF(syoriyou!I1500=\"\",\"\",syoriyou!I1500)","v":""},{"$f":"IF(syoriyou!J1500=\"\",\"\",syoriyou!N1500)","v":""}]
[{"$f":"IF(syoriyou!A1501=\"\",\"\",syoriyou!A1501)","v":""},{"$f":"IF(syoriyou!B1501=\"\",\"\",syoriyou!B1501)","v":""},{"$f":"IF(syoriyou!C1501=\"\",\"\",syoriyou!C1501)","v":""},{"$f":"IF(syoriyou!D1501=\"\",\"\",syoriyou!D1501)","v":""},{"$f":"IF(syoriyou!E1501=\"\",\"\",syoriyou!E1501)","v":""},{"$f":"IF(syoriyou!F1501=\"\",\"\",syoriyou!F1501)","v":""},{"$f":"IF(syoriyou!G1501=\"\",\"\",syoriyou!G1501)","v":""},{"$f":"IF(syoriyou!H1501=\"\",\"\",syoriyou!H1501)","v":""},{"$f":"IF(syoriyou!I1501=\"\",\"\",syoriyou!I1501)","v":""},{"$f":"IF(syoriyou!J1501=\"\",\"\",syoriyou!N1501)","v":""}]
[{"$f":"IF(syoriyou!A1502=\"\",\"\",syoriyou!A1502)","v":""},{"$f":"IF(syoriyou!B1502=\"\",\"\",syoriyou!B1502)","v":""},{"$f":"IF(syoriyou!C1502=\"\",\"\",syoriyou!C1502)","v":""},{"$f":"IF(syoriyou!D1502=\"\",\"\",syoriyou!D1502)","v":""},{"$f":"IF(syoriyou!E1502=\"\",\"\",syoriyou!E1502)","v":""},{"$f":"IF(syoriyou!F1502=\"\",\"\",syoriyou!F1502)","v":""},{"$f":"IF(syoriyou!G1502=\"\",\"\",syoriyou!G1502)","v":""},{"$f":"IF(syoriyou!H1502=\"\",\"\",syoriyou!H1502)","v":""},{"$f":"IF(syoriyou!I1502=\"\",\"\",syoriyou!I1502)","v":""},{"$f":"IF(syoriyou!J1502=\"\",\"\",syoriyou!N1502)","v":""}]
[{"$f":"IF(syoriyou!A1503=\"\",\"\",syoriyou!A1503)","v":""},{"$f":"IF(syoriyou!B1503=\"\",\"\",syoriyou!B1503)","v":""},{"$f":"IF(syoriyou!C1503=\"\",\"\",syoriyou!C1503)","v":""},{"$f":"IF(syoriyou!D1503=\"\",\"\",syoriyou!D1503)","v":""},{"$f":"IF(syoriyou!E1503=\"\",\"\",syoriyou!E1503)","v":""},{"$f":"IF(syoriyou!F1503=\"\",\"\",syoriyou!F1503)","v":""},{"$f":"IF(syoriyou!G1503=\"\",\"\",syoriyou!G1503)","v":""},{"$f":"IF(syoriyou!H1503=\"\",\"\",syoriyou!H1503)","v":""},{"$f":"IF(syoriyou!I1503=\"\",\"\",syoriyou!I1503)","v":""},{"$f":"IF(syoriyou!J1503=\"\",\"\",syoriyou!N1503)","v":""}]
[{"$f":"IF(syoriyou!A1504=\"\",\"\",syoriyou!A1504)","v":""},{"$f":"IF(syoriyou!B1504=\"\",\"\",syoriyou!B1504)","v":""},{"$f":"IF(syoriyou!C1504=\"\",\"\",syoriyou!C1504)","v":""},{"$f":"IF(syoriyou!D1504=\"\",\"\",syoriyou!D1504)","v":""},{"$f":"IF(syoriyou!E1504=\"\",\"\",syoriyou!E1504)","v":""},{"$f":"IF(syoriyou!F1504=\"\",\"\",syoriyou!F1504)","v":""},{"$f":"IF(syoriyou!G1504=\"\",\"\",syoriyou!G1504)","v":""},{"$f":"IF(syoriyou!H1504=\"\",\"\",syoriyou!H1504)","v":""},{"$f":"IF(syoriyou!I1504=\"\",\"\",syoriyou!I1504)","v":""},{"$f":"IF(syoriyou!J1504=\"\",\"\",syoriyou!N1504)","v":""}]
[{"$f":"IF(syoriyou!A1505=\"\",\"\",syoriyou!A1505)","v":""},{"$f":"IF(syoriyou!B1505=\"\",\"\",syoriyou!B1505)","v":""},{"$f":"IF(syoriyou!C1505=\"\",\"\",syoriyou!C1505)","v":""},{"$f":"IF(syoriyou!D1505=\"\",\"\",syoriyou!D1505)","v":""},{"$f":"IF(syoriyou!E1505=\"\",\"\",syoriyou!E1505)","v":""},{"$f":"IF(syoriyou!F1505=\"\",\"\",syoriyou!F1505)","v":""},{"$f":"IF(syoriyou!G1505=\"\",\"\",syoriyou!G1505)","v":""},{"$f":"IF(syoriyou!H1505=\"\",\"\",syoriyou!H1505)","v":""},{"$f":"IF(syoriyou!I1505=\"\",\"\",syoriyou!I1505)","v":""},{"$f":"IF(syoriyou!J1505=\"\",\"\",syoriyou!N1505)","v":""}]
[{"$f":"IF(syoriyou!A1506=\"\",\"\",syoriyou!A1506)","v":""},{"$f":"IF(syoriyou!B1506=\"\",\"\",syoriyou!B1506)","v":""},{"$f":"IF(syoriyou!C1506=\"\",\"\",syoriyou!C1506)","v":""},{"$f":"IF(syoriyou!D1506=\"\",\"\",syoriyou!D1506)","v":""},{"$f":"IF(syoriyou!E1506=\"\",\"\",syoriyou!E1506)","v":""},{"$f":"IF(syoriyou!F1506=\"\",\"\",syoriyou!F1506)","v":""},{"$f":"IF(syoriyou!G1506=\"\",\"\",syoriyou!G1506)","v":""},{"$f":"IF(syoriyou!H1506=\"\",\"\",syoriyou!H1506)","v":""},{"$f":"IF(syoriyou!I1506=\"\",\"\",syoriyou!I1506)","v":""},{"$f":"IF(syoriyou!J1506=\"\",\"\",syoriyou!N1506)","v":""}]
[{"$f":"IF(syoriyou!A1507=\"\",\"\",syoriyou!A1507)","v":""},{"$f":"IF(syoriyou!B1507=\"\",\"\",syoriyou!B1507)","v":""},{"$f":"IF(syoriyou!C1507=\"\",\"\",syoriyou!C1507)","v":""},{"$f":"IF(syoriyou!D1507=\"\",\"\",syoriyou!D1507)","v":""},{"$f":"IF(syoriyou!E1507=\"\",\"\",syoriyou!E1507)","v":""},{"$f":"IF(syoriyou!F1507=\"\",\"\",syoriyou!F1507)","v":""},{"$f":"IF(syoriyou!G1507=\"\",\"\",syoriyou!G1507)","v":""},{"$f":"IF(syoriyou!H1507=\"\",\"\",syoriyou!H1507)","v":""},{"$f":"IF(syoriyou!I1507=\"\",\"\",syoriyou!I1507)","v":""},{"$f":"IF(syoriyou!J1507=\"\",\"\",syoriyou!N1507)","v":""}]
[{"$f":"IF(syoriyou!A1508=\"\",\"\",syoriyou!A1508)","v":""},{"$f":"IF(syoriyou!B1508=\"\",\"\",syoriyou!B1508)","v":""},{"$f":"IF(syoriyou!C1508=\"\",\"\",syoriyou!C1508)","v":""},{"$f":"IF(syoriyou!D1508=\"\",\"\",syoriyou!D1508)","v":""},{"$f":"IF(syoriyou!E1508=\"\",\"\",syoriyou!E1508)","v":""},{"$f":"IF(syoriyou!F1508=\"\",\"\",syoriyou!F1508)","v":""},{"$f":"IF(syoriyou!G1508=\"\",\"\",syoriyou!G1508)","v":""},{"$f":"IF(syoriyou!H1508=\"\",\"\",syoriyou!H1508)","v":""},{"$f":"IF(syoriyou!I1508=\"\",\"\",syoriyou!I1508)","v":""},{"$f":"IF(syoriyou!J1508=\"\",\"\",syoriyou!N1508)","v":""}]
[{"$f":"IF(syoriyou!A1509=\"\",\"\",syoriyou!A1509)","v":""},{"$f":"IF(syoriyou!B1509=\"\",\"\",syoriyou!B1509)","v":""},{"$f":"IF(syoriyou!C1509=\"\",\"\",syoriyou!C1509)","v":""},{"$f":"IF(syoriyou!D1509=\"\",\"\",syoriyou!D1509)","v":""},{"$f":"IF(syoriyou!E1509=\"\",\"\",syoriyou!E1509)","v":""},{"$f":"IF(syoriyou!F1509=\"\",\"\",syoriyou!F1509)","v":""},{"$f":"IF(syoriyou!G1509=\"\",\"\",syoriyou!G1509)","v":""},{"$f":"IF(syoriyou!H1509=\"\",\"\",syoriyou!H1509)","v":""},{"$f":"IF(syoriyou!I1509=\"\",\"\",syoriyou!I1509)","v":""},{"$f":"IF(syoriyou!J1509=\"\",\"\",syoriyou!N1509)","v":""}]
[{"$f":"IF(syoriyou!A1510=\"\",\"\",syoriyou!A1510)","v":""},{"$f":"IF(syoriyou!B1510=\"\",\"\",syoriyou!B1510)","v":""},{"$f":"IF(syoriyou!C1510=\"\",\"\",syoriyou!C1510)","v":""},{"$f":"IF(syoriyou!D1510=\"\",\"\",syoriyou!D1510)","v":""},{"$f":"IF(syoriyou!E1510=\"\",\"\",syoriyou!E1510)","v":""},{"$f":"IF(syoriyou!F1510=\"\",\"\",syoriyou!F1510)","v":""},{"$f":"IF(syoriyou!G1510=\"\",\"\",syoriyou!G1510)","v":""},{"$f":"IF(syoriyou!H1510=\"\",\"\",syoriyou!H1510)","v":""},{"$f":"IF(syoriyou!I1510=\"\",\"\",syoriyou!I1510)","v":""},{"$f":"IF(syoriyou!J1510=\"\",\"\",syoriyou!N1510)","v":""}]
[{"$f":"IF(syoriyou!A1511=\"\",\"\",syoriyou!A1511)","v":""},{"$f":"IF(syoriyou!B1511=\"\",\"\",syoriyou!B1511)","v":""},{"$f":"IF(syoriyou!C1511=\"\",\"\",syoriyou!C1511)","v":""},{"$f":"IF(syoriyou!D1511=\"\",\"\",syoriyou!D1511)","v":""},{"$f":"IF(syoriyou!E1511=\"\",\"\",syoriyou!E1511)","v":""},{"$f":"IF(syoriyou!F1511=\"\",\"\",syoriyou!F1511)","v":""},{"$f":"IF(syoriyou!G1511=\"\",\"\",syoriyou!G1511)","v":""},{"$f":"IF(syoriyou!H1511=\"\",\"\",syoriyou!H1511)","v":""},{"$f":"IF(syoriyou!I1511=\"\",\"\",syoriyou!I1511)","v":""},{"$f":"IF(syoriyou!J1511=\"\",\"\",syoriyou!N1511)","v":""}]
[{"$f":"IF(syoriyou!A1512=\"\",\"\",syoriyou!A1512)","v":""},{"$f":"IF(syoriyou!B1512=\"\",\"\",syoriyou!B1512)","v":""},{"$f":"IF(syoriyou!C1512=\"\",\"\",syoriyou!C1512)","v":""},{"$f":"IF(syoriyou!D1512=\"\",\"\",syoriyou!D1512)","v":""},{"$f":"IF(syoriyou!E1512=\"\",\"\",syoriyou!E1512)","v":""},{"$f":"IF(syoriyou!F1512=\"\",\"\",syoriyou!F1512)","v":""},{"$f":"IF(syoriyou!G1512=\"\",\"\",syoriyou!G1512)","v":""},{"$f":"IF(syoriyou!H1512=\"\",\"\",syoriyou!H1512)","v":""},{"$f":"IF(syoriyou!I1512=\"\",\"\",syoriyou!I1512)","v":""},{"$f":"IF(syoriyou!J1512=\"\",\"\",syoriyou!N1512)","v":""}]
[{"$f":"IF(syoriyou!A1513=\"\",\"\",syoriyou!A1513)","v":""},{"$f":"IF(syoriyou!B1513=\"\",\"\",syoriyou!B1513)","v":""},{"$f":"IF(syoriyou!C1513=\"\",\"\",syoriyou!C1513)","v":""},{"$f":"IF(syoriyou!D1513=\"\",\"\",syoriyou!D1513)","v":""},{"$f":"IF(syoriyou!E1513=\"\",\"\",syoriyou!E1513)","v":""},{"$f":"IF(syoriyou!F1513=\"\",\"\",syoriyou!F1513)","v":""},{"$f":"IF(syoriyou!G1513=\"\",\"\",syoriyou!G1513)","v":""},{"$f":"IF(syoriyou!H1513=\"\",\"\",syoriyou!H1513)","v":""},{"$f":"IF(syoriyou!I1513=\"\",\"\",syoriyou!I1513)","v":""},{"$f":"IF(syoriyou!J1513=\"\",\"\",syoriyou!N1513)","v":""}]
[{"$f":"IF(syoriyou!A1514=\"\",\"\",syoriyou!A1514)","v":""},{"$f":"IF(syoriyou!B1514=\"\",\"\",syoriyou!B1514)","v":""},{"$f":"IF(syoriyou!C1514=\"\",\"\",syoriyou!C1514)","v":""},{"$f":"IF(syoriyou!D1514=\"\",\"\",syoriyou!D1514)","v":""},{"$f":"IF(syoriyou!E1514=\"\",\"\",syoriyou!E1514)","v":""},{"$f":"IF(syoriyou!F1514=\"\",\"\",syoriyou!F1514)","v":""},{"$f":"IF(syoriyou!G1514=\"\",\"\",syoriyou!G1514)","v":""},{"$f":"IF(syoriyou!H1514=\"\",\"\",syoriyou!H1514)","v":""},{"$f":"IF(syoriyou!I1514=\"\",\"\",syoriyou!I1514)","v":""},{"$f":"IF(syoriyou!J1514=\"\",\"\",syoriyou!N1514)","v":""}]
[{"$f":"IF(syoriyou!A1515=\"\",\"\",syoriyou!A1515)","v":""},{"$f":"IF(syoriyou!B1515=\"\",\"\",syoriyou!B1515)","v":""},{"$f":"IF(syoriyou!C1515=\"\",\"\",syoriyou!C1515)","v":""},{"$f":"IF(syoriyou!D1515=\"\",\"\",syoriyou!D1515)","v":""},{"$f":"IF(syoriyou!E1515=\"\",\"\",syoriyou!E1515)","v":""},{"$f":"IF(syoriyou!F1515=\"\",\"\",syoriyou!F1515)","v":""},{"$f":"IF(syoriyou!G1515=\"\",\"\",syoriyou!G1515)","v":""},{"$f":"IF(syoriyou!H1515=\"\",\"\",syoriyou!H1515)","v":""},{"$f":"IF(syoriyou!I1515=\"\",\"\",syoriyou!I1515)","v":""},{"$f":"IF(syoriyou!J1515=\"\",\"\",syoriyou!N1515)","v":""}]
[{"$f":"IF(syoriyou!A1516=\"\",\"\",syoriyou!A1516)","v":""},{"$f":"IF(syoriyou!B1516=\"\",\"\",syoriyou!B1516)","v":""},{"$f":"IF(syoriyou!C1516=\"\",\"\",syoriyou!C1516)","v":""},{"$f":"IF(syoriyou!D1516=\"\",\"\",syoriyou!D1516)","v":""},{"$f":"IF(syoriyou!E1516=\"\",\"\",syoriyou!E1516)","v":""},{"$f":"IF(syoriyou!F1516=\"\",\"\",syoriyou!F1516)","v":""},{"$f":"IF(syoriyou!G1516=\"\",\"\",syoriyou!G1516)","v":""},{"$f":"IF(syoriyou!H1516=\"\",\"\",syoriyou!H1516)","v":""},{"$f":"IF(syoriyou!I1516=\"\",\"\",syoriyou!I1516)","v":""},{"$f":"IF(syoriyou!J1516=\"\",\"\",syoriyou!N1516)","v":""}]
[{"$f":"IF(syoriyou!A1517=\"\",\"\",syoriyou!A1517)","v":""},{"$f":"IF(syoriyou!B1517=\"\",\"\",syoriyou!B1517)","v":""},{"$f":"IF(syoriyou!C1517=\"\",\"\",syoriyou!C1517)","v":""},{"$f":"IF(syoriyou!D1517=\"\",\"\",syoriyou!D1517)","v":""},{"$f":"IF(syoriyou!E1517=\"\",\"\",syoriyou!E1517)","v":""},{"$f":"IF(syoriyou!F1517=\"\",\"\",syoriyou!F1517)","v":""},{"$f":"IF(syoriyou!G1517=\"\",\"\",syoriyou!G1517)","v":""},{"$f":"IF(syoriyou!H1517=\"\",\"\",syoriyou!H1517)","v":""},{"$f":"IF(syoriyou!I1517=\"\",\"\",syoriyou!I1517)","v":""},{"$f":"IF(syoriyou!J1517=\"\",\"\",syoriyou!N1517)","v":""}]
[{"$f":"IF(syoriyou!A1518=\"\",\"\",syoriyou!A1518)","v":""},{"$f":"IF(syoriyou!B1518=\"\",\"\",syoriyou!B1518)","v":""},{"$f":"IF(syoriyou!C1518=\"\",\"\",syoriyou!C1518)","v":""},{"$f":"IF(syoriyou!D1518=\"\",\"\",syoriyou!D1518)","v":""},{"$f":"IF(syoriyou!E1518=\"\",\"\",syoriyou!E1518)","v":""},{"$f":"IF(syoriyou!F1518=\"\",\"\",syoriyou!F1518)","v":""},{"$f":"IF(syoriyou!G1518=\"\",\"\",syoriyou!G1518)","v":""},{"$f":"IF(syoriyou!H1518=\"\",\"\",syoriyou!H1518)","v":""},{"$f":"IF(syoriyou!I1518=\"\",\"\",syoriyou!I1518)","v":""},{"$f":"IF(syoriyou!J1518=\"\",\"\",syoriyou!N1518)","v":""}]
[{"$f":"IF(syoriyou!A1519=\"\",\"\",syoriyou!A1519)","v":""},{"$f":"IF(syoriyou!B1519=\"\",\"\",syoriyou!B1519)","v":""},{"$f":"IF(syoriyou!C1519=\"\",\"\",syoriyou!C1519)","v":""},{"$f":"IF(syoriyou!D1519=\"\",\"\",syoriyou!D1519)","v":""},{"$f":"IF(syoriyou!E1519=\"\",\"\",syoriyou!E1519)","v":""},{"$f":"IF(syoriyou!F1519=\"\",\"\",syoriyou!F1519)","v":""},{"$f":"IF(syoriyou!G1519=\"\",\"\",syoriyou!G1519)","v":""},{"$f":"IF(syoriyou!H1519=\"\",\"\",syoriyou!H1519)","v":""},{"$f":"IF(syoriyou!I1519=\"\",\"\",syoriyou!I1519)","v":""},{"$f":"IF(syoriyou!J1519=\"\",\"\",syoriyou!N1519)","v":""}]
[{"$f":"IF(syoriyou!A1520=\"\",\"\",syoriyou!A1520)","v":""},{"$f":"IF(syoriyou!B1520=\"\",\"\",syoriyou!B1520)","v":""},{"$f":"IF(syoriyou!C1520=\"\",\"\",syoriyou!C1520)","v":""},{"$f":"IF(syoriyou!D1520=\"\",\"\",syoriyou!D1520)","v":""},{"$f":"IF(syoriyou!E1520=\"\",\"\",syoriyou!E1520)","v":""},{"$f":"IF(syoriyou!F1520=\"\",\"\",syoriyou!F1520)","v":""},{"$f":"IF(syoriyou!G1520=\"\",\"\",syoriyou!G1520)","v":""},{"$f":"IF(syoriyou!H1520=\"\",\"\",syoriyou!H1520)","v":""},{"$f":"IF(syoriyou!I1520=\"\",\"\",syoriyou!I1520)","v":""},{"$f":"IF(syoriyou!J1520=\"\",\"\",syoriyou!N1520)","v":""}]
[{"$f":"IF(syoriyou!A1521=\"\",\"\",syoriyou!A1521)","v":""},{"$f":"IF(syoriyou!B1521=\"\",\"\",syoriyou!B1521)","v":""},{"$f":"IF(syoriyou!C1521=\"\",\"\",syoriyou!C1521)","v":""},{"$f":"IF(syoriyou!D1521=\"\",\"\",syoriyou!D1521)","v":""},{"$f":"IF(syoriyou!E1521=\"\",\"\",syoriyou!E1521)","v":""},{"$f":"IF(syoriyou!F1521=\"\",\"\",syoriyou!F1521)","v":""},{"$f":"IF(syoriyou!G1521=\"\",\"\",syoriyou!G1521)","v":""},{"$f":"IF(syoriyou!H1521=\"\",\"\",syoriyou!H1521)","v":""},{"$f":"IF(syoriyou!I1521=\"\",\"\",syoriyou!I1521)","v":""},{"$f":"IF(syoriyou!J1521=\"\",\"\",syoriyou!N1521)","v":""}]
[{"$f":"IF(syoriyou!A1522=\"\",\"\",syoriyou!A1522)","v":""},{"$f":"IF(syoriyou!B1522=\"\",\"\",syoriyou!B1522)","v":""},{"$f":"IF(syoriyou!C1522=\"\",\"\",syoriyou!C1522)","v":""},{"$f":"IF(syoriyou!D1522=\"\",\"\",syoriyou!D1522)","v":""},{"$f":"IF(syoriyou!E1522=\"\",\"\",syoriyou!E1522)","v":""},{"$f":"IF(syoriyou!F1522=\"\",\"\",syoriyou!F1522)","v":""},{"$f":"IF(syoriyou!G1522=\"\",\"\",syoriyou!G1522)","v":""},{"$f":"IF(syoriyou!H1522=\"\",\"\",syoriyou!H1522)","v":""},{"$f":"IF(syoriyou!I1522=\"\",\"\",syoriyou!I1522)","v":""},{"$f":"IF(syoriyou!J1522=\"\",\"\",syoriyou!N1522)","v":""}]
[{"$f":"IF(syoriyou!A1523=\"\",\"\",syoriyou!A1523)","v":""},{"$f":"IF(syoriyou!B1523=\"\",\"\",syoriyou!B1523)","v":""},{"$f":"IF(syoriyou!C1523=\"\",\"\",syoriyou!C1523)","v":""},{"$f":"IF(syoriyou!D1523=\"\",\"\",syoriyou!D1523)","v":""},{"$f":"IF(syoriyou!E1523=\"\",\"\",syoriyou!E1523)","v":""},{"$f":"IF(syoriyou!F1523=\"\",\"\",syoriyou!F1523)","v":""},{"$f":"IF(syoriyou!G1523=\"\",\"\",syoriyou!G1523)","v":""},{"$f":"IF(syoriyou!H1523=\"\",\"\",syoriyou!H1523)","v":""},{"$f":"IF(syoriyou!I1523=\"\",\"\",syoriyou!I1523)","v":""},{"$f":"IF(syoriyou!J1523=\"\",\"\",syoriyou!N1523)","v":""}]
[{"$f":"IF(syoriyou!A1524=\"\",\"\",syoriyou!A1524)","v":""},{"$f":"IF(syoriyou!B1524=\"\",\"\",syoriyou!B1524)","v":""},{"$f":"IF(syoriyou!C1524=\"\",\"\",syoriyou!C1524)","v":""},{"$f":"IF(syoriyou!D1524=\"\",\"\",syoriyou!D1524)","v":""},{"$f":"IF(syoriyou!E1524=\"\",\"\",syoriyou!E1524)","v":""},{"$f":"IF(syoriyou!F1524=\"\",\"\",syoriyou!F1524)","v":""},{"$f":"IF(syoriyou!G1524=\"\",\"\",syoriyou!G1524)","v":""},{"$f":"IF(syoriyou!H1524=\"\",\"\",syoriyou!H1524)","v":""},{"$f":"IF(syoriyou!I1524=\"\",\"\",syoriyou!I1524)","v":""},{"$f":"IF(syoriyou!J1524=\"\",\"\",syoriyou!N1524)","v":""}]
[{"$f":"IF(syoriyou!A1525=\"\",\"\",syoriyou!A1525)","v":""},{"$f":"IF(syoriyou!B1525=\"\",\"\",syoriyou!B1525)","v":""},{"$f":"IF(syoriyou!C1525=\"\",\"\",syoriyou!C1525)","v":""},{"$f":"IF(syoriyou!D1525=\"\",\"\",syoriyou!D1525)","v":""},{"$f":"IF(syoriyou!E1525=\"\",\"\",syoriyou!E1525)","v":""},{"$f":"IF(syoriyou!F1525=\"\",\"\",syoriyou!F1525)","v":""},{"$f":"IF(syoriyou!G1525=\"\",\"\",syoriyou!G1525)","v":""},{"$f":"IF(syoriyou!H1525=\"\",\"\",syoriyou!H1525)","v":""},{"$f":"IF(syoriyou!I1525=\"\",\"\",syoriyou!I1525)","v":""},{"$f":"IF(syoriyou!J1525=\"\",\"\",syoriyou!N1525)","v":""}]
[{"$f":"IF(syoriyou!A1526=\"\",\"\",syoriyou!A1526)","v":""},{"$f":"IF(syoriyou!B1526=\"\",\"\",syoriyou!B1526)","v":""},{"$f":"IF(syoriyou!C1526=\"\",\"\",syoriyou!C1526)","v":""},{"$f":"IF(syoriyou!D1526=\"\",\"\",syoriyou!D1526)","v":""},{"$f":"IF(syoriyou!E1526=\"\",\"\",syoriyou!E1526)","v":""},{"$f":"IF(syoriyou!F1526=\"\",\"\",syoriyou!F1526)","v":""},{"$f":"IF(syoriyou!G1526=\"\",\"\",syoriyou!G1526)","v":""},{"$f":"IF(syoriyou!H1526=\"\",\"\",syoriyou!H1526)","v":""},{"$f":"IF(syoriyou!I1526=\"\",\"\",syoriyou!I1526)","v":""},{"$f":"IF(syoriyou!J1526=\"\",\"\",syoriyou!N1526)","v":""}]
[{"$f":"IF(syoriyou!A1527=\"\",\"\",syoriyou!A1527)","v":""},{"$f":"IF(syoriyou!B1527=\"\",\"\",syoriyou!B1527)","v":""},{"$f":"IF(syoriyou!C1527=\"\",\"\",syoriyou!C1527)","v":""},{"$f":"IF(syoriyou!D1527=\"\",\"\",syoriyou!D1527)","v":""},{"$f":"IF(syoriyou!E1527=\"\",\"\",syoriyou!E1527)","v":""},{"$f":"IF(syoriyou!F1527=\"\",\"\",syoriyou!F1527)","v":""},{"$f":"IF(syoriyou!G1527=\"\",\"\",syoriyou!G1527)","v":""},{"$f":"IF(syoriyou!H1527=\"\",\"\",syoriyou!H1527)","v":""},{"$f":"IF(syoriyou!I1527=\"\",\"\",syoriyou!I1527)","v":""},{"$f":"IF(syoriyou!J1527=\"\",\"\",syoriyou!N1527)","v":""}]
[{"$f":"IF(syoriyou!A1528=\"\",\"\",syoriyou!A1528)","v":""},{"$f":"IF(syoriyou!B1528=\"\",\"\",syoriyou!B1528)","v":""},{"$f":"IF(syoriyou!C1528=\"\",\"\",syoriyou!C1528)","v":""},{"$f":"IF(syoriyou!D1528=\"\",\"\",syoriyou!D1528)","v":""},{"$f":"IF(syoriyou!E1528=\"\",\"\",syoriyou!E1528)","v":""},{"$f":"IF(syoriyou!F1528=\"\",\"\",syoriyou!F1528)","v":""},{"$f":"IF(syoriyou!G1528=\"\",\"\",syoriyou!G1528)","v":""},{"$f":"IF(syoriyou!H1528=\"\",\"\",syoriyou!H1528)","v":""},{"$f":"IF(syoriyou!I1528=\"\",\"\",syoriyou!I1528)","v":""},{"$f":"IF(syoriyou!J1528=\"\",\"\",syoriyou!N1528)","v":""}]
[{"$f":"IF(syoriyou!A1529=\"\",\"\",syoriyou!A1529)","v":""},{"$f":"IF(syoriyou!B1529=\"\",\"\",syoriyou!B1529)","v":""},{"$f":"IF(syoriyou!C1529=\"\",\"\",syoriyou!C1529)","v":""},{"$f":"IF(syoriyou!D1529=\"\",\"\",syoriyou!D1529)","v":""},{"$f":"IF(syoriyou!E1529=\"\",\"\",syoriyou!E1529)","v":""},{"$f":"IF(syoriyou!F1529=\"\",\"\",syoriyou!F1529)","v":""},{"$f":"IF(syoriyou!G1529=\"\",\"\",syoriyou!G1529)","v":""},{"$f":"IF(syoriyou!H1529=\"\",\"\",syoriyou!H1529)","v":""},{"$f":"IF(syoriyou!I1529=\"\",\"\",syoriyou!I1529)","v":""},{"$f":"IF(syoriyou!J1529=\"\",\"\",syoriyou!N1529)","v":""}]
[{"$f":"IF(syoriyou!A1530=\"\",\"\",syoriyou!A1530)","v":""},{"$f":"IF(syoriyou!B1530=\"\",\"\",syoriyou!B1530)","v":""},{"$f":"IF(syoriyou!C1530=\"\",\"\",syoriyou!C1530)","v":""},{"$f":"IF(syoriyou!D1530=\"\",\"\",syoriyou!D1530)","v":""},{"$f":"IF(syoriyou!E1530=\"\",\"\",syoriyou!E1530)","v":""},{"$f":"IF(syoriyou!F1530=\"\",\"\",syoriyou!F1530)","v":""},{"$f":"IF(syoriyou!G1530=\"\",\"\",syoriyou!G1530)","v":""},{"$f":"IF(syoriyou!H1530=\"\",\"\",syoriyou!H1530)","v":""},{"$f":"IF(syoriyou!I1530=\"\",\"\",syoriyou!I1530)","v":""},{"$f":"IF(syoriyou!J1530=\"\",\"\",syoriyou!N1530)","v":""}]
[{"$f":"IF(syoriyou!A1531=\"\",\"\",syoriyou!A1531)","v":""},{"$f":"IF(syoriyou!B1531=\"\",\"\",syoriyou!B1531)","v":""},{"$f":"IF(syoriyou!C1531=\"\",\"\",syoriyou!C1531)","v":""},{"$f":"IF(syoriyou!D1531=\"\",\"\",syoriyou!D1531)","v":""},{"$f":"IF(syoriyou!E1531=\"\",\"\",syoriyou!E1531)","v":""},{"$f":"IF(syoriyou!F1531=\"\",\"\",syoriyou!F1531)","v":""},{"$f":"IF(syoriyou!G1531=\"\",\"\",syoriyou!G1531)","v":""},{"$f":"IF(syoriyou!H1531=\"\",\"\",syoriyou!H1531)","v":""},{"$f":"IF(syoriyou!I1531=\"\",\"\",syoriyou!I1531)","v":""},{"$f":"IF(syoriyou!J1531=\"\",\"\",syoriyou!N1531)","v":""}]
[{"$f":"IF(syoriyou!A1532=\"\",\"\",syoriyou!A1532)","v":""},{"$f":"IF(syoriyou!B1532=\"\",\"\",syoriyou!B1532)","v":""},{"$f":"IF(syoriyou!C1532=\"\",\"\",syoriyou!C1532)","v":""},{"$f":"IF(syoriyou!D1532=\"\",\"\",syoriyou!D1532)","v":""},{"$f":"IF(syoriyou!E1532=\"\",\"\",syoriyou!E1532)","v":""},{"$f":"IF(syoriyou!F1532=\"\",\"\",syoriyou!F1532)","v":""},{"$f":"IF(syoriyou!G1532=\"\",\"\",syoriyou!G1532)","v":""},{"$f":"IF(syoriyou!H1532=\"\",\"\",syoriyou!H1532)","v":""},{"$f":"IF(syoriyou!I1532=\"\",\"\",syoriyou!I1532)","v":""},{"$f":"IF(syoriyou!J1532=\"\",\"\",syoriyou!N1532)","v":""}]
[{"$f":"IF(syoriyou!A1533=\"\",\"\",syoriyou!A1533)","v":""},{"$f":"IF(syoriyou!B1533=\"\",\"\",syoriyou!B1533)","v":""},{"$f":"IF(syoriyou!C1533=\"\",\"\",syoriyou!C1533)","v":""},{"$f":"IF(syoriyou!D1533=\"\",\"\",syoriyou!D1533)","v":""},{"$f":"IF(syoriyou!E1533=\"\",\"\",syoriyou!E1533)","v":""},{"$f":"IF(syoriyou!F1533=\"\",\"\",syoriyou!F1533)","v":""},{"$f":"IF(syoriyou!G1533=\"\",\"\",syoriyou!G1533)","v":""},{"$f":"IF(syoriyou!H1533=\"\",\"\",syoriyou!H1533)","v":""},{"$f":"IF(syoriyou!I1533=\"\",\"\",syoriyou!I1533)","v":""},{"$f":"IF(syoriyou!J1533=\"\",\"\",syoriyou!N1533)","v":""}]
[{"$f":"IF(syoriyou!A1534=\"\",\"\",syoriyou!A1534)","v":""},{"$f":"IF(syoriyou!B1534=\"\",\"\",syoriyou!B1534)","v":""},{"$f":"IF(syoriyou!C1534=\"\",\"\",syoriyou!C1534)","v":""},{"$f":"IF(syoriyou!D1534=\"\",\"\",syoriyou!D1534)","v":""},{"$f":"IF(syoriyou!E1534=\"\",\"\",syoriyou!E1534)","v":""},{"$f":"IF(syoriyou!F1534=\"\",\"\",syoriyou!F1534)","v":""},{"$f":"IF(syoriyou!G1534=\"\",\"\",syoriyou!G1534)","v":""},{"$f":"IF(syoriyou!H1534=\"\",\"\",syoriyou!H1534)","v":""},{"$f":"IF(syoriyou!I1534=\"\",\"\",syoriyou!I1534)","v":""},{"$f":"IF(syoriyou!J1534=\"\",\"\",syoriyou!N1534)","v":""}]
[{"$f":"IF(syoriyou!A1535=\"\",\"\",syoriyou!A1535)","v":""},{"$f":"IF(syoriyou!B1535=\"\",\"\",syoriyou!B1535)","v":""},{"$f":"IF(syoriyou!C1535=\"\",\"\",syoriyou!C1535)","v":""},{"$f":"IF(syoriyou!D1535=\"\",\"\",syoriyou!D1535)","v":""},{"$f":"IF(syoriyou!E1535=\"\",\"\",syoriyou!E1535)","v":""},{"$f":"IF(syoriyou!F1535=\"\",\"\",syoriyou!F1535)","v":""},{"$f":"IF(syoriyou!G1535=\"\",\"\",syoriyou!G1535)","v":""},{"$f":"IF(syoriyou!H1535=\"\",\"\",syoriyou!H1535)","v":""},{"$f":"IF(syoriyou!I1535=\"\",\"\",syoriyou!I1535)","v":""},{"$f":"IF(syoriyou!J1535=\"\",\"\",syoriyou!N1535)","v":""}]
[{"$f":"IF(syoriyou!A1536=\"\",\"\",syoriyou!A1536)","v":""},{"$f":"IF(syoriyou!B1536=\"\",\"\",syoriyou!B1536)","v":""},{"$f":"IF(syoriyou!C1536=\"\",\"\",syoriyou!C1536)","v":""},{"$f":"IF(syoriyou!D1536=\"\",\"\",syoriyou!D1536)","v":""},{"$f":"IF(syoriyou!E1536=\"\",\"\",syoriyou!E1536)","v":""},{"$f":"IF(syoriyou!F1536=\"\",\"\",syoriyou!F1536)","v":""},{"$f":"IF(syoriyou!G1536=\"\",\"\",syoriyou!G1536)","v":""},{"$f":"IF(syoriyou!H1536=\"\",\"\",syoriyou!H1536)","v":""},{"$f":"IF(syoriyou!I1536=\"\",\"\",syoriyou!I1536)","v":""},{"$f":"IF(syoriyou!J1536=\"\",\"\",syoriyou!N1536)","v":""}]
[{"$f":"IF(syoriyou!A1537=\"\",\"\",syoriyou!A1537)","v":""},{"$f":"IF(syoriyou!B1537=\"\",\"\",syoriyou!B1537)","v":""},{"$f":"IF(syoriyou!C1537=\"\",\"\",syoriyou!C1537)","v":""},{"$f":"IF(syoriyou!D1537=\"\",\"\",syoriyou!D1537)","v":""},{"$f":"IF(syoriyou!E1537=\"\",\"\",syoriyou!E1537)","v":""},{"$f":"IF(syoriyou!F1537=\"\",\"\",syoriyou!F1537)","v":""},{"$f":"IF(syoriyou!G1537=\"\",\"\",syoriyou!G1537)","v":""},{"$f":"IF(syoriyou!H1537=\"\",\"\",syoriyou!H1537)","v":""},{"$f":"IF(syoriyou!I1537=\"\",\"\",syoriyou!I1537)","v":""},{"$f":"IF(syoriyou!J1537=\"\",\"\",syoriyou!N1537)","v":""}]
[{"$f":"IF(syoriyou!A1538=\"\",\"\",syoriyou!A1538)","v":""},{"$f":"IF(syoriyou!B1538=\"\",\"\",syoriyou!B1538)","v":""},{"$f":"IF(syoriyou!C1538=\"\",\"\",syoriyou!C1538)","v":""},{"$f":"IF(syoriyou!D1538=\"\",\"\",syoriyou!D1538)","v":""},{"$f":"IF(syoriyou!E1538=\"\",\"\",syoriyou!E1538)","v":""},{"$f":"IF(syoriyou!F1538=\"\",\"\",syoriyou!F1538)","v":""},{"$f":"IF(syoriyou!G1538=\"\",\"\",syoriyou!G1538)","v":""},{"$f":"IF(syoriyou!H1538=\"\",\"\",syoriyou!H1538)","v":""},{"$f":"IF(syoriyou!I1538=\"\",\"\",syoriyou!I1538)","v":""},{"$f":"IF(syoriyou!J1538=\"\",\"\",syoriyou!N1538)","v":""}]
[{"$f":"IF(syoriyou!A1539=\"\",\"\",syoriyou!A1539)","v":""},{"$f":"IF(syoriyou!B1539=\"\",\"\",syoriyou!B1539)","v":""},{"$f":"IF(syoriyou!C1539=\"\",\"\",syoriyou!C1539)","v":""},{"$f":"IF(syoriyou!D1539=\"\",\"\",syoriyou!D1539)","v":""},{"$f":"IF(syoriyou!E1539=\"\",\"\",syoriyou!E1539)","v":""},{"$f":"IF(syoriyou!F1539=\"\",\"\",syoriyou!F1539)","v":""},{"$f":"IF(syoriyou!G1539=\"\",\"\",syoriyou!G1539)","v":""},{"$f":"IF(syoriyou!H1539=\"\",\"\",syoriyou!H1539)","v":""},{"$f":"IF(syoriyou!I1539=\"\",\"\",syoriyou!I1539)","v":""},{"$f":"IF(syoriyou!J1539=\"\",\"\",syoriyou!N1539)","v":""}]
[{"$f":"IF(syoriyou!A1540=\"\",\"\",syoriyou!A1540)","v":""},{"$f":"IF(syoriyou!B1540=\"\",\"\",syoriyou!B1540)","v":""},{"$f":"IF(syoriyou!C1540=\"\",\"\",syoriyou!C1540)","v":""},{"$f":"IF(syoriyou!D1540=\"\",\"\",syoriyou!D1540)","v":""},{"$f":"IF(syoriyou!E1540=\"\",\"\",syoriyou!E1540)","v":""},{"$f":"IF(syoriyou!F1540=\"\",\"\",syoriyou!F1540)","v":""},{"$f":"IF(syoriyou!G1540=\"\",\"\",syoriyou!G1540)","v":""},{"$f":"IF(syoriyou!H1540=\"\",\"\",syoriyou!H1540)","v":""},{"$f":"IF(syoriyou!I1540=\"\",\"\",syoriyou!I1540)","v":""},{"$f":"IF(syoriyou!J1540=\"\",\"\",syoriyou!N1540)","v":""}]
[{"$f":"IF(syoriyou!A1541=\"\",\"\",syoriyou!A1541)","v":""},{"$f":"IF(syoriyou!B1541=\"\",\"\",syoriyou!B1541)","v":""},{"$f":"IF(syoriyou!C1541=\"\",\"\",syoriyou!C1541)","v":""},{"$f":"IF(syoriyou!D1541=\"\",\"\",syoriyou!D1541)","v":""},{"$f":"IF(syoriyou!E1541=\"\",\"\",syoriyou!E1541)","v":""},{"$f":"IF(syoriyou!F1541=\"\",\"\",syoriyou!F1541)","v":""},{"$f":"IF(syoriyou!G1541=\"\",\"\",syoriyou!G1541)","v":""},{"$f":"IF(syoriyou!H1541=\"\",\"\",syoriyou!H1541)","v":""},{"$f":"IF(syoriyou!I1541=\"\",\"\",syoriyou!I1541)","v":""},{"$f":"IF(syoriyou!J1541=\"\",\"\",syoriyou!N1541)","v":""}]
[{"$f":"IF(syoriyou!A1542=\"\",\"\",syoriyou!A1542)","v":""},{"$f":"IF(syoriyou!B1542=\"\",\"\",syoriyou!B1542)","v":""},{"$f":"IF(syoriyou!C1542=\"\",\"\",syoriyou!C1542)","v":""},{"$f":"IF(syoriyou!D1542=\"\",\"\",syoriyou!D1542)","v":""},{"$f":"IF(syoriyou!E1542=\"\",\"\",syoriyou!E1542)","v":""},{"$f":"IF(syoriyou!F1542=\"\",\"\",syoriyou!F1542)","v":""},{"$f":"IF(syoriyou!G1542=\"\",\"\",syoriyou!G1542)","v":""},{"$f":"IF(syoriyou!H1542=\"\",\"\",syoriyou!H1542)","v":""},{"$f":"IF(syoriyou!I1542=\"\",\"\",syoriyou!I1542)","v":""},{"$f":"IF(syoriyou!J1542=\"\",\"\",syoriyou!N1542)","v":""}]
[{"$f":"IF(syoriyou!A1543=\"\",\"\",syoriyou!A1543)","v":""},{"$f":"IF(syoriyou!B1543=\"\",\"\",syoriyou!B1543)","v":""},{"$f":"IF(syoriyou!C1543=\"\",\"\",syoriyou!C1543)","v":""},{"$f":"IF(syoriyou!D1543=\"\",\"\",syoriyou!D1543)","v":""},{"$f":"IF(syoriyou!E1543=\"\",\"\",syoriyou!E1543)","v":""},{"$f":"IF(syoriyou!F1543=\"\",\"\",syoriyou!F1543)","v":""},{"$f":"IF(syoriyou!G1543=\"\",\"\",syoriyou!G1543)","v":""},{"$f":"IF(syoriyou!H1543=\"\",\"\",syoriyou!H1543)","v":""},{"$f":"IF(syoriyou!I1543=\"\",\"\",syoriyou!I1543)","v":""},{"$f":"IF(syoriyou!J1543=\"\",\"\",syoriyou!N1543)","v":""}]
[{"$f":"IF(syoriyou!A1544=\"\",\"\",syoriyou!A1544)","v":""},{"$f":"IF(syoriyou!B1544=\"\",\"\",syoriyou!B1544)","v":""},{"$f":"IF(syoriyou!C1544=\"\",\"\",syoriyou!C1544)","v":""},{"$f":"IF(syoriyou!D1544=\"\",\"\",syoriyou!D1544)","v":""},{"$f":"IF(syoriyou!E1544=\"\",\"\",syoriyou!E1544)","v":""},{"$f":"IF(syoriyou!F1544=\"\",\"\",syoriyou!F1544)","v":""},{"$f":"IF(syoriyou!G1544=\"\",\"\",syoriyou!G1544)","v":""},{"$f":"IF(syoriyou!H1544=\"\",\"\",syoriyou!H1544)","v":""},{"$f":"IF(syoriyou!I1544=\"\",\"\",syoriyou!I1544)","v":""},{"$f":"IF(syoriyou!J1544=\"\",\"\",syoriyou!N1544)","v":""}]
[{"$f":"IF(syoriyou!A1545=\"\",\"\",syoriyou!A1545)","v":""},{"$f":"IF(syoriyou!B1545=\"\",\"\",syoriyou!B1545)","v":""},{"$f":"IF(syoriyou!C1545=\"\",\"\",syoriyou!C1545)","v":""},{"$f":"IF(syoriyou!D1545=\"\",\"\",syoriyou!D1545)","v":""},{"$f":"IF(syoriyou!E1545=\"\",\"\",syoriyou!E1545)","v":""},{"$f":"IF(syoriyou!F1545=\"\",\"\",syoriyou!F1545)","v":""},{"$f":"IF(syoriyou!G1545=\"\",\"\",syoriyou!G1545)","v":""},{"$f":"IF(syoriyou!H1545=\"\",\"\",syoriyou!H1545)","v":""},{"$f":"IF(syoriyou!I1545=\"\",\"\",syoriyou!I1545)","v":""},{"$f":"IF(syoriyou!J1545=\"\",\"\",syoriyou!N1545)","v":""}]
[{"$f":"IF(syoriyou!A1546=\"\",\"\",syoriyou!A1546)","v":""},{"$f":"IF(syoriyou!B1546=\"\",\"\",syoriyou!B1546)","v":""},{"$f":"IF(syoriyou!C1546=\"\",\"\",syoriyou!C1546)","v":""},{"$f":"IF(syoriyou!D1546=\"\",\"\",syoriyou!D1546)","v":""},{"$f":"IF(syoriyou!E1546=\"\",\"\",syoriyou!E1546)","v":""},{"$f":"IF(syoriyou!F1546=\"\",\"\",syoriyou!F1546)","v":""},{"$f":"IF(syoriyou!G1546=\"\",\"\",syoriyou!G1546)","v":""},{"$f":"IF(syoriyou!H1546=\"\",\"\",syoriyou!H1546)","v":""},{"$f":"IF(syoriyou!I1546=\"\",\"\",syoriyou!I1546)","v":""},{"$f":"IF(syoriyou!J1546=\"\",\"\",syoriyou!N1546)","v":""}]
[{"$f":"IF(syoriyou!A1547=\"\",\"\",syoriyou!A1547)","v":""},{"$f":"IF(syoriyou!B1547=\"\",\"\",syoriyou!B1547)","v":""},{"$f":"IF(syoriyou!C1547=\"\",\"\",syoriyou!C1547)","v":""},{"$f":"IF(syoriyou!D1547=\"\",\"\",syoriyou!D1547)","v":""},{"$f":"IF(syoriyou!E1547=\"\",\"\",syoriyou!E1547)","v":""},{"$f":"IF(syoriyou!F1547=\"\",\"\",syoriyou!F1547)","v":""},{"$f":"IF(syoriyou!G1547=\"\",\"\",syoriyou!G1547)","v":""},{"$f":"IF(syoriyou!H1547=\"\",\"\",syoriyou!H1547)","v":""},{"$f":"IF(syoriyou!I1547=\"\",\"\",syoriyou!I1547)","v":""},{"$f":"IF(syoriyou!J1547=\"\",\"\",syoriyou!N1547)","v":""}]
[{"$f":"IF(syoriyou!A1548=\"\",\"\",syoriyou!A1548)","v":""},{"$f":"IF(syoriyou!B1548=\"\",\"\",syoriyou!B1548)","v":""},{"$f":"IF(syoriyou!C1548=\"\",\"\",syoriyou!C1548)","v":""},{"$f":"IF(syoriyou!D1548=\"\",\"\",syoriyou!D1548)","v":""},{"$f":"IF(syoriyou!E1548=\"\",\"\",syoriyou!E1548)","v":""},{"$f":"IF(syoriyou!F1548=\"\",\"\",syoriyou!F1548)","v":""},{"$f":"IF(syoriyou!G1548=\"\",\"\",syoriyou!G1548)","v":""},{"$f":"IF(syoriyou!H1548=\"\",\"\",syoriyou!H1548)","v":""},{"$f":"IF(syoriyou!I1548=\"\",\"\",syoriyou!I1548)","v":""},{"$f":"IF(syoriyou!J1548=\"\",\"\",syoriyou!N1548)","v":""}]
[{"$f":"IF(syoriyou!A1549=\"\",\"\",syoriyou!A1549)","v":""},{"$f":"IF(syoriyou!B1549=\"\",\"\",syoriyou!B1549)","v":""},{"$f":"IF(syoriyou!C1549=\"\",\"\",syoriyou!C1549)","v":""},{"$f":"IF(syoriyou!D1549=\"\",\"\",syoriyou!D1549)","v":""},{"$f":"IF(syoriyou!E1549=\"\",\"\",syoriyou!E1549)","v":""},{"$f":"IF(syoriyou!F1549=\"\",\"\",syoriyou!F1549)","v":""},{"$f":"IF(syoriyou!G1549=\"\",\"\",syoriyou!G1549)","v":""},{"$f":"IF(syoriyou!H1549=\"\",\"\",syoriyou!H1549)","v":""},{"$f":"IF(syoriyou!I1549=\"\",\"\",syoriyou!I1549)","v":""},{"$f":"IF(syoriyou!J1549=\"\",\"\",syoriyou!N1549)","v":""}]
[{"$f":"IF(syoriyou!A1550=\"\",\"\",syoriyou!A1550)","v":""},{"$f":"IF(syoriyou!B1550=\"\",\"\",syoriyou!B1550)","v":""},{"$f":"IF(syoriyou!C1550=\"\",\"\",syoriyou!C1550)","v":""},{"$f":"IF(syoriyou!D1550=\"\",\"\",syoriyou!D1550)","v":""},{"$f":"IF(syoriyou!E1550=\"\",\"\",syoriyou!E1550)","v":""},{"$f":"IF(syoriyou!F1550=\"\",\"\",syoriyou!F1550)","v":""},{"$f":"IF(syoriyou!G1550=\"\",\"\",syoriyou!G1550)","v":""},{"$f":"IF(syoriyou!H1550=\"\",\"\",syoriyou!H1550)","v":""},{"$f":"IF(syoriyou!I1550=\"\",\"\",syoriyou!I1550)","v":""},{"$f":"IF(syoriyou!J1550=\"\",\"\",syoriyou!N1550)","v":""}]
[{"$f":"IF(syoriyou!A1551=\"\",\"\",syoriyou!A1551)","v":""},{"$f":"IF(syoriyou!B1551=\"\",\"\",syoriyou!B1551)","v":""},{"$f":"IF(syoriyou!C1551=\"\",\"\",syoriyou!C1551)","v":""},{"$f":"IF(syoriyou!D1551=\"\",\"\",syoriyou!D1551)","v":""},{"$f":"IF(syoriyou!E1551=\"\",\"\",syoriyou!E1551)","v":""},{"$f":"IF(syoriyou!F1551=\"\",\"\",syoriyou!F1551)","v":""},{"$f":"IF(syoriyou!G1551=\"\",\"\",syoriyou!G1551)","v":""},{"$f":"IF(syoriyou!H1551=\"\",\"\",syoriyou!H1551)","v":""},{"$f":"IF(syoriyou!I1551=\"\",\"\",syoriyou!I1551)","v":""},{"$f":"IF(syoriyou!J1551=\"\",\"\",syoriyou!N1551)","v":""}]
[{"$f":"IF(syoriyou!A1552=\"\",\"\",syoriyou!A1552)","v":""},{"$f":"IF(syoriyou!B1552=\"\",\"\",syoriyou!B1552)","v":""},{"$f":"IF(syoriyou!C1552=\"\",\"\",syoriyou!C1552)","v":""},{"$f":"IF(syoriyou!D1552=\"\",\"\",syoriyou!D1552)","v":""},{"$f":"IF(syoriyou!E1552=\"\",\"\",syoriyou!E1552)","v":""},{"$f":"IF(syoriyou!F1552=\"\",\"\",syoriyou!F1552)","v":""},{"$f":"IF(syoriyou!G1552=\"\",\"\",syoriyou!G1552)","v":""},{"$f":"IF(syoriyou!H1552=\"\",\"\",syoriyou!H1552)","v":""},{"$f":"IF(syoriyou!I1552=\"\",\"\",syoriyou!I1552)","v":""},{"$f":"IF(syoriyou!J1552=\"\",\"\",syoriyou!N1552)","v":""}]
[{"$f":"IF(syoriyou!A1553=\"\",\"\",syoriyou!A1553)","v":""},{"$f":"IF(syoriyou!B1553=\"\",\"\",syoriyou!B1553)","v":""},{"$f":"IF(syoriyou!C1553=\"\",\"\",syoriyou!C1553)","v":""},{"$f":"IF(syoriyou!D1553=\"\",\"\",syoriyou!D1553)","v":""},{"$f":"IF(syoriyou!E1553=\"\",\"\",syoriyou!E1553)","v":""},{"$f":"IF(syoriyou!F1553=\"\",\"\",syoriyou!F1553)","v":""},{"$f":"IF(syoriyou!G1553=\"\",\"\",syoriyou!G1553)","v":""},{"$f":"IF(syoriyou!H1553=\"\",\"\",syoriyou!H1553)","v":""},{"$f":"IF(syoriyou!I1553=\"\",\"\",syoriyou!I1553)","v":""},{"$f":"IF(syoriyou!J1553=\"\",\"\",syoriyou!N1553)","v":""}]
[{"$f":"IF(syoriyou!A1554=\"\",\"\",syoriyou!A1554)","v":""},{"$f":"IF(syoriyou!B1554=\"\",\"\",syoriyou!B1554)","v":""},{"$f":"IF(syoriyou!C1554=\"\",\"\",syoriyou!C1554)","v":""},{"$f":"IF(syoriyou!D1554=\"\",\"\",syoriyou!D1554)","v":""},{"$f":"IF(syoriyou!E1554=\"\",\"\",syoriyou!E1554)","v":""},{"$f":"IF(syoriyou!F1554=\"\",\"\",syoriyou!F1554)","v":""},{"$f":"IF(syoriyou!G1554=\"\",\"\",syoriyou!G1554)","v":""},{"$f":"IF(syoriyou!H1554=\"\",\"\",syoriyou!H1554)","v":""},{"$f":"IF(syoriyou!I1554=\"\",\"\",syoriyou!I1554)","v":""},{"$f":"IF(syoriyou!J1554=\"\",\"\",syoriyou!N1554)","v":""}]
[{"$f":"IF(syoriyou!A1555=\"\",\"\",syoriyou!A1555)","v":""},{"$f":"IF(syoriyou!B1555=\"\",\"\",syoriyou!B1555)","v":""},{"$f":"IF(syoriyou!C1555=\"\",\"\",syoriyou!C1555)","v":""},{"$f":"IF(syoriyou!D1555=\"\",\"\",syoriyou!D1555)","v":""},{"$f":"IF(syoriyou!E1555=\"\",\"\",syoriyou!E1555)","v":""},{"$f":"IF(syoriyou!F1555=\"\",\"\",syoriyou!F1555)","v":""},{"$f":"IF(syoriyou!G1555=\"\",\"\",syoriyou!G1555)","v":""},{"$f":"IF(syoriyou!H1555=\"\",\"\",syoriyou!H1555)","v":""},{"$f":"IF(syoriyou!I1555=\"\",\"\",syoriyou!I1555)","v":""},{"$f":"IF(syoriyou!J1555=\"\",\"\",syoriyou!N1555)","v":""}]
[{"$f":"IF(syoriyou!A1556=\"\",\"\",syoriyou!A1556)","v":""},{"$f":"IF(syoriyou!B1556=\"\",\"\",syoriyou!B1556)","v":""},{"$f":"IF(syoriyou!C1556=\"\",\"\",syoriyou!C1556)","v":""},{"$f":"IF(syoriyou!D1556=\"\",\"\",syoriyou!D1556)","v":""},{"$f":"IF(syoriyou!E1556=\"\",\"\",syoriyou!E1556)","v":""},{"$f":"IF(syoriyou!F1556=\"\",\"\",syoriyou!F1556)","v":""},{"$f":"IF(syoriyou!G1556=\"\",\"\",syoriyou!G1556)","v":""},{"$f":"IF(syoriyou!H1556=\"\",\"\",syoriyou!H1556)","v":""},{"$f":"IF(syoriyou!I1556=\"\",\"\",syoriyou!I1556)","v":""},{"$f":"IF(syoriyou!J1556=\"\",\"\",syoriyou!N1556)","v":""}]
[{"$f":"IF(syoriyou!A1557=\"\",\"\",syoriyou!A1557)","v":""},{"$f":"IF(syoriyou!B1557=\"\",\"\",syoriyou!B1557)","v":""},{"$f":"IF(syoriyou!C1557=\"\",\"\",syoriyou!C1557)","v":""},{"$f":"IF(syoriyou!D1557=\"\",\"\",syoriyou!D1557)","v":""},{"$f":"IF(syoriyou!E1557=\"\",\"\",syoriyou!E1557)","v":""},{"$f":"IF(syoriyou!F1557=\"\",\"\",syoriyou!F1557)","v":""},{"$f":"IF(syoriyou!G1557=\"\",\"\",syoriyou!G1557)","v":""},{"$f":"IF(syoriyou!H1557=\"\",\"\",syoriyou!H1557)","v":""},{"$f":"IF(syoriyou!I1557=\"\",\"\",syoriyou!I1557)","v":""},{"$f":"IF(syoriyou!J1557=\"\",\"\",syoriyou!N1557)","v":""}]
[{"$f":"IF(syoriyou!A1558=\"\",\"\",syoriyou!A1558)","v":""},{"$f":"IF(syoriyou!B1558=\"\",\"\",syoriyou!B1558)","v":""},{"$f":"IF(syoriyou!C1558=\"\",\"\",syoriyou!C1558)","v":""},{"$f":"IF(syoriyou!D1558=\"\",\"\",syoriyou!D1558)","v":""},{"$f":"IF(syoriyou!E1558=\"\",\"\",syoriyou!E1558)","v":""},{"$f":"IF(syoriyou!F1558=\"\",\"\",syoriyou!F1558)","v":""},{"$f":"IF(syoriyou!G1558=\"\",\"\",syoriyou!G1558)","v":""},{"$f":"IF(syoriyou!H1558=\"\",\"\",syoriyou!H1558)","v":""},{"$f":"IF(syoriyou!I1558=\"\",\"\",syoriyou!I1558)","v":""},{"$f":"IF(syoriyou!J1558=\"\",\"\",syoriyou!N1558)","v":""}]
[{"$f":"IF(syoriyou!A1559=\"\",\"\",syoriyou!A1559)","v":""},{"$f":"IF(syoriyou!B1559=\"\",\"\",syoriyou!B1559)","v":""},{"$f":"IF(syoriyou!C1559=\"\",\"\",syoriyou!C1559)","v":""},{"$f":"IF(syoriyou!D1559=\"\",\"\",syoriyou!D1559)","v":""},{"$f":"IF(syoriyou!E1559=\"\",\"\",syoriyou!E1559)","v":""},{"$f":"IF(syoriyou!F1559=\"\",\"\",syoriyou!F1559)","v":""},{"$f":"IF(syoriyou!G1559=\"\",\"\",syoriyou!G1559)","v":""},{"$f":"IF(syoriyou!H1559=\"\",\"\",syoriyou!H1559)","v":""},{"$f":"IF(syoriyou!I1559=\"\",\"\",syoriyou!I1559)","v":""},{"$f":"IF(syoriyou!J1559=\"\",\"\",syoriyou!N1559)","v":""}]
[{"$f":"IF(syoriyou!A1560=\"\",\"\",syoriyou!A1560)","v":""},{"$f":"IF(syoriyou!B1560=\"\",\"\",syoriyou!B1560)","v":""},{"$f":"IF(syoriyou!C1560=\"\",\"\",syoriyou!C1560)","v":""},{"$f":"IF(syoriyou!D1560=\"\",\"\",syoriyou!D1560)","v":""},{"$f":"IF(syoriyou!E1560=\"\",\"\",syoriyou!E1560)","v":""},{"$f":"IF(syoriyou!F1560=\"\",\"\",syoriyou!F1560)","v":""},{"$f":"IF(syoriyou!G1560=\"\",\"\",syoriyou!G1560)","v":""},{"$f":"IF(syoriyou!H1560=\"\",\"\",syoriyou!H1560)","v":""},{"$f":"IF(syoriyou!I1560=\"\",\"\",syoriyou!I1560)","v":""},{"$f":"IF(syoriyou!J1560=\"\",\"\",syoriyou!N1560)","v":""}]
[{"$f":"IF(syoriyou!A1561=\"\",\"\",syoriyou!A1561)","v":""},{"$f":"IF(syoriyou!B1561=\"\",\"\",syoriyou!B1561)","v":""},{"$f":"IF(syoriyou!C1561=\"\",\"\",syoriyou!C1561)","v":""},{"$f":"IF(syoriyou!D1561=\"\",\"\",syoriyou!D1561)","v":""},{"$f":"IF(syoriyou!E1561=\"\",\"\",syoriyou!E1561)","v":""},{"$f":"IF(syoriyou!F1561=\"\",\"\",syoriyou!F1561)","v":""},{"$f":"IF(syoriyou!G1561=\"\",\"\",syoriyou!G1561)","v":""},{"$f":"IF(syoriyou!H1561=\"\",\"\",syoriyou!H1561)","v":""},{"$f":"IF(syoriyou!I1561=\"\",\"\",syoriyou!I1561)","v":""},{"$f":"IF(syoriyou!J1561=\"\",\"\",syoriyou!N1561)","v":""}]
[{"$f":"IF(syoriyou!A1562=\"\",\"\",syoriyou!A1562)","v":""},{"$f":"IF(syoriyou!B1562=\"\",\"\",syoriyou!B1562)","v":""},{"$f":"IF(syoriyou!C1562=\"\",\"\",syoriyou!C1562)","v":""},{"$f":"IF(syoriyou!D1562=\"\",\"\",syoriyou!D1562)","v":""},{"$f":"IF(syoriyou!E1562=\"\",\"\",syoriyou!E1562)","v":""},{"$f":"IF(syoriyou!F1562=\"\",\"\",syoriyou!F1562)","v":""},{"$f":"IF(syoriyou!G1562=\"\",\"\",syoriyou!G1562)","v":""},{"$f":"IF(syoriyou!H1562=\"\",\"\",syoriyou!H1562)","v":""},{"$f":"IF(syoriyou!I1562=\"\",\"\",syoriyou!I1562)","v":""},{"$f":"IF(syoriyou!J1562=\"\",\"\",syoriyou!N1562)","v":""}]
[{"$f":"IF(syoriyou!A1563=\"\",\"\",syoriyou!A1563)","v":""},{"$f":"IF(syoriyou!B1563=\"\",\"\",syoriyou!B1563)","v":""},{"$f":"IF(syoriyou!C1563=\"\",\"\",syoriyou!C1563)","v":""},{"$f":"IF(syoriyou!D1563=\"\",\"\",syoriyou!D1563)","v":""},{"$f":"IF(syoriyou!E1563=\"\",\"\",syoriyou!E1563)","v":""},{"$f":"IF(syoriyou!F1563=\"\",\"\",syoriyou!F1563)","v":""},{"$f":"IF(syoriyou!G1563=\"\",\"\",syoriyou!G1563)","v":""},{"$f":"IF(syoriyou!H1563=\"\",\"\",syoriyou!H1563)","v":""},{"$f":"IF(syoriyou!I1563=\"\",\"\",syoriyou!I1563)","v":""},{"$f":"IF(syoriyou!J1563=\"\",\"\",syoriyou!N1563)","v":""}]
[{"$f":"IF(syoriyou!A1564=\"\",\"\",syoriyou!A1564)","v":""},{"$f":"IF(syoriyou!B1564=\"\",\"\",syoriyou!B1564)","v":""},{"$f":"IF(syoriyou!C1564=\"\",\"\",syoriyou!C1564)","v":""},{"$f":"IF(syoriyou!D1564=\"\",\"\",syoriyou!D1564)","v":""},{"$f":"IF(syoriyou!E1564=\"\",\"\",syoriyou!E1564)","v":""},{"$f":"IF(syoriyou!F1564=\"\",\"\",syoriyou!F1564)","v":""},{"$f":"IF(syoriyou!G1564=\"\",\"\",syoriyou!G1564)","v":""},{"$f":"IF(syoriyou!H1564=\"\",\"\",syoriyou!H1564)","v":""},{"$f":"IF(syoriyou!I1564=\"\",\"\",syoriyou!I1564)","v":""},{"$f":"IF(syoriyou!J1564=\"\",\"\",syoriyou!N1564)","v":""}]
[{"$f":"IF(syoriyou!A1565=\"\",\"\",syoriyou!A1565)","v":""},{"$f":"IF(syoriyou!B1565=\"\",\"\",syoriyou!B1565)","v":""},{"$f":"IF(syoriyou!C1565=\"\",\"\",syoriyou!C1565)","v":""},{"$f":"IF(syoriyou!D1565=\"\",\"\",syoriyou!D1565)","v":""},{"$f":"IF(syoriyou!E1565=\"\",\"\",syoriyou!E1565)","v":""},{"$f":"IF(syoriyou!F1565=\"\",\"\",syoriyou!F1565)","v":""},{"$f":"IF(syoriyou!G1565=\"\",\"\",syoriyou!G1565)","v":""},{"$f":"IF(syoriyou!H1565=\"\",\"\",syoriyou!H1565)","v":""},{"$f":"IF(syoriyou!I1565=\"\",\"\",syoriyou!I1565)","v":""},{"$f":"IF(syoriyou!J1565=\"\",\"\",syoriyou!N1565)","v":""}]
[{"$f":"IF(syoriyou!A1566=\"\",\"\",syoriyou!A1566)","v":""},{"$f":"IF(syoriyou!B1566=\"\",\"\",syoriyou!B1566)","v":""},{"$f":"IF(syoriyou!C1566=\"\",\"\",syoriyou!C1566)","v":""},{"$f":"IF(syoriyou!D1566=\"\",\"\",syoriyou!D1566)","v":""},{"$f":"IF(syoriyou!E1566=\"\",\"\",syoriyou!E1566)","v":""},{"$f":"IF(syoriyou!F1566=\"\",\"\",syoriyou!F1566)","v":""},{"$f":"IF(syoriyou!G1566=\"\",\"\",syoriyou!G1566)","v":""},{"$f":"IF(syoriyou!H1566=\"\",\"\",syoriyou!H1566)","v":""},{"$f":"IF(syoriyou!I1566=\"\",\"\",syoriyou!I1566)","v":""},{"$f":"IF(syoriyou!J1566=\"\",\"\",syoriyou!N1566)","v":""}]
[{"$f":"IF(syoriyou!A1567=\"\",\"\",syoriyou!A1567)","v":""},{"$f":"IF(syoriyou!B1567=\"\",\"\",syoriyou!B1567)","v":""},{"$f":"IF(syoriyou!C1567=\"\",\"\",syoriyou!C1567)","v":""},{"$f":"IF(syoriyou!D1567=\"\",\"\",syoriyou!D1567)","v":""},{"$f":"IF(syoriyou!E1567=\"\",\"\",syoriyou!E1567)","v":""},{"$f":"IF(syoriyou!F1567=\"\",\"\",syoriyou!F1567)","v":""},{"$f":"IF(syoriyou!G1567=\"\",\"\",syoriyou!G1567)","v":""},{"$f":"IF(syoriyou!H1567=\"\",\"\",syoriyou!H1567)","v":""},{"$f":"IF(syoriyou!I1567=\"\",\"\",syoriyou!I1567)","v":""},{"$f":"IF(syoriyou!J1567=\"\",\"\",syoriyou!N1567)","v":""}]
[{"$f":"IF(syoriyou!A1568=\"\",\"\",syoriyou!A1568)","v":""},{"$f":"IF(syoriyou!B1568=\"\",\"\",syoriyou!B1568)","v":""},{"$f":"IF(syoriyou!C1568=\"\",\"\",syoriyou!C1568)","v":""},{"$f":"IF(syoriyou!D1568=\"\",\"\",syoriyou!D1568)","v":""},{"$f":"IF(syoriyou!E1568=\"\",\"\",syoriyou!E1568)","v":""},{"$f":"IF(syoriyou!F1568=\"\",\"\",syoriyou!F1568)","v":""},{"$f":"IF(syoriyou!G1568=\"\",\"\",syoriyou!G1568)","v":""},{"$f":"IF(syoriyou!H1568=\"\",\"\",syoriyou!H1568)","v":""},{"$f":"IF(syoriyou!I1568=\"\",\"\",syoriyou!I1568)","v":""},{"$f":"IF(syoriyou!J1568=\"\",\"\",syoriyou!N1568)","v":""}]
[{"$f":"IF(syoriyou!A1569=\"\",\"\",syoriyou!A1569)","v":""},{"$f":"IF(syoriyou!B1569=\"\",\"\",syoriyou!B1569)","v":""},{"$f":"IF(syoriyou!C1569=\"\",\"\",syoriyou!C1569)","v":""},{"$f":"IF(syoriyou!D1569=\"\",\"\",syoriyou!D1569)","v":""},{"$f":"IF(syoriyou!E1569=\"\",\"\",syoriyou!E1569)","v":""},{"$f":"IF(syoriyou!F1569=\"\",\"\",syoriyou!F1569)","v":""},{"$f":"IF(syoriyou!G1569=\"\",\"\",syoriyou!G1569)","v":""},{"$f":"IF(syoriyou!H1569=\"\",\"\",syoriyou!H1569)","v":""},{"$f":"IF(syoriyou!I1569=\"\",\"\",syoriyou!I1569)","v":""},{"$f":"IF(syoriyou!J1569=\"\",\"\",syoriyou!N1569)","v":""}]
[{"$f":"IF(syoriyou!A1570=\"\",\"\",syoriyou!A1570)","v":""},{"$f":"IF(syoriyou!B1570=\"\",\"\",syoriyou!B1570)","v":""},{"$f":"IF(syoriyou!C1570=\"\",\"\",syoriyou!C1570)","v":""},{"$f":"IF(syoriyou!D1570=\"\",\"\",syoriyou!D1570)","v":""},{"$f":"IF(syoriyou!E1570=\"\",\"\",syoriyou!E1570)","v":""},{"$f":"IF(syoriyou!F1570=\"\",\"\",syoriyou!F1570)","v":""},{"$f":"IF(syoriyou!G1570=\"\",\"\",syoriyou!G1570)","v":""},{"$f":"IF(syoriyou!H1570=\"\",\"\",syoriyou!H1570)","v":""},{"$f":"IF(syoriyou!I1570=\"\",\"\",syoriyou!I1570)","v":""},{"$f":"IF(syoriyou!J1570=\"\",\"\",syoriyou!N1570)","v":""}]
[{"$f":"IF(syoriyou!A1571=\"\",\"\",syoriyou!A1571)","v":""},{"$f":"IF(syoriyou!B1571=\"\",\"\",syoriyou!B1571)","v":""},{"$f":"IF(syoriyou!C1571=\"\",\"\",syoriyou!C1571)","v":""},{"$f":"IF(syoriyou!D1571=\"\",\"\",syoriyou!D1571)","v":""},{"$f":"IF(syoriyou!E1571=\"\",\"\",syoriyou!E1571)","v":""},{"$f":"IF(syoriyou!F1571=\"\",\"\",syoriyou!F1571)","v":""},{"$f":"IF(syoriyou!G1571=\"\",\"\",syoriyou!G1571)","v":""},{"$f":"IF(syoriyou!H1571=\"\",\"\",syoriyou!H1571)","v":""},{"$f":"IF(syoriyou!I1571=\"\",\"\",syoriyou!I1571)","v":""},{"$f":"IF(syoriyou!J1571=\"\",\"\",syoriyou!N1571)","v":""}]
[{"$f":"IF(syoriyou!A1572=\"\",\"\",syoriyou!A1572)","v":""},{"$f":"IF(syoriyou!B1572=\"\",\"\",syoriyou!B1572)","v":""},{"$f":"IF(syoriyou!C1572=\"\",\"\",syoriyou!C1572)","v":""},{"$f":"IF(syoriyou!D1572=\"\",\"\",syoriyou!D1572)","v":""},{"$f":"IF(syoriyou!E1572=\"\",\"\",syoriyou!E1572)","v":""},{"$f":"IF(syoriyou!F1572=\"\",\"\",syoriyou!F1572)","v":""},{"$f":"IF(syoriyou!G1572=\"\",\"\",syoriyou!G1572)","v":""},{"$f":"IF(syoriyou!H1572=\"\",\"\",syoriyou!H1572)","v":""},{"$f":"IF(syoriyou!I1572=\"\",\"\",syoriyou!I1572)","v":""},{"$f":"IF(syoriyou!J1572=\"\",\"\",syoriyou!N1572)","v":""}]
[{"$f":"IF(syoriyou!A1573=\"\",\"\",syoriyou!A1573)","v":""},{"$f":"IF(syoriyou!B1573=\"\",\"\",syoriyou!B1573)","v":""},{"$f":"IF(syoriyou!C1573=\"\",\"\",syoriyou!C1573)","v":""},{"$f":"IF(syoriyou!D1573=\"\",\"\",syoriyou!D1573)","v":""},{"$f":"IF(syoriyou!E1573=\"\",\"\",syoriyou!E1573)","v":""},{"$f":"IF(syoriyou!F1573=\"\",\"\",syoriyou!F1573)","v":""},{"$f":"IF(syoriyou!G1573=\"\",\"\",syoriyou!G1573)","v":""},{"$f":"IF(syoriyou!H1573=\"\",\"\",syoriyou!H1573)","v":""},{"$f":"IF(syoriyou!I1573=\"\",\"\",syoriyou!I1573)","v":""},{"$f":"IF(syoriyou!J1573=\"\",\"\",syoriyou!N1573)","v":""}]
[{"$f":"IF(syoriyou!A1574=\"\",\"\",syoriyou!A1574)","v":""},{"$f":"IF(syoriyou!B1574=\"\",\"\",syoriyou!B1574)","v":""},{"$f":"IF(syoriyou!C1574=\"\",\"\",syoriyou!C1574)","v":""},{"$f":"IF(syoriyou!D1574=\"\",\"\",syoriyou!D1574)","v":""},{"$f":"IF(syoriyou!E1574=\"\",\"\",syoriyou!E1574)","v":""},{"$f":"IF(syoriyou!F1574=\"\",\"\",syoriyou!F1574)","v":""},{"$f":"IF(syoriyou!G1574=\"\",\"\",syoriyou!G1574)","v":""},{"$f":"IF(syoriyou!H1574=\"\",\"\",syoriyou!H1574)","v":""},{"$f":"IF(syoriyou!I1574=\"\",\"\",syoriyou!I1574)","v":""},{"$f":"IF(syoriyou!J1574=\"\",\"\",syoriyou!N1574)","v":""}]
[{"$f":"IF(syoriyou!A1575=\"\",\"\",syoriyou!A1575)","v":""},{"$f":"IF(syoriyou!B1575=\"\",\"\",syoriyou!B1575)","v":""},{"$f":"IF(syoriyou!C1575=\"\",\"\",syoriyou!C1575)","v":""},{"$f":"IF(syoriyou!D1575=\"\",\"\",syoriyou!D1575)","v":""},{"$f":"IF(syoriyou!E1575=\"\",\"\",syoriyou!E1575)","v":""},{"$f":"IF(syoriyou!F1575=\"\",\"\",syoriyou!F1575)","v":""},{"$f":"IF(syoriyou!G1575=\"\",\"\",syoriyou!G1575)","v":""},{"$f":"IF(syoriyou!H1575=\"\",\"\",syoriyou!H1575)","v":""},{"$f":"IF(syoriyou!I1575=\"\",\"\",syoriyou!I1575)","v":""},{"$f":"IF(syoriyou!J1575=\"\",\"\",syoriyou!N1575)","v":""}]
[{"$f":"IF(syoriyou!A1576=\"\",\"\",syoriyou!A1576)","v":""},{"$f":"IF(syoriyou!B1576=\"\",\"\",syoriyou!B1576)","v":""},{"$f":"IF(syoriyou!C1576=\"\",\"\",syoriyou!C1576)","v":""},{"$f":"IF(syoriyou!D1576=\"\",\"\",syoriyou!D1576)","v":""},{"$f":"IF(syoriyou!E1576=\"\",\"\",syoriyou!E1576)","v":""},{"$f":"IF(syoriyou!F1576=\"\",\"\",syoriyou!F1576)","v":""},{"$f":"IF(syoriyou!G1576=\"\",\"\",syoriyou!G1576)","v":""},{"$f":"IF(syoriyou!H1576=\"\",\"\",syoriyou!H1576)","v":""},{"$f":"IF(syoriyou!I1576=\"\",\"\",syoriyou!I1576)","v":""},{"$f":"IF(syoriyou!J1576=\"\",\"\",syoriyou!N1576)","v":""}]
[{"$f":"IF(syoriyou!A1577=\"\",\"\",syoriyou!A1577)","v":""},{"$f":"IF(syoriyou!B1577=\"\",\"\",syoriyou!B1577)","v":""},{"$f":"IF(syoriyou!C1577=\"\",\"\",syoriyou!C1577)","v":""},{"$f":"IF(syoriyou!D1577=\"\",\"\",syoriyou!D1577)","v":""},{"$f":"IF(syoriyou!E1577=\"\",\"\",syoriyou!E1577)","v":""},{"$f":"IF(syoriyou!F1577=\"\",\"\",syoriyou!F1577)","v":""},{"$f":"IF(syoriyou!G1577=\"\",\"\",syoriyou!G1577)","v":""},{"$f":"IF(syoriyou!H1577=\"\",\"\",syoriyou!H1577)","v":""},{"$f":"IF(syoriyou!I1577=\"\",\"\",syoriyou!I1577)","v":""},{"$f":"IF(syoriyou!J1577=\"\",\"\",syoriyou!N1577)","v":""}]
[{"$f":"IF(syoriyou!A1578=\"\",\"\",syoriyou!A1578)","v":""},{"$f":"IF(syoriyou!B1578=\"\",\"\",syoriyou!B1578)","v":""},{"$f":"IF(syoriyou!C1578=\"\",\"\",syoriyou!C1578)","v":""},{"$f":"IF(syoriyou!D1578=\"\",\"\",syoriyou!D1578)","v":""},{"$f":"IF(syoriyou!E1578=\"\",\"\",syoriyou!E1578)","v":""},{"$f":"IF(syoriyou!F1578=\"\",\"\",syoriyou!F1578)","v":""},{"$f":"IF(syoriyou!G1578=\"\",\"\",syoriyou!G1578)","v":""},{"$f":"IF(syoriyou!H1578=\"\",\"\",syoriyou!H1578)","v":""},{"$f":"IF(syoriyou!I1578=\"\",\"\",syoriyou!I1578)","v":""},{"$f":"IF(syoriyou!J1578=\"\",\"\",syoriyou!N1578)","v":""}]
[{"$f":"IF(syoriyou!A1579=\"\",\"\",syoriyou!A1579)","v":""},{"$f":"IF(syoriyou!B1579=\"\",\"\",syoriyou!B1579)","v":""},{"$f":"IF(syoriyou!C1579=\"\",\"\",syoriyou!C1579)","v":""},{"$f":"IF(syoriyou!D1579=\"\",\"\",syoriyou!D1579)","v":""},{"$f":"IF(syoriyou!E1579=\"\",\"\",syoriyou!E1579)","v":""},{"$f":"IF(syoriyou!F1579=\"\",\"\",syoriyou!F1579)","v":""},{"$f":"IF(syoriyou!G1579=\"\",\"\",syoriyou!G1579)","v":""},{"$f":"IF(syoriyou!H1579=\"\",\"\",syoriyou!H1579)","v":""},{"$f":"IF(syoriyou!I1579=\"\",\"\",syoriyou!I1579)","v":""},{"$f":"IF(syoriyou!J1579=\"\",\"\",syoriyou!N1579)","v":""}]
[{"$f":"IF(syoriyou!A1580=\"\",\"\",syoriyou!A1580)","v":""},{"$f":"IF(syoriyou!B1580=\"\",\"\",syoriyou!B1580)","v":""},{"$f":"IF(syoriyou!C1580=\"\",\"\",syoriyou!C1580)","v":""},{"$f":"IF(syoriyou!D1580=\"\",\"\",syoriyou!D1580)","v":""},{"$f":"IF(syoriyou!E1580=\"\",\"\",syoriyou!E1580)","v":""},{"$f":"IF(syoriyou!F1580=\"\",\"\",syoriyou!F1580)","v":""},{"$f":"IF(syoriyou!G1580=\"\",\"\",syoriyou!G1580)","v":""},{"$f":"IF(syoriyou!H1580=\"\",\"\",syoriyou!H1580)","v":""},{"$f":"IF(syoriyou!I1580=\"\",\"\",syoriyou!I1580)","v":""},{"$f":"IF(syoriyou!J1580=\"\",\"\",syoriyou!N1580)","v":""}]
[{"$f":"IF(syoriyou!A1581=\"\",\"\",syoriyou!A1581)","v":""},{"$f":"IF(syoriyou!B1581=\"\",\"\",syoriyou!B1581)","v":""},{"$f":"IF(syoriyou!C1581=\"\",\"\",syoriyou!C1581)","v":""},{"$f":"IF(syoriyou!D1581=\"\",\"\",syoriyou!D1581)","v":""},{"$f":"IF(syoriyou!E1581=\"\",\"\",syoriyou!E1581)","v":""},{"$f":"IF(syoriyou!F1581=\"\",\"\",syoriyou!F1581)","v":""},{"$f":"IF(syoriyou!G1581=\"\",\"\",syoriyou!G1581)","v":""},{"$f":"IF(syoriyou!H1581=\"\",\"\",syoriyou!H1581)","v":""},{"$f":"IF(syoriyou!I1581=\"\",\"\",syoriyou!I1581)","v":""},{"$f":"IF(syoriyou!J1581=\"\",\"\",syoriyou!N1581)","v":""}]
[{"$f":"IF(syoriyou!A1582=\"\",\"\",syoriyou!A1582)","v":""},{"$f":"IF(syoriyou!B1582=\"\",\"\",syoriyou!B1582)","v":""},{"$f":"IF(syoriyou!C1582=\"\",\"\",syoriyou!C1582)","v":""},{"$f":"IF(syoriyou!D1582=\"\",\"\",syoriyou!D1582)","v":""},{"$f":"IF(syoriyou!E1582=\"\",\"\",syoriyou!E1582)","v":""},{"$f":"IF(syoriyou!F1582=\"\",\"\",syoriyou!F1582)","v":""},{"$f":"IF(syoriyou!G1582=\"\",\"\",syoriyou!G1582)","v":""},{"$f":"IF(syoriyou!H1582=\"\",\"\",syoriyou!H1582)","v":""},{"$f":"IF(syoriyou!I1582=\"\",\"\",syoriyou!I1582)","v":""},{"$f":"IF(syoriyou!J1582=\"\",\"\",syoriyou!N1582)","v":""}]
[{"$f":"IF(syoriyou!A1583=\"\",\"\",syoriyou!A1583)","v":""},{"$f":"IF(syoriyou!B1583=\"\",\"\",syoriyou!B1583)","v":""},{"$f":"IF(syoriyou!C1583=\"\",\"\",syoriyou!C1583)","v":""},{"$f":"IF(syoriyou!D1583=\"\",\"\",syoriyou!D1583)","v":""},{"$f":"IF(syoriyou!E1583=\"\",\"\",syoriyou!E1583)","v":""},{"$f":"IF(syoriyou!F1583=\"\",\"\",syoriyou!F1583)","v":""},{"$f":"IF(syoriyou!G1583=\"\",\"\",syoriyou!G1583)","v":""},{"$f":"IF(syoriyou!H1583=\"\",\"\",syoriyou!H1583)","v":""},{"$f":"IF(syoriyou!I1583=\"\",\"\",syoriyou!I1583)","v":""},{"$f":"IF(syoriyou!J1583=\"\",\"\",syoriyou!N1583)","v":""}]
[{"$f":"IF(syoriyou!A1584=\"\",\"\",syoriyou!A1584)","v":""},{"$f":"IF(syoriyou!B1584=\"\",\"\",syoriyou!B1584)","v":""},{"$f":"IF(syoriyou!C1584=\"\",\"\",syoriyou!C1584)","v":""},{"$f":"IF(syoriyou!D1584=\"\",\"\",syoriyou!D1584)","v":""},{"$f":"IF(syoriyou!E1584=\"\",\"\",syoriyou!E1584)","v":""},{"$f":"IF(syoriyou!F1584=\"\",\"\",syoriyou!F1584)","v":""},{"$f":"IF(syoriyou!G1584=\"\",\"\",syoriyou!G1584)","v":""},{"$f":"IF(syoriyou!H1584=\"\",\"\",syoriyou!H1584)","v":""},{"$f":"IF(syoriyou!I1584=\"\",\"\",syoriyou!I1584)","v":""},{"$f":"IF(syoriyou!J1584=\"\",\"\",syoriyou!N1584)","v":""}]
[{"$f":"IF(syoriyou!A1585=\"\",\"\",syoriyou!A1585)","v":""},{"$f":"IF(syoriyou!B1585=\"\",\"\",syoriyou!B1585)","v":""},{"$f":"IF(syoriyou!C1585=\"\",\"\",syoriyou!C1585)","v":""},{"$f":"IF(syoriyou!D1585=\"\",\"\",syoriyou!D1585)","v":""},{"$f":"IF(syoriyou!E1585=\"\",\"\",syoriyou!E1585)","v":""},{"$f":"IF(syoriyou!F1585=\"\",\"\",syoriyou!F1585)","v":""},{"$f":"IF(syoriyou!G1585=\"\",\"\",syoriyou!G1585)","v":""},{"$f":"IF(syoriyou!H1585=\"\",\"\",syoriyou!H1585)","v":""},{"$f":"IF(syoriyou!I1585=\"\",\"\",syoriyou!I1585)","v":""},{"$f":"IF(syoriyou!J1585=\"\",\"\",syoriyou!N1585)","v":""}]
[{"$f":"IF(syoriyou!A1586=\"\",\"\",syoriyou!A1586)","v":""},{"$f":"IF(syoriyou!B1586=\"\",\"\",syoriyou!B1586)","v":""},{"$f":"IF(syoriyou!C1586=\"\",\"\",syoriyou!C1586)","v":""},{"$f":"IF(syoriyou!D1586=\"\",\"\",syoriyou!D1586)","v":""},{"$f":"IF(syoriyou!E1586=\"\",\"\",syoriyou!E1586)","v":""},{"$f":"IF(syoriyou!F1586=\"\",\"\",syoriyou!F1586)","v":""},{"$f":"IF(syoriyou!G1586=\"\",\"\",syoriyou!G1586)","v":""},{"$f":"IF(syoriyou!H1586=\"\",\"\",syoriyou!H1586)","v":""},{"$f":"IF(syoriyou!I1586=\"\",\"\",syoriyou!I1586)","v":""},{"$f":"IF(syoriyou!J1586=\"\",\"\",syoriyou!N1586)","v":""}]
[{"$f":"IF(syoriyou!A1587=\"\",\"\",syoriyou!A1587)","v":""},{"$f":"IF(syoriyou!B1587=\"\",\"\",syoriyou!B1587)","v":""},{"$f":"IF(syoriyou!C1587=\"\",\"\",syoriyou!C1587)","v":""},{"$f":"IF(syoriyou!D1587=\"\",\"\",syoriyou!D1587)","v":""},{"$f":"IF(syoriyou!E1587=\"\",\"\",syoriyou!E1587)","v":""},{"$f":"IF(syoriyou!F1587=\"\",\"\",syoriyou!F1587)","v":""},{"$f":"IF(syoriyou!G1587=\"\",\"\",syoriyou!G1587)","v":""},{"$f":"IF(syoriyou!H1587=\"\",\"\",syoriyou!H1587)","v":""},{"$f":"IF(syoriyou!I1587=\"\",\"\",syoriyou!I1587)","v":""},{"$f":"IF(syoriyou!J1587=\"\",\"\",syoriyou!N1587)","v":""}]
[{"$f":"IF(syoriyou!A1588=\"\",\"\",syoriyou!A1588)","v":""},{"$f":"IF(syoriyou!B1588=\"\",\"\",syoriyou!B1588)","v":""},{"$f":"IF(syoriyou!C1588=\"\",\"\",syoriyou!C1588)","v":""},{"$f":"IF(syoriyou!D1588=\"\",\"\",syoriyou!D1588)","v":""},{"$f":"IF(syoriyou!E1588=\"\",\"\",syoriyou!E1588)","v":""},{"$f":"IF(syoriyou!F1588=\"\",\"\",syoriyou!F1588)","v":""},{"$f":"IF(syoriyou!G1588=\"\",\"\",syoriyou!G1588)","v":""},{"$f":"IF(syoriyou!H1588=\"\",\"\",syoriyou!H1588)","v":""},{"$f":"IF(syoriyou!I1588=\"\",\"\",syoriyou!I1588)","v":""},{"$f":"IF(syoriyou!J1588=\"\",\"\",syoriyou!N1588)","v":""}]
[{"$f":"IF(syoriyou!A1589=\"\",\"\",syoriyou!A1589)","v":""},{"$f":"IF(syoriyou!B1589=\"\",\"\",syoriyou!B1589)","v":""},{"$f":"IF(syoriyou!C1589=\"\",\"\",syoriyou!C1589)","v":""},{"$f":"IF(syoriyou!D1589=\"\",\"\",syoriyou!D1589)","v":""},{"$f":"IF(syoriyou!E1589=\"\",\"\",syoriyou!E1589)","v":""},{"$f":"IF(syoriyou!F1589=\"\",\"\",syoriyou!F1589)","v":""},{"$f":"IF(syoriyou!G1589=\"\",\"\",syoriyou!G1589)","v":""},{"$f":"IF(syoriyou!H1589=\"\",\"\",syoriyou!H1589)","v":""},{"$f":"IF(syoriyou!I1589=\"\",\"\",syoriyou!I1589)","v":""},{"$f":"IF(syoriyou!J1589=\"\",\"\",syoriyou!N1589)","v":""}]
[{"$f":"IF(syoriyou!A1590=\"\",\"\",syoriyou!A1590)","v":""},{"$f":"IF(syoriyou!B1590=\"\",\"\",syoriyou!B1590)","v":""},{"$f":"IF(syoriyou!C1590=\"\",\"\",syoriyou!C1590)","v":""},{"$f":"IF(syoriyou!D1590=\"\",\"\",syoriyou!D1590)","v":""},{"$f":"IF(syoriyou!E1590=\"\",\"\",syoriyou!E1590)","v":""},{"$f":"IF(syoriyou!F1590=\"\",\"\",syoriyou!F1590)","v":""},{"$f":"IF(syoriyou!G1590=\"\",\"\",syoriyou!G1590)","v":""},{"$f":"IF(syoriyou!H1590=\"\",\"\",syoriyou!H1590)","v":""},{"$f":"IF(syoriyou!I1590=\"\",\"\",syoriyou!I1590)","v":""},{"$f":"IF(syoriyou!J1590=\"\",\"\",syoriyou!N1590)","v":""}]
[{"$f":"IF(syoriyou!A1591=\"\",\"\",syoriyou!A1591)","v":""},{"$f":"IF(syoriyou!B1591=\"\",\"\",syoriyou!B1591)","v":""},{"$f":"IF(syoriyou!C1591=\"\",\"\",syoriyou!C1591)","v":""},{"$f":"IF(syoriyou!D1591=\"\",\"\",syoriyou!D1591)","v":""},{"$f":"IF(syoriyou!E1591=\"\",\"\",syoriyou!E1591)","v":""},{"$f":"IF(syoriyou!F1591=\"\",\"\",syoriyou!F1591)","v":""},{"$f":"IF(syoriyou!G1591=\"\",\"\",syoriyou!G1591)","v":""},{"$f":"IF(syoriyou!H1591=\"\",\"\",syoriyou!H1591)","v":""},{"$f":"IF(syoriyou!I1591=\"\",\"\",syoriyou!I1591)","v":""},{"$f":"IF(syoriyou!J1591=\"\",\"\",syoriyou!N1591)","v":""}]
[{"$f":"IF(syoriyou!A1592=\"\",\"\",syoriyou!A1592)","v":""},{"$f":"IF(syoriyou!B1592=\"\",\"\",syoriyou!B1592)","v":""},{"$f":"IF(syoriyou!C1592=\"\",\"\",syoriyou!C1592)","v":""},{"$f":"IF(syoriyou!D1592=\"\",\"\",syoriyou!D1592)","v":""},{"$f":"IF(syoriyou!E1592=\"\",\"\",syoriyou!E1592)","v":""},{"$f":"IF(syoriyou!F1592=\"\",\"\",syoriyou!F1592)","v":""},{"$f":"IF(syoriyou!G1592=\"\",\"\",syoriyou!G1592)","v":""},{"$f":"IF(syoriyou!H1592=\"\",\"\",syoriyou!H1592)","v":""},{"$f":"IF(syoriyou!I1592=\"\",\"\",syoriyou!I1592)","v":""},{"$f":"IF(syoriyou!J1592=\"\",\"\",syoriyou!N1592)","v":""}]
[{"$f":"IF(syoriyou!A1593=\"\",\"\",syoriyou!A1593)","v":""},{"$f":"IF(syoriyou!B1593=\"\",\"\",syoriyou!B1593)","v":""},{"$f":"IF(syoriyou!C1593=\"\",\"\",syoriyou!C1593)","v":""},{"$f":"IF(syoriyou!D1593=\"\",\"\",syoriyou!D1593)","v":""},{"$f":"IF(syoriyou!E1593=\"\",\"\",syoriyou!E1593)","v":""},{"$f":"IF(syoriyou!F1593=\"\",\"\",syoriyou!F1593)","v":""},{"$f":"IF(syoriyou!G1593=\"\",\"\",syoriyou!G1593)","v":""},{"$f":"IF(syoriyou!H1593=\"\",\"\",syoriyou!H1593)","v":""},{"$f":"IF(syoriyou!I1593=\"\",\"\",syoriyou!I1593)","v":""},{"$f":"IF(syoriyou!J1593=\"\",\"\",syoriyou!N1593)","v":""}]
[{"$f":"IF(syoriyou!A1594=\"\",\"\",syoriyou!A1594)","v":""},{"$f":"IF(syoriyou!B1594=\"\",\"\",syoriyou!B1594)","v":""},{"$f":"IF(syoriyou!C1594=\"\",\"\",syoriyou!C1594)","v":""},{"$f":"IF(syoriyou!D1594=\"\",\"\",syoriyou!D1594)","v":""},{"$f":"IF(syoriyou!E1594=\"\",\"\",syoriyou!E1594)","v":""},{"$f":"IF(syoriyou!F1594=\"\",\"\",syoriyou!F1594)","v":""},{"$f":"IF(syoriyou!G1594=\"\",\"\",syoriyou!G1594)","v":""},{"$f":"IF(syoriyou!H1594=\"\",\"\",syoriyou!H1594)","v":""},{"$f":"IF(syoriyou!I1594=\"\",\"\",syoriyou!I1594)","v":""},{"$f":"IF(syoriyou!J1594=\"\",\"\",syoriyou!N1594)","v":""}]
[{"$f":"IF(syoriyou!A1595=\"\",\"\",syoriyou!A1595)","v":""},{"$f":"IF(syoriyou!B1595=\"\",\"\",syoriyou!B1595)","v":""},{"$f":"IF(syoriyou!C1595=\"\",\"\",syoriyou!C1595)","v":""},{"$f":"IF(syoriyou!D1595=\"\",\"\",syoriyou!D1595)","v":""},{"$f":"IF(syoriyou!E1595=\"\",\"\",syoriyou!E1595)","v":""},{"$f":"IF(syoriyou!F1595=\"\",\"\",syoriyou!F1595)","v":""},{"$f":"IF(syoriyou!G1595=\"\",\"\",syoriyou!G1595)","v":""},{"$f":"IF(syoriyou!H1595=\"\",\"\",syoriyou!H1595)","v":""},{"$f":"IF(syoriyou!I1595=\"\",\"\",syoriyou!I1595)","v":""},{"$f":"IF(syoriyou!J1595=\"\",\"\",syoriyou!N1595)","v":""}]
[{"$f":"IF(syoriyou!A1596=\"\",\"\",syoriyou!A1596)","v":""},{"$f":"IF(syoriyou!B1596=\"\",\"\",syoriyou!B1596)","v":""},{"$f":"IF(syoriyou!C1596=\"\",\"\",syoriyou!C1596)","v":""},{"$f":"IF(syoriyou!D1596=\"\",\"\",syoriyou!D1596)","v":""},{"$f":"IF(syoriyou!E1596=\"\",\"\",syoriyou!E1596)","v":""},{"$f":"IF(syoriyou!F1596=\"\",\"\",syoriyou!F1596)","v":""},{"$f":"IF(syoriyou!G1596=\"\",\"\",syoriyou!G1596)","v":""},{"$f":"IF(syoriyou!H1596=\"\",\"\",syoriyou!H1596)","v":""},{"$f":"IF(syoriyou!I1596=\"\",\"\",syoriyou!I1596)","v":""},{"$f":"IF(syoriyou!J1596=\"\",\"\",syoriyou!N1596)","v":""}]
[{"$f":"IF(syoriyou!A1597=\"\",\"\",syoriyou!A1597)","v":""},{"$f":"IF(syoriyou!B1597=\"\",\"\",syoriyou!B1597)","v":""},{"$f":"IF(syoriyou!C1597=\"\",\"\",syoriyou!C1597)","v":""},{"$f":"IF(syoriyou!D1597=\"\",\"\",syoriyou!D1597)","v":""},{"$f":"IF(syoriyou!E1597=\"\",\"\",syoriyou!E1597)","v":""},{"$f":"IF(syoriyou!F1597=\"\",\"\",syoriyou!F1597)","v":""},{"$f":"IF(syoriyou!G1597=\"\",\"\",syoriyou!G1597)","v":""},{"$f":"IF(syoriyou!H1597=\"\",\"\",syoriyou!H1597)","v":""},{"$f":"IF(syoriyou!I1597=\"\",\"\",syoriyou!I1597)","v":""},{"$f":"IF(syoriyou!J1597=\"\",\"\",syoriyou!N1597)","v":""}]
[{"$f":"IF(syoriyou!A1598=\"\",\"\",syoriyou!A1598)","v":""},{"$f":"IF(syoriyou!B1598=\"\",\"\",syoriyou!B1598)","v":""},{"$f":"IF(syoriyou!C1598=\"\",\"\",syoriyou!C1598)","v":""},{"$f":"IF(syoriyou!D1598=\"\",\"\",syoriyou!D1598)","v":""},{"$f":"IF(syoriyou!E1598=\"\",\"\",syoriyou!E1598)","v":""},{"$f":"IF(syoriyou!F1598=\"\",\"\",syoriyou!F1598)","v":""},{"$f":"IF(syoriyou!G1598=\"\",\"\",syoriyou!G1598)","v":""},{"$f":"IF(syoriyou!H1598=\"\",\"\",syoriyou!H1598)","v":""},{"$f":"IF(syoriyou!I1598=\"\",\"\",syoriyou!I1598)","v":""},{"$f":"IF(syoriyou!J1598=\"\",\"\",syoriyou!N1598)","v":""}]
[{"$f":"IF(syoriyou!A1599=\"\",\"\",syoriyou!A1599)","v":""},{"$f":"IF(syoriyou!B1599=\"\",\"\",syoriyou!B1599)","v":""},{"$f":"IF(syoriyou!C1599=\"\",\"\",syoriyou!C1599)","v":""},{"$f":"IF(syoriyou!D1599=\"\",\"\",syoriyou!D1599)","v":""},{"$f":"IF(syoriyou!E1599=\"\",\"\",syoriyou!E1599)","v":""},{"$f":"IF(syoriyou!F1599=\"\",\"\",syoriyou!F1599)","v":""},{"$f":"IF(syoriyou!G1599=\"\",\"\",syoriyou!G1599)","v":""},{"$f":"IF(syoriyou!H1599=\"\",\"\",syoriyou!H1599)","v":""},{"$f":"IF(syoriyou!I1599=\"\",\"\",syoriyou!I1599)","v":""},{"$f":"IF(syoriyou!J1599=\"\",\"\",syoriyou!N1599)","v":""}]
[{"$f":"IF(syoriyou!A1600=\"\",\"\",syoriyou!A1600)","v":""},{"$f":"IF(syoriyou!B1600=\"\",\"\",syoriyou!B1600)","v":""},{"$f":"IF(syoriyou!C1600=\"\",\"\",syoriyou!C1600)","v":""},{"$f":"IF(syoriyou!D1600=\"\",\"\",syoriyou!D1600)","v":""},{"$f":"IF(syoriyou!E1600=\"\",\"\",syoriyou!E1600)","v":""},{"$f":"IF(syoriyou!F1600=\"\",\"\",syoriyou!F1600)","v":""},{"$f":"IF(syoriyou!G1600=\"\",\"\",syoriyou!G1600)","v":""},{"$f":"IF(syoriyou!H1600=\"\",\"\",syoriyou!H1600)","v":""},{"$f":"IF(syoriyou!I1600=\"\",\"\",syoriyou!I1600)","v":""},{"$f":"IF(syoriyou!J1600=\"\",\"\",syoriyou!N1600)","v":""}]
[{"$f":"IF(syoriyou!A1601=\"\",\"\",syoriyou!A1601)","v":""},{"$f":"IF(syoriyou!B1601=\"\",\"\",syoriyou!B1601)","v":""},{"$f":"IF(syoriyou!C1601=\"\",\"\",syoriyou!C1601)","v":""},{"$f":"IF(syoriyou!D1601=\"\",\"\",syoriyou!D1601)","v":""},{"$f":"IF(syoriyou!E1601=\"\",\"\",syoriyou!E1601)","v":""},{"$f":"IF(syoriyou!F1601=\"\",\"\",syoriyou!F1601)","v":""},{"$f":"IF(syoriyou!G1601=\"\",\"\",syoriyou!G1601)","v":""},{"$f":"IF(syoriyou!H1601=\"\",\"\",syoriyou!H1601)","v":""},{"$f":"IF(syoriyou!I1601=\"\",\"\",syoriyou!I1601)","v":""},{"$f":"IF(syoriyou!J1601=\"\",\"\",syoriyou!N1601)","v":""}]
[{"$f":"IF(syoriyou!A1602=\"\",\"\",syoriyou!A1602)","v":""},{"$f":"IF(syoriyou!B1602=\"\",\"\",syoriyou!B1602)","v":""},{"$f":"IF(syoriyou!C1602=\"\",\"\",syoriyou!C1602)","v":""},{"$f":"IF(syoriyou!D1602=\"\",\"\",syoriyou!D1602)","v":""},{"$f":"IF(syoriyou!E1602=\"\",\"\",syoriyou!E1602)","v":""},{"$f":"IF(syoriyou!F1602=\"\",\"\",syoriyou!F1602)","v":""},{"$f":"IF(syoriyou!G1602=\"\",\"\",syoriyou!G1602)","v":""},{"$f":"IF(syoriyou!H1602=\"\",\"\",syoriyou!H1602)","v":""},{"$f":"IF(syoriyou!I1602=\"\",\"\",syoriyou!I1602)","v":""},{"$f":"IF(syoriyou!J1602=\"\",\"\",syoriyou!N1602)","v":""}]
[{"$f":"IF(syoriyou!A1603=\"\",\"\",syoriyou!A1603)","v":""},{"$f":"IF(syoriyou!B1603=\"\",\"\",syoriyou!B1603)","v":""},{"$f":"IF(syoriyou!C1603=\"\",\"\",syoriyou!C1603)","v":""},{"$f":"IF(syoriyou!D1603=\"\",\"\",syoriyou!D1603)","v":""},{"$f":"IF(syoriyou!E1603=\"\",\"\",syoriyou!E1603)","v":""},{"$f":"IF(syoriyou!F1603=\"\",\"\",syoriyou!F1603)","v":""},{"$f":"IF(syoriyou!G1603=\"\",\"\",syoriyou!G1603)","v":""},{"$f":"IF(syoriyou!H1603=\"\",\"\",syoriyou!H1603)","v":""},{"$f":"IF(syoriyou!I1603=\"\",\"\",syoriyou!I1603)","v":""},{"$f":"IF(syoriyou!J1603=\"\",\"\",syoriyou!N1603)","v":""}]
[{"$f":"IF(syoriyou!A1604=\"\",\"\",syoriyou!A1604)","v":""},{"$f":"IF(syoriyou!B1604=\"\",\"\",syoriyou!B1604)","v":""},{"$f":"IF(syoriyou!C1604=\"\",\"\",syoriyou!C1604)","v":""},{"$f":"IF(syoriyou!D1604=\"\",\"\",syoriyou!D1604)","v":""},{"$f":"IF(syoriyou!E1604=\"\",\"\",syoriyou!E1604)","v":""},{"$f":"IF(syoriyou!F1604=\"\",\"\",syoriyou!F1604)","v":""},{"$f":"IF(syoriyou!G1604=\"\",\"\",syoriyou!G1604)","v":""},{"$f":"IF(syoriyou!H1604=\"\",\"\",syoriyou!H1604)","v":""},{"$f":"IF(syoriyou!I1604=\"\",\"\",syoriyou!I1604)","v":""},{"$f":"IF(syoriyou!J1604=\"\",\"\",syoriyou!N1604)","v":""}]
[{"$f":"IF(syoriyou!A1605=\"\",\"\",syoriyou!A1605)","v":""},{"$f":"IF(syoriyou!B1605=\"\",\"\",syoriyou!B1605)","v":""},{"$f":"IF(syoriyou!C1605=\"\",\"\",syoriyou!C1605)","v":""},{"$f":"IF(syoriyou!D1605=\"\",\"\",syoriyou!D1605)","v":""},{"$f":"IF(syoriyou!E1605=\"\",\"\",syoriyou!E1605)","v":""},{"$f":"IF(syoriyou!F1605=\"\",\"\",syoriyou!F1605)","v":""},{"$f":"IF(syoriyou!G1605=\"\",\"\",syoriyou!G1605)","v":""},{"$f":"IF(syoriyou!H1605=\"\",\"\",syoriyou!H1605)","v":""},{"$f":"IF(syoriyou!I1605=\"\",\"\",syoriyou!I1605)","v":""},{"$f":"IF(syoriyou!J1605=\"\",\"\",syoriyou!N1605)","v":""}]
[{"$f":"IF(syoriyou!A1606=\"\",\"\",syoriyou!A1606)","v":""},{"$f":"IF(syoriyou!B1606=\"\",\"\",syoriyou!B1606)","v":""},{"$f":"IF(syoriyou!C1606=\"\",\"\",syoriyou!C1606)","v":""},{"$f":"IF(syoriyou!D1606=\"\",\"\",syoriyou!D1606)","v":""},{"$f":"IF(syoriyou!E1606=\"\",\"\",syoriyou!E1606)","v":""},{"$f":"IF(syoriyou!F1606=\"\",\"\",syoriyou!F1606)","v":""},{"$f":"IF(syoriyou!G1606=\"\",\"\",syoriyou!G1606)","v":""},{"$f":"IF(syoriyou!H1606=\"\",\"\",syoriyou!H1606)","v":""},{"$f":"IF(syoriyou!I1606=\"\",\"\",syoriyou!I1606)","v":""},{"$f":"IF(syoriyou!J1606=\"\",\"\",syoriyou!N1606)","v":""}]
[{"$f":"IF(syoriyou!A1607=\"\",\"\",syoriyou!A1607)","v":""},{"$f":"IF(syoriyou!B1607=\"\",\"\",syoriyou!B1607)","v":""},{"$f":"IF(syoriyou!C1607=\"\",\"\",syoriyou!C1607)","v":""},{"$f":"IF(syoriyou!D1607=\"\",\"\",syoriyou!D1607)","v":""},{"$f":"IF(syoriyou!E1607=\"\",\"\",syoriyou!E1607)","v":""},{"$f":"IF(syoriyou!F1607=\"\",\"\",syoriyou!F1607)","v":""},{"$f":"IF(syoriyou!G1607=\"\",\"\",syoriyou!G1607)","v":""},{"$f":"IF(syoriyou!H1607=\"\",\"\",syoriyou!H1607)","v":""},{"$f":"IF(syoriyou!I1607=\"\",\"\",syoriyou!I1607)","v":""},{"$f":"IF(syoriyou!J1607=\"\",\"\",syoriyou!N1607)","v":""}]
[{"$f":"IF(syoriyou!A1608=\"\",\"\",syoriyou!A1608)","v":""},{"$f":"IF(syoriyou!B1608=\"\",\"\",syoriyou!B1608)","v":""},{"$f":"IF(syoriyou!C1608=\"\",\"\",syoriyou!C1608)","v":""},{"$f":"IF(syoriyou!D1608=\"\",\"\",syoriyou!D1608)","v":""},{"$f":"IF(syoriyou!E1608=\"\",\"\",syoriyou!E1608)","v":""},{"$f":"IF(syoriyou!F1608=\"\",\"\",syoriyou!F1608)","v":""},{"$f":"IF(syoriyou!G1608=\"\",\"\",syoriyou!G1608)","v":""},{"$f":"IF(syoriyou!H1608=\"\",\"\",syoriyou!H1608)","v":""},{"$f":"IF(syoriyou!I1608=\"\",\"\",syoriyou!I1608)","v":""},{"$f":"IF(syoriyou!J1608=\"\",\"\",syoriyou!N1608)","v":""}]
[{"$f":"IF(syoriyou!A1609=\"\",\"\",syoriyou!A1609)","v":""},{"$f":"IF(syoriyou!B1609=\"\",\"\",syoriyou!B1609)","v":""},{"$f":"IF(syoriyou!C1609=\"\",\"\",syoriyou!C1609)","v":""},{"$f":"IF(syoriyou!D1609=\"\",\"\",syoriyou!D1609)","v":""},{"$f":"IF(syoriyou!E1609=\"\",\"\",syoriyou!E1609)","v":""},{"$f":"IF(syoriyou!F1609=\"\",\"\",syoriyou!F1609)","v":""},{"$f":"IF(syoriyou!G1609=\"\",\"\",syoriyou!G1609)","v":""},{"$f":"IF(syoriyou!H1609=\"\",\"\",syoriyou!H1609)","v":""},{"$f":"IF(syoriyou!I1609=\"\",\"\",syoriyou!I1609)","v":""},{"$f":"IF(syoriyou!J1609=\"\",\"\",syoriyou!N1609)","v":""}]
[{"$f":"IF(syoriyou!A1610=\"\",\"\",syoriyou!A1610)","v":""},{"$f":"IF(syoriyou!B1610=\"\",\"\",syoriyou!B1610)","v":""},{"$f":"IF(syoriyou!C1610=\"\",\"\",syoriyou!C1610)","v":""},{"$f":"IF(syoriyou!D1610=\"\",\"\",syoriyou!D1610)","v":""},{"$f":"IF(syoriyou!E1610=\"\",\"\",syoriyou!E1610)","v":""},{"$f":"IF(syoriyou!F1610=\"\",\"\",syoriyou!F1610)","v":""},{"$f":"IF(syoriyou!G1610=\"\",\"\",syoriyou!G1610)","v":""},{"$f":"IF(syoriyou!H1610=\"\",\"\",syoriyou!H1610)","v":""},{"$f":"IF(syoriyou!I1610=\"\",\"\",syoriyou!I1610)","v":""},{"$f":"IF(syoriyou!J1610=\"\",\"\",syoriyou!N1610)","v":""}]
[{"$f":"IF(syoriyou!A1611=\"\",\"\",syoriyou!A1611)","v":""},{"$f":"IF(syoriyou!B1611=\"\",\"\",syoriyou!B1611)","v":""},{"$f":"IF(syoriyou!C1611=\"\",\"\",syoriyou!C1611)","v":""},{"$f":"IF(syoriyou!D1611=\"\",\"\",syoriyou!D1611)","v":""},{"$f":"IF(syoriyou!E1611=\"\",\"\",syoriyou!E1611)","v":""},{"$f":"IF(syoriyou!F1611=\"\",\"\",syoriyou!F1611)","v":""},{"$f":"IF(syoriyou!G1611=\"\",\"\",syoriyou!G1611)","v":""},{"$f":"IF(syoriyou!H1611=\"\",\"\",syoriyou!H1611)","v":""},{"$f":"IF(syoriyou!I1611=\"\",\"\",syoriyou!I1611)","v":""},{"$f":"IF(syoriyou!J1611=\"\",\"\",syoriyou!N1611)","v":""}]
[{"$f":"IF(syoriyou!A1612=\"\",\"\",syoriyou!A1612)","v":""},{"$f":"IF(syoriyou!B1612=\"\",\"\",syoriyou!B1612)","v":""},{"$f":"IF(syoriyou!C1612=\"\",\"\",syoriyou!C1612)","v":""},{"$f":"IF(syoriyou!D1612=\"\",\"\",syoriyou!D1612)","v":""},{"$f":"IF(syoriyou!E1612=\"\",\"\",syoriyou!E1612)","v":""},{"$f":"IF(syoriyou!F1612=\"\",\"\",syoriyou!F1612)","v":""},{"$f":"IF(syoriyou!G1612=\"\",\"\",syoriyou!G1612)","v":""},{"$f":"IF(syoriyou!H1612=\"\",\"\",syoriyou!H1612)","v":""},{"$f":"IF(syoriyou!I1612=\"\",\"\",syoriyou!I1612)","v":""},{"$f":"IF(syoriyou!J1612=\"\",\"\",syoriyou!N1612)","v":""}]
[{"$f":"IF(syoriyou!A1613=\"\",\"\",syoriyou!A1613)","v":""},{"$f":"IF(syoriyou!B1613=\"\",\"\",syoriyou!B1613)","v":""},{"$f":"IF(syoriyou!C1613=\"\",\"\",syoriyou!C1613)","v":""},{"$f":"IF(syoriyou!D1613=\"\",\"\",syoriyou!D1613)","v":""},{"$f":"IF(syoriyou!E1613=\"\",\"\",syoriyou!E1613)","v":""},{"$f":"IF(syoriyou!F1613=\"\",\"\",syoriyou!F1613)","v":""},{"$f":"IF(syoriyou!G1613=\"\",\"\",syoriyou!G1613)","v":""},{"$f":"IF(syoriyou!H1613=\"\",\"\",syoriyou!H1613)","v":""},{"$f":"IF(syoriyou!I1613=\"\",\"\",syoriyou!I1613)","v":""},{"$f":"IF(syoriyou!J1613=\"\",\"\",syoriyou!N1613)","v":""}]
[{"$f":"IF(syoriyou!A1614=\"\",\"\",syoriyou!A1614)","v":""},{"$f":"IF(syoriyou!B1614=\"\",\"\",syoriyou!B1614)","v":""},{"$f":"IF(syoriyou!C1614=\"\",\"\",syoriyou!C1614)","v":""},{"$f":"IF(syoriyou!D1614=\"\",\"\",syoriyou!D1614)","v":""},{"$f":"IF(syoriyou!E1614=\"\",\"\",syoriyou!E1614)","v":""},{"$f":"IF(syoriyou!F1614=\"\",\"\",syoriyou!F1614)","v":""},{"$f":"IF(syoriyou!G1614=\"\",\"\",syoriyou!G1614)","v":""},{"$f":"IF(syoriyou!H1614=\"\",\"\",syoriyou!H1614)","v":""},{"$f":"IF(syoriyou!I1614=\"\",\"\",syoriyou!I1614)","v":""},{"$f":"IF(syoriyou!J1614=\"\",\"\",syoriyou!N1614)","v":""}]
[{"$f":"IF(syoriyou!A1615=\"\",\"\",syoriyou!A1615)","v":""},{"$f":"IF(syoriyou!B1615=\"\",\"\",syoriyou!B1615)","v":""},{"$f":"IF(syoriyou!C1615=\"\",\"\",syoriyou!C1615)","v":""},{"$f":"IF(syoriyou!D1615=\"\",\"\",syoriyou!D1615)","v":""},{"$f":"IF(syoriyou!E1615=\"\",\"\",syoriyou!E1615)","v":""},{"$f":"IF(syoriyou!F1615=\"\",\"\",syoriyou!F1615)","v":""},{"$f":"IF(syoriyou!G1615=\"\",\"\",syoriyou!G1615)","v":""},{"$f":"IF(syoriyou!H1615=\"\",\"\",syoriyou!H1615)","v":""},{"$f":"IF(syoriyou!I1615=\"\",\"\",syoriyou!I1615)","v":""},{"$f":"IF(syoriyou!J1615=\"\",\"\",syoriyou!N1615)","v":""}]
[{"$f":"IF(syoriyou!A1616=\"\",\"\",syoriyou!A1616)","v":""},{"$f":"IF(syoriyou!B1616=\"\",\"\",syoriyou!B1616)","v":""},{"$f":"IF(syoriyou!C1616=\"\",\"\",syoriyou!C1616)","v":""},{"$f":"IF(syoriyou!D1616=\"\",\"\",syoriyou!D1616)","v":""},{"$f":"IF(syoriyou!E1616=\"\",\"\",syoriyou!E1616)","v":""},{"$f":"IF(syoriyou!F1616=\"\",\"\",syoriyou!F1616)","v":""},{"$f":"IF(syoriyou!G1616=\"\",\"\",syoriyou!G1616)","v":""},{"$f":"IF(syoriyou!H1616=\"\",\"\",syoriyou!H1616)","v":""},{"$f":"IF(syoriyou!I1616=\"\",\"\",syoriyou!I1616)","v":""},{"$f":"IF(syoriyou!J1616=\"\",\"\",syoriyou!N1616)","v":""}]
[{"$f":"IF(syoriyou!A1617=\"\",\"\",syoriyou!A1617)","v":""},{"$f":"IF(syoriyou!B1617=\"\",\"\",syoriyou!B1617)","v":""},{"$f":"IF(syoriyou!C1617=\"\",\"\",syoriyou!C1617)","v":""},{"$f":"IF(syoriyou!D1617=\"\",\"\",syoriyou!D1617)","v":""},{"$f":"IF(syoriyou!E1617=\"\",\"\",syoriyou!E1617)","v":""},{"$f":"IF(syoriyou!F1617=\"\",\"\",syoriyou!F1617)","v":""},{"$f":"IF(syoriyou!G1617=\"\",\"\",syoriyou!G1617)","v":""},{"$f":"IF(syoriyou!H1617=\"\",\"\",syoriyou!H1617)","v":""},{"$f":"IF(syoriyou!I1617=\"\",\"\",syoriyou!I1617)","v":""},{"$f":"IF(syoriyou!J1617=\"\",\"\",syoriyou!N1617)","v":""}]
[{"$f":"IF(syoriyou!A1618=\"\",\"\",syoriyou!A1618)","v":""},{"$f":"IF(syoriyou!B1618=\"\",\"\",syoriyou!B1618)","v":""},{"$f":"IF(syoriyou!C1618=\"\",\"\",syoriyou!C1618)","v":""},{"$f":"IF(syoriyou!D1618=\"\",\"\",syoriyou!D1618)","v":""},{"$f":"IF(syoriyou!E1618=\"\",\"\",syoriyou!E1618)","v":""},{"$f":"IF(syoriyou!F1618=\"\",\"\",syoriyou!F1618)","v":""},{"$f":"IF(syoriyou!G1618=\"\",\"\",syoriyou!G1618)","v":""},{"$f":"IF(syoriyou!H1618=\"\",\"\",syoriyou!H1618)","v":""},{"$f":"IF(syoriyou!I1618=\"\",\"\",syoriyou!I1618)","v":""},{"$f":"IF(syoriyou!J1618=\"\",\"\",syoriyou!N1618)","v":""}]
[{"$f":"IF(syoriyou!A1619=\"\",\"\",syoriyou!A1619)","v":""},{"$f":"IF(syoriyou!B1619=\"\",\"\",syoriyou!B1619)","v":""},{"$f":"IF(syoriyou!C1619=\"\",\"\",syoriyou!C1619)","v":""},{"$f":"IF(syoriyou!D1619=\"\",\"\",syoriyou!D1619)","v":""},{"$f":"IF(syoriyou!E1619=\"\",\"\",syoriyou!E1619)","v":""},{"$f":"IF(syoriyou!F1619=\"\",\"\",syoriyou!F1619)","v":""},{"$f":"IF(syoriyou!G1619=\"\",\"\",syoriyou!G1619)","v":""},{"$f":"IF(syoriyou!H1619=\"\",\"\",syoriyou!H1619)","v":""},{"$f":"IF(syoriyou!I1619=\"\",\"\",syoriyou!I1619)","v":""},{"$f":"IF(syoriyou!J1619=\"\",\"\",syoriyou!N1619)","v":""}]
[{"$f":"IF(syoriyou!A1620=\"\",\"\",syoriyou!A1620)","v":""},{"$f":"IF(syoriyou!B1620=\"\",\"\",syoriyou!B1620)","v":""},{"$f":"IF(syoriyou!C1620=\"\",\"\",syoriyou!C1620)","v":""},{"$f":"IF(syoriyou!D1620=\"\",\"\",syoriyou!D1620)","v":""},{"$f":"IF(syoriyou!E1620=\"\",\"\",syoriyou!E1620)","v":""},{"$f":"IF(syoriyou!F1620=\"\",\"\",syoriyou!F1620)","v":""},{"$f":"IF(syoriyou!G1620=\"\",\"\",syoriyou!G1620)","v":""},{"$f":"IF(syoriyou!H1620=\"\",\"\",syoriyou!H1620)","v":""},{"$f":"IF(syoriyou!I1620=\"\",\"\",syoriyou!I1620)","v":""},{"$f":"IF(syoriyou!J1620=\"\",\"\",syoriyou!N1620)","v":""}]
[{"$f":"IF(syoriyou!A1621=\"\",\"\",syoriyou!A1621)","v":""},{"$f":"IF(syoriyou!B1621=\"\",\"\",syoriyou!B1621)","v":""},{"$f":"IF(syoriyou!C1621=\"\",\"\",syoriyou!C1621)","v":""},{"$f":"IF(syoriyou!D1621=\"\",\"\",syoriyou!D1621)","v":""},{"$f":"IF(syoriyou!E1621=\"\",\"\",syoriyou!E1621)","v":""},{"$f":"IF(syoriyou!F1621=\"\",\"\",syoriyou!F1621)","v":""},{"$f":"IF(syoriyou!G1621=\"\",\"\",syoriyou!G1621)","v":""},{"$f":"IF(syoriyou!H1621=\"\",\"\",syoriyou!H1621)","v":""},{"$f":"IF(syoriyou!I1621=\"\",\"\",syoriyou!I1621)","v":""},{"$f":"IF(syoriyou!J1621=\"\",\"\",syoriyou!N1621)","v":""}]
[{"$f":"IF(syoriyou!A1622=\"\",\"\",syoriyou!A1622)","v":""},{"$f":"IF(syoriyou!B1622=\"\",\"\",syoriyou!B1622)","v":""},{"$f":"IF(syoriyou!C1622=\"\",\"\",syoriyou!C1622)","v":""},{"$f":"IF(syoriyou!D1622=\"\",\"\",syoriyou!D1622)","v":""},{"$f":"IF(syoriyou!E1622=\"\",\"\",syoriyou!E1622)","v":""},{"$f":"IF(syoriyou!F1622=\"\",\"\",syoriyou!F1622)","v":""},{"$f":"IF(syoriyou!G1622=\"\",\"\",syoriyou!G1622)","v":""},{"$f":"IF(syoriyou!H1622=\"\",\"\",syoriyou!H1622)","v":""},{"$f":"IF(syoriyou!I1622=\"\",\"\",syoriyou!I1622)","v":""},{"$f":"IF(syoriyou!J1622=\"\",\"\",syoriyou!N1622)","v":""}]
[{"$f":"IF(syoriyou!A1623=\"\",\"\",syoriyou!A1623)","v":""},{"$f":"IF(syoriyou!B1623=\"\",\"\",syoriyou!B1623)","v":""},{"$f":"IF(syoriyou!C1623=\"\",\"\",syoriyou!C1623)","v":""},{"$f":"IF(syoriyou!D1623=\"\",\"\",syoriyou!D1623)","v":""},{"$f":"IF(syoriyou!E1623=\"\",\"\",syoriyou!E1623)","v":""},{"$f":"IF(syoriyou!F1623=\"\",\"\",syoriyou!F1623)","v":""},{"$f":"IF(syoriyou!G1623=\"\",\"\",syoriyou!G1623)","v":""},{"$f":"IF(syoriyou!H1623=\"\",\"\",syoriyou!H1623)","v":""},{"$f":"IF(syoriyou!I1623=\"\",\"\",syoriyou!I1623)","v":""},{"$f":"IF(syoriyou!J1623=\"\",\"\",syoriyou!N1623)","v":""}]
[{"$f":"IF(syoriyou!A1624=\"\",\"\",syoriyou!A1624)","v":""},{"$f":"IF(syoriyou!B1624=\"\",\"\",syoriyou!B1624)","v":""},{"$f":"IF(syoriyou!C1624=\"\",\"\",syoriyou!C1624)","v":""},{"$f":"IF(syoriyou!D1624=\"\",\"\",syoriyou!D1624)","v":""},{"$f":"IF(syoriyou!E1624=\"\",\"\",syoriyou!E1624)","v":""},{"$f":"IF(syoriyou!F1624=\"\",\"\",syoriyou!F1624)","v":""},{"$f":"IF(syoriyou!G1624=\"\",\"\",syoriyou!G1624)","v":""},{"$f":"IF(syoriyou!H1624=\"\",\"\",syoriyou!H1624)","v":""},{"$f":"IF(syoriyou!I1624=\"\",\"\",syoriyou!I1624)","v":""},{"$f":"IF(syoriyou!J1624=\"\",\"\",syoriyou!N1624)","v":""}]
[{"$f":"IF(syoriyou!A1625=\"\",\"\",syoriyou!A1625)","v":""},{"$f":"IF(syoriyou!B1625=\"\",\"\",syoriyou!B1625)","v":""},{"$f":"IF(syoriyou!C1625=\"\",\"\",syoriyou!C1625)","v":""},{"$f":"IF(syoriyou!D1625=\"\",\"\",syoriyou!D1625)","v":""},{"$f":"IF(syoriyou!E1625=\"\",\"\",syoriyou!E1625)","v":""},{"$f":"IF(syoriyou!F1625=\"\",\"\",syoriyou!F1625)","v":""},{"$f":"IF(syoriyou!G1625=\"\",\"\",syoriyou!G1625)","v":""},{"$f":"IF(syoriyou!H1625=\"\",\"\",syoriyou!H1625)","v":""},{"$f":"IF(syoriyou!I1625=\"\",\"\",syoriyou!I1625)","v":""},{"$f":"IF(syoriyou!J1625=\"\",\"\",syoriyou!N1625)","v":""}]
[{"$f":"IF(syoriyou!A1626=\"\",\"\",syoriyou!A1626)","v":""},{"$f":"IF(syoriyou!B1626=\"\",\"\",syoriyou!B1626)","v":""},{"$f":"IF(syoriyou!C1626=\"\",\"\",syoriyou!C1626)","v":""},{"$f":"IF(syoriyou!D1626=\"\",\"\",syoriyou!D1626)","v":""},{"$f":"IF(syoriyou!E1626=\"\",\"\",syoriyou!E1626)","v":""},{"$f":"IF(syoriyou!F1626=\"\",\"\",syoriyou!F1626)","v":""},{"$f":"IF(syoriyou!G1626=\"\",\"\",syoriyou!G1626)","v":""},{"$f":"IF(syoriyou!H1626=\"\",\"\",syoriyou!H1626)","v":""},{"$f":"IF(syoriyou!I1626=\"\",\"\",syoriyou!I1626)","v":""},{"$f":"IF(syoriyou!J1626=\"\",\"\",syoriyou!N1626)","v":""}]
[{"$f":"IF(syoriyou!A1627=\"\",\"\",syoriyou!A1627)","v":""},{"$f":"IF(syoriyou!B1627=\"\",\"\",syoriyou!B1627)","v":""},{"$f":"IF(syoriyou!C1627=\"\",\"\",syoriyou!C1627)","v":""},{"$f":"IF(syoriyou!D1627=\"\",\"\",syoriyou!D1627)","v":""},{"$f":"IF(syoriyou!E1627=\"\",\"\",syoriyou!E1627)","v":""},{"$f":"IF(syoriyou!F1627=\"\",\"\",syoriyou!F1627)","v":""},{"$f":"IF(syoriyou!G1627=\"\",\"\",syoriyou!G1627)","v":""},{"$f":"IF(syoriyou!H1627=\"\",\"\",syoriyou!H1627)","v":""},{"$f":"IF(syoriyou!I1627=\"\",\"\",syoriyou!I1627)","v":""},{"$f":"IF(syoriyou!J1627=\"\",\"\",syoriyou!N1627)","v":""}]
[{"$f":"IF(syoriyou!A1628=\"\",\"\",syoriyou!A1628)","v":""},{"$f":"IF(syoriyou!B1628=\"\",\"\",syoriyou!B1628)","v":""},{"$f":"IF(syoriyou!C1628=\"\",\"\",syoriyou!C1628)","v":""},{"$f":"IF(syoriyou!D1628=\"\",\"\",syoriyou!D1628)","v":""},{"$f":"IF(syoriyou!E1628=\"\",\"\",syoriyou!E1628)","v":""},{"$f":"IF(syoriyou!F1628=\"\",\"\",syoriyou!F1628)","v":""},{"$f":"IF(syoriyou!G1628=\"\",\"\",syoriyou!G1628)","v":""},{"$f":"IF(syoriyou!H1628=\"\",\"\",syoriyou!H1628)","v":""},{"$f":"IF(syoriyou!I1628=\"\",\"\",syoriyou!I1628)","v":""},{"$f":"IF(syoriyou!J1628=\"\",\"\",syoriyou!N1628)","v":""}]
[{"$f":"IF(syoriyou!A1629=\"\",\"\",syoriyou!A1629)","v":""},{"$f":"IF(syoriyou!B1629=\"\",\"\",syoriyou!B1629)","v":""},{"$f":"IF(syoriyou!C1629=\"\",\"\",syoriyou!C1629)","v":""},{"$f":"IF(syoriyou!D1629=\"\",\"\",syoriyou!D1629)","v":""},{"$f":"IF(syoriyou!E1629=\"\",\"\",syoriyou!E1629)","v":""},{"$f":"IF(syoriyou!F1629=\"\",\"\",syoriyou!F1629)","v":""},{"$f":"IF(syoriyou!G1629=\"\",\"\",syoriyou!G1629)","v":""},{"$f":"IF(syoriyou!H1629=\"\",\"\",syoriyou!H1629)","v":""},{"$f":"IF(syoriyou!I1629=\"\",\"\",syoriyou!I1629)","v":""},{"$f":"IF(syoriyou!J1629=\"\",\"\",syoriyou!N1629)","v":""}]
[{"$f":"IF(syoriyou!A1630=\"\",\"\",syoriyou!A1630)","v":""},{"$f":"IF(syoriyou!B1630=\"\",\"\",syoriyou!B1630)","v":""},{"$f":"IF(syoriyou!C1630=\"\",\"\",syoriyou!C1630)","v":""},{"$f":"IF(syoriyou!D1630=\"\",\"\",syoriyou!D1630)","v":""},{"$f":"IF(syoriyou!E1630=\"\",\"\",syoriyou!E1630)","v":""},{"$f":"IF(syoriyou!F1630=\"\",\"\",syoriyou!F1630)","v":""},{"$f":"IF(syoriyou!G1630=\"\",\"\",syoriyou!G1630)","v":""},{"$f":"IF(syoriyou!H1630=\"\",\"\",syoriyou!H1630)","v":""},{"$f":"IF(syoriyou!I1630=\"\",\"\",syoriyou!I1630)","v":""},{"$f":"IF(syoriyou!J1630=\"\",\"\",syoriyou!N1630)","v":""}]
[{"$f":"IF(syoriyou!A1631=\"\",\"\",syoriyou!A1631)","v":""},{"$f":"IF(syoriyou!B1631=\"\",\"\",syoriyou!B1631)","v":""},{"$f":"IF(syoriyou!C1631=\"\",\"\",syoriyou!C1631)","v":""},{"$f":"IF(syoriyou!D1631=\"\",\"\",syoriyou!D1631)","v":""},{"$f":"IF(syoriyou!E1631=\"\",\"\",syoriyou!E1631)","v":""},{"$f":"IF(syoriyou!F1631=\"\",\"\",syoriyou!F1631)","v":""},{"$f":"IF(syoriyou!G1631=\"\",\"\",syoriyou!G1631)","v":""},{"$f":"IF(syoriyou!H1631=\"\",\"\",syoriyou!H1631)","v":""},{"$f":"IF(syoriyou!I1631=\"\",\"\",syoriyou!I1631)","v":""},{"$f":"IF(syoriyou!J1631=\"\",\"\",syoriyou!N1631)","v":""}]
[{"$f":"IF(syoriyou!A1632=\"\",\"\",syoriyou!A1632)","v":""},{"$f":"IF(syoriyou!B1632=\"\",\"\",syoriyou!B1632)","v":""},{"$f":"IF(syoriyou!C1632=\"\",\"\",syoriyou!C1632)","v":""},{"$f":"IF(syoriyou!D1632=\"\",\"\",syoriyou!D1632)","v":""},{"$f":"IF(syoriyou!E1632=\"\",\"\",syoriyou!E1632)","v":""},{"$f":"IF(syoriyou!F1632=\"\",\"\",syoriyou!F1632)","v":""},{"$f":"IF(syoriyou!G1632=\"\",\"\",syoriyou!G1632)","v":""},{"$f":"IF(syoriyou!H1632=\"\",\"\",syoriyou!H1632)","v":""},{"$f":"IF(syoriyou!I1632=\"\",\"\",syoriyou!I1632)","v":""},{"$f":"IF(syoriyou!J1632=\"\",\"\",syoriyou!N1632)","v":""}]
[{"$f":"IF(syoriyou!A1633=\"\",\"\",syoriyou!A1633)","v":""},{"$f":"IF(syoriyou!B1633=\"\",\"\",syoriyou!B1633)","v":""},{"$f":"IF(syoriyou!C1633=\"\",\"\",syoriyou!C1633)","v":""},{"$f":"IF(syoriyou!D1633=\"\",\"\",syoriyou!D1633)","v":""},{"$f":"IF(syoriyou!E1633=\"\",\"\",syoriyou!E1633)","v":""},{"$f":"IF(syoriyou!F1633=\"\",\"\",syoriyou!F1633)","v":""},{"$f":"IF(syoriyou!G1633=\"\",\"\",syoriyou!G1633)","v":""},{"$f":"IF(syoriyou!H1633=\"\",\"\",syoriyou!H1633)","v":""},{"$f":"IF(syoriyou!I1633=\"\",\"\",syoriyou!I1633)","v":""},{"$f":"IF(syoriyou!J1633=\"\",\"\",syoriyou!N1633)","v":""}]
[{"$f":"IF(syoriyou!A1634=\"\",\"\",syoriyou!A1634)","v":""},{"$f":"IF(syoriyou!B1634=\"\",\"\",syoriyou!B1634)","v":""},{"$f":"IF(syoriyou!C1634=\"\",\"\",syoriyou!C1634)","v":""},{"$f":"IF(syoriyou!D1634=\"\",\"\",syoriyou!D1634)","v":""},{"$f":"IF(syoriyou!E1634=\"\",\"\",syoriyou!E1634)","v":""},{"$f":"IF(syoriyou!F1634=\"\",\"\",syoriyou!F1634)","v":""},{"$f":"IF(syoriyou!G1634=\"\",\"\",syoriyou!G1634)","v":""},{"$f":"IF(syoriyou!H1634=\"\",\"\",syoriyou!H1634)","v":""},{"$f":"IF(syoriyou!I1634=\"\",\"\",syoriyou!I1634)","v":""},{"$f":"IF(syoriyou!J1634=\"\",\"\",syoriyou!N1634)","v":""}]
[{"$f":"IF(syoriyou!A1635=\"\",\"\",syoriyou!A1635)","v":""},{"$f":"IF(syoriyou!B1635=\"\",\"\",syoriyou!B1635)","v":""},{"$f":"IF(syoriyou!C1635=\"\",\"\",syoriyou!C1635)","v":""},{"$f":"IF(syoriyou!D1635=\"\",\"\",syoriyou!D1635)","v":""},{"$f":"IF(syoriyou!E1635=\"\",\"\",syoriyou!E1635)","v":""},{"$f":"IF(syoriyou!F1635=\"\",\"\",syoriyou!F1635)","v":""},{"$f":"IF(syoriyou!G1635=\"\",\"\",syoriyou!G1635)","v":""},{"$f":"IF(syoriyou!H1635=\"\",\"\",syoriyou!H1635)","v":""},{"$f":"IF(syoriyou!I1635=\"\",\"\",syoriyou!I1635)","v":""},{"$f":"IF(syoriyou!J1635=\"\",\"\",syoriyou!N1635)","v":""}]
[{"$f":"IF(syoriyou!A1636=\"\",\"\",syoriyou!A1636)","v":""},{"$f":"IF(syoriyou!B1636=\"\",\"\",syoriyou!B1636)","v":""},{"$f":"IF(syoriyou!C1636=\"\",\"\",syoriyou!C1636)","v":""},{"$f":"IF(syoriyou!D1636=\"\",\"\",syoriyou!D1636)","v":""},{"$f":"IF(syoriyou!E1636=\"\",\"\",syoriyou!E1636)","v":""},{"$f":"IF(syoriyou!F1636=\"\",\"\",syoriyou!F1636)","v":""},{"$f":"IF(syoriyou!G1636=\"\",\"\",syoriyou!G1636)","v":""},{"$f":"IF(syoriyou!H1636=\"\",\"\",syoriyou!H1636)","v":""},{"$f":"IF(syoriyou!I1636=\"\",\"\",syoriyou!I1636)","v":""},{"$f":"IF(syoriyou!J1636=\"\",\"\",syoriyou!N1636)","v":""}]
[{"$f":"IF(syoriyou!A1637=\"\",\"\",syoriyou!A1637)","v":""},{"$f":"IF(syoriyou!B1637=\"\",\"\",syoriyou!B1637)","v":""},{"$f":"IF(syoriyou!C1637=\"\",\"\",syoriyou!C1637)","v":""},{"$f":"IF(syoriyou!D1637=\"\",\"\",syoriyou!D1637)","v":""},{"$f":"IF(syoriyou!E1637=\"\",\"\",syoriyou!E1637)","v":""},{"$f":"IF(syoriyou!F1637=\"\",\"\",syoriyou!F1637)","v":""},{"$f":"IF(syoriyou!G1637=\"\",\"\",syoriyou!G1637)","v":""},{"$f":"IF(syoriyou!H1637=\"\",\"\",syoriyou!H1637)","v":""},{"$f":"IF(syoriyou!I1637=\"\",\"\",syoriyou!I1637)","v":""},{"$f":"IF(syoriyou!J1637=\"\",\"\",syoriyou!N1637)","v":""}]
[{"$f":"IF(syoriyou!A1638=\"\",\"\",syoriyou!A1638)","v":""},{"$f":"IF(syoriyou!B1638=\"\",\"\",syoriyou!B1638)","v":""},{"$f":"IF(syoriyou!C1638=\"\",\"\",syoriyou!C1638)","v":""},{"$f":"IF(syoriyou!D1638=\"\",\"\",syoriyou!D1638)","v":""},{"$f":"IF(syoriyou!E1638=\"\",\"\",syoriyou!E1638)","v":""},{"$f":"IF(syoriyou!F1638=\"\",\"\",syoriyou!F1638)","v":""},{"$f":"IF(syoriyou!G1638=\"\",\"\",syoriyou!G1638)","v":""},{"$f":"IF(syoriyou!H1638=\"\",\"\",syoriyou!H1638)","v":""},{"$f":"IF(syoriyou!I1638=\"\",\"\",syoriyou!I1638)","v":""},{"$f":"IF(syoriyou!J1638=\"\",\"\",syoriyou!N1638)","v":""}]
[{"$f":"IF(syoriyou!A1639=\"\",\"\",syoriyou!A1639)","v":""},{"$f":"IF(syoriyou!B1639=\"\",\"\",syoriyou!B1639)","v":""},{"$f":"IF(syoriyou!C1639=\"\",\"\",syoriyou!C1639)","v":""},{"$f":"IF(syoriyou!D1639=\"\",\"\",syoriyou!D1639)","v":""},{"$f":"IF(syoriyou!E1639=\"\",\"\",syoriyou!E1639)","v":""},{"$f":"IF(syoriyou!F1639=\"\",\"\",syoriyou!F1639)","v":""},{"$f":"IF(syoriyou!G1639=\"\",\"\",syoriyou!G1639)","v":""},{"$f":"IF(syoriyou!H1639=\"\",\"\",syoriyou!H1639)","v":""},{"$f":"IF(syoriyou!I1639=\"\",\"\",syoriyou!I1639)","v":""},{"$f":"IF(syoriyou!J1639=\"\",\"\",syoriyou!N1639)","v":""}]
[{"$f":"IF(syoriyou!A1640=\"\",\"\",syoriyou!A1640)","v":""},{"$f":"IF(syoriyou!B1640=\"\",\"\",syoriyou!B1640)","v":""},{"$f":"IF(syoriyou!C1640=\"\",\"\",syoriyou!C1640)","v":""},{"$f":"IF(syoriyou!D1640=\"\",\"\",syoriyou!D1640)","v":""},{"$f":"IF(syoriyou!E1640=\"\",\"\",syoriyou!E1640)","v":""},{"$f":"IF(syoriyou!F1640=\"\",\"\",syoriyou!F1640)","v":""},{"$f":"IF(syoriyou!G1640=\"\",\"\",syoriyou!G1640)","v":""},{"$f":"IF(syoriyou!H1640=\"\",\"\",syoriyou!H1640)","v":""},{"$f":"IF(syoriyou!I1640=\"\",\"\",syoriyou!I1640)","v":""},{"$f":"IF(syoriyou!J1640=\"\",\"\",syoriyou!N1640)","v":""}]
[{"$f":"IF(syoriyou!A1641=\"\",\"\",syoriyou!A1641)","v":""},{"$f":"IF(syoriyou!B1641=\"\",\"\",syoriyou!B1641)","v":""},{"$f":"IF(syoriyou!C1641=\"\",\"\",syoriyou!C1641)","v":""},{"$f":"IF(syoriyou!D1641=\"\",\"\",syoriyou!D1641)","v":""},{"$f":"IF(syoriyou!E1641=\"\",\"\",syoriyou!E1641)","v":""},{"$f":"IF(syoriyou!F1641=\"\",\"\",syoriyou!F1641)","v":""},{"$f":"IF(syoriyou!G1641=\"\",\"\",syoriyou!G1641)","v":""},{"$f":"IF(syoriyou!H1641=\"\",\"\",syoriyou!H1641)","v":""},{"$f":"IF(syoriyou!I1641=\"\",\"\",syoriyou!I1641)","v":""},{"$f":"IF(syoriyou!J1641=\"\",\"\",syoriyou!N1641)","v":""}]
[{"$f":"IF(syoriyou!A1642=\"\",\"\",syoriyou!A1642)","v":""},{"$f":"IF(syoriyou!B1642=\"\",\"\",syoriyou!B1642)","v":""},{"$f":"IF(syoriyou!C1642=\"\",\"\",syoriyou!C1642)","v":""},{"$f":"IF(syoriyou!D1642=\"\",\"\",syoriyou!D1642)","v":""},{"$f":"IF(syoriyou!E1642=\"\",\"\",syoriyou!E1642)","v":""},{"$f":"IF(syoriyou!F1642=\"\",\"\",syoriyou!F1642)","v":""},{"$f":"IF(syoriyou!G1642=\"\",\"\",syoriyou!G1642)","v":""},{"$f":"IF(syoriyou!H1642=\"\",\"\",syoriyou!H1642)","v":""},{"$f":"IF(syoriyou!I1642=\"\",\"\",syoriyou!I1642)","v":""},{"$f":"IF(syoriyou!J1642=\"\",\"\",syoriyou!N1642)","v":""}]
[{"$f":"IF(syoriyou!A1643=\"\",\"\",syoriyou!A1643)","v":""},{"$f":"IF(syoriyou!B1643=\"\",\"\",syoriyou!B1643)","v":""},{"$f":"IF(syoriyou!C1643=\"\",\"\",syoriyou!C1643)","v":""},{"$f":"IF(syoriyou!D1643=\"\",\"\",syoriyou!D1643)","v":""},{"$f":"IF(syoriyou!E1643=\"\",\"\",syoriyou!E1643)","v":""},{"$f":"IF(syoriyou!F1643=\"\",\"\",syoriyou!F1643)","v":""},{"$f":"IF(syoriyou!G1643=\"\",\"\",syoriyou!G1643)","v":""},{"$f":"IF(syoriyou!H1643=\"\",\"\",syoriyou!H1643)","v":""},{"$f":"IF(syoriyou!I1643=\"\",\"\",syoriyou!I1643)","v":""},{"$f":"IF(syoriyou!J1643=\"\",\"\",syoriyou!N1643)","v":""}]
[{"$f":"IF(syoriyou!A1644=\"\",\"\",syoriyou!A1644)","v":""},{"$f":"IF(syoriyou!B1644=\"\",\"\",syoriyou!B1644)","v":""},{"$f":"IF(syoriyou!C1644=\"\",\"\",syoriyou!C1644)","v":""},{"$f":"IF(syoriyou!D1644=\"\",\"\",syoriyou!D1644)","v":""},{"$f":"IF(syoriyou!E1644=\"\",\"\",syoriyou!E1644)","v":""},{"$f":"IF(syoriyou!F1644=\"\",\"\",syoriyou!F1644)","v":""},{"$f":"IF(syoriyou!G1644=\"\",\"\",syoriyou!G1644)","v":""},{"$f":"IF(syoriyou!H1644=\"\",\"\",syoriyou!H1644)","v":""},{"$f":"IF(syoriyou!I1644=\"\",\"\",syoriyou!I1644)","v":""},{"$f":"IF(syoriyou!J1644=\"\",\"\",syoriyou!N1644)","v":""}]
[{"$f":"IF(syoriyou!A1645=\"\",\"\",syoriyou!A1645)","v":""},{"$f":"IF(syoriyou!B1645=\"\",\"\",syoriyou!B1645)","v":""},{"$f":"IF(syoriyou!C1645=\"\",\"\",syoriyou!C1645)","v":""},{"$f":"IF(syoriyou!D1645=\"\",\"\",syoriyou!D1645)","v":""},{"$f":"IF(syoriyou!E1645=\"\",\"\",syoriyou!E1645)","v":""},{"$f":"IF(syoriyou!F1645=\"\",\"\",syoriyou!F1645)","v":""},{"$f":"IF(syoriyou!G1645=\"\",\"\",syoriyou!G1645)","v":""},{"$f":"IF(syoriyou!H1645=\"\",\"\",syoriyou!H1645)","v":""},{"$f":"IF(syoriyou!I1645=\"\",\"\",syoriyou!I1645)","v":""},{"$f":"IF(syoriyou!J1645=\"\",\"\",syoriyou!N1645)","v":""}]
[{"$f":"IF(syoriyou!A1646=\"\",\"\",syoriyou!A1646)","v":""},{"$f":"IF(syoriyou!B1646=\"\",\"\",syoriyou!B1646)","v":""},{"$f":"IF(syoriyou!C1646=\"\",\"\",syoriyou!C1646)","v":""},{"$f":"IF(syoriyou!D1646=\"\",\"\",syoriyou!D1646)","v":""},{"$f":"IF(syoriyou!E1646=\"\",\"\",syoriyou!E1646)","v":""},{"$f":"IF(syoriyou!F1646=\"\",\"\",syoriyou!F1646)","v":""},{"$f":"IF(syoriyou!G1646=\"\",\"\",syoriyou!G1646)","v":""},{"$f":"IF(syoriyou!H1646=\"\",\"\",syoriyou!H1646)","v":""},{"$f":"IF(syoriyou!I1646=\"\",\"\",syoriyou!I1646)","v":""},{"$f":"IF(syoriyou!J1646=\"\",\"\",syoriyou!N1646)","v":""}]
[{"$f":"IF(syoriyou!A1647=\"\",\"\",syoriyou!A1647)","v":""},{"$f":"IF(syoriyou!B1647=\"\",\"\",syoriyou!B1647)","v":""},{"$f":"IF(syoriyou!C1647=\"\",\"\",syoriyou!C1647)","v":""},{"$f":"IF(syoriyou!D1647=\"\",\"\",syoriyou!D1647)","v":""},{"$f":"IF(syoriyou!E1647=\"\",\"\",syoriyou!E1647)","v":""},{"$f":"IF(syoriyou!F1647=\"\",\"\",syoriyou!F1647)","v":""},{"$f":"IF(syoriyou!G1647=\"\",\"\",syoriyou!G1647)","v":""},{"$f":"IF(syoriyou!H1647=\"\",\"\",syoriyou!H1647)","v":""},{"$f":"IF(syoriyou!I1647=\"\",\"\",syoriyou!I1647)","v":""},{"$f":"IF(syoriyou!J1647=\"\",\"\",syoriyou!N1647)","v":""}]
[{"$f":"IF(syoriyou!A1648=\"\",\"\",syoriyou!A1648)","v":""},{"$f":"IF(syoriyou!B1648=\"\",\"\",syoriyou!B1648)","v":""},{"$f":"IF(syoriyou!C1648=\"\",\"\",syoriyou!C1648)","v":""},{"$f":"IF(syoriyou!D1648=\"\",\"\",syoriyou!D1648)","v":""},{"$f":"IF(syoriyou!E1648=\"\",\"\",syoriyou!E1648)","v":""},{"$f":"IF(syoriyou!F1648=\"\",\"\",syoriyou!F1648)","v":""},{"$f":"IF(syoriyou!G1648=\"\",\"\",syoriyou!G1648)","v":""},{"$f":"IF(syoriyou!H1648=\"\",\"\",syoriyou!H1648)","v":""},{"$f":"IF(syoriyou!I1648=\"\",\"\",syoriyou!I1648)","v":""},{"$f":"IF(syoriyou!J1648=\"\",\"\",syoriyou!N1648)","v":""}]
[{"$f":"IF(syoriyou!A1649=\"\",\"\",syoriyou!A1649)","v":""},{"$f":"IF(syoriyou!B1649=\"\",\"\",syoriyou!B1649)","v":""},{"$f":"IF(syoriyou!C1649=\"\",\"\",syoriyou!C1649)","v":""},{"$f":"IF(syoriyou!D1649=\"\",\"\",syoriyou!D1649)","v":""},{"$f":"IF(syoriyou!E1649=\"\",\"\",syoriyou!E1649)","v":""},{"$f":"IF(syoriyou!F1649=\"\",\"\",syoriyou!F1649)","v":""},{"$f":"IF(syoriyou!G1649=\"\",\"\",syoriyou!G1649)","v":""},{"$f":"IF(syoriyou!H1649=\"\",\"\",syoriyou!H1649)","v":""},{"$f":"IF(syoriyou!I1649=\"\",\"\",syoriyou!I1649)","v":""},{"$f":"IF(syoriyou!J1649=\"\",\"\",syoriyou!N1649)","v":""}]
[{"$f":"IF(syoriyou!A1650=\"\",\"\",syoriyou!A1650)","v":""},{"$f":"IF(syoriyou!B1650=\"\",\"\",syoriyou!B1650)","v":""},{"$f":"IF(syoriyou!C1650=\"\",\"\",syoriyou!C1650)","v":""},{"$f":"IF(syoriyou!D1650=\"\",\"\",syoriyou!D1650)","v":""},{"$f":"IF(syoriyou!E1650=\"\",\"\",syoriyou!E1650)","v":""},{"$f":"IF(syoriyou!F1650=\"\",\"\",syoriyou!F1650)","v":""},{"$f":"IF(syoriyou!G1650=\"\",\"\",syoriyou!G1650)","v":""},{"$f":"IF(syoriyou!H1650=\"\",\"\",syoriyou!H1650)","v":""},{"$f":"IF(syoriyou!I1650=\"\",\"\",syoriyou!I1650)","v":""},{"$f":"IF(syoriyou!J1650=\"\",\"\",syoriyou!N1650)","v":""}]
[{"$f":"IF(syoriyou!A1651=\"\",\"\",syoriyou!A1651)","v":""},{"$f":"IF(syoriyou!B1651=\"\",\"\",syoriyou!B1651)","v":""},{"$f":"IF(syoriyou!C1651=\"\",\"\",syoriyou!C1651)","v":""},{"$f":"IF(syoriyou!D1651=\"\",\"\",syoriyou!D1651)","v":""},{"$f":"IF(syoriyou!E1651=\"\",\"\",syoriyou!E1651)","v":""},{"$f":"IF(syoriyou!F1651=\"\",\"\",syoriyou!F1651)","v":""},{"$f":"IF(syoriyou!G1651=\"\",\"\",syoriyou!G1651)","v":""},{"$f":"IF(syoriyou!H1651=\"\",\"\",syoriyou!H1651)","v":""},{"$f":"IF(syoriyou!I1651=\"\",\"\",syoriyou!I1651)","v":""},{"$f":"IF(syoriyou!J1651=\"\",\"\",syoriyou!N1651)","v":""}]
[{"$f":"IF(syoriyou!A1652=\"\",\"\",syoriyou!A1652)","v":""},{"$f":"IF(syoriyou!B1652=\"\",\"\",syoriyou!B1652)","v":""},{"$f":"IF(syoriyou!C1652=\"\",\"\",syoriyou!C1652)","v":""},{"$f":"IF(syoriyou!D1652=\"\",\"\",syoriyou!D1652)","v":""},{"$f":"IF(syoriyou!E1652=\"\",\"\",syoriyou!E1652)","v":""},{"$f":"IF(syoriyou!F1652=\"\",\"\",syoriyou!F1652)","v":""},{"$f":"IF(syoriyou!G1652=\"\",\"\",syoriyou!G1652)","v":""},{"$f":"IF(syoriyou!H1652=\"\",\"\",syoriyou!H1652)","v":""},{"$f":"IF(syoriyou!I1652=\"\",\"\",syoriyou!I1652)","v":""},{"$f":"IF(syoriyou!J1652=\"\",\"\",syoriyou!N1652)","v":""}]
[{"$f":"IF(syoriyou!A1653=\"\",\"\",syoriyou!A1653)","v":""},{"$f":"IF(syoriyou!B1653=\"\",\"\",syoriyou!B1653)","v":""},{"$f":"IF(syoriyou!C1653=\"\",\"\",syoriyou!C1653)","v":""},{"$f":"IF(syoriyou!D1653=\"\",\"\",syoriyou!D1653)","v":""},{"$f":"IF(syoriyou!E1653=\"\",\"\",syoriyou!E1653)","v":""},{"$f":"IF(syoriyou!F1653=\"\",\"\",syoriyou!F1653)","v":""},{"$f":"IF(syoriyou!G1653=\"\",\"\",syoriyou!G1653)","v":""},{"$f":"IF(syoriyou!H1653=\"\",\"\",syoriyou!H1653)","v":""},{"$f":"IF(syoriyou!I1653=\"\",\"\",syoriyou!I1653)","v":""},{"$f":"IF(syoriyou!J1653=\"\",\"\",syoriyou!N1653)","v":""}]
[{"$f":"IF(syoriyou!A1654=\"\",\"\",syoriyou!A1654)","v":""},{"$f":"IF(syoriyou!B1654=\"\",\"\",syoriyou!B1654)","v":""},{"$f":"IF(syoriyou!C1654=\"\",\"\",syoriyou!C1654)","v":""},{"$f":"IF(syoriyou!D1654=\"\",\"\",syoriyou!D1654)","v":""},{"$f":"IF(syoriyou!E1654=\"\",\"\",syoriyou!E1654)","v":""},{"$f":"IF(syoriyou!F1654=\"\",\"\",syoriyou!F1654)","v":""},{"$f":"IF(syoriyou!G1654=\"\",\"\",syoriyou!G1654)","v":""},{"$f":"IF(syoriyou!H1654=\"\",\"\",syoriyou!H1654)","v":""},{"$f":"IF(syoriyou!I1654=\"\",\"\",syoriyou!I1654)","v":""},{"$f":"IF(syoriyou!J1654=\"\",\"\",syoriyou!N1654)","v":""}]
[{"$f":"IF(syoriyou!A1655=\"\",\"\",syoriyou!A1655)","v":""},{"$f":"IF(syoriyou!B1655=\"\",\"\",syoriyou!B1655)","v":""},{"$f":"IF(syoriyou!C1655=\"\",\"\",syoriyou!C1655)","v":""},{"$f":"IF(syoriyou!D1655=\"\",\"\",syoriyou!D1655)","v":""},{"$f":"IF(syoriyou!E1655=\"\",\"\",syoriyou!E1655)","v":""},{"$f":"IF(syoriyou!F1655=\"\",\"\",syoriyou!F1655)","v":""},{"$f":"IF(syoriyou!G1655=\"\",\"\",syoriyou!G1655)","v":""},{"$f":"IF(syoriyou!H1655=\"\",\"\",syoriyou!H1655)","v":""},{"$f":"IF(syoriyou!I1655=\"\",\"\",syoriyou!I1655)","v":""},{"$f":"IF(syoriyou!J1655=\"\",\"\",syoriyou!N1655)","v":""}]
[{"$f":"IF(syoriyou!A1656=\"\",\"\",syoriyou!A1656)","v":""},{"$f":"IF(syoriyou!B1656=\"\",\"\",syoriyou!B1656)","v":""},{"$f":"IF(syoriyou!C1656=\"\",\"\",syoriyou!C1656)","v":""},{"$f":"IF(syoriyou!D1656=\"\",\"\",syoriyou!D1656)","v":""},{"$f":"IF(syoriyou!E1656=\"\",\"\",syoriyou!E1656)","v":""},{"$f":"IF(syoriyou!F1656=\"\",\"\",syoriyou!F1656)","v":""},{"$f":"IF(syoriyou!G1656=\"\",\"\",syoriyou!G1656)","v":""},{"$f":"IF(syoriyou!H1656=\"\",\"\",syoriyou!H1656)","v":""},{"$f":"IF(syoriyou!I1656=\"\",\"\",syoriyou!I1656)","v":""},{"$f":"IF(syoriyou!J1656=\"\",\"\",syoriyou!N1656)","v":""}]
[{"$f":"IF(syoriyou!A1657=\"\",\"\",syoriyou!A1657)","v":""},{"$f":"IF(syoriyou!B1657=\"\",\"\",syoriyou!B1657)","v":""},{"$f":"IF(syoriyou!C1657=\"\",\"\",syoriyou!C1657)","v":""},{"$f":"IF(syoriyou!D1657=\"\",\"\",syoriyou!D1657)","v":""},{"$f":"IF(syoriyou!E1657=\"\",\"\",syoriyou!E1657)","v":""},{"$f":"IF(syoriyou!F1657=\"\",\"\",syoriyou!F1657)","v":""},{"$f":"IF(syoriyou!G1657=\"\",\"\",syoriyou!G1657)","v":""},{"$f":"IF(syoriyou!H1657=\"\",\"\",syoriyou!H1657)","v":""},{"$f":"IF(syoriyou!I1657=\"\",\"\",syoriyou!I1657)","v":""},{"$f":"IF(syoriyou!J1657=\"\",\"\",syoriyou!N1657)","v":""}]
[{"$f":"IF(syoriyou!A1658=\"\",\"\",syoriyou!A1658)","v":""},{"$f":"IF(syoriyou!B1658=\"\",\"\",syoriyou!B1658)","v":""},{"$f":"IF(syoriyou!C1658=\"\",\"\",syoriyou!C1658)","v":""},{"$f":"IF(syoriyou!D1658=\"\",\"\",syoriyou!D1658)","v":""},{"$f":"IF(syoriyou!E1658=\"\",\"\",syoriyou!E1658)","v":""},{"$f":"IF(syoriyou!F1658=\"\",\"\",syoriyou!F1658)","v":""},{"$f":"IF(syoriyou!G1658=\"\",\"\",syoriyou!G1658)","v":""},{"$f":"IF(syoriyou!H1658=\"\",\"\",syoriyou!H1658)","v":""},{"$f":"IF(syoriyou!I1658=\"\",\"\",syoriyou!I1658)","v":""},{"$f":"IF(syoriyou!J1658=\"\",\"\",syoriyou!N1658)","v":""}]
[{"$f":"IF(syoriyou!A1659=\"\",\"\",syoriyou!A1659)","v":""},{"$f":"IF(syoriyou!B1659=\"\",\"\",syoriyou!B1659)","v":""},{"$f":"IF(syoriyou!C1659=\"\",\"\",syoriyou!C1659)","v":""},{"$f":"IF(syoriyou!D1659=\"\",\"\",syoriyou!D1659)","v":""},{"$f":"IF(syoriyou!E1659=\"\",\"\",syoriyou!E1659)","v":""},{"$f":"IF(syoriyou!F1659=\"\",\"\",syoriyou!F1659)","v":""},{"$f":"IF(syoriyou!G1659=\"\",\"\",syoriyou!G1659)","v":""},{"$f":"IF(syoriyou!H1659=\"\",\"\",syoriyou!H1659)","v":""},{"$f":"IF(syoriyou!I1659=\"\",\"\",syoriyou!I1659)","v":""},{"$f":"IF(syoriyou!J1659=\"\",\"\",syoriyou!N1659)","v":""}]
[{"$f":"IF(syoriyou!A1660=\"\",\"\",syoriyou!A1660)","v":""},{"$f":"IF(syoriyou!B1660=\"\",\"\",syoriyou!B1660)","v":""},{"$f":"IF(syoriyou!C1660=\"\",\"\",syoriyou!C1660)","v":""},{"$f":"IF(syoriyou!D1660=\"\",\"\",syoriyou!D1660)","v":""},{"$f":"IF(syoriyou!E1660=\"\",\"\",syoriyou!E1660)","v":""},{"$f":"IF(syoriyou!F1660=\"\",\"\",syoriyou!F1660)","v":""},{"$f":"IF(syoriyou!G1660=\"\",\"\",syoriyou!G1660)","v":""},{"$f":"IF(syoriyou!H1660=\"\",\"\",syoriyou!H1660)","v":""},{"$f":"IF(syoriyou!I1660=\"\",\"\",syoriyou!I1660)","v":""},{"$f":"IF(syoriyou!J1660=\"\",\"\",syoriyou!N1660)","v":""}]
[{"$f":"IF(syoriyou!A1661=\"\",\"\",syoriyou!A1661)","v":""},{"$f":"IF(syoriyou!B1661=\"\",\"\",syoriyou!B1661)","v":""},{"$f":"IF(syoriyou!C1661=\"\",\"\",syoriyou!C1661)","v":""},{"$f":"IF(syoriyou!D1661=\"\",\"\",syoriyou!D1661)","v":""},{"$f":"IF(syoriyou!E1661=\"\",\"\",syoriyou!E1661)","v":""},{"$f":"IF(syoriyou!F1661=\"\",\"\",syoriyou!F1661)","v":""},{"$f":"IF(syoriyou!G1661=\"\",\"\",syoriyou!G1661)","v":""},{"$f":"IF(syoriyou!H1661=\"\",\"\",syoriyou!H1661)","v":""},{"$f":"IF(syoriyou!I1661=\"\",\"\",syoriyou!I1661)","v":""},{"$f":"IF(syoriyou!J1661=\"\",\"\",syoriyou!N1661)","v":""}]
[{"$f":"IF(syoriyou!A1662=\"\",\"\",syoriyou!A1662)","v":""},{"$f":"IF(syoriyou!B1662=\"\",\"\",syoriyou!B1662)","v":""},{"$f":"IF(syoriyou!C1662=\"\",\"\",syoriyou!C1662)","v":""},{"$f":"IF(syoriyou!D1662=\"\",\"\",syoriyou!D1662)","v":""},{"$f":"IF(syoriyou!E1662=\"\",\"\",syoriyou!E1662)","v":""},{"$f":"IF(syoriyou!F1662=\"\",\"\",syoriyou!F1662)","v":""},{"$f":"IF(syoriyou!G1662=\"\",\"\",syoriyou!G1662)","v":""},{"$f":"IF(syoriyou!H1662=\"\",\"\",syoriyou!H1662)","v":""},{"$f":"IF(syoriyou!I1662=\"\",\"\",syoriyou!I1662)","v":""},{"$f":"IF(syoriyou!J1662=\"\",\"\",syoriyou!N1662)","v":""}]
[{"$f":"IF(syoriyou!A1663=\"\",\"\",syoriyou!A1663)","v":""},{"$f":"IF(syoriyou!B1663=\"\",\"\",syoriyou!B1663)","v":""},{"$f":"IF(syoriyou!C1663=\"\",\"\",syoriyou!C1663)","v":""},{"$f":"IF(syoriyou!D1663=\"\",\"\",syoriyou!D1663)","v":""},{"$f":"IF(syoriyou!E1663=\"\",\"\",syoriyou!E1663)","v":""},{"$f":"IF(syoriyou!F1663=\"\",\"\",syoriyou!F1663)","v":""},{"$f":"IF(syoriyou!G1663=\"\",\"\",syoriyou!G1663)","v":""},{"$f":"IF(syoriyou!H1663=\"\",\"\",syoriyou!H1663)","v":""},{"$f":"IF(syoriyou!I1663=\"\",\"\",syoriyou!I1663)","v":""},{"$f":"IF(syoriyou!J1663=\"\",\"\",syoriyou!N1663)","v":""}]
[{"$f":"IF(syoriyou!A1664=\"\",\"\",syoriyou!A1664)","v":""},{"$f":"IF(syoriyou!B1664=\"\",\"\",syoriyou!B1664)","v":""},{"$f":"IF(syoriyou!C1664=\"\",\"\",syoriyou!C1664)","v":""},{"$f":"IF(syoriyou!D1664=\"\",\"\",syoriyou!D1664)","v":""},{"$f":"IF(syoriyou!E1664=\"\",\"\",syoriyou!E1664)","v":""},{"$f":"IF(syoriyou!F1664=\"\",\"\",syoriyou!F1664)","v":""},{"$f":"IF(syoriyou!G1664=\"\",\"\",syoriyou!G1664)","v":""},{"$f":"IF(syoriyou!H1664=\"\",\"\",syoriyou!H1664)","v":""},{"$f":"IF(syoriyou!I1664=\"\",\"\",syoriyou!I1664)","v":""},{"$f":"IF(syoriyou!J1664=\"\",\"\",syoriyou!N1664)","v":""}]
[{"$f":"IF(syoriyou!A1665=\"\",\"\",syoriyou!A1665)","v":""},{"$f":"IF(syoriyou!B1665=\"\",\"\",syoriyou!B1665)","v":""},{"$f":"IF(syoriyou!C1665=\"\",\"\",syoriyou!C1665)","v":""},{"$f":"IF(syoriyou!D1665=\"\",\"\",syoriyou!D1665)","v":""},{"$f":"IF(syoriyou!E1665=\"\",\"\",syoriyou!E1665)","v":""},{"$f":"IF(syoriyou!F1665=\"\",\"\",syoriyou!F1665)","v":""},{"$f":"IF(syoriyou!G1665=\"\",\"\",syoriyou!G1665)","v":""},{"$f":"IF(syoriyou!H1665=\"\",\"\",syoriyou!H1665)","v":""},{"$f":"IF(syoriyou!I1665=\"\",\"\",syoriyou!I1665)","v":""},{"$f":"IF(syoriyou!J1665=\"\",\"\",syoriyou!N1665)","v":""}]
[{"$f":"IF(syoriyou!A1666=\"\",\"\",syoriyou!A1666)","v":""},{"$f":"IF(syoriyou!B1666=\"\",\"\",syoriyou!B1666)","v":""},{"$f":"IF(syoriyou!C1666=\"\",\"\",syoriyou!C1666)","v":""},{"$f":"IF(syoriyou!D1666=\"\",\"\",syoriyou!D1666)","v":""},{"$f":"IF(syoriyou!E1666=\"\",\"\",syoriyou!E1666)","v":""},{"$f":"IF(syoriyou!F1666=\"\",\"\",syoriyou!F1666)","v":""},{"$f":"IF(syoriyou!G1666=\"\",\"\",syoriyou!G1666)","v":""},{"$f":"IF(syoriyou!H1666=\"\",\"\",syoriyou!H1666)","v":""},{"$f":"IF(syoriyou!I1666=\"\",\"\",syoriyou!I1666)","v":""},{"$f":"IF(syoriyou!J1666=\"\",\"\",syoriyou!N1666)","v":""}]
[{"$f":"IF(syoriyou!A1667=\"\",\"\",syoriyou!A1667)","v":""},{"$f":"IF(syoriyou!B1667=\"\",\"\",syoriyou!B1667)","v":""},{"$f":"IF(syoriyou!C1667=\"\",\"\",syoriyou!C1667)","v":""},{"$f":"IF(syoriyou!D1667=\"\",\"\",syoriyou!D1667)","v":""},{"$f":"IF(syoriyou!E1667=\"\",\"\",syoriyou!E1667)","v":""},{"$f":"IF(syoriyou!F1667=\"\",\"\",syoriyou!F1667)","v":""},{"$f":"IF(syoriyou!G1667=\"\",\"\",syoriyou!G1667)","v":""},{"$f":"IF(syoriyou!H1667=\"\",\"\",syoriyou!H1667)","v":""},{"$f":"IF(syoriyou!I1667=\"\",\"\",syoriyou!I1667)","v":""},{"$f":"IF(syoriyou!J1667=\"\",\"\",syoriyou!N1667)","v":""}]
[{"$f":"IF(syoriyou!A1668=\"\",\"\",syoriyou!A1668)","v":""},{"$f":"IF(syoriyou!B1668=\"\",\"\",syoriyou!B1668)","v":""},{"$f":"IF(syoriyou!C1668=\"\",\"\",syoriyou!C1668)","v":""},{"$f":"IF(syoriyou!D1668=\"\",\"\",syoriyou!D1668)","v":""},{"$f":"IF(syoriyou!E1668=\"\",\"\",syoriyou!E1668)","v":""},{"$f":"IF(syoriyou!F1668=\"\",\"\",syoriyou!F1668)","v":""},{"$f":"IF(syoriyou!G1668=\"\",\"\",syoriyou!G1668)","v":""},{"$f":"IF(syoriyou!H1668=\"\",\"\",syoriyou!H1668)","v":""},{"$f":"IF(syoriyou!I1668=\"\",\"\",syoriyou!I1668)","v":""},{"$f":"IF(syoriyou!J1668=\"\",\"\",syoriyou!N1668)","v":""}]
[{"$f":"IF(syoriyou!A1669=\"\",\"\",syoriyou!A1669)","v":""},{"$f":"IF(syoriyou!B1669=\"\",\"\",syoriyou!B1669)","v":""},{"$f":"IF(syoriyou!C1669=\"\",\"\",syoriyou!C1669)","v":""},{"$f":"IF(syoriyou!D1669=\"\",\"\",syoriyou!D1669)","v":""},{"$f":"IF(syoriyou!E1669=\"\",\"\",syoriyou!E1669)","v":""},{"$f":"IF(syoriyou!F1669=\"\",\"\",syoriyou!F1669)","v":""},{"$f":"IF(syoriyou!G1669=\"\",\"\",syoriyou!G1669)","v":""},{"$f":"IF(syoriyou!H1669=\"\",\"\",syoriyou!H1669)","v":""},{"$f":"IF(syoriyou!I1669=\"\",\"\",syoriyou!I1669)","v":""},{"$f":"IF(syoriyou!J1669=\"\",\"\",syoriyou!N1669)","v":""}]
[{"$f":"IF(syoriyou!A1670=\"\",\"\",syoriyou!A1670)","v":""},{"$f":"IF(syoriyou!B1670=\"\",\"\",syoriyou!B1670)","v":""},{"$f":"IF(syoriyou!C1670=\"\",\"\",syoriyou!C1670)","v":""},{"$f":"IF(syoriyou!D1670=\"\",\"\",syoriyou!D1670)","v":""},{"$f":"IF(syoriyou!E1670=\"\",\"\",syoriyou!E1670)","v":""},{"$f":"IF(syoriyou!F1670=\"\",\"\",syoriyou!F1670)","v":""},{"$f":"IF(syoriyou!G1670=\"\",\"\",syoriyou!G1670)","v":""},{"$f":"IF(syoriyou!H1670=\"\",\"\",syoriyou!H1670)","v":""},{"$f":"IF(syoriyou!I1670=\"\",\"\",syoriyou!I1670)","v":""},{"$f":"IF(syoriyou!J1670=\"\",\"\",syoriyou!N1670)","v":""}]
[{"$f":"IF(syoriyou!A1671=\"\",\"\",syoriyou!A1671)","v":""},{"$f":"IF(syoriyou!B1671=\"\",\"\",syoriyou!B1671)","v":""},{"$f":"IF(syoriyou!C1671=\"\",\"\",syoriyou!C1671)","v":""},{"$f":"IF(syoriyou!D1671=\"\",\"\",syoriyou!D1671)","v":""},{"$f":"IF(syoriyou!E1671=\"\",\"\",syoriyou!E1671)","v":""},{"$f":"IF(syoriyou!F1671=\"\",\"\",syoriyou!F1671)","v":""},{"$f":"IF(syoriyou!G1671=\"\",\"\",syoriyou!G1671)","v":""},{"$f":"IF(syoriyou!H1671=\"\",\"\",syoriyou!H1671)","v":""},{"$f":"IF(syoriyou!I1671=\"\",\"\",syoriyou!I1671)","v":""},{"$f":"IF(syoriyou!J1671=\"\",\"\",syoriyou!N1671)","v":""}]
[{"$f":"IF(syoriyou!A1672=\"\",\"\",syoriyou!A1672)","v":""},{"$f":"IF(syoriyou!B1672=\"\",\"\",syoriyou!B1672)","v":""},{"$f":"IF(syoriyou!C1672=\"\",\"\",syoriyou!C1672)","v":""},{"$f":"IF(syoriyou!D1672=\"\",\"\",syoriyou!D1672)","v":""},{"$f":"IF(syoriyou!E1672=\"\",\"\",syoriyou!E1672)","v":""},{"$f":"IF(syoriyou!F1672=\"\",\"\",syoriyou!F1672)","v":""},{"$f":"IF(syoriyou!G1672=\"\",\"\",syoriyou!G1672)","v":""},{"$f":"IF(syoriyou!H1672=\"\",\"\",syoriyou!H1672)","v":""},{"$f":"IF(syoriyou!I1672=\"\",\"\",syoriyou!I1672)","v":""},{"$f":"IF(syoriyou!J1672=\"\",\"\",syoriyou!N1672)","v":""}]
[{"$f":"IF(syoriyou!A1673=\"\",\"\",syoriyou!A1673)","v":""},{"$f":"IF(syoriyou!B1673=\"\",\"\",syoriyou!B1673)","v":""},{"$f":"IF(syoriyou!C1673=\"\",\"\",syoriyou!C1673)","v":""},{"$f":"IF(syoriyou!D1673=\"\",\"\",syoriyou!D1673)","v":""},{"$f":"IF(syoriyou!E1673=\"\",\"\",syoriyou!E1673)","v":""},{"$f":"IF(syoriyou!F1673=\"\",\"\",syoriyou!F1673)","v":""},{"$f":"IF(syoriyou!G1673=\"\",\"\",syoriyou!G1673)","v":""},{"$f":"IF(syoriyou!H1673=\"\",\"\",syoriyou!H1673)","v":""},{"$f":"IF(syoriyou!I1673=\"\",\"\",syoriyou!I1673)","v":""},{"$f":"IF(syoriyou!J1673=\"\",\"\",syoriyou!N1673)","v":""}]
[{"$f":"IF(syoriyou!A1674=\"\",\"\",syoriyou!A1674)","v":""},{"$f":"IF(syoriyou!B1674=\"\",\"\",syoriyou!B1674)","v":""},{"$f":"IF(syoriyou!C1674=\"\",\"\",syoriyou!C1674)","v":""},{"$f":"IF(syoriyou!D1674=\"\",\"\",syoriyou!D1674)","v":""},{"$f":"IF(syoriyou!E1674=\"\",\"\",syoriyou!E1674)","v":""},{"$f":"IF(syoriyou!F1674=\"\",\"\",syoriyou!F1674)","v":""},{"$f":"IF(syoriyou!G1674=\"\",\"\",syoriyou!G1674)","v":""},{"$f":"IF(syoriyou!H1674=\"\",\"\",syoriyou!H1674)","v":""},{"$f":"IF(syoriyou!I1674=\"\",\"\",syoriyou!I1674)","v":""},{"$f":"IF(syoriyou!J1674=\"\",\"\",syoriyou!N1674)","v":""}]
[{"$f":"IF(syoriyou!A1675=\"\",\"\",syoriyou!A1675)","v":""},{"$f":"IF(syoriyou!B1675=\"\",\"\",syoriyou!B1675)","v":""},{"$f":"IF(syoriyou!C1675=\"\",\"\",syoriyou!C1675)","v":""},{"$f":"IF(syoriyou!D1675=\"\",\"\",syoriyou!D1675)","v":""},{"$f":"IF(syoriyou!E1675=\"\",\"\",syoriyou!E1675)","v":""},{"$f":"IF(syoriyou!F1675=\"\",\"\",syoriyou!F1675)","v":""},{"$f":"IF(syoriyou!G1675=\"\",\"\",syoriyou!G1675)","v":""},{"$f":"IF(syoriyou!H1675=\"\",\"\",syoriyou!H1675)","v":""},{"$f":"IF(syoriyou!I1675=\"\",\"\",syoriyou!I1675)","v":""},{"$f":"IF(syoriyou!J1675=\"\",\"\",syoriyou!N1675)","v":""}]
[{"$f":"IF(syoriyou!A1676=\"\",\"\",syoriyou!A1676)","v":""},{"$f":"IF(syoriyou!B1676=\"\",\"\",syoriyou!B1676)","v":""},{"$f":"IF(syoriyou!C1676=\"\",\"\",syoriyou!C1676)","v":""},{"$f":"IF(syoriyou!D1676=\"\",\"\",syoriyou!D1676)","v":""},{"$f":"IF(syoriyou!E1676=\"\",\"\",syoriyou!E1676)","v":""},{"$f":"IF(syoriyou!F1676=\"\",\"\",syoriyou!F1676)","v":""},{"$f":"IF(syoriyou!G1676=\"\",\"\",syoriyou!G1676)","v":""},{"$f":"IF(syoriyou!H1676=\"\",\"\",syoriyou!H1676)","v":""},{"$f":"IF(syoriyou!I1676=\"\",\"\",syoriyou!I1676)","v":""},{"$f":"IF(syoriyou!J1676=\"\",\"\",syoriyou!N1676)","v":""}]
[{"$f":"IF(syoriyou!A1677=\"\",\"\",syoriyou!A1677)","v":""},{"$f":"IF(syoriyou!B1677=\"\",\"\",syoriyou!B1677)","v":""},{"$f":"IF(syoriyou!C1677=\"\",\"\",syoriyou!C1677)","v":""},{"$f":"IF(syoriyou!D1677=\"\",\"\",syoriyou!D1677)","v":""},{"$f":"IF(syoriyou!E1677=\"\",\"\",syoriyou!E1677)","v":""},{"$f":"IF(syoriyou!F1677=\"\",\"\",syoriyou!F1677)","v":""},{"$f":"IF(syoriyou!G1677=\"\",\"\",syoriyou!G1677)","v":""},{"$f":"IF(syoriyou!H1677=\"\",\"\",syoriyou!H1677)","v":""},{"$f":"IF(syoriyou!I1677=\"\",\"\",syoriyou!I1677)","v":""},{"$f":"IF(syoriyou!J1677=\"\",\"\",syoriyou!N1677)","v":""}]
[{"$f":"IF(syoriyou!A1678=\"\",\"\",syoriyou!A1678)","v":""},{"$f":"IF(syoriyou!B1678=\"\",\"\",syoriyou!B1678)","v":""},{"$f":"IF(syoriyou!C1678=\"\",\"\",syoriyou!C1678)","v":""},{"$f":"IF(syoriyou!D1678=\"\",\"\",syoriyou!D1678)","v":""},{"$f":"IF(syoriyou!E1678=\"\",\"\",syoriyou!E1678)","v":""},{"$f":"IF(syoriyou!F1678=\"\",\"\",syoriyou!F1678)","v":""},{"$f":"IF(syoriyou!G1678=\"\",\"\",syoriyou!G1678)","v":""},{"$f":"IF(syoriyou!H1678=\"\",\"\",syoriyou!H1678)","v":""},{"$f":"IF(syoriyou!I1678=\"\",\"\",syoriyou!I1678)","v":""},{"$f":"IF(syoriyou!J1678=\"\",\"\",syoriyou!N1678)","v":""}]
[{"$f":"IF(syoriyou!A1679=\"\",\"\",syoriyou!A1679)","v":""},{"$f":"IF(syoriyou!B1679=\"\",\"\",syoriyou!B1679)","v":""},{"$f":"IF(syoriyou!C1679=\"\",\"\",syoriyou!C1679)","v":""},{"$f":"IF(syoriyou!D1679=\"\",\"\",syoriyou!D1679)","v":""},{"$f":"IF(syoriyou!E1679=\"\",\"\",syoriyou!E1679)","v":""},{"$f":"IF(syoriyou!F1679=\"\",\"\",syoriyou!F1679)","v":""},{"$f":"IF(syoriyou!G1679=\"\",\"\",syoriyou!G1679)","v":""},{"$f":"IF(syoriyou!H1679=\"\",\"\",syoriyou!H1679)","v":""},{"$f":"IF(syoriyou!I1679=\"\",\"\",syoriyou!I1679)","v":""},{"$f":"IF(syoriyou!J1679=\"\",\"\",syoriyou!N1679)","v":""}]
[{"$f":"IF(syoriyou!A1680=\"\",\"\",syoriyou!A1680)","v":""},{"$f":"IF(syoriyou!B1680=\"\",\"\",syoriyou!B1680)","v":""},{"$f":"IF(syoriyou!C1680=\"\",\"\",syoriyou!C1680)","v":""},{"$f":"IF(syoriyou!D1680=\"\",\"\",syoriyou!D1680)","v":""},{"$f":"IF(syoriyou!E1680=\"\",\"\",syoriyou!E1680)","v":""},{"$f":"IF(syoriyou!F1680=\"\",\"\",syoriyou!F1680)","v":""},{"$f":"IF(syoriyou!G1680=\"\",\"\",syoriyou!G1680)","v":""},{"$f":"IF(syoriyou!H1680=\"\",\"\",syoriyou!H1680)","v":""},{"$f":"IF(syoriyou!I1680=\"\",\"\",syoriyou!I1680)","v":""},{"$f":"IF(syoriyou!J1680=\"\",\"\",syoriyou!N1680)","v":""}]
[{"$f":"IF(syoriyou!A1681=\"\",\"\",syoriyou!A1681)","v":""},{"$f":"IF(syoriyou!B1681=\"\",\"\",syoriyou!B1681)","v":""},{"$f":"IF(syoriyou!C1681=\"\",\"\",syoriyou!C1681)","v":""},{"$f":"IF(syoriyou!D1681=\"\",\"\",syoriyou!D1681)","v":""},{"$f":"IF(syoriyou!E1681=\"\",\"\",syoriyou!E1681)","v":""},{"$f":"IF(syoriyou!F1681=\"\",\"\",syoriyou!F1681)","v":""},{"$f":"IF(syoriyou!G1681=\"\",\"\",syoriyou!G1681)","v":""},{"$f":"IF(syoriyou!H1681=\"\",\"\",syoriyou!H1681)","v":""},{"$f":"IF(syoriyou!I1681=\"\",\"\",syoriyou!I1681)","v":""},{"$f":"IF(syoriyou!J1681=\"\",\"\",syoriyou!N1681)","v":""}]
[{"$f":"IF(syoriyou!A1682=\"\",\"\",syoriyou!A1682)","v":""},{"$f":"IF(syoriyou!B1682=\"\",\"\",syoriyou!B1682)","v":""},{"$f":"IF(syoriyou!C1682=\"\",\"\",syoriyou!C1682)","v":""},{"$f":"IF(syoriyou!D1682=\"\",\"\",syoriyou!D1682)","v":""},{"$f":"IF(syoriyou!E1682=\"\",\"\",syoriyou!E1682)","v":""},{"$f":"IF(syoriyou!F1682=\"\",\"\",syoriyou!F1682)","v":""},{"$f":"IF(syoriyou!G1682=\"\",\"\",syoriyou!G1682)","v":""},{"$f":"IF(syoriyou!H1682=\"\",\"\",syoriyou!H1682)","v":""},{"$f":"IF(syoriyou!I1682=\"\",\"\",syoriyou!I1682)","v":""},{"$f":"IF(syoriyou!J1682=\"\",\"\",syoriyou!N1682)","v":""}]
[{"$f":"IF(syoriyou!A1683=\"\",\"\",syoriyou!A1683)","v":""},{"$f":"IF(syoriyou!B1683=\"\",\"\",syoriyou!B1683)","v":""},{"$f":"IF(syoriyou!C1683=\"\",\"\",syoriyou!C1683)","v":""},{"$f":"IF(syoriyou!D1683=\"\",\"\",syoriyou!D1683)","v":""},{"$f":"IF(syoriyou!E1683=\"\",\"\",syoriyou!E1683)","v":""},{"$f":"IF(syoriyou!F1683=\"\",\"\",syoriyou!F1683)","v":""},{"$f":"IF(syoriyou!G1683=\"\",\"\",syoriyou!G1683)","v":""},{"$f":"IF(syoriyou!H1683=\"\",\"\",syoriyou!H1683)","v":""},{"$f":"IF(syoriyou!I1683=\"\",\"\",syoriyou!I1683)","v":""},{"$f":"IF(syoriyou!J1683=\"\",\"\",syoriyou!N1683)","v":""}]
[{"$f":"IF(syoriyou!A1684=\"\",\"\",syoriyou!A1684)","v":""},{"$f":"IF(syoriyou!B1684=\"\",\"\",syoriyou!B1684)","v":""},{"$f":"IF(syoriyou!C1684=\"\",\"\",syoriyou!C1684)","v":""},{"$f":"IF(syoriyou!D1684=\"\",\"\",syoriyou!D1684)","v":""},{"$f":"IF(syoriyou!E1684=\"\",\"\",syoriyou!E1684)","v":""},{"$f":"IF(syoriyou!F1684=\"\",\"\",syoriyou!F1684)","v":""},{"$f":"IF(syoriyou!G1684=\"\",\"\",syoriyou!G1684)","v":""},{"$f":"IF(syoriyou!H1684=\"\",\"\",syoriyou!H1684)","v":""},{"$f":"IF(syoriyou!I1684=\"\",\"\",syoriyou!I1684)","v":""},{"$f":"IF(syoriyou!J1684=\"\",\"\",syoriyou!N1684)","v":""}]
[{"$f":"IF(syoriyou!A1685=\"\",\"\",syoriyou!A1685)","v":""},{"$f":"IF(syoriyou!B1685=\"\",\"\",syoriyou!B1685)","v":""},{"$f":"IF(syoriyou!C1685=\"\",\"\",syoriyou!C1685)","v":""},{"$f":"IF(syoriyou!D1685=\"\",\"\",syoriyou!D1685)","v":""},{"$f":"IF(syoriyou!E1685=\"\",\"\",syoriyou!E1685)","v":""},{"$f":"IF(syoriyou!F1685=\"\",\"\",syoriyou!F1685)","v":""},{"$f":"IF(syoriyou!G1685=\"\",\"\",syoriyou!G1685)","v":""},{"$f":"IF(syoriyou!H1685=\"\",\"\",syoriyou!H1685)","v":""},{"$f":"IF(syoriyou!I1685=\"\",\"\",syoriyou!I1685)","v":""},{"$f":"IF(syoriyou!J1685=\"\",\"\",syoriyou!N1685)","v":""}]
[{"$f":"IF(syoriyou!A1686=\"\",\"\",syoriyou!A1686)","v":""},{"$f":"IF(syoriyou!B1686=\"\",\"\",syoriyou!B1686)","v":""},{"$f":"IF(syoriyou!C1686=\"\",\"\",syoriyou!C1686)","v":""},{"$f":"IF(syoriyou!D1686=\"\",\"\",syoriyou!D1686)","v":""},{"$f":"IF(syoriyou!E1686=\"\",\"\",syoriyou!E1686)","v":""},{"$f":"IF(syoriyou!F1686=\"\",\"\",syoriyou!F1686)","v":""},{"$f":"IF(syoriyou!G1686=\"\",\"\",syoriyou!G1686)","v":""},{"$f":"IF(syoriyou!H1686=\"\",\"\",syoriyou!H1686)","v":""},{"$f":"IF(syoriyou!I1686=\"\",\"\",syoriyou!I1686)","v":""},{"$f":"IF(syoriyou!J1686=\"\",\"\",syoriyou!N1686)","v":""}]
[{"$f":"IF(syoriyou!A1687=\"\",\"\",syoriyou!A1687)","v":""},{"$f":"IF(syoriyou!B1687=\"\",\"\",syoriyou!B1687)","v":""},{"$f":"IF(syoriyou!C1687=\"\",\"\",syoriyou!C1687)","v":""},{"$f":"IF(syoriyou!D1687=\"\",\"\",syoriyou!D1687)","v":""},{"$f":"IF(syoriyou!E1687=\"\",\"\",syoriyou!E1687)","v":""},{"$f":"IF(syoriyou!F1687=\"\",\"\",syoriyou!F1687)","v":""},{"$f":"IF(syoriyou!G1687=\"\",\"\",syoriyou!G1687)","v":""},{"$f":"IF(syoriyou!H1687=\"\",\"\",syoriyou!H1687)","v":""},{"$f":"IF(syoriyou!I1687=\"\",\"\",syoriyou!I1687)","v":""},{"$f":"IF(syoriyou!J1687=\"\",\"\",syoriyou!N1687)","v":""}]
[{"$f":"IF(syoriyou!A1688=\"\",\"\",syoriyou!A1688)","v":""},{"$f":"IF(syoriyou!B1688=\"\",\"\",syoriyou!B1688)","v":""},{"$f":"IF(syoriyou!C1688=\"\",\"\",syoriyou!C1688)","v":""},{"$f":"IF(syoriyou!D1688=\"\",\"\",syoriyou!D1688)","v":""},{"$f":"IF(syoriyou!E1688=\"\",\"\",syoriyou!E1688)","v":""},{"$f":"IF(syoriyou!F1688=\"\",\"\",syoriyou!F1688)","v":""},{"$f":"IF(syoriyou!G1688=\"\",\"\",syoriyou!G1688)","v":""},{"$f":"IF(syoriyou!H1688=\"\",\"\",syoriyou!H1688)","v":""},{"$f":"IF(syoriyou!I1688=\"\",\"\",syoriyou!I1688)","v":""},{"$f":"IF(syoriyou!J1688=\"\",\"\",syoriyou!N1688)","v":""}]
[{"$f":"IF(syoriyou!A1689=\"\",\"\",syoriyou!A1689)","v":""},{"$f":"IF(syoriyou!B1689=\"\",\"\",syoriyou!B1689)","v":""},{"$f":"IF(syoriyou!C1689=\"\",\"\",syoriyou!C1689)","v":""},{"$f":"IF(syoriyou!D1689=\"\",\"\",syoriyou!D1689)","v":""},{"$f":"IF(syoriyou!E1689=\"\",\"\",syoriyou!E1689)","v":""},{"$f":"IF(syoriyou!F1689=\"\",\"\",syoriyou!F1689)","v":""},{"$f":"IF(syoriyou!G1689=\"\",\"\",syoriyou!G1689)","v":""},{"$f":"IF(syoriyou!H1689=\"\",\"\",syoriyou!H1689)","v":""},{"$f":"IF(syoriyou!I1689=\"\",\"\",syoriyou!I1689)","v":""},{"$f":"IF(syoriyou!J1689=\"\",\"\",syoriyou!N1689)","v":""}]
[{"$f":"IF(syoriyou!A1690=\"\",\"\",syoriyou!A1690)","v":""},{"$f":"IF(syoriyou!B1690=\"\",\"\",syoriyou!B1690)","v":""},{"$f":"IF(syoriyou!C1690=\"\",\"\",syoriyou!C1690)","v":""},{"$f":"IF(syoriyou!D1690=\"\",\"\",syoriyou!D1690)","v":""},{"$f":"IF(syoriyou!E1690=\"\",\"\",syoriyou!E1690)","v":""},{"$f":"IF(syoriyou!F1690=\"\",\"\",syoriyou!F1690)","v":""},{"$f":"IF(syoriyou!G1690=\"\",\"\",syoriyou!G1690)","v":""},{"$f":"IF(syoriyou!H1690=\"\",\"\",syoriyou!H1690)","v":""},{"$f":"IF(syoriyou!I1690=\"\",\"\",syoriyou!I1690)","v":""},{"$f":"IF(syoriyou!J1690=\"\",\"\",syoriyou!N1690)","v":""}]
[{"$f":"IF(syoriyou!A1691=\"\",\"\",syoriyou!A1691)","v":""},{"$f":"IF(syoriyou!B1691=\"\",\"\",syoriyou!B1691)","v":""},{"$f":"IF(syoriyou!C1691=\"\",\"\",syoriyou!C1691)","v":""},{"$f":"IF(syoriyou!D1691=\"\",\"\",syoriyou!D1691)","v":""},{"$f":"IF(syoriyou!E1691=\"\",\"\",syoriyou!E1691)","v":""},{"$f":"IF(syoriyou!F1691=\"\",\"\",syoriyou!F1691)","v":""},{"$f":"IF(syoriyou!G1691=\"\",\"\",syoriyou!G1691)","v":""},{"$f":"IF(syoriyou!H1691=\"\",\"\",syoriyou!H1691)","v":""},{"$f":"IF(syoriyou!I1691=\"\",\"\",syoriyou!I1691)","v":""},{"$f":"IF(syoriyou!J1691=\"\",\"\",syoriyou!N1691)","v":""}]
[{"$f":"IF(syoriyou!A1692=\"\",\"\",syoriyou!A1692)","v":""},{"$f":"IF(syoriyou!B1692=\"\",\"\",syoriyou!B1692)","v":""},{"$f":"IF(syoriyou!C1692=\"\",\"\",syoriyou!C1692)","v":""},{"$f":"IF(syoriyou!D1692=\"\",\"\",syoriyou!D1692)","v":""},{"$f":"IF(syoriyou!E1692=\"\",\"\",syoriyou!E1692)","v":""},{"$f":"IF(syoriyou!F1692=\"\",\"\",syoriyou!F1692)","v":""},{"$f":"IF(syoriyou!G1692=\"\",\"\",syoriyou!G1692)","v":""},{"$f":"IF(syoriyou!H1692=\"\",\"\",syoriyou!H1692)","v":""},{"$f":"IF(syoriyou!I1692=\"\",\"\",syoriyou!I1692)","v":""},{"$f":"IF(syoriyou!J1692=\"\",\"\",syoriyou!N1692)","v":""}]
[{"$f":"IF(syoriyou!A1693=\"\",\"\",syoriyou!A1693)","v":""},{"$f":"IF(syoriyou!B1693=\"\",\"\",syoriyou!B1693)","v":""},{"$f":"IF(syoriyou!C1693=\"\",\"\",syoriyou!C1693)","v":""},{"$f":"IF(syoriyou!D1693=\"\",\"\",syoriyou!D1693)","v":""},{"$f":"IF(syoriyou!E1693=\"\",\"\",syoriyou!E1693)","v":""},{"$f":"IF(syoriyou!F1693=\"\",\"\",syoriyou!F1693)","v":""},{"$f":"IF(syoriyou!G1693=\"\",\"\",syoriyou!G1693)","v":""},{"$f":"IF(syoriyou!H1693=\"\",\"\",syoriyou!H1693)","v":""},{"$f":"IF(syoriyou!I1693=\"\",\"\",syoriyou!I1693)","v":""},{"$f":"IF(syoriyou!J1693=\"\",\"\",syoriyou!N1693)","v":""}]
[{"$f":"IF(syoriyou!A1694=\"\",\"\",syoriyou!A1694)","v":""},{"$f":"IF(syoriyou!B1694=\"\",\"\",syoriyou!B1694)","v":""},{"$f":"IF(syoriyou!C1694=\"\",\"\",syoriyou!C1694)","v":""},{"$f":"IF(syoriyou!D1694=\"\",\"\",syoriyou!D1694)","v":""},{"$f":"IF(syoriyou!E1694=\"\",\"\",syoriyou!E1694)","v":""},{"$f":"IF(syoriyou!F1694=\"\",\"\",syoriyou!F1694)","v":""},{"$f":"IF(syoriyou!G1694=\"\",\"\",syoriyou!G1694)","v":""},{"$f":"IF(syoriyou!H1694=\"\",\"\",syoriyou!H1694)","v":""},{"$f":"IF(syoriyou!I1694=\"\",\"\",syoriyou!I1694)","v":""},{"$f":"IF(syoriyou!J1694=\"\",\"\",syoriyou!N1694)","v":""}]
[{"$f":"IF(syoriyou!A1695=\"\",\"\",syoriyou!A1695)","v":""},{"$f":"IF(syoriyou!B1695=\"\",\"\",syoriyou!B1695)","v":""},{"$f":"IF(syoriyou!C1695=\"\",\"\",syoriyou!C1695)","v":""},{"$f":"IF(syoriyou!D1695=\"\",\"\",syoriyou!D1695)","v":""},{"$f":"IF(syoriyou!E1695=\"\",\"\",syoriyou!E1695)","v":""},{"$f":"IF(syoriyou!F1695=\"\",\"\",syoriyou!F1695)","v":""},{"$f":"IF(syoriyou!G1695=\"\",\"\",syoriyou!G1695)","v":""},{"$f":"IF(syoriyou!H1695=\"\",\"\",syoriyou!H1695)","v":""},{"$f":"IF(syoriyou!I1695=\"\",\"\",syoriyou!I1695)","v":""},{"$f":"IF(syoriyou!J1695=\"\",\"\",syoriyou!N1695)","v":""}]
[{"$f":"IF(syoriyou!A1696=\"\",\"\",syoriyou!A1696)","v":""},{"$f":"IF(syoriyou!B1696=\"\",\"\",syoriyou!B1696)","v":""},{"$f":"IF(syoriyou!C1696=\"\",\"\",syoriyou!C1696)","v":""},{"$f":"IF(syoriyou!D1696=\"\",\"\",syoriyou!D1696)","v":""},{"$f":"IF(syoriyou!E1696=\"\",\"\",syoriyou!E1696)","v":""},{"$f":"IF(syoriyou!F1696=\"\",\"\",syoriyou!F1696)","v":""},{"$f":"IF(syoriyou!G1696=\"\",\"\",syoriyou!G1696)","v":""},{"$f":"IF(syoriyou!H1696=\"\",\"\",syoriyou!H1696)","v":""},{"$f":"IF(syoriyou!I1696=\"\",\"\",syoriyou!I1696)","v":""},{"$f":"IF(syoriyou!J1696=\"\",\"\",syoriyou!N1696)","v":""}]
[{"$f":"IF(syoriyou!A1697=\"\",\"\",syoriyou!A1697)","v":""},{"$f":"IF(syoriyou!B1697=\"\",\"\",syoriyou!B1697)","v":""},{"$f":"IF(syoriyou!C1697=\"\",\"\",syoriyou!C1697)","v":""},{"$f":"IF(syoriyou!D1697=\"\",\"\",syoriyou!D1697)","v":""},{"$f":"IF(syoriyou!E1697=\"\",\"\",syoriyou!E1697)","v":""},{"$f":"IF(syoriyou!F1697=\"\",\"\",syoriyou!F1697)","v":""},{"$f":"IF(syoriyou!G1697=\"\",\"\",syoriyou!G1697)","v":""},{"$f":"IF(syoriyou!H1697=\"\",\"\",syoriyou!H1697)","v":""},{"$f":"IF(syoriyou!I1697=\"\",\"\",syoriyou!I1697)","v":""},{"$f":"IF(syoriyou!J1697=\"\",\"\",syoriyou!N1697)","v":""}]
[{"$f":"IF(syoriyou!A1698=\"\",\"\",syoriyou!A1698)","v":""},{"$f":"IF(syoriyou!B1698=\"\",\"\",syoriyou!B1698)","v":""},{"$f":"IF(syoriyou!C1698=\"\",\"\",syoriyou!C1698)","v":""},{"$f":"IF(syoriyou!D1698=\"\",\"\",syoriyou!D1698)","v":""},{"$f":"IF(syoriyou!E1698=\"\",\"\",syoriyou!E1698)","v":""},{"$f":"IF(syoriyou!F1698=\"\",\"\",syoriyou!F1698)","v":""},{"$f":"IF(syoriyou!G1698=\"\",\"\",syoriyou!G1698)","v":""},{"$f":"IF(syoriyou!H1698=\"\",\"\",syoriyou!H1698)","v":""},{"$f":"IF(syoriyou!I1698=\"\",\"\",syoriyou!I1698)","v":""},{"$f":"IF(syoriyou!J1698=\"\",\"\",syoriyou!N1698)","v":""}]
[{"$f":"IF(syoriyou!A1699=\"\",\"\",syoriyou!A1699)","v":""},{"$f":"IF(syoriyou!B1699=\"\",\"\",syoriyou!B1699)","v":""},{"$f":"IF(syoriyou!C1699=\"\",\"\",syoriyou!C1699)","v":""},{"$f":"IF(syoriyou!D1699=\"\",\"\",syoriyou!D1699)","v":""},{"$f":"IF(syoriyou!E1699=\"\",\"\",syoriyou!E1699)","v":""},{"$f":"IF(syoriyou!F1699=\"\",\"\",syoriyou!F1699)","v":""},{"$f":"IF(syoriyou!G1699=\"\",\"\",syoriyou!G1699)","v":""},{"$f":"IF(syoriyou!H1699=\"\",\"\",syoriyou!H1699)","v":""},{"$f":"IF(syoriyou!I1699=\"\",\"\",syoriyou!I1699)","v":""},{"$f":"IF(syoriyou!J1699=\"\",\"\",syoriyou!N1699)","v":""}]
[{"$f":"IF(syoriyou!A1700=\"\",\"\",syoriyou!A1700)","v":""},{"$f":"IF(syoriyou!B1700=\"\",\"\",syoriyou!B1700)","v":""},{"$f":"IF(syoriyou!C1700=\"\",\"\",syoriyou!C1700)","v":""},{"$f":"IF(syoriyou!D1700=\"\",\"\",syoriyou!D1700)","v":""},{"$f":"IF(syoriyou!E1700=\"\",\"\",syoriyou!E1700)","v":""},{"$f":"IF(syoriyou!F1700=\"\",\"\",syoriyou!F1700)","v":""},{"$f":"IF(syoriyou!G1700=\"\",\"\",syoriyou!G1700)","v":""},{"$f":"IF(syoriyou!H1700=\"\",\"\",syoriyou!H1700)","v":""},{"$f":"IF(syoriyou!I1700=\"\",\"\",syoriyou!I1700)","v":""},{"$f":"IF(syoriyou!J1700=\"\",\"\",syoriyou!N1700)","v":""}]
[{"$f":"IF(syoriyou!A1701=\"\",\"\",syoriyou!A1701)","v":""},{"$f":"IF(syoriyou!B1701=\"\",\"\",syoriyou!B1701)","v":""},{"$f":"IF(syoriyou!C1701=\"\",\"\",syoriyou!C1701)","v":""},{"$f":"IF(syoriyou!D1701=\"\",\"\",syoriyou!D1701)","v":""},{"$f":"IF(syoriyou!E1701=\"\",\"\",syoriyou!E1701)","v":""},{"$f":"IF(syoriyou!F1701=\"\",\"\",syoriyou!F1701)","v":""},{"$f":"IF(syoriyou!G1701=\"\",\"\",syoriyou!G1701)","v":""},{"$f":"IF(syoriyou!H1701=\"\",\"\",syoriyou!H1701)","v":""},{"$f":"IF(syoriyou!I1701=\"\",\"\",syoriyou!I1701)","v":""},{"$f":"IF(syoriyou!J1701=\"\",\"\",syoriyou!N1701)","v":""}]
[{"$f":"IF(syoriyou!A1702=\"\",\"\",syoriyou!A1702)","v":""},{"$f":"IF(syoriyou!B1702=\"\",\"\",syoriyou!B1702)","v":""},{"$f":"IF(syoriyou!C1702=\"\",\"\",syoriyou!C1702)","v":""},{"$f":"IF(syoriyou!D1702=\"\",\"\",syoriyou!D1702)","v":""},{"$f":"IF(syoriyou!E1702=\"\",\"\",syoriyou!E1702)","v":""},{"$f":"IF(syoriyou!F1702=\"\",\"\",syoriyou!F1702)","v":""},{"$f":"IF(syoriyou!G1702=\"\",\"\",syoriyou!G1702)","v":""},{"$f":"IF(syoriyou!H1702=\"\",\"\",syoriyou!H1702)","v":""},{"$f":"IF(syoriyou!I1702=\"\",\"\",syoriyou!I1702)","v":""},{"$f":"IF(syoriyou!J1702=\"\",\"\",syoriyou!N1702)","v":""}]
[{"$f":"IF(syoriyou!A1703=\"\",\"\",syoriyou!A1703)","v":""},{"$f":"IF(syoriyou!B1703=\"\",\"\",syoriyou!B1703)","v":""},{"$f":"IF(syoriyou!C1703=\"\",\"\",syoriyou!C1703)","v":""},{"$f":"IF(syoriyou!D1703=\"\",\"\",syoriyou!D1703)","v":""},{"$f":"IF(syoriyou!E1703=\"\",\"\",syoriyou!E1703)","v":""},{"$f":"IF(syoriyou!F1703=\"\",\"\",syoriyou!F1703)","v":""},{"$f":"IF(syoriyou!G1703=\"\",\"\",syoriyou!G1703)","v":""},{"$f":"IF(syoriyou!H1703=\"\",\"\",syoriyou!H1703)","v":""},{"$f":"IF(syoriyou!I1703=\"\",\"\",syoriyou!I1703)","v":""},{"$f":"IF(syoriyou!J1703=\"\",\"\",syoriyou!N1703)","v":""}]
[{"$f":"IF(syoriyou!A1704=\"\",\"\",syoriyou!A1704)","v":""},{"$f":"IF(syoriyou!B1704=\"\",\"\",syoriyou!B1704)","v":""},{"$f":"IF(syoriyou!C1704=\"\",\"\",syoriyou!C1704)","v":""},{"$f":"IF(syoriyou!D1704=\"\",\"\",syoriyou!D1704)","v":""},{"$f":"IF(syoriyou!E1704=\"\",\"\",syoriyou!E1704)","v":""},{"$f":"IF(syoriyou!F1704=\"\",\"\",syoriyou!F1704)","v":""},{"$f":"IF(syoriyou!G1704=\"\",\"\",syoriyou!G1704)","v":""},{"$f":"IF(syoriyou!H1704=\"\",\"\",syoriyou!H1704)","v":""},{"$f":"IF(syoriyou!I1704=\"\",\"\",syoriyou!I1704)","v":""},{"$f":"IF(syoriyou!J1704=\"\",\"\",syoriyou!N1704)","v":""}]
[{"$f":"IF(syoriyou!A1705=\"\",\"\",syoriyou!A1705)","v":""},{"$f":"IF(syoriyou!B1705=\"\",\"\",syoriyou!B1705)","v":""},{"$f":"IF(syoriyou!C1705=\"\",\"\",syoriyou!C1705)","v":""},{"$f":"IF(syoriyou!D1705=\"\",\"\",syoriyou!D1705)","v":""},{"$f":"IF(syoriyou!E1705=\"\",\"\",syoriyou!E1705)","v":""},{"$f":"IF(syoriyou!F1705=\"\",\"\",syoriyou!F1705)","v":""},{"$f":"IF(syoriyou!G1705=\"\",\"\",syoriyou!G1705)","v":""},{"$f":"IF(syoriyou!H1705=\"\",\"\",syoriyou!H1705)","v":""},{"$f":"IF(syoriyou!I1705=\"\",\"\",syoriyou!I1705)","v":""},{"$f":"IF(syoriyou!J1705=\"\",\"\",syoriyou!N1705)","v":""}]
[{"$f":"IF(syoriyou!A1706=\"\",\"\",syoriyou!A1706)","v":""},{"$f":"IF(syoriyou!B1706=\"\",\"\",syoriyou!B1706)","v":""},{"$f":"IF(syoriyou!C1706=\"\",\"\",syoriyou!C1706)","v":""},{"$f":"IF(syoriyou!D1706=\"\",\"\",syoriyou!D1706)","v":""},{"$f":"IF(syoriyou!E1706=\"\",\"\",syoriyou!E1706)","v":""},{"$f":"IF(syoriyou!F1706=\"\",\"\",syoriyou!F1706)","v":""},{"$f":"IF(syoriyou!G1706=\"\",\"\",syoriyou!G1706)","v":""},{"$f":"IF(syoriyou!H1706=\"\",\"\",syoriyou!H1706)","v":""},{"$f":"IF(syoriyou!I1706=\"\",\"\",syoriyou!I1706)","v":""},{"$f":"IF(syoriyou!J1706=\"\",\"\",syoriyou!N1706)","v":""}]
[{"$f":"IF(syoriyou!A1707=\"\",\"\",syoriyou!A1707)","v":""},{"$f":"IF(syoriyou!B1707=\"\",\"\",syoriyou!B1707)","v":""},{"$f":"IF(syoriyou!C1707=\"\",\"\",syoriyou!C1707)","v":""},{"$f":"IF(syoriyou!D1707=\"\",\"\",syoriyou!D1707)","v":""},{"$f":"IF(syoriyou!E1707=\"\",\"\",syoriyou!E1707)","v":""},{"$f":"IF(syoriyou!F1707=\"\",\"\",syoriyou!F1707)","v":""},{"$f":"IF(syoriyou!G1707=\"\",\"\",syoriyou!G1707)","v":""},{"$f":"IF(syoriyou!H1707=\"\",\"\",syoriyou!H1707)","v":""},{"$f":"IF(syoriyou!I1707=\"\",\"\",syoriyou!I1707)","v":""},{"$f":"IF(syoriyou!J1707=\"\",\"\",syoriyou!N1707)","v":""}]
[{"$f":"IF(syoriyou!A1708=\"\",\"\",syoriyou!A1708)","v":""},{"$f":"IF(syoriyou!B1708=\"\",\"\",syoriyou!B1708)","v":""},{"$f":"IF(syoriyou!C1708=\"\",\"\",syoriyou!C1708)","v":""},{"$f":"IF(syoriyou!D1708=\"\",\"\",syoriyou!D1708)","v":""},{"$f":"IF(syoriyou!E1708=\"\",\"\",syoriyou!E1708)","v":""},{"$f":"IF(syoriyou!F1708=\"\",\"\",syoriyou!F1708)","v":""},{"$f":"IF(syoriyou!G1708=\"\",\"\",syoriyou!G1708)","v":""},{"$f":"IF(syoriyou!H1708=\"\",\"\",syoriyou!H1708)","v":""},{"$f":"IF(syoriyou!I1708=\"\",\"\",syoriyou!I1708)","v":""},{"$f":"IF(syoriyou!J1708=\"\",\"\",syoriyou!N1708)","v":""}]
[{"$f":"IF(syoriyou!A1709=\"\",\"\",syoriyou!A1709)","v":""},{"$f":"IF(syoriyou!B1709=\"\",\"\",syoriyou!B1709)","v":""},{"$f":"IF(syoriyou!C1709=\"\",\"\",syoriyou!C1709)","v":""},{"$f":"IF(syoriyou!D1709=\"\",\"\",syoriyou!D1709)","v":""},{"$f":"IF(syoriyou!E1709=\"\",\"\",syoriyou!E1709)","v":""},{"$f":"IF(syoriyou!F1709=\"\",\"\",syoriyou!F1709)","v":""},{"$f":"IF(syoriyou!G1709=\"\",\"\",syoriyou!G1709)","v":""},{"$f":"IF(syoriyou!H1709=\"\",\"\",syoriyou!H1709)","v":""},{"$f":"IF(syoriyou!I1709=\"\",\"\",syoriyou!I1709)","v":""},{"$f":"IF(syoriyou!J1709=\"\",\"\",syoriyou!N1709)","v":""}]
[{"$f":"IF(syoriyou!A1710=\"\",\"\",syoriyou!A1710)","v":""},{"$f":"IF(syoriyou!B1710=\"\",\"\",syoriyou!B1710)","v":""},{"$f":"IF(syoriyou!C1710=\"\",\"\",syoriyou!C1710)","v":""},{"$f":"IF(syoriyou!D1710=\"\",\"\",syoriyou!D1710)","v":""},{"$f":"IF(syoriyou!E1710=\"\",\"\",syoriyou!E1710)","v":""},{"$f":"IF(syoriyou!F1710=\"\",\"\",syoriyou!F1710)","v":""},{"$f":"IF(syoriyou!G1710=\"\",\"\",syoriyou!G1710)","v":""},{"$f":"IF(syoriyou!H1710=\"\",\"\",syoriyou!H1710)","v":""},{"$f":"IF(syoriyou!I1710=\"\",\"\",syoriyou!I1710)","v":""},{"$f":"IF(syoriyou!J1710=\"\",\"\",syoriyou!N1710)","v":""}]
[{"$f":"IF(syoriyou!A1711=\"\",\"\",syoriyou!A1711)","v":""},{"$f":"IF(syoriyou!B1711=\"\",\"\",syoriyou!B1711)","v":""},{"$f":"IF(syoriyou!C1711=\"\",\"\",syoriyou!C1711)","v":""},{"$f":"IF(syoriyou!D1711=\"\",\"\",syoriyou!D1711)","v":""},{"$f":"IF(syoriyou!E1711=\"\",\"\",syoriyou!E1711)","v":""},{"$f":"IF(syoriyou!F1711=\"\",\"\",syoriyou!F1711)","v":""},{"$f":"IF(syoriyou!G1711=\"\",\"\",syoriyou!G1711)","v":""},{"$f":"IF(syoriyou!H1711=\"\",\"\",syoriyou!H1711)","v":""},{"$f":"IF(syoriyou!I1711=\"\",\"\",syoriyou!I1711)","v":""},{"$f":"IF(syoriyou!J1711=\"\",\"\",syoriyou!N1711)","v":""}]
[{"$f":"IF(syoriyou!A1712=\"\",\"\",syoriyou!A1712)","v":""},{"$f":"IF(syoriyou!B1712=\"\",\"\",syoriyou!B1712)","v":""},{"$f":"IF(syoriyou!C1712=\"\",\"\",syoriyou!C1712)","v":""},{"$f":"IF(syoriyou!D1712=\"\",\"\",syoriyou!D1712)","v":""},{"$f":"IF(syoriyou!E1712=\"\",\"\",syoriyou!E1712)","v":""},{"$f":"IF(syoriyou!F1712=\"\",\"\",syoriyou!F1712)","v":""},{"$f":"IF(syoriyou!G1712=\"\",\"\",syoriyou!G1712)","v":""},{"$f":"IF(syoriyou!H1712=\"\",\"\",syoriyou!H1712)","v":""},{"$f":"IF(syoriyou!I1712=\"\",\"\",syoriyou!I1712)","v":""},{"$f":"IF(syoriyou!J1712=\"\",\"\",syoriyou!N1712)","v":""}]
[{"$f":"IF(syoriyou!A1713=\"\",\"\",syoriyou!A1713)","v":""},{"$f":"IF(syoriyou!B1713=\"\",\"\",syoriyou!B1713)","v":""},{"$f":"IF(syoriyou!C1713=\"\",\"\",syoriyou!C1713)","v":""},{"$f":"IF(syoriyou!D1713=\"\",\"\",syoriyou!D1713)","v":""},{"$f":"IF(syoriyou!E1713=\"\",\"\",syoriyou!E1713)","v":""},{"$f":"IF(syoriyou!F1713=\"\",\"\",syoriyou!F1713)","v":""},{"$f":"IF(syoriyou!G1713=\"\",\"\",syoriyou!G1713)","v":""},{"$f":"IF(syoriyou!H1713=\"\",\"\",syoriyou!H1713)","v":""},{"$f":"IF(syoriyou!I1713=\"\",\"\",syoriyou!I1713)","v":""},{"$f":"IF(syoriyou!J1713=\"\",\"\",syoriyou!N1713)","v":""}]
[{"$f":"IF(syoriyou!A1714=\"\",\"\",syoriyou!A1714)","v":""},{"$f":"IF(syoriyou!B1714=\"\",\"\",syoriyou!B1714)","v":""},{"$f":"IF(syoriyou!C1714=\"\",\"\",syoriyou!C1714)","v":""},{"$f":"IF(syoriyou!D1714=\"\",\"\",syoriyou!D1714)","v":""},{"$f":"IF(syoriyou!E1714=\"\",\"\",syoriyou!E1714)","v":""},{"$f":"IF(syoriyou!F1714=\"\",\"\",syoriyou!F1714)","v":""},{"$f":"IF(syoriyou!G1714=\"\",\"\",syoriyou!G1714)","v":""},{"$f":"IF(syoriyou!H1714=\"\",\"\",syoriyou!H1714)","v":""},{"$f":"IF(syoriyou!I1714=\"\",\"\",syoriyou!I1714)","v":""},{"$f":"IF(syoriyou!J1714=\"\",\"\",syoriyou!N1714)","v":""}]
[{"$f":"IF(syoriyou!A1715=\"\",\"\",syoriyou!A1715)","v":""},{"$f":"IF(syoriyou!B1715=\"\",\"\",syoriyou!B1715)","v":""},{"$f":"IF(syoriyou!C1715=\"\",\"\",syoriyou!C1715)","v":""},{"$f":"IF(syoriyou!D1715=\"\",\"\",syoriyou!D1715)","v":""},{"$f":"IF(syoriyou!E1715=\"\",\"\",syoriyou!E1715)","v":""},{"$f":"IF(syoriyou!F1715=\"\",\"\",syoriyou!F1715)","v":""},{"$f":"IF(syoriyou!G1715=\"\",\"\",syoriyou!G1715)","v":""},{"$f":"IF(syoriyou!H1715=\"\",\"\",syoriyou!H1715)","v":""},{"$f":"IF(syoriyou!I1715=\"\",\"\",syoriyou!I1715)","v":""},{"$f":"IF(syoriyou!J1715=\"\",\"\",syoriyou!N1715)","v":""}]
[{"$f":"IF(syoriyou!A1716=\"\",\"\",syoriyou!A1716)","v":""},{"$f":"IF(syoriyou!B1716=\"\",\"\",syoriyou!B1716)","v":""},{"$f":"IF(syoriyou!C1716=\"\",\"\",syoriyou!C1716)","v":""},{"$f":"IF(syoriyou!D1716=\"\",\"\",syoriyou!D1716)","v":""},{"$f":"IF(syoriyou!E1716=\"\",\"\",syoriyou!E1716)","v":""},{"$f":"IF(syoriyou!F1716=\"\",\"\",syoriyou!F1716)","v":""},{"$f":"IF(syoriyou!G1716=\"\",\"\",syoriyou!G1716)","v":""},{"$f":"IF(syoriyou!H1716=\"\",\"\",syoriyou!H1716)","v":""},{"$f":"IF(syoriyou!I1716=\"\",\"\",syoriyou!I1716)","v":""},{"$f":"IF(syoriyou!J1716=\"\",\"\",syoriyou!N1716)","v":""}]
[{"$f":"IF(syoriyou!A1717=\"\",\"\",syoriyou!A1717)","v":""},{"$f":"IF(syoriyou!B1717=\"\",\"\",syoriyou!B1717)","v":""},{"$f":"IF(syoriyou!C1717=\"\",\"\",syoriyou!C1717)","v":""},{"$f":"IF(syoriyou!D1717=\"\",\"\",syoriyou!D1717)","v":""},{"$f":"IF(syoriyou!E1717=\"\",\"\",syoriyou!E1717)","v":""},{"$f":"IF(syoriyou!F1717=\"\",\"\",syoriyou!F1717)","v":""},{"$f":"IF(syoriyou!G1717=\"\",\"\",syoriyou!G1717)","v":""},{"$f":"IF(syoriyou!H1717=\"\",\"\",syoriyou!H1717)","v":""},{"$f":"IF(syoriyou!I1717=\"\",\"\",syoriyou!I1717)","v":""},{"$f":"IF(syoriyou!J1717=\"\",\"\",syoriyou!N1717)","v":""}]
[{"$f":"IF(syoriyou!A1718=\"\",\"\",syoriyou!A1718)","v":""},{"$f":"IF(syoriyou!B1718=\"\",\"\",syoriyou!B1718)","v":""},{"$f":"IF(syoriyou!C1718=\"\",\"\",syoriyou!C1718)","v":""},{"$f":"IF(syoriyou!D1718=\"\",\"\",syoriyou!D1718)","v":""},{"$f":"IF(syoriyou!E1718=\"\",\"\",syoriyou!E1718)","v":""},{"$f":"IF(syoriyou!F1718=\"\",\"\",syoriyou!F1718)","v":""},{"$f":"IF(syoriyou!G1718=\"\",\"\",syoriyou!G1718)","v":""},{"$f":"IF(syoriyou!H1718=\"\",\"\",syoriyou!H1718)","v":""},{"$f":"IF(syoriyou!I1718=\"\",\"\",syoriyou!I1718)","v":""},{"$f":"IF(syoriyou!J1718=\"\",\"\",syoriyou!N1718)","v":""}]
[{"$f":"IF(syoriyou!A1719=\"\",\"\",syoriyou!A1719)","v":""},{"$f":"IF(syoriyou!B1719=\"\",\"\",syoriyou!B1719)","v":""},{"$f":"IF(syoriyou!C1719=\"\",\"\",syoriyou!C1719)","v":""},{"$f":"IF(syoriyou!D1719=\"\",\"\",syoriyou!D1719)","v":""},{"$f":"IF(syoriyou!E1719=\"\",\"\",syoriyou!E1719)","v":""},{"$f":"IF(syoriyou!F1719=\"\",\"\",syoriyou!F1719)","v":""},{"$f":"IF(syoriyou!G1719=\"\",\"\",syoriyou!G1719)","v":""},{"$f":"IF(syoriyou!H1719=\"\",\"\",syoriyou!H1719)","v":""},{"$f":"IF(syoriyou!I1719=\"\",\"\",syoriyou!I1719)","v":""},{"$f":"IF(syoriyou!J1719=\"\",\"\",syoriyou!N1719)","v":""}]
[{"$f":"IF(syoriyou!A1720=\"\",\"\",syoriyou!A1720)","v":""},{"$f":"IF(syoriyou!B1720=\"\",\"\",syoriyou!B1720)","v":""},{"$f":"IF(syoriyou!C1720=\"\",\"\",syoriyou!C1720)","v":""},{"$f":"IF(syoriyou!D1720=\"\",\"\",syoriyou!D1720)","v":""},{"$f":"IF(syoriyou!E1720=\"\",\"\",syoriyou!E1720)","v":""},{"$f":"IF(syoriyou!F1720=\"\",\"\",syoriyou!F1720)","v":""},{"$f":"IF(syoriyou!G1720=\"\",\"\",syoriyou!G1720)","v":""},{"$f":"IF(syoriyou!H1720=\"\",\"\",syoriyou!H1720)","v":""},{"$f":"IF(syoriyou!I1720=\"\",\"\",syoriyou!I1720)","v":""},{"$f":"IF(syoriyou!J1720=\"\",\"\",syoriyou!N1720)","v":""}]
[{"$f":"IF(syoriyou!A1721=\"\",\"\",syoriyou!A1721)","v":""},{"$f":"IF(syoriyou!B1721=\"\",\"\",syoriyou!B1721)","v":""},{"$f":"IF(syoriyou!C1721=\"\",\"\",syoriyou!C1721)","v":""},{"$f":"IF(syoriyou!D1721=\"\",\"\",syoriyou!D1721)","v":""},{"$f":"IF(syoriyou!E1721=\"\",\"\",syoriyou!E1721)","v":""},{"$f":"IF(syoriyou!F1721=\"\",\"\",syoriyou!F1721)","v":""},{"$f":"IF(syoriyou!G1721=\"\",\"\",syoriyou!G1721)","v":""},{"$f":"IF(syoriyou!H1721=\"\",\"\",syoriyou!H1721)","v":""},{"$f":"IF(syoriyou!I1721=\"\",\"\",syoriyou!I1721)","v":""},{"$f":"IF(syoriyou!J1721=\"\",\"\",syoriyou!N1721)","v":""}]
[{"$f":"IF(syoriyou!A1722=\"\",\"\",syoriyou!A1722)","v":""},{"$f":"IF(syoriyou!B1722=\"\",\"\",syoriyou!B1722)","v":""},{"$f":"IF(syoriyou!C1722=\"\",\"\",syoriyou!C1722)","v":""},{"$f":"IF(syoriyou!D1722=\"\",\"\",syoriyou!D1722)","v":""},{"$f":"IF(syoriyou!E1722=\"\",\"\",syoriyou!E1722)","v":""},{"$f":"IF(syoriyou!F1722=\"\",\"\",syoriyou!F1722)","v":""},{"$f":"IF(syoriyou!G1722=\"\",\"\",syoriyou!G1722)","v":""},{"$f":"IF(syoriyou!H1722=\"\",\"\",syoriyou!H1722)","v":""},{"$f":"IF(syoriyou!I1722=\"\",\"\",syoriyou!I1722)","v":""},{"$f":"IF(syoriyou!J1722=\"\",\"\",syoriyou!N1722)","v":""}]
[{"$f":"IF(syoriyou!A1723=\"\",\"\",syoriyou!A1723)","v":""},{"$f":"IF(syoriyou!B1723=\"\",\"\",syoriyou!B1723)","v":""},{"$f":"IF(syoriyou!C1723=\"\",\"\",syoriyou!C1723)","v":""},{"$f":"IF(syoriyou!D1723=\"\",\"\",syoriyou!D1723)","v":""},{"$f":"IF(syoriyou!E1723=\"\",\"\",syoriyou!E1723)","v":""},{"$f":"IF(syoriyou!F1723=\"\",\"\",syoriyou!F1723)","v":""},{"$f":"IF(syoriyou!G1723=\"\",\"\",syoriyou!G1723)","v":""},{"$f":"IF(syoriyou!H1723=\"\",\"\",syoriyou!H1723)","v":""},{"$f":"IF(syoriyou!I1723=\"\",\"\",syoriyou!I1723)","v":""},{"$f":"IF(syoriyou!J1723=\"\",\"\",syoriyou!N1723)","v":""}]
[{"$f":"IF(syoriyou!A1724=\"\",\"\",syoriyou!A1724)","v":""},{"$f":"IF(syoriyou!B1724=\"\",\"\",syoriyou!B1724)","v":""},{"$f":"IF(syoriyou!C1724=\"\",\"\",syoriyou!C1724)","v":""},{"$f":"IF(syoriyou!D1724=\"\",\"\",syoriyou!D1724)","v":""},{"$f":"IF(syoriyou!E1724=\"\",\"\",syoriyou!E1724)","v":""},{"$f":"IF(syoriyou!F1724=\"\",\"\",syoriyou!F1724)","v":""},{"$f":"IF(syoriyou!G1724=\"\",\"\",syoriyou!G1724)","v":""},{"$f":"IF(syoriyou!H1724=\"\",\"\",syoriyou!H1724)","v":""},{"$f":"IF(syoriyou!I1724=\"\",\"\",syoriyou!I1724)","v":""},{"$f":"IF(syoriyou!J1724=\"\",\"\",syoriyou!N1724)","v":""}]
[{"$f":"IF(syoriyou!A1725=\"\",\"\",syoriyou!A1725)","v":""},{"$f":"IF(syoriyou!B1725=\"\",\"\",syoriyou!B1725)","v":""},{"$f":"IF(syoriyou!C1725=\"\",\"\",syoriyou!C1725)","v":""},{"$f":"IF(syoriyou!D1725=\"\",\"\",syoriyou!D1725)","v":""},{"$f":"IF(syoriyou!E1725=\"\",\"\",syoriyou!E1725)","v":""},{"$f":"IF(syoriyou!F1725=\"\",\"\",syoriyou!F1725)","v":""},{"$f":"IF(syoriyou!G1725=\"\",\"\",syoriyou!G1725)","v":""},{"$f":"IF(syoriyou!H1725=\"\",\"\",syoriyou!H1725)","v":""},{"$f":"IF(syoriyou!I1725=\"\",\"\",syoriyou!I1725)","v":""},{"$f":"IF(syoriyou!J1725=\"\",\"\",syoriyou!N1725)","v":""}]
[{"$f":"IF(syoriyou!A1726=\"\",\"\",syoriyou!A1726)","v":""},{"$f":"IF(syoriyou!B1726=\"\",\"\",syoriyou!B1726)","v":""},{"$f":"IF(syoriyou!C1726=\"\",\"\",syoriyou!C1726)","v":""},{"$f":"IF(syoriyou!D1726=\"\",\"\",syoriyou!D1726)","v":""},{"$f":"IF(syoriyou!E1726=\"\",\"\",syoriyou!E1726)","v":""},{"$f":"IF(syoriyou!F1726=\"\",\"\",syoriyou!F1726)","v":""},{"$f":"IF(syoriyou!G1726=\"\",\"\",syoriyou!G1726)","v":""},{"$f":"IF(syoriyou!H1726=\"\",\"\",syoriyou!H1726)","v":""},{"$f":"IF(syoriyou!I1726=\"\",\"\",syoriyou!I1726)","v":""},{"$f":"IF(syoriyou!J1726=\"\",\"\",syoriyou!N1726)","v":""}]
[{"$f":"IF(syoriyou!A1727=\"\",\"\",syoriyou!A1727)","v":""},{"$f":"IF(syoriyou!B1727=\"\",\"\",syoriyou!B1727)","v":""},{"$f":"IF(syoriyou!C1727=\"\",\"\",syoriyou!C1727)","v":""},{"$f":"IF(syoriyou!D1727=\"\",\"\",syoriyou!D1727)","v":""},{"$f":"IF(syoriyou!E1727=\"\",\"\",syoriyou!E1727)","v":""},{"$f":"IF(syoriyou!F1727=\"\",\"\",syoriyou!F1727)","v":""},{"$f":"IF(syoriyou!G1727=\"\",\"\",syoriyou!G1727)","v":""},{"$f":"IF(syoriyou!H1727=\"\",\"\",syoriyou!H1727)","v":""},{"$f":"IF(syoriyou!I1727=\"\",\"\",syoriyou!I1727)","v":""},{"$f":"IF(syoriyou!J1727=\"\",\"\",syoriyou!N1727)","v":""}]
[{"$f":"IF(syoriyou!A1728=\"\",\"\",syoriyou!A1728)","v":""},{"$f":"IF(syoriyou!B1728=\"\",\"\",syoriyou!B1728)","v":""},{"$f":"IF(syoriyou!C1728=\"\",\"\",syoriyou!C1728)","v":""},{"$f":"IF(syoriyou!D1728=\"\",\"\",syoriyou!D1728)","v":""},{"$f":"IF(syoriyou!E1728=\"\",\"\",syoriyou!E1728)","v":""},{"$f":"IF(syoriyou!F1728=\"\",\"\",syoriyou!F1728)","v":""},{"$f":"IF(syoriyou!G1728=\"\",\"\",syoriyou!G1728)","v":""},{"$f":"IF(syoriyou!H1728=\"\",\"\",syoriyou!H1728)","v":""},{"$f":"IF(syoriyou!I1728=\"\",\"\",syoriyou!I1728)","v":""},{"$f":"IF(syoriyou!J1728=\"\",\"\",syoriyou!N1728)","v":""}]
[{"$f":"IF(syoriyou!A1729=\"\",\"\",syoriyou!A1729)","v":""},{"$f":"IF(syoriyou!B1729=\"\",\"\",syoriyou!B1729)","v":""},{"$f":"IF(syoriyou!C1729=\"\",\"\",syoriyou!C1729)","v":""},{"$f":"IF(syoriyou!D1729=\"\",\"\",syoriyou!D1729)","v":""},{"$f":"IF(syoriyou!E1729=\"\",\"\",syoriyou!E1729)","v":""},{"$f":"IF(syoriyou!F1729=\"\",\"\",syoriyou!F1729)","v":""},{"$f":"IF(syoriyou!G1729=\"\",\"\",syoriyou!G1729)","v":""},{"$f":"IF(syoriyou!H1729=\"\",\"\",syoriyou!H1729)","v":""},{"$f":"IF(syoriyou!I1729=\"\",\"\",syoriyou!I1729)","v":""},{"$f":"IF(syoriyou!J1729=\"\",\"\",syoriyou!N1729)","v":""}]
[{"$f":"IF(syoriyou!A1730=\"\",\"\",syoriyou!A1730)","v":""},{"$f":"IF(syoriyou!B1730=\"\",\"\",syoriyou!B1730)","v":""},{"$f":"IF(syoriyou!C1730=\"\",\"\",syoriyou!C1730)","v":""},{"$f":"IF(syoriyou!D1730=\"\",\"\",syoriyou!D1730)","v":""},{"$f":"IF(syoriyou!E1730=\"\",\"\",syoriyou!E1730)","v":""},{"$f":"IF(syoriyou!F1730=\"\",\"\",syoriyou!F1730)","v":""},{"$f":"IF(syoriyou!G1730=\"\",\"\",syoriyou!G1730)","v":""},{"$f":"IF(syoriyou!H1730=\"\",\"\",syoriyou!H1730)","v":""},{"$f":"IF(syoriyou!I1730=\"\",\"\",syoriyou!I1730)","v":""},{"$f":"IF(syoriyou!J1730=\"\",\"\",syoriyou!N1730)","v":""}]
[{"$f":"IF(syoriyou!A1731=\"\",\"\",syoriyou!A1731)","v":""},{"$f":"IF(syoriyou!B1731=\"\",\"\",syoriyou!B1731)","v":""},{"$f":"IF(syoriyou!C1731=\"\",\"\",syoriyou!C1731)","v":""},{"$f":"IF(syoriyou!D1731=\"\",\"\",syoriyou!D1731)","v":""},{"$f":"IF(syoriyou!E1731=\"\",\"\",syoriyou!E1731)","v":""},{"$f":"IF(syoriyou!F1731=\"\",\"\",syoriyou!F1731)","v":""},{"$f":"IF(syoriyou!G1731=\"\",\"\",syoriyou!G1731)","v":""},{"$f":"IF(syoriyou!H1731=\"\",\"\",syoriyou!H1731)","v":""},{"$f":"IF(syoriyou!I1731=\"\",\"\",syoriyou!I1731)","v":""},{"$f":"IF(syoriyou!J1731=\"\",\"\",syoriyou!N1731)","v":""}]
[{"$f":"IF(syoriyou!A1732=\"\",\"\",syoriyou!A1732)","v":""},{"$f":"IF(syoriyou!B1732=\"\",\"\",syoriyou!B1732)","v":""},{"$f":"IF(syoriyou!C1732=\"\",\"\",syoriyou!C1732)","v":""},{"$f":"IF(syoriyou!D1732=\"\",\"\",syoriyou!D1732)","v":""},{"$f":"IF(syoriyou!E1732=\"\",\"\",syoriyou!E1732)","v":""},{"$f":"IF(syoriyou!F1732=\"\",\"\",syoriyou!F1732)","v":""},{"$f":"IF(syoriyou!G1732=\"\",\"\",syoriyou!G1732)","v":""},{"$f":"IF(syoriyou!H1732=\"\",\"\",syoriyou!H1732)","v":""},{"$f":"IF(syoriyou!I1732=\"\",\"\",syoriyou!I1732)","v":""},{"$f":"IF(syoriyou!J1732=\"\",\"\",syoriyou!N1732)","v":""}]
[{"$f":"IF(syoriyou!A1733=\"\",\"\",syoriyou!A1733)","v":""},{"$f":"IF(syoriyou!B1733=\"\",\"\",syoriyou!B1733)","v":""},{"$f":"IF(syoriyou!C1733=\"\",\"\",syoriyou!C1733)","v":""},{"$f":"IF(syoriyou!D1733=\"\",\"\",syoriyou!D1733)","v":""},{"$f":"IF(syoriyou!E1733=\"\",\"\",syoriyou!E1733)","v":""},{"$f":"IF(syoriyou!F1733=\"\",\"\",syoriyou!F1733)","v":""},{"$f":"IF(syoriyou!G1733=\"\",\"\",syoriyou!G1733)","v":""},{"$f":"IF(syoriyou!H1733=\"\",\"\",syoriyou!H1733)","v":""},{"$f":"IF(syoriyou!I1733=\"\",\"\",syoriyou!I1733)","v":""},{"$f":"IF(syoriyou!J1733=\"\",\"\",syoriyou!N1733)","v":""}]
[{"$f":"IF(syoriyou!A1734=\"\",\"\",syoriyou!A1734)","v":""},{"$f":"IF(syoriyou!B1734=\"\",\"\",syoriyou!B1734)","v":""},{"$f":"IF(syoriyou!C1734=\"\",\"\",syoriyou!C1734)","v":""},{"$f":"IF(syoriyou!D1734=\"\",\"\",syoriyou!D1734)","v":""},{"$f":"IF(syoriyou!E1734=\"\",\"\",syoriyou!E1734)","v":""},{"$f":"IF(syoriyou!F1734=\"\",\"\",syoriyou!F1734)","v":""},{"$f":"IF(syoriyou!G1734=\"\",\"\",syoriyou!G1734)","v":""},{"$f":"IF(syoriyou!H1734=\"\",\"\",syoriyou!H1734)","v":""},{"$f":"IF(syoriyou!I1734=\"\",\"\",syoriyou!I1734)","v":""},{"$f":"IF(syoriyou!J1734=\"\",\"\",syoriyou!N1734)","v":""}]
[{"$f":"IF(syoriyou!A1735=\"\",\"\",syoriyou!A1735)","v":""},{"$f":"IF(syoriyou!B1735=\"\",\"\",syoriyou!B1735)","v":""},{"$f":"IF(syoriyou!C1735=\"\",\"\",syoriyou!C1735)","v":""},{"$f":"IF(syoriyou!D1735=\"\",\"\",syoriyou!D1735)","v":""},{"$f":"IF(syoriyou!E1735=\"\",\"\",syoriyou!E1735)","v":""},{"$f":"IF(syoriyou!F1735=\"\",\"\",syoriyou!F1735)","v":""},{"$f":"IF(syoriyou!G1735=\"\",\"\",syoriyou!G1735)","v":""},{"$f":"IF(syoriyou!H1735=\"\",\"\",syoriyou!H1735)","v":""},{"$f":"IF(syoriyou!I1735=\"\",\"\",syoriyou!I1735)","v":""},{"$f":"IF(syoriyou!J1735=\"\",\"\",syoriyou!N1735)","v":""}]
[{"$f":"IF(syoriyou!A1736=\"\",\"\",syoriyou!A1736)","v":""},{"$f":"IF(syoriyou!B1736=\"\",\"\",syoriyou!B1736)","v":""},{"$f":"IF(syoriyou!C1736=\"\",\"\",syoriyou!C1736)","v":""},{"$f":"IF(syoriyou!D1736=\"\",\"\",syoriyou!D1736)","v":""},{"$f":"IF(syoriyou!E1736=\"\",\"\",syoriyou!E1736)","v":""},{"$f":"IF(syoriyou!F1736=\"\",\"\",syoriyou!F1736)","v":""},{"$f":"IF(syoriyou!G1736=\"\",\"\",syoriyou!G1736)","v":""},{"$f":"IF(syoriyou!H1736=\"\",\"\",syoriyou!H1736)","v":""},{"$f":"IF(syoriyou!I1736=\"\",\"\",syoriyou!I1736)","v":""},{"$f":"IF(syoriyou!J1736=\"\",\"\",syoriyou!N1736)","v":""}]
[{"$f":"IF(syoriyou!A1737=\"\",\"\",syoriyou!A1737)","v":""},{"$f":"IF(syoriyou!B1737=\"\",\"\",syoriyou!B1737)","v":""},{"$f":"IF(syoriyou!C1737=\"\",\"\",syoriyou!C1737)","v":""},{"$f":"IF(syoriyou!D1737=\"\",\"\",syoriyou!D1737)","v":""},{"$f":"IF(syoriyou!E1737=\"\",\"\",syoriyou!E1737)","v":""},{"$f":"IF(syoriyou!F1737=\"\",\"\",syoriyou!F1737)","v":""},{"$f":"IF(syoriyou!G1737=\"\",\"\",syoriyou!G1737)","v":""},{"$f":"IF(syoriyou!H1737=\"\",\"\",syoriyou!H1737)","v":""},{"$f":"IF(syoriyou!I1737=\"\",\"\",syoriyou!I1737)","v":""},{"$f":"IF(syoriyou!J1737=\"\",\"\",syoriyou!N1737)","v":""}]
[{"$f":"IF(syoriyou!A1738=\"\",\"\",syoriyou!A1738)","v":""},{"$f":"IF(syoriyou!B1738=\"\",\"\",syoriyou!B1738)","v":""},{"$f":"IF(syoriyou!C1738=\"\",\"\",syoriyou!C1738)","v":""},{"$f":"IF(syoriyou!D1738=\"\",\"\",syoriyou!D1738)","v":""},{"$f":"IF(syoriyou!E1738=\"\",\"\",syoriyou!E1738)","v":""},{"$f":"IF(syoriyou!F1738=\"\",\"\",syoriyou!F1738)","v":""},{"$f":"IF(syoriyou!G1738=\"\",\"\",syoriyou!G1738)","v":""},{"$f":"IF(syoriyou!H1738=\"\",\"\",syoriyou!H1738)","v":""},{"$f":"IF(syoriyou!I1738=\"\",\"\",syoriyou!I1738)","v":""},{"$f":"IF(syoriyou!J1738=\"\",\"\",syoriyou!N1738)","v":""}]
[{"$f":"IF(syoriyou!A1739=\"\",\"\",syoriyou!A1739)","v":""},{"$f":"IF(syoriyou!B1739=\"\",\"\",syoriyou!B1739)","v":""},{"$f":"IF(syoriyou!C1739=\"\",\"\",syoriyou!C1739)","v":""},{"$f":"IF(syoriyou!D1739=\"\",\"\",syoriyou!D1739)","v":""},{"$f":"IF(syoriyou!E1739=\"\",\"\",syoriyou!E1739)","v":""},{"$f":"IF(syoriyou!F1739=\"\",\"\",syoriyou!F1739)","v":""},{"$f":"IF(syoriyou!G1739=\"\",\"\",syoriyou!G1739)","v":""},{"$f":"IF(syoriyou!H1739=\"\",\"\",syoriyou!H1739)","v":""},{"$f":"IF(syoriyou!I1739=\"\",\"\",syoriyou!I1739)","v":""},{"$f":"IF(syoriyou!J1739=\"\",\"\",syoriyou!N1739)","v":""}]
[{"$f":"IF(syoriyou!A1740=\"\",\"\",syoriyou!A1740)","v":""},{"$f":"IF(syoriyou!B1740=\"\",\"\",syoriyou!B1740)","v":""},{"$f":"IF(syoriyou!C1740=\"\",\"\",syoriyou!C1740)","v":""},{"$f":"IF(syoriyou!D1740=\"\",\"\",syoriyou!D1740)","v":""},{"$f":"IF(syoriyou!E1740=\"\",\"\",syoriyou!E1740)","v":""},{"$f":"IF(syoriyou!F1740=\"\",\"\",syoriyou!F1740)","v":""},{"$f":"IF(syoriyou!G1740=\"\",\"\",syoriyou!G1740)","v":""},{"$f":"IF(syoriyou!H1740=\"\",\"\",syoriyou!H1740)","v":""},{"$f":"IF(syoriyou!I1740=\"\",\"\",syoriyou!I1740)","v":""},{"$f":"IF(syoriyou!J1740=\"\",\"\",syoriyou!N1740)","v":""}]
[{"$f":"IF(syoriyou!A1741=\"\",\"\",syoriyou!A1741)","v":""},{"$f":"IF(syoriyou!B1741=\"\",\"\",syoriyou!B1741)","v":""},{"$f":"IF(syoriyou!C1741=\"\",\"\",syoriyou!C1741)","v":""},{"$f":"IF(syoriyou!D1741=\"\",\"\",syoriyou!D1741)","v":""},{"$f":"IF(syoriyou!E1741=\"\",\"\",syoriyou!E1741)","v":""},{"$f":"IF(syoriyou!F1741=\"\",\"\",syoriyou!F1741)","v":""},{"$f":"IF(syoriyou!G1741=\"\",\"\",syoriyou!G1741)","v":""},{"$f":"IF(syoriyou!H1741=\"\",\"\",syoriyou!H1741)","v":""},{"$f":"IF(syoriyou!I1741=\"\",\"\",syoriyou!I1741)","v":""},{"$f":"IF(syoriyou!J1741=\"\",\"\",syoriyou!N1741)","v":""}]
[{"$f":"IF(syoriyou!A1742=\"\",\"\",syoriyou!A1742)","v":""},{"$f":"IF(syoriyou!B1742=\"\",\"\",syoriyou!B1742)","v":""},{"$f":"IF(syoriyou!C1742=\"\",\"\",syoriyou!C1742)","v":""},{"$f":"IF(syoriyou!D1742=\"\",\"\",syoriyou!D1742)","v":""},{"$f":"IF(syoriyou!E1742=\"\",\"\",syoriyou!E1742)","v":""},{"$f":"IF(syoriyou!F1742=\"\",\"\",syoriyou!F1742)","v":""},{"$f":"IF(syoriyou!G1742=\"\",\"\",syoriyou!G1742)","v":""},{"$f":"IF(syoriyou!H1742=\"\",\"\",syoriyou!H1742)","v":""},{"$f":"IF(syoriyou!I1742=\"\",\"\",syoriyou!I1742)","v":""},{"$f":"IF(syoriyou!J1742=\"\",\"\",syoriyou!N1742)","v":""}]
[{"$f":"IF(syoriyou!A1743=\"\",\"\",syoriyou!A1743)","v":""},{"$f":"IF(syoriyou!B1743=\"\",\"\",syoriyou!B1743)","v":""},{"$f":"IF(syoriyou!C1743=\"\",\"\",syoriyou!C1743)","v":""},{"$f":"IF(syoriyou!D1743=\"\",\"\",syoriyou!D1743)","v":""},{"$f":"IF(syoriyou!E1743=\"\",\"\",syoriyou!E1743)","v":""},{"$f":"IF(syoriyou!F1743=\"\",\"\",syoriyou!F1743)","v":""},{"$f":"IF(syoriyou!G1743=\"\",\"\",syoriyou!G1743)","v":""},{"$f":"IF(syoriyou!H1743=\"\",\"\",syoriyou!H1743)","v":""},{"$f":"IF(syoriyou!I1743=\"\",\"\",syoriyou!I1743)","v":""},{"$f":"IF(syoriyou!J1743=\"\",\"\",syoriyou!N1743)","v":""}]
[{"$f":"IF(syoriyou!A1744=\"\",\"\",syoriyou!A1744)","v":""},{"$f":"IF(syoriyou!B1744=\"\",\"\",syoriyou!B1744)","v":""},{"$f":"IF(syoriyou!C1744=\"\",\"\",syoriyou!C1744)","v":""},{"$f":"IF(syoriyou!D1744=\"\",\"\",syoriyou!D1744)","v":""},{"$f":"IF(syoriyou!E1744=\"\",\"\",syoriyou!E1744)","v":""},{"$f":"IF(syoriyou!F1744=\"\",\"\",syoriyou!F1744)","v":""},{"$f":"IF(syoriyou!G1744=\"\",\"\",syoriyou!G1744)","v":""},{"$f":"IF(syoriyou!H1744=\"\",\"\",syoriyou!H1744)","v":""},{"$f":"IF(syoriyou!I1744=\"\",\"\",syoriyou!I1744)","v":""},{"$f":"IF(syoriyou!J1744=\"\",\"\",syoriyou!N1744)","v":""}]
[{"$f":"IF(syoriyou!A1745=\"\",\"\",syoriyou!A1745)","v":""},{"$f":"IF(syoriyou!B1745=\"\",\"\",syoriyou!B1745)","v":""},{"$f":"IF(syoriyou!C1745=\"\",\"\",syoriyou!C1745)","v":""},{"$f":"IF(syoriyou!D1745=\"\",\"\",syoriyou!D1745)","v":""},{"$f":"IF(syoriyou!E1745=\"\",\"\",syoriyou!E1745)","v":""},{"$f":"IF(syoriyou!F1745=\"\",\"\",syoriyou!F1745)","v":""},{"$f":"IF(syoriyou!G1745=\"\",\"\",syoriyou!G1745)","v":""},{"$f":"IF(syoriyou!H1745=\"\",\"\",syoriyou!H1745)","v":""},{"$f":"IF(syoriyou!I1745=\"\",\"\",syoriyou!I1745)","v":""},{"$f":"IF(syoriyou!J1745=\"\",\"\",syoriyou!N1745)","v":""}]
[{"$f":"IF(syoriyou!A1746=\"\",\"\",syoriyou!A1746)","v":""},{"$f":"IF(syoriyou!B1746=\"\",\"\",syoriyou!B1746)","v":""},{"$f":"IF(syoriyou!C1746=\"\",\"\",syoriyou!C1746)","v":""},{"$f":"IF(syoriyou!D1746=\"\",\"\",syoriyou!D1746)","v":""},{"$f":"IF(syoriyou!E1746=\"\",\"\",syoriyou!E1746)","v":""},{"$f":"IF(syoriyou!F1746=\"\",\"\",syoriyou!F1746)","v":""},{"$f":"IF(syoriyou!G1746=\"\",\"\",syoriyou!G1746)","v":""},{"$f":"IF(syoriyou!H1746=\"\",\"\",syoriyou!H1746)","v":""},{"$f":"IF(syoriyou!I1746=\"\",\"\",syoriyou!I1746)","v":""},{"$f":"IF(syoriyou!J1746=\"\",\"\",syoriyou!N1746)","v":""}]
[{"$f":"IF(syoriyou!A1747=\"\",\"\",syoriyou!A1747)","v":""},{"$f":"IF(syoriyou!B1747=\"\",\"\",syoriyou!B1747)","v":""},{"$f":"IF(syoriyou!C1747=\"\",\"\",syoriyou!C1747)","v":""},{"$f":"IF(syoriyou!D1747=\"\",\"\",syoriyou!D1747)","v":""},{"$f":"IF(syoriyou!E1747=\"\",\"\",syoriyou!E1747)","v":""},{"$f":"IF(syoriyou!F1747=\"\",\"\",syoriyou!F1747)","v":""},{"$f":"IF(syoriyou!G1747=\"\",\"\",syoriyou!G1747)","v":""},{"$f":"IF(syoriyou!H1747=\"\",\"\",syoriyou!H1747)","v":""},{"$f":"IF(syoriyou!I1747=\"\",\"\",syoriyou!I1747)","v":""},{"$f":"IF(syoriyou!J1747=\"\",\"\",syoriyou!N1747)","v":""}]
[{"$f":"IF(syoriyou!A1748=\"\",\"\",syoriyou!A1748)","v":""},{"$f":"IF(syoriyou!B1748=\"\",\"\",syoriyou!B1748)","v":""},{"$f":"IF(syoriyou!C1748=\"\",\"\",syoriyou!C1748)","v":""},{"$f":"IF(syoriyou!D1748=\"\",\"\",syoriyou!D1748)","v":""},{"$f":"IF(syoriyou!E1748=\"\",\"\",syoriyou!E1748)","v":""},{"$f":"IF(syoriyou!F1748=\"\",\"\",syoriyou!F1748)","v":""},{"$f":"IF(syoriyou!G1748=\"\",\"\",syoriyou!G1748)","v":""},{"$f":"IF(syoriyou!H1748=\"\",\"\",syoriyou!H1748)","v":""},{"$f":"IF(syoriyou!I1748=\"\",\"\",syoriyou!I1748)","v":""},{"$f":"IF(syoriyou!J1748=\"\",\"\",syoriyou!N1748)","v":""}]
[{"$f":"IF(syoriyou!A1749=\"\",\"\",syoriyou!A1749)","v":""},{"$f":"IF(syoriyou!B1749=\"\",\"\",syoriyou!B1749)","v":""},{"$f":"IF(syoriyou!C1749=\"\",\"\",syoriyou!C1749)","v":""},{"$f":"IF(syoriyou!D1749=\"\",\"\",syoriyou!D1749)","v":""},{"$f":"IF(syoriyou!E1749=\"\",\"\",syoriyou!E1749)","v":""},{"$f":"IF(syoriyou!F1749=\"\",\"\",syoriyou!F1749)","v":""},{"$f":"IF(syoriyou!G1749=\"\",\"\",syoriyou!G1749)","v":""},{"$f":"IF(syoriyou!H1749=\"\",\"\",syoriyou!H1749)","v":""},{"$f":"IF(syoriyou!I1749=\"\",\"\",syoriyou!I1749)","v":""},{"$f":"IF(syoriyou!J1749=\"\",\"\",syoriyou!N1749)","v":""}]
[{"$f":"IF(syoriyou!A1750=\"\",\"\",syoriyou!A1750)","v":""},{"$f":"IF(syoriyou!B1750=\"\",\"\",syoriyou!B1750)","v":""},{"$f":"IF(syoriyou!C1750=\"\",\"\",syoriyou!C1750)","v":""},{"$f":"IF(syoriyou!D1750=\"\",\"\",syoriyou!D1750)","v":""},{"$f":"IF(syoriyou!E1750=\"\",\"\",syoriyou!E1750)","v":""},{"$f":"IF(syoriyou!F1750=\"\",\"\",syoriyou!F1750)","v":""},{"$f":"IF(syoriyou!G1750=\"\",\"\",syoriyou!G1750)","v":""},{"$f":"IF(syoriyou!H1750=\"\",\"\",syoriyou!H1750)","v":""},{"$f":"IF(syoriyou!I1750=\"\",\"\",syoriyou!I1750)","v":""},{"$f":"IF(syoriyou!J1750=\"\",\"\",syoriyou!N1750)","v":""}]
[{"$f":"IF(syoriyou!A1751=\"\",\"\",syoriyou!A1751)","v":""},{"$f":"IF(syoriyou!B1751=\"\",\"\",syoriyou!B1751)","v":""},{"$f":"IF(syoriyou!C1751=\"\",\"\",syoriyou!C1751)","v":""},{"$f":"IF(syoriyou!D1751=\"\",\"\",syoriyou!D1751)","v":""},{"$f":"IF(syoriyou!E1751=\"\",\"\",syoriyou!E1751)","v":""},{"$f":"IF(syoriyou!F1751=\"\",\"\",syoriyou!F1751)","v":""},{"$f":"IF(syoriyou!G1751=\"\",\"\",syoriyou!G1751)","v":""},{"$f":"IF(syoriyou!H1751=\"\",\"\",syoriyou!H1751)","v":""},{"$f":"IF(syoriyou!I1751=\"\",\"\",syoriyou!I1751)","v":""},{"$f":"IF(syoriyou!J1751=\"\",\"\",syoriyou!N1751)","v":""}]
[{"$f":"IF(syoriyou!A1752=\"\",\"\",syoriyou!A1752)","v":""},{"$f":"IF(syoriyou!B1752=\"\",\"\",syoriyou!B1752)","v":""},{"$f":"IF(syoriyou!C1752=\"\",\"\",syoriyou!C1752)","v":""},{"$f":"IF(syoriyou!D1752=\"\",\"\",syoriyou!D1752)","v":""},{"$f":"IF(syoriyou!E1752=\"\",\"\",syoriyou!E1752)","v":""},{"$f":"IF(syoriyou!F1752=\"\",\"\",syoriyou!F1752)","v":""},{"$f":"IF(syoriyou!G1752=\"\",\"\",syoriyou!G1752)","v":""},{"$f":"IF(syoriyou!H1752=\"\",\"\",syoriyou!H1752)","v":""},{"$f":"IF(syoriyou!I1752=\"\",\"\",syoriyou!I1752)","v":""},{"$f":"IF(syoriyou!J1752=\"\",\"\",syoriyou!N1752)","v":""}]
[{"$f":"IF(syoriyou!A1753=\"\",\"\",syoriyou!A1753)","v":""},{"$f":"IF(syoriyou!B1753=\"\",\"\",syoriyou!B1753)","v":""},{"$f":"IF(syoriyou!C1753=\"\",\"\",syoriyou!C1753)","v":""},{"$f":"IF(syoriyou!D1753=\"\",\"\",syoriyou!D1753)","v":""},{"$f":"IF(syoriyou!E1753=\"\",\"\",syoriyou!E1753)","v":""},{"$f":"IF(syoriyou!F1753=\"\",\"\",syoriyou!F1753)","v":""},{"$f":"IF(syoriyou!G1753=\"\",\"\",syoriyou!G1753)","v":""},{"$f":"IF(syoriyou!H1753=\"\",\"\",syoriyou!H1753)","v":""},{"$f":"IF(syoriyou!I1753=\"\",\"\",syoriyou!I1753)","v":""},{"$f":"IF(syoriyou!J1753=\"\",\"\",syoriyou!N1753)","v":""}]
[{"$f":"IF(syoriyou!A1754=\"\",\"\",syoriyou!A1754)","v":""},{"$f":"IF(syoriyou!B1754=\"\",\"\",syoriyou!B1754)","v":""},{"$f":"IF(syoriyou!C1754=\"\",\"\",syoriyou!C1754)","v":""},{"$f":"IF(syoriyou!D1754=\"\",\"\",syoriyou!D1754)","v":""},{"$f":"IF(syoriyou!E1754=\"\",\"\",syoriyou!E1754)","v":""},{"$f":"IF(syoriyou!F1754=\"\",\"\",syoriyou!F1754)","v":""},{"$f":"IF(syoriyou!G1754=\"\",\"\",syoriyou!G1754)","v":""},{"$f":"IF(syoriyou!H1754=\"\",\"\",syoriyou!H1754)","v":""},{"$f":"IF(syoriyou!I1754=\"\",\"\",syoriyou!I1754)","v":""},{"$f":"IF(syoriyou!J1754=\"\",\"\",syoriyou!N1754)","v":""}]
[{"$f":"IF(syoriyou!A1755=\"\",\"\",syoriyou!A1755)","v":""},{"$f":"IF(syoriyou!B1755=\"\",\"\",syoriyou!B1755)","v":""},{"$f":"IF(syoriyou!C1755=\"\",\"\",syoriyou!C1755)","v":""},{"$f":"IF(syoriyou!D1755=\"\",\"\",syoriyou!D1755)","v":""},{"$f":"IF(syoriyou!E1755=\"\",\"\",syoriyou!E1755)","v":""},{"$f":"IF(syoriyou!F1755=\"\",\"\",syoriyou!F1755)","v":""},{"$f":"IF(syoriyou!G1755=\"\",\"\",syoriyou!G1755)","v":""},{"$f":"IF(syoriyou!H1755=\"\",\"\",syoriyou!H1755)","v":""},{"$f":"IF(syoriyou!I1755=\"\",\"\",syoriyou!I1755)","v":""},{"$f":"IF(syoriyou!J1755=\"\",\"\",syoriyou!N1755)","v":""}]
[{"$f":"IF(syoriyou!A1756=\"\",\"\",syoriyou!A1756)","v":""},{"$f":"IF(syoriyou!B1756=\"\",\"\",syoriyou!B1756)","v":""},{"$f":"IF(syoriyou!C1756=\"\",\"\",syoriyou!C1756)","v":""},{"$f":"IF(syoriyou!D1756=\"\",\"\",syoriyou!D1756)","v":""},{"$f":"IF(syoriyou!E1756=\"\",\"\",syoriyou!E1756)","v":""},{"$f":"IF(syoriyou!F1756=\"\",\"\",syoriyou!F1756)","v":""},{"$f":"IF(syoriyou!G1756=\"\",\"\",syoriyou!G1756)","v":""},{"$f":"IF(syoriyou!H1756=\"\",\"\",syoriyou!H1756)","v":""},{"$f":"IF(syoriyou!I1756=\"\",\"\",syoriyou!I1756)","v":""},{"$f":"IF(syoriyou!J1756=\"\",\"\",syoriyou!N1756)","v":""}]
[{"$f":"IF(syoriyou!A1757=\"\",\"\",syoriyou!A1757)","v":""},{"$f":"IF(syoriyou!B1757=\"\",\"\",syoriyou!B1757)","v":""},{"$f":"IF(syoriyou!C1757=\"\",\"\",syoriyou!C1757)","v":""},{"$f":"IF(syoriyou!D1757=\"\",\"\",syoriyou!D1757)","v":""},{"$f":"IF(syoriyou!E1757=\"\",\"\",syoriyou!E1757)","v":""},{"$f":"IF(syoriyou!F1757=\"\",\"\",syoriyou!F1757)","v":""},{"$f":"IF(syoriyou!G1757=\"\",\"\",syoriyou!G1757)","v":""},{"$f":"IF(syoriyou!H1757=\"\",\"\",syoriyou!H1757)","v":""},{"$f":"IF(syoriyou!I1757=\"\",\"\",syoriyou!I1757)","v":""},{"$f":"IF(syoriyou!J1757=\"\",\"\",syoriyou!N1757)","v":""}]
[{"$f":"IF(syoriyou!A1758=\"\",\"\",syoriyou!A1758)","v":""},{"$f":"IF(syoriyou!B1758=\"\",\"\",syoriyou!B1758)","v":""},{"$f":"IF(syoriyou!C1758=\"\",\"\",syoriyou!C1758)","v":""},{"$f":"IF(syoriyou!D1758=\"\",\"\",syoriyou!D1758)","v":""},{"$f":"IF(syoriyou!E1758=\"\",\"\",syoriyou!E1758)","v":""},{"$f":"IF(syoriyou!F1758=\"\",\"\",syoriyou!F1758)","v":""},{"$f":"IF(syoriyou!G1758=\"\",\"\",syoriyou!G1758)","v":""},{"$f":"IF(syoriyou!H1758=\"\",\"\",syoriyou!H1758)","v":""},{"$f":"IF(syoriyou!I1758=\"\",\"\",syoriyou!I1758)","v":""},{"$f":"IF(syoriyou!J1758=\"\",\"\",syoriyou!N1758)","v":""}]
[{"$f":"IF(syoriyou!A1759=\"\",\"\",syoriyou!A1759)","v":""},{"$f":"IF(syoriyou!B1759=\"\",\"\",syoriyou!B1759)","v":""},{"$f":"IF(syoriyou!C1759=\"\",\"\",syoriyou!C1759)","v":""},{"$f":"IF(syoriyou!D1759=\"\",\"\",syoriyou!D1759)","v":""},{"$f":"IF(syoriyou!E1759=\"\",\"\",syoriyou!E1759)","v":""},{"$f":"IF(syoriyou!F1759=\"\",\"\",syoriyou!F1759)","v":""},{"$f":"IF(syoriyou!G1759=\"\",\"\",syoriyou!G1759)","v":""},{"$f":"IF(syoriyou!H1759=\"\",\"\",syoriyou!H1759)","v":""},{"$f":"IF(syoriyou!I1759=\"\",\"\",syoriyou!I1759)","v":""},{"$f":"IF(syoriyou!J1759=\"\",\"\",syoriyou!N1759)","v":""}]
[{"$f":"IF(syoriyou!A1760=\"\",\"\",syoriyou!A1760)","v":""},{"$f":"IF(syoriyou!B1760=\"\",\"\",syoriyou!B1760)","v":""},{"$f":"IF(syoriyou!C1760=\"\",\"\",syoriyou!C1760)","v":""},{"$f":"IF(syoriyou!D1760=\"\",\"\",syoriyou!D1760)","v":""},{"$f":"IF(syoriyou!E1760=\"\",\"\",syoriyou!E1760)","v":""},{"$f":"IF(syoriyou!F1760=\"\",\"\",syoriyou!F1760)","v":""},{"$f":"IF(syoriyou!G1760=\"\",\"\",syoriyou!G1760)","v":""},{"$f":"IF(syoriyou!H1760=\"\",\"\",syoriyou!H1760)","v":""},{"$f":"IF(syoriyou!I1760=\"\",\"\",syoriyou!I1760)","v":""},{"$f":"IF(syoriyou!J1760=\"\",\"\",syoriyou!N1760)","v":""}]
[{"$f":"IF(syoriyou!A1761=\"\",\"\",syoriyou!A1761)","v":""},{"$f":"IF(syoriyou!B1761=\"\",\"\",syoriyou!B1761)","v":""},{"$f":"IF(syoriyou!C1761=\"\",\"\",syoriyou!C1761)","v":""},{"$f":"IF(syoriyou!D1761=\"\",\"\",syoriyou!D1761)","v":""},{"$f":"IF(syoriyou!E1761=\"\",\"\",syoriyou!E1761)","v":""},{"$f":"IF(syoriyou!F1761=\"\",\"\",syoriyou!F1761)","v":""},{"$f":"IF(syoriyou!G1761=\"\",\"\",syoriyou!G1761)","v":""},{"$f":"IF(syoriyou!H1761=\"\",\"\",syoriyou!H1761)","v":""},{"$f":"IF(syoriyou!I1761=\"\",\"\",syoriyou!I1761)","v":""},{"$f":"IF(syoriyou!J1761=\"\",\"\",syoriyou!N1761)","v":""}]
[{"$f":"IF(syoriyou!A1762=\"\",\"\",syoriyou!A1762)","v":""},{"$f":"IF(syoriyou!B1762=\"\",\"\",syoriyou!B1762)","v":""},{"$f":"IF(syoriyou!C1762=\"\",\"\",syoriyou!C1762)","v":""},{"$f":"IF(syoriyou!D1762=\"\",\"\",syoriyou!D1762)","v":""},{"$f":"IF(syoriyou!E1762=\"\",\"\",syoriyou!E1762)","v":""},{"$f":"IF(syoriyou!F1762=\"\",\"\",syoriyou!F1762)","v":""},{"$f":"IF(syoriyou!G1762=\"\",\"\",syoriyou!G1762)","v":""},{"$f":"IF(syoriyou!H1762=\"\",\"\",syoriyou!H1762)","v":""},{"$f":"IF(syoriyou!I1762=\"\",\"\",syoriyou!I1762)","v":""},{"$f":"IF(syoriyou!J1762=\"\",\"\",syoriyou!N1762)","v":""}]
[{"$f":"IF(syoriyou!A1763=\"\",\"\",syoriyou!A1763)","v":""},{"$f":"IF(syoriyou!B1763=\"\",\"\",syoriyou!B1763)","v":""},{"$f":"IF(syoriyou!C1763=\"\",\"\",syoriyou!C1763)","v":""},{"$f":"IF(syoriyou!D1763=\"\",\"\",syoriyou!D1763)","v":""},{"$f":"IF(syoriyou!E1763=\"\",\"\",syoriyou!E1763)","v":""},{"$f":"IF(syoriyou!F1763=\"\",\"\",syoriyou!F1763)","v":""},{"$f":"IF(syoriyou!G1763=\"\",\"\",syoriyou!G1763)","v":""},{"$f":"IF(syoriyou!H1763=\"\",\"\",syoriyou!H1763)","v":""},{"$f":"IF(syoriyou!I1763=\"\",\"\",syoriyou!I1763)","v":""},{"$f":"IF(syoriyou!J1763=\"\",\"\",syoriyou!N1763)","v":""}]
[{"$f":"IF(syoriyou!A1764=\"\",\"\",syoriyou!A1764)","v":""},{"$f":"IF(syoriyou!B1764=\"\",\"\",syoriyou!B1764)","v":""},{"$f":"IF(syoriyou!C1764=\"\",\"\",syoriyou!C1764)","v":""},{"$f":"IF(syoriyou!D1764=\"\",\"\",syoriyou!D1764)","v":""},{"$f":"IF(syoriyou!E1764=\"\",\"\",syoriyou!E1764)","v":""},{"$f":"IF(syoriyou!F1764=\"\",\"\",syoriyou!F1764)","v":""},{"$f":"IF(syoriyou!G1764=\"\",\"\",syoriyou!G1764)","v":""},{"$f":"IF(syoriyou!H1764=\"\",\"\",syoriyou!H1764)","v":""},{"$f":"IF(syoriyou!I1764=\"\",\"\",syoriyou!I1764)","v":""},{"$f":"IF(syoriyou!J1764=\"\",\"\",syoriyou!N1764)","v":""}]
[{"$f":"IF(syoriyou!A1765=\"\",\"\",syoriyou!A1765)","v":""},{"$f":"IF(syoriyou!B1765=\"\",\"\",syoriyou!B1765)","v":""},{"$f":"IF(syoriyou!C1765=\"\",\"\",syoriyou!C1765)","v":""},{"$f":"IF(syoriyou!D1765=\"\",\"\",syoriyou!D1765)","v":""},{"$f":"IF(syoriyou!E1765=\"\",\"\",syoriyou!E1765)","v":""},{"$f":"IF(syoriyou!F1765=\"\",\"\",syoriyou!F1765)","v":""},{"$f":"IF(syoriyou!G1765=\"\",\"\",syoriyou!G1765)","v":""},{"$f":"IF(syoriyou!H1765=\"\",\"\",syoriyou!H1765)","v":""},{"$f":"IF(syoriyou!I1765=\"\",\"\",syoriyou!I1765)","v":""},{"$f":"IF(syoriyou!J1765=\"\",\"\",syoriyou!N1765)","v":""}]
[{"$f":"IF(syoriyou!A1766=\"\",\"\",syoriyou!A1766)","v":""},{"$f":"IF(syoriyou!B1766=\"\",\"\",syoriyou!B1766)","v":""},{"$f":"IF(syoriyou!C1766=\"\",\"\",syoriyou!C1766)","v":""},{"$f":"IF(syoriyou!D1766=\"\",\"\",syoriyou!D1766)","v":""},{"$f":"IF(syoriyou!E1766=\"\",\"\",syoriyou!E1766)","v":""},{"$f":"IF(syoriyou!F1766=\"\",\"\",syoriyou!F1766)","v":""},{"$f":"IF(syoriyou!G1766=\"\",\"\",syoriyou!G1766)","v":""},{"$f":"IF(syoriyou!H1766=\"\",\"\",syoriyou!H1766)","v":""},{"$f":"IF(syoriyou!I1766=\"\",\"\",syoriyou!I1766)","v":""},{"$f":"IF(syoriyou!J1766=\"\",\"\",syoriyou!N1766)","v":""}]
[{"$f":"IF(syoriyou!A1767=\"\",\"\",syoriyou!A1767)","v":""},{"$f":"IF(syoriyou!B1767=\"\",\"\",syoriyou!B1767)","v":""},{"$f":"IF(syoriyou!C1767=\"\",\"\",syoriyou!C1767)","v":""},{"$f":"IF(syoriyou!D1767=\"\",\"\",syoriyou!D1767)","v":""},{"$f":"IF(syoriyou!E1767=\"\",\"\",syoriyou!E1767)","v":""},{"$f":"IF(syoriyou!F1767=\"\",\"\",syoriyou!F1767)","v":""},{"$f":"IF(syoriyou!G1767=\"\",\"\",syoriyou!G1767)","v":""},{"$f":"IF(syoriyou!H1767=\"\",\"\",syoriyou!H1767)","v":""},{"$f":"IF(syoriyou!I1767=\"\",\"\",syoriyou!I1767)","v":""},{"$f":"IF(syoriyou!J1767=\"\",\"\",syoriyou!N1767)","v":""}]
[{"$f":"IF(syoriyou!A1768=\"\",\"\",syoriyou!A1768)","v":""},{"$f":"IF(syoriyou!B1768=\"\",\"\",syoriyou!B1768)","v":""},{"$f":"IF(syoriyou!C1768=\"\",\"\",syoriyou!C1768)","v":""},{"$f":"IF(syoriyou!D1768=\"\",\"\",syoriyou!D1768)","v":""},{"$f":"IF(syoriyou!E1768=\"\",\"\",syoriyou!E1768)","v":""},{"$f":"IF(syoriyou!F1768=\"\",\"\",syoriyou!F1768)","v":""},{"$f":"IF(syoriyou!G1768=\"\",\"\",syoriyou!G1768)","v":""},{"$f":"IF(syoriyou!H1768=\"\",\"\",syoriyou!H1768)","v":""},{"$f":"IF(syoriyou!I1768=\"\",\"\",syoriyou!I1768)","v":""},{"$f":"IF(syoriyou!J1768=\"\",\"\",syoriyou!N1768)","v":""}]
[{"$f":"IF(syoriyou!A1769=\"\",\"\",syoriyou!A1769)","v":""},{"$f":"IF(syoriyou!B1769=\"\",\"\",syoriyou!B1769)","v":""},{"$f":"IF(syoriyou!C1769=\"\",\"\",syoriyou!C1769)","v":""},{"$f":"IF(syoriyou!D1769=\"\",\"\",syoriyou!D1769)","v":""},{"$f":"IF(syoriyou!E1769=\"\",\"\",syoriyou!E1769)","v":""},{"$f":"IF(syoriyou!F1769=\"\",\"\",syoriyou!F1769)","v":""},{"$f":"IF(syoriyou!G1769=\"\",\"\",syoriyou!G1769)","v":""},{"$f":"IF(syoriyou!H1769=\"\",\"\",syoriyou!H1769)","v":""},{"$f":"IF(syoriyou!I1769=\"\",\"\",syoriyou!I1769)","v":""},{"$f":"IF(syoriyou!J1769=\"\",\"\",syoriyou!N1769)","v":""}]
[{"$f":"IF(syoriyou!A1770=\"\",\"\",syoriyou!A1770)","v":""},{"$f":"IF(syoriyou!B1770=\"\",\"\",syoriyou!B1770)","v":""},{"$f":"IF(syoriyou!C1770=\"\",\"\",syoriyou!C1770)","v":""},{"$f":"IF(syoriyou!D1770=\"\",\"\",syoriyou!D1770)","v":""},{"$f":"IF(syoriyou!E1770=\"\",\"\",syoriyou!E1770)","v":""},{"$f":"IF(syoriyou!F1770=\"\",\"\",syoriyou!F1770)","v":""},{"$f":"IF(syoriyou!G1770=\"\",\"\",syoriyou!G1770)","v":""},{"$f":"IF(syoriyou!H1770=\"\",\"\",syoriyou!H1770)","v":""},{"$f":"IF(syoriyou!I1770=\"\",\"\",syoriyou!I1770)","v":""},{"$f":"IF(syoriyou!J1770=\"\",\"\",syoriyou!N1770)","v":""}]
[{"$f":"IF(syoriyou!A1771=\"\",\"\",syoriyou!A1771)","v":""},{"$f":"IF(syoriyou!B1771=\"\",\"\",syoriyou!B1771)","v":""},{"$f":"IF(syoriyou!C1771=\"\",\"\",syoriyou!C1771)","v":""},{"$f":"IF(syoriyou!D1771=\"\",\"\",syoriyou!D1771)","v":""},{"$f":"IF(syoriyou!E1771=\"\",\"\",syoriyou!E1771)","v":""},{"$f":"IF(syoriyou!F1771=\"\",\"\",syoriyou!F1771)","v":""},{"$f":"IF(syoriyou!G1771=\"\",\"\",syoriyou!G1771)","v":""},{"$f":"IF(syoriyou!H1771=\"\",\"\",syoriyou!H1771)","v":""},{"$f":"IF(syoriyou!I1771=\"\",\"\",syoriyou!I1771)","v":""},{"$f":"IF(syoriyou!J1771=\"\",\"\",syoriyou!N1771)","v":""}]
[{"$f":"IF(syoriyou!A1772=\"\",\"\",syoriyou!A1772)","v":""},{"$f":"IF(syoriyou!B1772=\"\",\"\",syoriyou!B1772)","v":""},{"$f":"IF(syoriyou!C1772=\"\",\"\",syoriyou!C1772)","v":""},{"$f":"IF(syoriyou!D1772=\"\",\"\",syoriyou!D1772)","v":""},{"$f":"IF(syoriyou!E1772=\"\",\"\",syoriyou!E1772)","v":""},{"$f":"IF(syoriyou!F1772=\"\",\"\",syoriyou!F1772)","v":""},{"$f":"IF(syoriyou!G1772=\"\",\"\",syoriyou!G1772)","v":""},{"$f":"IF(syoriyou!H1772=\"\",\"\",syoriyou!H1772)","v":""},{"$f":"IF(syoriyou!I1772=\"\",\"\",syoriyou!I1772)","v":""},{"$f":"IF(syoriyou!J1772=\"\",\"\",syoriyou!N1772)","v":""}]
[{"$f":"IF(syoriyou!A1773=\"\",\"\",syoriyou!A1773)","v":""},{"$f":"IF(syoriyou!B1773=\"\",\"\",syoriyou!B1773)","v":""},{"$f":"IF(syoriyou!C1773=\"\",\"\",syoriyou!C1773)","v":""},{"$f":"IF(syoriyou!D1773=\"\",\"\",syoriyou!D1773)","v":""},{"$f":"IF(syoriyou!E1773=\"\",\"\",syoriyou!E1773)","v":""},{"$f":"IF(syoriyou!F1773=\"\",\"\",syoriyou!F1773)","v":""},{"$f":"IF(syoriyou!G1773=\"\",\"\",syoriyou!G1773)","v":""},{"$f":"IF(syoriyou!H1773=\"\",\"\",syoriyou!H1773)","v":""},{"$f":"IF(syoriyou!I1773=\"\",\"\",syoriyou!I1773)","v":""},{"$f":"IF(syoriyou!J1773=\"\",\"\",syoriyou!N1773)","v":""}]
[{"$f":"IF(syoriyou!A1774=\"\",\"\",syoriyou!A1774)","v":""},{"$f":"IF(syoriyou!B1774=\"\",\"\",syoriyou!B1774)","v":""},{"$f":"IF(syoriyou!C1774=\"\",\"\",syoriyou!C1774)","v":""},{"$f":"IF(syoriyou!D1774=\"\",\"\",syoriyou!D1774)","v":""},{"$f":"IF(syoriyou!E1774=\"\",\"\",syoriyou!E1774)","v":""},{"$f":"IF(syoriyou!F1774=\"\",\"\",syoriyou!F1774)","v":""},{"$f":"IF(syoriyou!G1774=\"\",\"\",syoriyou!G1774)","v":""},{"$f":"IF(syoriyou!H1774=\"\",\"\",syoriyou!H1774)","v":""},{"$f":"IF(syoriyou!I1774=\"\",\"\",syoriyou!I1774)","v":""},{"$f":"IF(syoriyou!J1774=\"\",\"\",syoriyou!N1774)","v":""}]
[{"$f":"IF(syoriyou!A1775=\"\",\"\",syoriyou!A1775)","v":""},{"$f":"IF(syoriyou!B1775=\"\",\"\",syoriyou!B1775)","v":""},{"$f":"IF(syoriyou!C1775=\"\",\"\",syoriyou!C1775)","v":""},{"$f":"IF(syoriyou!D1775=\"\",\"\",syoriyou!D1775)","v":""},{"$f":"IF(syoriyou!E1775=\"\",\"\",syoriyou!E1775)","v":""},{"$f":"IF(syoriyou!F1775=\"\",\"\",syoriyou!F1775)","v":""},{"$f":"IF(syoriyou!G1775=\"\",\"\",syoriyou!G1775)","v":""},{"$f":"IF(syoriyou!H1775=\"\",\"\",syoriyou!H1775)","v":""},{"$f":"IF(syoriyou!I1775=\"\",\"\",syoriyou!I1775)","v":""},{"$f":"IF(syoriyou!J1775=\"\",\"\",syoriyou!N1775)","v":""}]
[{"$f":"IF(syoriyou!A1776=\"\",\"\",syoriyou!A1776)","v":""},{"$f":"IF(syoriyou!B1776=\"\",\"\",syoriyou!B1776)","v":""},{"$f":"IF(syoriyou!C1776=\"\",\"\",syoriyou!C1776)","v":""},{"$f":"IF(syoriyou!D1776=\"\",\"\",syoriyou!D1776)","v":""},{"$f":"IF(syoriyou!E1776=\"\",\"\",syoriyou!E1776)","v":""},{"$f":"IF(syoriyou!F1776=\"\",\"\",syoriyou!F1776)","v":""},{"$f":"IF(syoriyou!G1776=\"\",\"\",syoriyou!G1776)","v":""},{"$f":"IF(syoriyou!H1776=\"\",\"\",syoriyou!H1776)","v":""},{"$f":"IF(syoriyou!I1776=\"\",\"\",syoriyou!I1776)","v":""},{"$f":"IF(syoriyou!J1776=\"\",\"\",syoriyou!N1776)","v":""}]
[{"$f":"IF(syoriyou!A1777=\"\",\"\",syoriyou!A1777)","v":""},{"$f":"IF(syoriyou!B1777=\"\",\"\",syoriyou!B1777)","v":""},{"$f":"IF(syoriyou!C1777=\"\",\"\",syoriyou!C1777)","v":""},{"$f":"IF(syoriyou!D1777=\"\",\"\",syoriyou!D1777)","v":""},{"$f":"IF(syoriyou!E1777=\"\",\"\",syoriyou!E1777)","v":""},{"$f":"IF(syoriyou!F1777=\"\",\"\",syoriyou!F1777)","v":""},{"$f":"IF(syoriyou!G1777=\"\",\"\",syoriyou!G1777)","v":""},{"$f":"IF(syoriyou!H1777=\"\",\"\",syoriyou!H1777)","v":""},{"$f":"IF(syoriyou!I1777=\"\",\"\",syoriyou!I1777)","v":""},{"$f":"IF(syoriyou!J1777=\"\",\"\",syoriyou!N1777)","v":""}]
[{"$f":"IF(syoriyou!A1778=\"\",\"\",syoriyou!A1778)","v":""},{"$f":"IF(syoriyou!B1778=\"\",\"\",syoriyou!B1778)","v":""},{"$f":"IF(syoriyou!C1778=\"\",\"\",syoriyou!C1778)","v":""},{"$f":"IF(syoriyou!D1778=\"\",\"\",syoriyou!D1778)","v":""},{"$f":"IF(syoriyou!E1778=\"\",\"\",syoriyou!E1778)","v":""},{"$f":"IF(syoriyou!F1778=\"\",\"\",syoriyou!F1778)","v":""},{"$f":"IF(syoriyou!G1778=\"\",\"\",syoriyou!G1778)","v":""},{"$f":"IF(syoriyou!H1778=\"\",\"\",syoriyou!H1778)","v":""},{"$f":"IF(syoriyou!I1778=\"\",\"\",syoriyou!I1778)","v":""},{"$f":"IF(syoriyou!J1778=\"\",\"\",syoriyou!N1778)","v":""}]
[{"$f":"IF(syoriyou!A1779=\"\",\"\",syoriyou!A1779)","v":""},{"$f":"IF(syoriyou!B1779=\"\",\"\",syoriyou!B1779)","v":""},{"$f":"IF(syoriyou!C1779=\"\",\"\",syoriyou!C1779)","v":""},{"$f":"IF(syoriyou!D1779=\"\",\"\",syoriyou!D1779)","v":""},{"$f":"IF(syoriyou!E1779=\"\",\"\",syoriyou!E1779)","v":""},{"$f":"IF(syoriyou!F1779=\"\",\"\",syoriyou!F1779)","v":""},{"$f":"IF(syoriyou!G1779=\"\",\"\",syoriyou!G1779)","v":""},{"$f":"IF(syoriyou!H1779=\"\",\"\",syoriyou!H1779)","v":""},{"$f":"IF(syoriyou!I1779=\"\",\"\",syoriyou!I1779)","v":""},{"$f":"IF(syoriyou!J1779=\"\",\"\",syoriyou!N1779)","v":""}]
[{"$f":"IF(syoriyou!A1780=\"\",\"\",syoriyou!A1780)","v":""},{"$f":"IF(syoriyou!B1780=\"\",\"\",syoriyou!B1780)","v":""},{"$f":"IF(syoriyou!C1780=\"\",\"\",syoriyou!C1780)","v":""},{"$f":"IF(syoriyou!D1780=\"\",\"\",syoriyou!D1780)","v":""},{"$f":"IF(syoriyou!E1780=\"\",\"\",syoriyou!E1780)","v":""},{"$f":"IF(syoriyou!F1780=\"\",\"\",syoriyou!F1780)","v":""},{"$f":"IF(syoriyou!G1780=\"\",\"\",syoriyou!G1780)","v":""},{"$f":"IF(syoriyou!H1780=\"\",\"\",syoriyou!H1780)","v":""},{"$f":"IF(syoriyou!I1780=\"\",\"\",syoriyou!I1780)","v":""},{"$f":"IF(syoriyou!J1780=\"\",\"\",syoriyou!N1780)","v":""}]
[{"$f":"IF(syoriyou!A1781=\"\",\"\",syoriyou!A1781)","v":""},{"$f":"IF(syoriyou!B1781=\"\",\"\",syoriyou!B1781)","v":""},{"$f":"IF(syoriyou!C1781=\"\",\"\",syoriyou!C1781)","v":""},{"$f":"IF(syoriyou!D1781=\"\",\"\",syoriyou!D1781)","v":""},{"$f":"IF(syoriyou!E1781=\"\",\"\",syoriyou!E1781)","v":""},{"$f":"IF(syoriyou!F1781=\"\",\"\",syoriyou!F1781)","v":""},{"$f":"IF(syoriyou!G1781=\"\",\"\",syoriyou!G1781)","v":""},{"$f":"IF(syoriyou!H1781=\"\",\"\",syoriyou!H1781)","v":""},{"$f":"IF(syoriyou!I1781=\"\",\"\",syoriyou!I1781)","v":""},{"$f":"IF(syoriyou!J1781=\"\",\"\",syoriyou!N1781)","v":""}]
[{"$f":"IF(syoriyou!A1782=\"\",\"\",syoriyou!A1782)","v":""},{"$f":"IF(syoriyou!B1782=\"\",\"\",syoriyou!B1782)","v":""},{"$f":"IF(syoriyou!C1782=\"\",\"\",syoriyou!C1782)","v":""},{"$f":"IF(syoriyou!D1782=\"\",\"\",syoriyou!D1782)","v":""},{"$f":"IF(syoriyou!E1782=\"\",\"\",syoriyou!E1782)","v":""},{"$f":"IF(syoriyou!F1782=\"\",\"\",syoriyou!F1782)","v":""},{"$f":"IF(syoriyou!G1782=\"\",\"\",syoriyou!G1782)","v":""},{"$f":"IF(syoriyou!H1782=\"\",\"\",syoriyou!H1782)","v":""},{"$f":"IF(syoriyou!I1782=\"\",\"\",syoriyou!I1782)","v":""},{"$f":"IF(syoriyou!J1782=\"\",\"\",syoriyou!N1782)","v":""}]
[{"$f":"IF(syoriyou!A1783=\"\",\"\",syoriyou!A1783)","v":""},{"$f":"IF(syoriyou!B1783=\"\",\"\",syoriyou!B1783)","v":""},{"$f":"IF(syoriyou!C1783=\"\",\"\",syoriyou!C1783)","v":""},{"$f":"IF(syoriyou!D1783=\"\",\"\",syoriyou!D1783)","v":""},{"$f":"IF(syoriyou!E1783=\"\",\"\",syoriyou!E1783)","v":""},{"$f":"IF(syoriyou!F1783=\"\",\"\",syoriyou!F1783)","v":""},{"$f":"IF(syoriyou!G1783=\"\",\"\",syoriyou!G1783)","v":""},{"$f":"IF(syoriyou!H1783=\"\",\"\",syoriyou!H1783)","v":""},{"$f":"IF(syoriyou!I1783=\"\",\"\",syoriyou!I1783)","v":""},{"$f":"IF(syoriyou!J1783=\"\",\"\",syoriyou!N1783)","v":""}]
[{"$f":"IF(syoriyou!A1784=\"\",\"\",syoriyou!A1784)","v":""},{"$f":"IF(syoriyou!B1784=\"\",\"\",syoriyou!B1784)","v":""},{"$f":"IF(syoriyou!C1784=\"\",\"\",syoriyou!C1784)","v":""},{"$f":"IF(syoriyou!D1784=\"\",\"\",syoriyou!D1784)","v":""},{"$f":"IF(syoriyou!E1784=\"\",\"\",syoriyou!E1784)","v":""},{"$f":"IF(syoriyou!F1784=\"\",\"\",syoriyou!F1784)","v":""},{"$f":"IF(syoriyou!G1784=\"\",\"\",syoriyou!G1784)","v":""},{"$f":"IF(syoriyou!H1784=\"\",\"\",syoriyou!H1784)","v":""},{"$f":"IF(syoriyou!I1784=\"\",\"\",syoriyou!I1784)","v":""},{"$f":"IF(syoriyou!J1784=\"\",\"\",syoriyou!N1784)","v":""}]
[{"$f":"IF(syoriyou!A1785=\"\",\"\",syoriyou!A1785)","v":""},{"$f":"IF(syoriyou!B1785=\"\",\"\",syoriyou!B1785)","v":""},{"$f":"IF(syoriyou!C1785=\"\",\"\",syoriyou!C1785)","v":""},{"$f":"IF(syoriyou!D1785=\"\",\"\",syoriyou!D1785)","v":""},{"$f":"IF(syoriyou!E1785=\"\",\"\",syoriyou!E1785)","v":""},{"$f":"IF(syoriyou!F1785=\"\",\"\",syoriyou!F1785)","v":""},{"$f":"IF(syoriyou!G1785=\"\",\"\",syoriyou!G1785)","v":""},{"$f":"IF(syoriyou!H1785=\"\",\"\",syoriyou!H1785)","v":""},{"$f":"IF(syoriyou!I1785=\"\",\"\",syoriyou!I1785)","v":""},{"$f":"IF(syoriyou!J1785=\"\",\"\",syoriyou!N1785)","v":""}]
[{"$f":"IF(syoriyou!A1786=\"\",\"\",syoriyou!A1786)","v":""},{"$f":"IF(syoriyou!B1786=\"\",\"\",syoriyou!B1786)","v":""},{"$f":"IF(syoriyou!C1786=\"\",\"\",syoriyou!C1786)","v":""},{"$f":"IF(syoriyou!D1786=\"\",\"\",syoriyou!D1786)","v":""},{"$f":"IF(syoriyou!E1786=\"\",\"\",syoriyou!E1786)","v":""},{"$f":"IF(syoriyou!F1786=\"\",\"\",syoriyou!F1786)","v":""},{"$f":"IF(syoriyou!G1786=\"\",\"\",syoriyou!G1786)","v":""},{"$f":"IF(syoriyou!H1786=\"\",\"\",syoriyou!H1786)","v":""},{"$f":"IF(syoriyou!I1786=\"\",\"\",syoriyou!I1786)","v":""},{"$f":"IF(syoriyou!J1786=\"\",\"\",syoriyou!N1786)","v":""}]
[{"$f":"IF(syoriyou!A1787=\"\",\"\",syoriyou!A1787)","v":""},{"$f":"IF(syoriyou!B1787=\"\",\"\",syoriyou!B1787)","v":""},{"$f":"IF(syoriyou!C1787=\"\",\"\",syoriyou!C1787)","v":""},{"$f":"IF(syoriyou!D1787=\"\",\"\",syoriyou!D1787)","v":""},{"$f":"IF(syoriyou!E1787=\"\",\"\",syoriyou!E1787)","v":""},{"$f":"IF(syoriyou!F1787=\"\",\"\",syoriyou!F1787)","v":""},{"$f":"IF(syoriyou!G1787=\"\",\"\",syoriyou!G1787)","v":""},{"$f":"IF(syoriyou!H1787=\"\",\"\",syoriyou!H1787)","v":""},{"$f":"IF(syoriyou!I1787=\"\",\"\",syoriyou!I1787)","v":""},{"$f":"IF(syoriyou!J1787=\"\",\"\",syoriyou!N1787)","v":""}]
[{"$f":"IF(syoriyou!A1788=\"\",\"\",syoriyou!A1788)","v":""},{"$f":"IF(syoriyou!B1788=\"\",\"\",syoriyou!B1788)","v":""},{"$f":"IF(syoriyou!C1788=\"\",\"\",syoriyou!C1788)","v":""},{"$f":"IF(syoriyou!D1788=\"\",\"\",syoriyou!D1788)","v":""},{"$f":"IF(syoriyou!E1788=\"\",\"\",syoriyou!E1788)","v":""},{"$f":"IF(syoriyou!F1788=\"\",\"\",syoriyou!F1788)","v":""},{"$f":"IF(syoriyou!G1788=\"\",\"\",syoriyou!G1788)","v":""},{"$f":"IF(syoriyou!H1788=\"\",\"\",syoriyou!H1788)","v":""},{"$f":"IF(syoriyou!I1788=\"\",\"\",syoriyou!I1788)","v":""},{"$f":"IF(syoriyou!J1788=\"\",\"\",syoriyou!N1788)","v":""}]
[{"$f":"IF(syoriyou!A1789=\"\",\"\",syoriyou!A1789)","v":""},{"$f":"IF(syoriyou!B1789=\"\",\"\",syoriyou!B1789)","v":""},{"$f":"IF(syoriyou!C1789=\"\",\"\",syoriyou!C1789)","v":""},{"$f":"IF(syoriyou!D1789=\"\",\"\",syoriyou!D1789)","v":""},{"$f":"IF(syoriyou!E1789=\"\",\"\",syoriyou!E1789)","v":""},{"$f":"IF(syoriyou!F1789=\"\",\"\",syoriyou!F1789)","v":""},{"$f":"IF(syoriyou!G1789=\"\",\"\",syoriyou!G1789)","v":""},{"$f":"IF(syoriyou!H1789=\"\",\"\",syoriyou!H1789)","v":""},{"$f":"IF(syoriyou!I1789=\"\",\"\",syoriyou!I1789)","v":""},{"$f":"IF(syoriyou!J1789=\"\",\"\",syoriyou!N1789)","v":""}]
[{"$f":"IF(syoriyou!A1790=\"\",\"\",syoriyou!A1790)","v":""},{"$f":"IF(syoriyou!B1790=\"\",\"\",syoriyou!B1790)","v":""},{"$f":"IF(syoriyou!C1790=\"\",\"\",syoriyou!C1790)","v":""},{"$f":"IF(syoriyou!D1790=\"\",\"\",syoriyou!D1790)","v":""},{"$f":"IF(syoriyou!E1790=\"\",\"\",syoriyou!E1790)","v":""},{"$f":"IF(syoriyou!F1790=\"\",\"\",syoriyou!F1790)","v":""},{"$f":"IF(syoriyou!G1790=\"\",\"\",syoriyou!G1790)","v":""},{"$f":"IF(syoriyou!H1790=\"\",\"\",syoriyou!H1790)","v":""},{"$f":"IF(syoriyou!I1790=\"\",\"\",syoriyou!I1790)","v":""},{"$f":"IF(syoriyou!J1790=\"\",\"\",syoriyou!N1790)","v":""}]
[{"$f":"IF(syoriyou!A1791=\"\",\"\",syoriyou!A1791)","v":""},{"$f":"IF(syoriyou!B1791=\"\",\"\",syoriyou!B1791)","v":""},{"$f":"IF(syoriyou!C1791=\"\",\"\",syoriyou!C1791)","v":""},{"$f":"IF(syoriyou!D1791=\"\",\"\",syoriyou!D1791)","v":""},{"$f":"IF(syoriyou!E1791=\"\",\"\",syoriyou!E1791)","v":""},{"$f":"IF(syoriyou!F1791=\"\",\"\",syoriyou!F1791)","v":""},{"$f":"IF(syoriyou!G1791=\"\",\"\",syoriyou!G1791)","v":""},{"$f":"IF(syoriyou!H1791=\"\",\"\",syoriyou!H1791)","v":""},{"$f":"IF(syoriyou!I1791=\"\",\"\",syoriyou!I1791)","v":""},{"$f":"IF(syoriyou!J1791=\"\",\"\",syoriyou!N1791)","v":""}]
[{"$f":"IF(syoriyou!A1792=\"\",\"\",syoriyou!A1792)","v":""},{"$f":"IF(syoriyou!B1792=\"\",\"\",syoriyou!B1792)","v":""},{"$f":"IF(syoriyou!C1792=\"\",\"\",syoriyou!C1792)","v":""},{"$f":"IF(syoriyou!D1792=\"\",\"\",syoriyou!D1792)","v":""},{"$f":"IF(syoriyou!E1792=\"\",\"\",syoriyou!E1792)","v":""},{"$f":"IF(syoriyou!F1792=\"\",\"\",syoriyou!F1792)","v":""},{"$f":"IF(syoriyou!G1792=\"\",\"\",syoriyou!G1792)","v":""},{"$f":"IF(syoriyou!H1792=\"\",\"\",syoriyou!H1792)","v":""},{"$f":"IF(syoriyou!I1792=\"\",\"\",syoriyou!I1792)","v":""},{"$f":"IF(syoriyou!J1792=\"\",\"\",syoriyou!N1792)","v":""}]
[{"$f":"IF(syoriyou!A1793=\"\",\"\",syoriyou!A1793)","v":""},{"$f":"IF(syoriyou!B1793=\"\",\"\",syoriyou!B1793)","v":""},{"$f":"IF(syoriyou!C1793=\"\",\"\",syoriyou!C1793)","v":""},{"$f":"IF(syoriyou!D1793=\"\",\"\",syoriyou!D1793)","v":""},{"$f":"IF(syoriyou!E1793=\"\",\"\",syoriyou!E1793)","v":""},{"$f":"IF(syoriyou!F1793=\"\",\"\",syoriyou!F1793)","v":""},{"$f":"IF(syoriyou!G1793=\"\",\"\",syoriyou!G1793)","v":""},{"$f":"IF(syoriyou!H1793=\"\",\"\",syoriyou!H1793)","v":""},{"$f":"IF(syoriyou!I1793=\"\",\"\",syoriyou!I1793)","v":""},{"$f":"IF(syoriyou!J1793=\"\",\"\",syoriyou!N1793)","v":""}]
[{"$f":"IF(syoriyou!A1794=\"\",\"\",syoriyou!A1794)","v":""},{"$f":"IF(syoriyou!B1794=\"\",\"\",syoriyou!B1794)","v":""},{"$f":"IF(syoriyou!C1794=\"\",\"\",syoriyou!C1794)","v":""},{"$f":"IF(syoriyou!D1794=\"\",\"\",syoriyou!D1794)","v":""},{"$f":"IF(syoriyou!E1794=\"\",\"\",syoriyou!E1794)","v":""},{"$f":"IF(syoriyou!F1794=\"\",\"\",syoriyou!F1794)","v":""},{"$f":"IF(syoriyou!G1794=\"\",\"\",syoriyou!G1794)","v":""},{"$f":"IF(syoriyou!H1794=\"\",\"\",syoriyou!H1794)","v":""},{"$f":"IF(syoriyou!I1794=\"\",\"\",syoriyou!I1794)","v":""},{"$f":"IF(syoriyou!J1794=\"\",\"\",syoriyou!N1794)","v":""}]
[{"$f":"IF(syoriyou!A1795=\"\",\"\",syoriyou!A1795)","v":""},{"$f":"IF(syoriyou!B1795=\"\",\"\",syoriyou!B1795)","v":""},{"$f":"IF(syoriyou!C1795=\"\",\"\",syoriyou!C1795)","v":""},{"$f":"IF(syoriyou!D1795=\"\",\"\",syoriyou!D1795)","v":""},{"$f":"IF(syoriyou!E1795=\"\",\"\",syoriyou!E1795)","v":""},{"$f":"IF(syoriyou!F1795=\"\",\"\",syoriyou!F1795)","v":""},{"$f":"IF(syoriyou!G1795=\"\",\"\",syoriyou!G1795)","v":""},{"$f":"IF(syoriyou!H1795=\"\",\"\",syoriyou!H1795)","v":""},{"$f":"IF(syoriyou!I1795=\"\",\"\",syoriyou!I1795)","v":""},{"$f":"IF(syoriyou!J1795=\"\",\"\",syoriyou!N1795)","v":""}]
[{"$f":"IF(syoriyou!A1796=\"\",\"\",syoriyou!A1796)","v":""},{"$f":"IF(syoriyou!B1796=\"\",\"\",syoriyou!B1796)","v":""},{"$f":"IF(syoriyou!C1796=\"\",\"\",syoriyou!C1796)","v":""},{"$f":"IF(syoriyou!D1796=\"\",\"\",syoriyou!D1796)","v":""},{"$f":"IF(syoriyou!E1796=\"\",\"\",syoriyou!E1796)","v":""},{"$f":"IF(syoriyou!F1796=\"\",\"\",syoriyou!F1796)","v":""},{"$f":"IF(syoriyou!G1796=\"\",\"\",syoriyou!G1796)","v":""},{"$f":"IF(syoriyou!H1796=\"\",\"\",syoriyou!H1796)","v":""},{"$f":"IF(syoriyou!I1796=\"\",\"\",syoriyou!I1796)","v":""},{"$f":"IF(syoriyou!J1796=\"\",\"\",syoriyou!N1796)","v":""}]
[{"$f":"IF(syoriyou!A1797=\"\",\"\",syoriyou!A1797)","v":""},{"$f":"IF(syoriyou!B1797=\"\",\"\",syoriyou!B1797)","v":""},{"$f":"IF(syoriyou!C1797=\"\",\"\",syoriyou!C1797)","v":""},{"$f":"IF(syoriyou!D1797=\"\",\"\",syoriyou!D1797)","v":""},{"$f":"IF(syoriyou!E1797=\"\",\"\",syoriyou!E1797)","v":""},{"$f":"IF(syoriyou!F1797=\"\",\"\",syoriyou!F1797)","v":""},{"$f":"IF(syoriyou!G1797=\"\",\"\",syoriyou!G1797)","v":""},{"$f":"IF(syoriyou!H1797=\"\",\"\",syoriyou!H1797)","v":""},{"$f":"IF(syoriyou!I1797=\"\",\"\",syoriyou!I1797)","v":""},{"$f":"IF(syoriyou!J1797=\"\",\"\",syoriyou!N1797)","v":""}]
[{"$f":"IF(syoriyou!A1798=\"\",\"\",syoriyou!A1798)","v":""},{"$f":"IF(syoriyou!B1798=\"\",\"\",syoriyou!B1798)","v":""},{"$f":"IF(syoriyou!C1798=\"\",\"\",syoriyou!C1798)","v":""},{"$f":"IF(syoriyou!D1798=\"\",\"\",syoriyou!D1798)","v":""},{"$f":"IF(syoriyou!E1798=\"\",\"\",syoriyou!E1798)","v":""},{"$f":"IF(syoriyou!F1798=\"\",\"\",syoriyou!F1798)","v":""},{"$f":"IF(syoriyou!G1798=\"\",\"\",syoriyou!G1798)","v":""},{"$f":"IF(syoriyou!H1798=\"\",\"\",syoriyou!H1798)","v":""},{"$f":"IF(syoriyou!I1798=\"\",\"\",syoriyou!I1798)","v":""},{"$f":"IF(syoriyou!J1798=\"\",\"\",syoriyou!N1798)","v":""}]
[{"$f":"IF(syoriyou!A1799=\"\",\"\",syoriyou!A1799)","v":""},{"$f":"IF(syoriyou!B1799=\"\",\"\",syoriyou!B1799)","v":""},{"$f":"IF(syoriyou!C1799=\"\",\"\",syoriyou!C1799)","v":""},{"$f":"IF(syoriyou!D1799=\"\",\"\",syoriyou!D1799)","v":""},{"$f":"IF(syoriyou!E1799=\"\",\"\",syoriyou!E1799)","v":""},{"$f":"IF(syoriyou!F1799=\"\",\"\",syoriyou!F1799)","v":""},{"$f":"IF(syoriyou!G1799=\"\",\"\",syoriyou!G1799)","v":""},{"$f":"IF(syoriyou!H1799=\"\",\"\",syoriyou!H1799)","v":""},{"$f":"IF(syoriyou!I1799=\"\",\"\",syoriyou!I1799)","v":""},{"$f":"IF(syoriyou!J1799=\"\",\"\",syoriyou!N1799)","v":""}]
[{"$f":"IF(syoriyou!A1800=\"\",\"\",syoriyou!A1800)","v":""},{"$f":"IF(syoriyou!B1800=\"\",\"\",syoriyou!B1800)","v":""},{"$f":"IF(syoriyou!C1800=\"\",\"\",syoriyou!C1800)","v":""},{"$f":"IF(syoriyou!D1800=\"\",\"\",syoriyou!D1800)","v":""},{"$f":"IF(syoriyou!E1800=\"\",\"\",syoriyou!E1800)","v":""},{"$f":"IF(syoriyou!F1800=\"\",\"\",syoriyou!F1800)","v":""},{"$f":"IF(syoriyou!G1800=\"\",\"\",syoriyou!G1800)","v":""},{"$f":"IF(syoriyou!H1800=\"\",\"\",syoriyou!H1800)","v":""},{"$f":"IF(syoriyou!I1800=\"\",\"\",syoriyou!I1800)","v":""},{"$f":"IF(syoriyou!J1800=\"\",\"\",syoriyou!N1800)","v":""}]
[{"$f":"IF(syoriyou!A1801=\"\",\"\",syoriyou!A1801)","v":""},{"$f":"IF(syoriyou!B1801=\"\",\"\",syoriyou!B1801)","v":""},{"$f":"IF(syoriyou!C1801=\"\",\"\",syoriyou!C1801)","v":""},{"$f":"IF(syoriyou!D1801=\"\",\"\",syoriyou!D1801)","v":""},{"$f":"IF(syoriyou!E1801=\"\",\"\",syoriyou!E1801)","v":""},{"$f":"IF(syoriyou!F1801=\"\",\"\",syoriyou!F1801)","v":""},{"$f":"IF(syoriyou!G1801=\"\",\"\",syoriyou!G1801)","v":""},{"$f":"IF(syoriyou!H1801=\"\",\"\",syoriyou!H1801)","v":""},{"$f":"IF(syoriyou!I1801=\"\",\"\",syoriyou!I1801)","v":""},{"$f":"IF(syoriyou!J1801=\"\",\"\",syoriyou!N1801)","v":""}]
[{"$f":"IF(syoriyou!A1802=\"\",\"\",syoriyou!A1802)","v":""},{"$f":"IF(syoriyou!B1802=\"\",\"\",syoriyou!B1802)","v":""},{"$f":"IF(syoriyou!C1802=\"\",\"\",syoriyou!C1802)","v":""},{"$f":"IF(syoriyou!D1802=\"\",\"\",syoriyou!D1802)","v":""},{"$f":"IF(syoriyou!E1802=\"\",\"\",syoriyou!E1802)","v":""},{"$f":"IF(syoriyou!F1802=\"\",\"\",syoriyou!F1802)","v":""},{"$f":"IF(syoriyou!G1802=\"\",\"\",syoriyou!G1802)","v":""},{"$f":"IF(syoriyou!H1802=\"\",\"\",syoriyou!H1802)","v":""},{"$f":"IF(syoriyou!I1802=\"\",\"\",syoriyou!I1802)","v":""},{"$f":"IF(syoriyou!J1802=\"\",\"\",syoriyou!N1802)","v":""}]
[{"$f":"IF(syoriyou!A1803=\"\",\"\",syoriyou!A1803)","v":""},{"$f":"IF(syoriyou!B1803=\"\",\"\",syoriyou!B1803)","v":""},{"$f":"IF(syoriyou!C1803=\"\",\"\",syoriyou!C1803)","v":""},{"$f":"IF(syoriyou!D1803=\"\",\"\",syoriyou!D1803)","v":""},{"$f":"IF(syoriyou!E1803=\"\",\"\",syoriyou!E1803)","v":""},{"$f":"IF(syoriyou!F1803=\"\",\"\",syoriyou!F1803)","v":""},{"$f":"IF(syoriyou!G1803=\"\",\"\",syoriyou!G1803)","v":""},{"$f":"IF(syoriyou!H1803=\"\",\"\",syoriyou!H1803)","v":""},{"$f":"IF(syoriyou!I1803=\"\",\"\",syoriyou!I1803)","v":""},{"$f":"IF(syoriyou!J1803=\"\",\"\",syoriyou!N1803)","v":""}]
[{"$f":"IF(syoriyou!A1804=\"\",\"\",syoriyou!A1804)","v":""},{"$f":"IF(syoriyou!B1804=\"\",\"\",syoriyou!B1804)","v":""},{"$f":"IF(syoriyou!C1804=\"\",\"\",syoriyou!C1804)","v":""},{"$f":"IF(syoriyou!D1804=\"\",\"\",syoriyou!D1804)","v":""},{"$f":"IF(syoriyou!E1804=\"\",\"\",syoriyou!E1804)","v":""},{"$f":"IF(syoriyou!F1804=\"\",\"\",syoriyou!F1804)","v":""},{"$f":"IF(syoriyou!G1804=\"\",\"\",syoriyou!G1804)","v":""},{"$f":"IF(syoriyou!H1804=\"\",\"\",syoriyou!H1804)","v":""},{"$f":"IF(syoriyou!I1804=\"\",\"\",syoriyou!I1804)","v":""},{"$f":"IF(syoriyou!J1804=\"\",\"\",syoriyou!N1804)","v":""}]
[{"$f":"IF(syoriyou!A1805=\"\",\"\",syoriyou!A1805)","v":""},{"$f":"IF(syoriyou!B1805=\"\",\"\",syoriyou!B1805)","v":""},{"$f":"IF(syoriyou!C1805=\"\",\"\",syoriyou!C1805)","v":""},{"$f":"IF(syoriyou!D1805=\"\",\"\",syoriyou!D1805)","v":""},{"$f":"IF(syoriyou!E1805=\"\",\"\",syoriyou!E1805)","v":""},{"$f":"IF(syoriyou!F1805=\"\",\"\",syoriyou!F1805)","v":""},{"$f":"IF(syoriyou!G1805=\"\",\"\",syoriyou!G1805)","v":""},{"$f":"IF(syoriyou!H1805=\"\",\"\",syoriyou!H1805)","v":""},{"$f":"IF(syoriyou!I1805=\"\",\"\",syoriyou!I1805)","v":""},{"$f":"IF(syoriyou!J1805=\"\",\"\",syoriyou!N1805)","v":""}]
[{"$f":"IF(syoriyou!A1806=\"\",\"\",syoriyou!A1806)","v":""},{"$f":"IF(syoriyou!B1806=\"\",\"\",syoriyou!B1806)","v":""},{"$f":"IF(syoriyou!C1806=\"\",\"\",syoriyou!C1806)","v":""},{"$f":"IF(syoriyou!D1806=\"\",\"\",syoriyou!D1806)","v":""},{"$f":"IF(syoriyou!E1806=\"\",\"\",syoriyou!E1806)","v":""},{"$f":"IF(syoriyou!F1806=\"\",\"\",syoriyou!F1806)","v":""},{"$f":"IF(syoriyou!G1806=\"\",\"\",syoriyou!G1806)","v":""},{"$f":"IF(syoriyou!H1806=\"\",\"\",syoriyou!H1806)","v":""},{"$f":"IF(syoriyou!I1806=\"\",\"\",syoriyou!I1806)","v":""},{"$f":"IF(syoriyou!J1806=\"\",\"\",syoriyou!N1806)","v":""}]
[{"$f":"IF(syoriyou!A1807=\"\",\"\",syoriyou!A1807)","v":""},{"$f":"IF(syoriyou!B1807=\"\",\"\",syoriyou!B1807)","v":""},{"$f":"IF(syoriyou!C1807=\"\",\"\",syoriyou!C1807)","v":""},{"$f":"IF(syoriyou!D1807=\"\",\"\",syoriyou!D1807)","v":""},{"$f":"IF(syoriyou!E1807=\"\",\"\",syoriyou!E1807)","v":""},{"$f":"IF(syoriyou!F1807=\"\",\"\",syoriyou!F1807)","v":""},{"$f":"IF(syoriyou!G1807=\"\",\"\",syoriyou!G1807)","v":""},{"$f":"IF(syoriyou!H1807=\"\",\"\",syoriyou!H1807)","v":""},{"$f":"IF(syoriyou!I1807=\"\",\"\",syoriyou!I1807)","v":""},{"$f":"IF(syoriyou!J1807=\"\",\"\",syoriyou!N1807)","v":""}]
[{"$f":"IF(syoriyou!A1808=\"\",\"\",syoriyou!A1808)","v":""},{"$f":"IF(syoriyou!B1808=\"\",\"\",syoriyou!B1808)","v":""},{"$f":"IF(syoriyou!C1808=\"\",\"\",syoriyou!C1808)","v":""},{"$f":"IF(syoriyou!D1808=\"\",\"\",syoriyou!D1808)","v":""},{"$f":"IF(syoriyou!E1808=\"\",\"\",syoriyou!E1808)","v":""},{"$f":"IF(syoriyou!F1808=\"\",\"\",syoriyou!F1808)","v":""},{"$f":"IF(syoriyou!G1808=\"\",\"\",syoriyou!G1808)","v":""},{"$f":"IF(syoriyou!H1808=\"\",\"\",syoriyou!H1808)","v":""},{"$f":"IF(syoriyou!I1808=\"\",\"\",syoriyou!I1808)","v":""},{"$f":"IF(syoriyou!J1808=\"\",\"\",syoriyou!N1808)","v":""}]
[{"$f":"IF(syoriyou!A1809=\"\",\"\",syoriyou!A1809)","v":""},{"$f":"IF(syoriyou!B1809=\"\",\"\",syoriyou!B1809)","v":""},{"$f":"IF(syoriyou!C1809=\"\",\"\",syoriyou!C1809)","v":""},{"$f":"IF(syoriyou!D1809=\"\",\"\",syoriyou!D1809)","v":""},{"$f":"IF(syoriyou!E1809=\"\",\"\",syoriyou!E1809)","v":""},{"$f":"IF(syoriyou!F1809=\"\",\"\",syoriyou!F1809)","v":""},{"$f":"IF(syoriyou!G1809=\"\",\"\",syoriyou!G1809)","v":""},{"$f":"IF(syoriyou!H1809=\"\",\"\",syoriyou!H1809)","v":""},{"$f":"IF(syoriyou!I1809=\"\",\"\",syoriyou!I1809)","v":""},{"$f":"IF(syoriyou!J1809=\"\",\"\",syoriyou!N1809)","v":""}]
[{"$f":"IF(syoriyou!A1810=\"\",\"\",syoriyou!A1810)","v":""},{"$f":"IF(syoriyou!B1810=\"\",\"\",syoriyou!B1810)","v":""},{"$f":"IF(syoriyou!C1810=\"\",\"\",syoriyou!C1810)","v":""},{"$f":"IF(syoriyou!D1810=\"\",\"\",syoriyou!D1810)","v":""},{"$f":"IF(syoriyou!E1810=\"\",\"\",syoriyou!E1810)","v":""},{"$f":"IF(syoriyou!F1810=\"\",\"\",syoriyou!F1810)","v":""},{"$f":"IF(syoriyou!G1810=\"\",\"\",syoriyou!G1810)","v":""},{"$f":"IF(syoriyou!H1810=\"\",\"\",syoriyou!H1810)","v":""},{"$f":"IF(syoriyou!I1810=\"\",\"\",syoriyou!I1810)","v":""},{"$f":"IF(syoriyou!J1810=\"\",\"\",syoriyou!N1810)","v":""}]
[{"$f":"IF(syoriyou!A1811=\"\",\"\",syoriyou!A1811)","v":""},{"$f":"IF(syoriyou!B1811=\"\",\"\",syoriyou!B1811)","v":""},{"$f":"IF(syoriyou!C1811=\"\",\"\",syoriyou!C1811)","v":""},{"$f":"IF(syoriyou!D1811=\"\",\"\",syoriyou!D1811)","v":""},{"$f":"IF(syoriyou!E1811=\"\",\"\",syoriyou!E1811)","v":""},{"$f":"IF(syoriyou!F1811=\"\",\"\",syoriyou!F1811)","v":""},{"$f":"IF(syoriyou!G1811=\"\",\"\",syoriyou!G1811)","v":""},{"$f":"IF(syoriyou!H1811=\"\",\"\",syoriyou!H1811)","v":""},{"$f":"IF(syoriyou!I1811=\"\",\"\",syoriyou!I1811)","v":""},{"$f":"IF(syoriyou!J1811=\"\",\"\",syoriyou!N1811)","v":""}]
[{"$f":"IF(syoriyou!A1812=\"\",\"\",syoriyou!A1812)","v":""},{"$f":"IF(syoriyou!B1812=\"\",\"\",syoriyou!B1812)","v":""},{"$f":"IF(syoriyou!C1812=\"\",\"\",syoriyou!C1812)","v":""},{"$f":"IF(syoriyou!D1812=\"\",\"\",syoriyou!D1812)","v":""},{"$f":"IF(syoriyou!E1812=\"\",\"\",syoriyou!E1812)","v":""},{"$f":"IF(syoriyou!F1812=\"\",\"\",syoriyou!F1812)","v":""},{"$f":"IF(syoriyou!G1812=\"\",\"\",syoriyou!G1812)","v":""},{"$f":"IF(syoriyou!H1812=\"\",\"\",syoriyou!H1812)","v":""},{"$f":"IF(syoriyou!I1812=\"\",\"\",syoriyou!I1812)","v":""},{"$f":"IF(syoriyou!J1812=\"\",\"\",syoriyou!N1812)","v":""}]
[{"$f":"IF(syoriyou!A1813=\"\",\"\",syoriyou!A1813)","v":""},{"$f":"IF(syoriyou!B1813=\"\",\"\",syoriyou!B1813)","v":""},{"$f":"IF(syoriyou!C1813=\"\",\"\",syoriyou!C1813)","v":""},{"$f":"IF(syoriyou!D1813=\"\",\"\",syoriyou!D1813)","v":""},{"$f":"IF(syoriyou!E1813=\"\",\"\",syoriyou!E1813)","v":""},{"$f":"IF(syoriyou!F1813=\"\",\"\",syoriyou!F1813)","v":""},{"$f":"IF(syoriyou!G1813=\"\",\"\",syoriyou!G1813)","v":""},{"$f":"IF(syoriyou!H1813=\"\",\"\",syoriyou!H1813)","v":""},{"$f":"IF(syoriyou!I1813=\"\",\"\",syoriyou!I1813)","v":""},{"$f":"IF(syoriyou!J1813=\"\",\"\",syoriyou!N1813)","v":""}]
[{"$f":"IF(syoriyou!A1814=\"\",\"\",syoriyou!A1814)","v":""},{"$f":"IF(syoriyou!B1814=\"\",\"\",syoriyou!B1814)","v":""},{"$f":"IF(syoriyou!C1814=\"\",\"\",syoriyou!C1814)","v":""},{"$f":"IF(syoriyou!D1814=\"\",\"\",syoriyou!D1814)","v":""},{"$f":"IF(syoriyou!E1814=\"\",\"\",syoriyou!E1814)","v":""},{"$f":"IF(syoriyou!F1814=\"\",\"\",syoriyou!F1814)","v":""},{"$f":"IF(syoriyou!G1814=\"\",\"\",syoriyou!G1814)","v":""},{"$f":"IF(syoriyou!H1814=\"\",\"\",syoriyou!H1814)","v":""},{"$f":"IF(syoriyou!I1814=\"\",\"\",syoriyou!I1814)","v":""},{"$f":"IF(syoriyou!J1814=\"\",\"\",syoriyou!N1814)","v":""}]
[{"$f":"IF(syoriyou!A1815=\"\",\"\",syoriyou!A1815)","v":""},{"$f":"IF(syoriyou!B1815=\"\",\"\",syoriyou!B1815)","v":""},{"$f":"IF(syoriyou!C1815=\"\",\"\",syoriyou!C1815)","v":""},{"$f":"IF(syoriyou!D1815=\"\",\"\",syoriyou!D1815)","v":""},{"$f":"IF(syoriyou!E1815=\"\",\"\",syoriyou!E1815)","v":""},{"$f":"IF(syoriyou!F1815=\"\",\"\",syoriyou!F1815)","v":""},{"$f":"IF(syoriyou!G1815=\"\",\"\",syoriyou!G1815)","v":""},{"$f":"IF(syoriyou!H1815=\"\",\"\",syoriyou!H1815)","v":""},{"$f":"IF(syoriyou!I1815=\"\",\"\",syoriyou!I1815)","v":""},{"$f":"IF(syoriyou!J1815=\"\",\"\",syoriyou!N1815)","v":""}]
[{"$f":"IF(syoriyou!A1816=\"\",\"\",syoriyou!A1816)","v":""},{"$f":"IF(syoriyou!B1816=\"\",\"\",syoriyou!B1816)","v":""},{"$f":"IF(syoriyou!C1816=\"\",\"\",syoriyou!C1816)","v":""},{"$f":"IF(syoriyou!D1816=\"\",\"\",syoriyou!D1816)","v":""},{"$f":"IF(syoriyou!E1816=\"\",\"\",syoriyou!E1816)","v":""},{"$f":"IF(syoriyou!F1816=\"\",\"\",syoriyou!F1816)","v":""},{"$f":"IF(syoriyou!G1816=\"\",\"\",syoriyou!G1816)","v":""},{"$f":"IF(syoriyou!H1816=\"\",\"\",syoriyou!H1816)","v":""},{"$f":"IF(syoriyou!I1816=\"\",\"\",syoriyou!I1816)","v":""},{"$f":"IF(syoriyou!J1816=\"\",\"\",syoriyou!N1816)","v":""}]
[{"$f":"IF(syoriyou!A1817=\"\",\"\",syoriyou!A1817)","v":""},{"$f":"IF(syoriyou!B1817=\"\",\"\",syoriyou!B1817)","v":""},{"$f":"IF(syoriyou!C1817=\"\",\"\",syoriyou!C1817)","v":""},{"$f":"IF(syoriyou!D1817=\"\",\"\",syoriyou!D1817)","v":""},{"$f":"IF(syoriyou!E1817=\"\",\"\",syoriyou!E1817)","v":""},{"$f":"IF(syoriyou!F1817=\"\",\"\",syoriyou!F1817)","v":""},{"$f":"IF(syoriyou!G1817=\"\",\"\",syoriyou!G1817)","v":""},{"$f":"IF(syoriyou!H1817=\"\",\"\",syoriyou!H1817)","v":""},{"$f":"IF(syoriyou!I1817=\"\",\"\",syoriyou!I1817)","v":""},{"$f":"IF(syoriyou!J1817=\"\",\"\",syoriyou!N1817)","v":""}]
[{"$f":"IF(syoriyou!A1818=\"\",\"\",syoriyou!A1818)","v":""},{"$f":"IF(syoriyou!B1818=\"\",\"\",syoriyou!B1818)","v":""},{"$f":"IF(syoriyou!C1818=\"\",\"\",syoriyou!C1818)","v":""},{"$f":"IF(syoriyou!D1818=\"\",\"\",syoriyou!D1818)","v":""},{"$f":"IF(syoriyou!E1818=\"\",\"\",syoriyou!E1818)","v":""},{"$f":"IF(syoriyou!F1818=\"\",\"\",syoriyou!F1818)","v":""},{"$f":"IF(syoriyou!G1818=\"\",\"\",syoriyou!G1818)","v":""},{"$f":"IF(syoriyou!H1818=\"\",\"\",syoriyou!H1818)","v":""},{"$f":"IF(syoriyou!I1818=\"\",\"\",syoriyou!I1818)","v":""},{"$f":"IF(syoriyou!J1818=\"\",\"\",syoriyou!N1818)","v":""}]
[{"$f":"IF(syoriyou!A1819=\"\",\"\",syoriyou!A1819)","v":""},{"$f":"IF(syoriyou!B1819=\"\",\"\",syoriyou!B1819)","v":""},{"$f":"IF(syoriyou!C1819=\"\",\"\",syoriyou!C1819)","v":""},{"$f":"IF(syoriyou!D1819=\"\",\"\",syoriyou!D1819)","v":""},{"$f":"IF(syoriyou!E1819=\"\",\"\",syoriyou!E1819)","v":""},{"$f":"IF(syoriyou!F1819=\"\",\"\",syoriyou!F1819)","v":""},{"$f":"IF(syoriyou!G1819=\"\",\"\",syoriyou!G1819)","v":""},{"$f":"IF(syoriyou!H1819=\"\",\"\",syoriyou!H1819)","v":""},{"$f":"IF(syoriyou!I1819=\"\",\"\",syoriyou!I1819)","v":""},{"$f":"IF(syoriyou!J1819=\"\",\"\",syoriyou!N1819)","v":""}]
[{"$f":"IF(syoriyou!A1820=\"\",\"\",syoriyou!A1820)","v":""},{"$f":"IF(syoriyou!B1820=\"\",\"\",syoriyou!B1820)","v":""},{"$f":"IF(syoriyou!C1820=\"\",\"\",syoriyou!C1820)","v":""},{"$f":"IF(syoriyou!D1820=\"\",\"\",syoriyou!D1820)","v":""},{"$f":"IF(syoriyou!E1820=\"\",\"\",syoriyou!E1820)","v":""},{"$f":"IF(syoriyou!F1820=\"\",\"\",syoriyou!F1820)","v":""},{"$f":"IF(syoriyou!G1820=\"\",\"\",syoriyou!G1820)","v":""},{"$f":"IF(syoriyou!H1820=\"\",\"\",syoriyou!H1820)","v":""},{"$f":"IF(syoriyou!I1820=\"\",\"\",syoriyou!I1820)","v":""},{"$f":"IF(syoriyou!J1820=\"\",\"\",syoriyou!N1820)","v":""}]
[{"$f":"IF(syoriyou!A1821=\"\",\"\",syoriyou!A1821)","v":""},{"$f":"IF(syoriyou!B1821=\"\",\"\",syoriyou!B1821)","v":""},{"$f":"IF(syoriyou!C1821=\"\",\"\",syoriyou!C1821)","v":""},{"$f":"IF(syoriyou!D1821=\"\",\"\",syoriyou!D1821)","v":""},{"$f":"IF(syoriyou!E1821=\"\",\"\",syoriyou!E1821)","v":""},{"$f":"IF(syoriyou!F1821=\"\",\"\",syoriyou!F1821)","v":""},{"$f":"IF(syoriyou!G1821=\"\",\"\",syoriyou!G1821)","v":""},{"$f":"IF(syoriyou!H1821=\"\",\"\",syoriyou!H1821)","v":""},{"$f":"IF(syoriyou!I1821=\"\",\"\",syoriyou!I1821)","v":""},{"$f":"IF(syoriyou!J1821=\"\",\"\",syoriyou!N1821)","v":""}]
[{"$f":"IF(syoriyou!A1822=\"\",\"\",syoriyou!A1822)","v":""},{"$f":"IF(syoriyou!B1822=\"\",\"\",syoriyou!B1822)","v":""},{"$f":"IF(syoriyou!C1822=\"\",\"\",syoriyou!C1822)","v":""},{"$f":"IF(syoriyou!D1822=\"\",\"\",syoriyou!D1822)","v":""},{"$f":"IF(syoriyou!E1822=\"\",\"\",syoriyou!E1822)","v":""},{"$f":"IF(syoriyou!F1822=\"\",\"\",syoriyou!F1822)","v":""},{"$f":"IF(syoriyou!G1822=\"\",\"\",syoriyou!G1822)","v":""},{"$f":"IF(syoriyou!H1822=\"\",\"\",syoriyou!H1822)","v":""},{"$f":"IF(syoriyou!I1822=\"\",\"\",syoriyou!I1822)","v":""},{"$f":"IF(syoriyou!J1822=\"\",\"\",syoriyou!N1822)","v":""}]
[{"$f":"IF(syoriyou!A1823=\"\",\"\",syoriyou!A1823)","v":""},{"$f":"IF(syoriyou!B1823=\"\",\"\",syoriyou!B1823)","v":""},{"$f":"IF(syoriyou!C1823=\"\",\"\",syoriyou!C1823)","v":""},{"$f":"IF(syoriyou!D1823=\"\",\"\",syoriyou!D1823)","v":""},{"$f":"IF(syoriyou!E1823=\"\",\"\",syoriyou!E1823)","v":""},{"$f":"IF(syoriyou!F1823=\"\",\"\",syoriyou!F1823)","v":""},{"$f":"IF(syoriyou!G1823=\"\",\"\",syoriyou!G1823)","v":""},{"$f":"IF(syoriyou!H1823=\"\",\"\",syoriyou!H1823)","v":""},{"$f":"IF(syoriyou!I1823=\"\",\"\",syoriyou!I1823)","v":""},{"$f":"IF(syoriyou!J1823=\"\",\"\",syoriyou!N1823)","v":""}]
[{"$f":"IF(syoriyou!A1824=\"\",\"\",syoriyou!A1824)","v":""},{"$f":"IF(syoriyou!B1824=\"\",\"\",syoriyou!B1824)","v":""},{"$f":"IF(syoriyou!C1824=\"\",\"\",syoriyou!C1824)","v":""},{"$f":"IF(syoriyou!D1824=\"\",\"\",syoriyou!D1824)","v":""},{"$f":"IF(syoriyou!E1824=\"\",\"\",syoriyou!E1824)","v":""},{"$f":"IF(syoriyou!F1824=\"\",\"\",syoriyou!F1824)","v":""},{"$f":"IF(syoriyou!G1824=\"\",\"\",syoriyou!G1824)","v":""},{"$f":"IF(syoriyou!H1824=\"\",\"\",syoriyou!H1824)","v":""},{"$f":"IF(syoriyou!I1824=\"\",\"\",syoriyou!I1824)","v":""},{"$f":"IF(syoriyou!J1824=\"\",\"\",syoriyou!N1824)","v":""}]
[{"$f":"IF(syoriyou!A1825=\"\",\"\",syoriyou!A1825)","v":""},{"$f":"IF(syoriyou!B1825=\"\",\"\",syoriyou!B1825)","v":""},{"$f":"IF(syoriyou!C1825=\"\",\"\",syoriyou!C1825)","v":""},{"$f":"IF(syoriyou!D1825=\"\",\"\",syoriyou!D1825)","v":""},{"$f":"IF(syoriyou!E1825=\"\",\"\",syoriyou!E1825)","v":""},{"$f":"IF(syoriyou!F1825=\"\",\"\",syoriyou!F1825)","v":""},{"$f":"IF(syoriyou!G1825=\"\",\"\",syoriyou!G1825)","v":""},{"$f":"IF(syoriyou!H1825=\"\",\"\",syoriyou!H1825)","v":""},{"$f":"IF(syoriyou!I1825=\"\",\"\",syoriyou!I1825)","v":""},{"$f":"IF(syoriyou!J1825=\"\",\"\",syoriyou!N1825)","v":""}]
[{"$f":"IF(syoriyou!A1826=\"\",\"\",syoriyou!A1826)","v":""},{"$f":"IF(syoriyou!B1826=\"\",\"\",syoriyou!B1826)","v":""},{"$f":"IF(syoriyou!C1826=\"\",\"\",syoriyou!C1826)","v":""},{"$f":"IF(syoriyou!D1826=\"\",\"\",syoriyou!D1826)","v":""},{"$f":"IF(syoriyou!E1826=\"\",\"\",syoriyou!E1826)","v":""},{"$f":"IF(syoriyou!F1826=\"\",\"\",syoriyou!F1826)","v":""},{"$f":"IF(syoriyou!G1826=\"\",\"\",syoriyou!G1826)","v":""},{"$f":"IF(syoriyou!H1826=\"\",\"\",syoriyou!H1826)","v":""},{"$f":"IF(syoriyou!I1826=\"\",\"\",syoriyou!I1826)","v":""},{"$f":"IF(syoriyou!J1826=\"\",\"\",syoriyou!N1826)","v":""}]
[{"$f":"IF(syoriyou!A1827=\"\",\"\",syoriyou!A1827)","v":""},{"$f":"IF(syoriyou!B1827=\"\",\"\",syoriyou!B1827)","v":""},{"$f":"IF(syoriyou!C1827=\"\",\"\",syoriyou!C1827)","v":""},{"$f":"IF(syoriyou!D1827=\"\",\"\",syoriyou!D1827)","v":""},{"$f":"IF(syoriyou!E1827=\"\",\"\",syoriyou!E1827)","v":""},{"$f":"IF(syoriyou!F1827=\"\",\"\",syoriyou!F1827)","v":""},{"$f":"IF(syoriyou!G1827=\"\",\"\",syoriyou!G1827)","v":""},{"$f":"IF(syoriyou!H1827=\"\",\"\",syoriyou!H1827)","v":""},{"$f":"IF(syoriyou!I1827=\"\",\"\",syoriyou!I1827)","v":""},{"$f":"IF(syoriyou!J1827=\"\",\"\",syoriyou!N1827)","v":""}]
[{"$f":"IF(syoriyou!A1828=\"\",\"\",syoriyou!A1828)","v":""},{"$f":"IF(syoriyou!B1828=\"\",\"\",syoriyou!B1828)","v":""},{"$f":"IF(syoriyou!C1828=\"\",\"\",syoriyou!C1828)","v":""},{"$f":"IF(syoriyou!D1828=\"\",\"\",syoriyou!D1828)","v":""},{"$f":"IF(syoriyou!E1828=\"\",\"\",syoriyou!E1828)","v":""},{"$f":"IF(syoriyou!F1828=\"\",\"\",syoriyou!F1828)","v":""},{"$f":"IF(syoriyou!G1828=\"\",\"\",syoriyou!G1828)","v":""},{"$f":"IF(syoriyou!H1828=\"\",\"\",syoriyou!H1828)","v":""},{"$f":"IF(syoriyou!I1828=\"\",\"\",syoriyou!I1828)","v":""},{"$f":"IF(syoriyou!J1828=\"\",\"\",syoriyou!N1828)","v":""}]
[{"$f":"IF(syoriyou!A1829=\"\",\"\",syoriyou!A1829)","v":""},{"$f":"IF(syoriyou!B1829=\"\",\"\",syoriyou!B1829)","v":""},{"$f":"IF(syoriyou!C1829=\"\",\"\",syoriyou!C1829)","v":""},{"$f":"IF(syoriyou!D1829=\"\",\"\",syoriyou!D1829)","v":""},{"$f":"IF(syoriyou!E1829=\"\",\"\",syoriyou!E1829)","v":""},{"$f":"IF(syoriyou!F1829=\"\",\"\",syoriyou!F1829)","v":""},{"$f":"IF(syoriyou!G1829=\"\",\"\",syoriyou!G1829)","v":""},{"$f":"IF(syoriyou!H1829=\"\",\"\",syoriyou!H1829)","v":""},{"$f":"IF(syoriyou!I1829=\"\",\"\",syoriyou!I1829)","v":""},{"$f":"IF(syoriyou!J1829=\"\",\"\",syoriyou!N1829)","v":""}]
[{"$f":"IF(syoriyou!A1830=\"\",\"\",syoriyou!A1830)","v":""},{"$f":"IF(syoriyou!B1830=\"\",\"\",syoriyou!B1830)","v":""},{"$f":"IF(syoriyou!C1830=\"\",\"\",syoriyou!C1830)","v":""},{"$f":"IF(syoriyou!D1830=\"\",\"\",syoriyou!D1830)","v":""},{"$f":"IF(syoriyou!E1830=\"\",\"\",syoriyou!E1830)","v":""},{"$f":"IF(syoriyou!F1830=\"\",\"\",syoriyou!F1830)","v":""},{"$f":"IF(syoriyou!G1830=\"\",\"\",syoriyou!G1830)","v":""},{"$f":"IF(syoriyou!H1830=\"\",\"\",syoriyou!H1830)","v":""},{"$f":"IF(syoriyou!I1830=\"\",\"\",syoriyou!I1830)","v":""},{"$f":"IF(syoriyou!J1830=\"\",\"\",syoriyou!N1830)","v":""}]
[{"$f":"IF(syoriyou!A1831=\"\",\"\",syoriyou!A1831)","v":""},{"$f":"IF(syoriyou!B1831=\"\",\"\",syoriyou!B1831)","v":""},{"$f":"IF(syoriyou!C1831=\"\",\"\",syoriyou!C1831)","v":""},{"$f":"IF(syoriyou!D1831=\"\",\"\",syoriyou!D1831)","v":""},{"$f":"IF(syoriyou!E1831=\"\",\"\",syoriyou!E1831)","v":""},{"$f":"IF(syoriyou!F1831=\"\",\"\",syoriyou!F1831)","v":""},{"$f":"IF(syoriyou!G1831=\"\",\"\",syoriyou!G1831)","v":""},{"$f":"IF(syoriyou!H1831=\"\",\"\",syoriyou!H1831)","v":""},{"$f":"IF(syoriyou!I1831=\"\",\"\",syoriyou!I1831)","v":""},{"$f":"IF(syoriyou!J1831=\"\",\"\",syoriyou!N1831)","v":""}]
[{"$f":"IF(syoriyou!A1832=\"\",\"\",syoriyou!A1832)","v":""},{"$f":"IF(syoriyou!B1832=\"\",\"\",syoriyou!B1832)","v":""},{"$f":"IF(syoriyou!C1832=\"\",\"\",syoriyou!C1832)","v":""},{"$f":"IF(syoriyou!D1832=\"\",\"\",syoriyou!D1832)","v":""},{"$f":"IF(syoriyou!E1832=\"\",\"\",syoriyou!E1832)","v":""},{"$f":"IF(syoriyou!F1832=\"\",\"\",syoriyou!F1832)","v":""},{"$f":"IF(syoriyou!G1832=\"\",\"\",syoriyou!G1832)","v":""},{"$f":"IF(syoriyou!H1832=\"\",\"\",syoriyou!H1832)","v":""},{"$f":"IF(syoriyou!I1832=\"\",\"\",syoriyou!I1832)","v":""},{"$f":"IF(syoriyou!J1832=\"\",\"\",syoriyou!N1832)","v":""}]
[{"$f":"IF(syoriyou!A1833=\"\",\"\",syoriyou!A1833)","v":""},{"$f":"IF(syoriyou!B1833=\"\",\"\",syoriyou!B1833)","v":""},{"$f":"IF(syoriyou!C1833=\"\",\"\",syoriyou!C1833)","v":""},{"$f":"IF(syoriyou!D1833=\"\",\"\",syoriyou!D1833)","v":""},{"$f":"IF(syoriyou!E1833=\"\",\"\",syoriyou!E1833)","v":""},{"$f":"IF(syoriyou!F1833=\"\",\"\",syoriyou!F1833)","v":""},{"$f":"IF(syoriyou!G1833=\"\",\"\",syoriyou!G1833)","v":""},{"$f":"IF(syoriyou!H1833=\"\",\"\",syoriyou!H1833)","v":""},{"$f":"IF(syoriyou!I1833=\"\",\"\",syoriyou!I1833)","v":""},{"$f":"IF(syoriyou!J1833=\"\",\"\",syoriyou!N1833)","v":""}]
[{"$f":"IF(syoriyou!A1834=\"\",\"\",syoriyou!A1834)","v":""},{"$f":"IF(syoriyou!B1834=\"\",\"\",syoriyou!B1834)","v":""},{"$f":"IF(syoriyou!C1834=\"\",\"\",syoriyou!C1834)","v":""},{"$f":"IF(syoriyou!D1834=\"\",\"\",syoriyou!D1834)","v":""},{"$f":"IF(syoriyou!E1834=\"\",\"\",syoriyou!E1834)","v":""},{"$f":"IF(syoriyou!F1834=\"\",\"\",syoriyou!F1834)","v":""},{"$f":"IF(syoriyou!G1834=\"\",\"\",syoriyou!G1834)","v":""},{"$f":"IF(syoriyou!H1834=\"\",\"\",syoriyou!H1834)","v":""},{"$f":"IF(syoriyou!I1834=\"\",\"\",syoriyou!I1834)","v":""},{"$f":"IF(syoriyou!J1834=\"\",\"\",syoriyou!N1834)","v":""}]
[{"$f":"IF(syoriyou!A1835=\"\",\"\",syoriyou!A1835)","v":""},{"$f":"IF(syoriyou!B1835=\"\",\"\",syoriyou!B1835)","v":""},{"$f":"IF(syoriyou!C1835=\"\",\"\",syoriyou!C1835)","v":""},{"$f":"IF(syoriyou!D1835=\"\",\"\",syoriyou!D1835)","v":""},{"$f":"IF(syoriyou!E1835=\"\",\"\",syoriyou!E1835)","v":""},{"$f":"IF(syoriyou!F1835=\"\",\"\",syoriyou!F1835)","v":""},{"$f":"IF(syoriyou!G1835=\"\",\"\",syoriyou!G1835)","v":""},{"$f":"IF(syoriyou!H1835=\"\",\"\",syoriyou!H1835)","v":""},{"$f":"IF(syoriyou!I1835=\"\",\"\",syoriyou!I1835)","v":""},{"$f":"IF(syoriyou!J1835=\"\",\"\",syoriyou!N1835)","v":""}]
[{"$f":"IF(syoriyou!A1836=\"\",\"\",syoriyou!A1836)","v":""},{"$f":"IF(syoriyou!B1836=\"\",\"\",syoriyou!B1836)","v":""},{"$f":"IF(syoriyou!C1836=\"\",\"\",syoriyou!C1836)","v":""},{"$f":"IF(syoriyou!D1836=\"\",\"\",syoriyou!D1836)","v":""},{"$f":"IF(syoriyou!E1836=\"\",\"\",syoriyou!E1836)","v":""},{"$f":"IF(syoriyou!F1836=\"\",\"\",syoriyou!F1836)","v":""},{"$f":"IF(syoriyou!G1836=\"\",\"\",syoriyou!G1836)","v":""},{"$f":"IF(syoriyou!H1836=\"\",\"\",syoriyou!H1836)","v":""},{"$f":"IF(syoriyou!I1836=\"\",\"\",syoriyou!I1836)","v":""},{"$f":"IF(syoriyou!J1836=\"\",\"\",syoriyou!N1836)","v":""}]
[{"$f":"IF(syoriyou!A1837=\"\",\"\",syoriyou!A1837)","v":""},{"$f":"IF(syoriyou!B1837=\"\",\"\",syoriyou!B1837)","v":""},{"$f":"IF(syoriyou!C1837=\"\",\"\",syoriyou!C1837)","v":""},{"$f":"IF(syoriyou!D1837=\"\",\"\",syoriyou!D1837)","v":""},{"$f":"IF(syoriyou!E1837=\"\",\"\",syoriyou!E1837)","v":""},{"$f":"IF(syoriyou!F1837=\"\",\"\",syoriyou!F1837)","v":""},{"$f":"IF(syoriyou!G1837=\"\",\"\",syoriyou!G1837)","v":""},{"$f":"IF(syoriyou!H1837=\"\",\"\",syoriyou!H1837)","v":""},{"$f":"IF(syoriyou!I1837=\"\",\"\",syoriyou!I1837)","v":""},{"$f":"IF(syoriyou!J1837=\"\",\"\",syoriyou!N1837)","v":""}]
[{"$f":"IF(syoriyou!A1838=\"\",\"\",syoriyou!A1838)","v":""},{"$f":"IF(syoriyou!B1838=\"\",\"\",syoriyou!B1838)","v":""},{"$f":"IF(syoriyou!C1838=\"\",\"\",syoriyou!C1838)","v":""},{"$f":"IF(syoriyou!D1838=\"\",\"\",syoriyou!D1838)","v":""},{"$f":"IF(syoriyou!E1838=\"\",\"\",syoriyou!E1838)","v":""},{"$f":"IF(syoriyou!F1838=\"\",\"\",syoriyou!F1838)","v":""},{"$f":"IF(syoriyou!G1838=\"\",\"\",syoriyou!G1838)","v":""},{"$f":"IF(syoriyou!H1838=\"\",\"\",syoriyou!H1838)","v":""},{"$f":"IF(syoriyou!I1838=\"\",\"\",syoriyou!I1838)","v":""},{"$f":"IF(syoriyou!J1838=\"\",\"\",syoriyou!N1838)","v":""}]
[{"$f":"IF(syoriyou!A1839=\"\",\"\",syoriyou!A1839)","v":""},{"$f":"IF(syoriyou!B1839=\"\",\"\",syoriyou!B1839)","v":""},{"$f":"IF(syoriyou!C1839=\"\",\"\",syoriyou!C1839)","v":""},{"$f":"IF(syoriyou!D1839=\"\",\"\",syoriyou!D1839)","v":""},{"$f":"IF(syoriyou!E1839=\"\",\"\",syoriyou!E1839)","v":""},{"$f":"IF(syoriyou!F1839=\"\",\"\",syoriyou!F1839)","v":""},{"$f":"IF(syoriyou!G1839=\"\",\"\",syoriyou!G1839)","v":""},{"$f":"IF(syoriyou!H1839=\"\",\"\",syoriyou!H1839)","v":""},{"$f":"IF(syoriyou!I1839=\"\",\"\",syoriyou!I1839)","v":""},{"$f":"IF(syoriyou!J1839=\"\",\"\",syoriyou!N1839)","v":""}]
[{"$f":"IF(syoriyou!A1840=\"\",\"\",syoriyou!A1840)","v":""},{"$f":"IF(syoriyou!B1840=\"\",\"\",syoriyou!B1840)","v":""},{"$f":"IF(syoriyou!C1840=\"\",\"\",syoriyou!C1840)","v":""},{"$f":"IF(syoriyou!D1840=\"\",\"\",syoriyou!D1840)","v":""},{"$f":"IF(syoriyou!E1840=\"\",\"\",syoriyou!E1840)","v":""},{"$f":"IF(syoriyou!F1840=\"\",\"\",syoriyou!F1840)","v":""},{"$f":"IF(syoriyou!G1840=\"\",\"\",syoriyou!G1840)","v":""},{"$f":"IF(syoriyou!H1840=\"\",\"\",syoriyou!H1840)","v":""},{"$f":"IF(syoriyou!I1840=\"\",\"\",syoriyou!I1840)","v":""},{"$f":"IF(syoriyou!J1840=\"\",\"\",syoriyou!N1840)","v":""}]
[{"$f":"IF(syoriyou!A1841=\"\",\"\",syoriyou!A1841)","v":""},{"$f":"IF(syoriyou!B1841=\"\",\"\",syoriyou!B1841)","v":""},{"$f":"IF(syoriyou!C1841=\"\",\"\",syoriyou!C1841)","v":""},{"$f":"IF(syoriyou!D1841=\"\",\"\",syoriyou!D1841)","v":""},{"$f":"IF(syoriyou!E1841=\"\",\"\",syoriyou!E1841)","v":""},{"$f":"IF(syoriyou!F1841=\"\",\"\",syoriyou!F1841)","v":""},{"$f":"IF(syoriyou!G1841=\"\",\"\",syoriyou!G1841)","v":""},{"$f":"IF(syoriyou!H1841=\"\",\"\",syoriyou!H1841)","v":""},{"$f":"IF(syoriyou!I1841=\"\",\"\",syoriyou!I1841)","v":""},{"$f":"IF(syoriyou!J1841=\"\",\"\",syoriyou!N1841)","v":""}]
[{"$f":"IF(syoriyou!A1842=\"\",\"\",syoriyou!A1842)","v":""},{"$f":"IF(syoriyou!B1842=\"\",\"\",syoriyou!B1842)","v":""},{"$f":"IF(syoriyou!C1842=\"\",\"\",syoriyou!C1842)","v":""},{"$f":"IF(syoriyou!D1842=\"\",\"\",syoriyou!D1842)","v":""},{"$f":"IF(syoriyou!E1842=\"\",\"\",syoriyou!E1842)","v":""},{"$f":"IF(syoriyou!F1842=\"\",\"\",syoriyou!F1842)","v":""},{"$f":"IF(syoriyou!G1842=\"\",\"\",syoriyou!G1842)","v":""},{"$f":"IF(syoriyou!H1842=\"\",\"\",syoriyou!H1842)","v":""},{"$f":"IF(syoriyou!I1842=\"\",\"\",syoriyou!I1842)","v":""},{"$f":"IF(syoriyou!J1842=\"\",\"\",syoriyou!N1842)","v":""}]
[{"$f":"IF(syoriyou!A1843=\"\",\"\",syoriyou!A1843)","v":""},{"$f":"IF(syoriyou!B1843=\"\",\"\",syoriyou!B1843)","v":""},{"$f":"IF(syoriyou!C1843=\"\",\"\",syoriyou!C1843)","v":""},{"$f":"IF(syoriyou!D1843=\"\",\"\",syoriyou!D1843)","v":""},{"$f":"IF(syoriyou!E1843=\"\",\"\",syoriyou!E1843)","v":""},{"$f":"IF(syoriyou!F1843=\"\",\"\",syoriyou!F1843)","v":""},{"$f":"IF(syoriyou!G1843=\"\",\"\",syoriyou!G1843)","v":""},{"$f":"IF(syoriyou!H1843=\"\",\"\",syoriyou!H1843)","v":""},{"$f":"IF(syoriyou!I1843=\"\",\"\",syoriyou!I1843)","v":""},{"$f":"IF(syoriyou!J1843=\"\",\"\",syoriyou!N1843)","v":""}]
[{"$f":"IF(syoriyou!A1844=\"\",\"\",syoriyou!A1844)","v":""},{"$f":"IF(syoriyou!B1844=\"\",\"\",syoriyou!B1844)","v":""},{"$f":"IF(syoriyou!C1844=\"\",\"\",syoriyou!C1844)","v":""},{"$f":"IF(syoriyou!D1844=\"\",\"\",syoriyou!D1844)","v":""},{"$f":"IF(syoriyou!E1844=\"\",\"\",syoriyou!E1844)","v":""},{"$f":"IF(syoriyou!F1844=\"\",\"\",syoriyou!F1844)","v":""},{"$f":"IF(syoriyou!G1844=\"\",\"\",syoriyou!G1844)","v":""},{"$f":"IF(syoriyou!H1844=\"\",\"\",syoriyou!H1844)","v":""},{"$f":"IF(syoriyou!I1844=\"\",\"\",syoriyou!I1844)","v":""},{"$f":"IF(syoriyou!J1844=\"\",\"\",syoriyou!N1844)","v":""}]
[{"$f":"IF(syoriyou!A1845=\"\",\"\",syoriyou!A1845)","v":""},{"$f":"IF(syoriyou!B1845=\"\",\"\",syoriyou!B1845)","v":""},{"$f":"IF(syoriyou!C1845=\"\",\"\",syoriyou!C1845)","v":""},{"$f":"IF(syoriyou!D1845=\"\",\"\",syoriyou!D1845)","v":""},{"$f":"IF(syoriyou!E1845=\"\",\"\",syoriyou!E1845)","v":""},{"$f":"IF(syoriyou!F1845=\"\",\"\",syoriyou!F1845)","v":""},{"$f":"IF(syoriyou!G1845=\"\",\"\",syoriyou!G1845)","v":""},{"$f":"IF(syoriyou!H1845=\"\",\"\",syoriyou!H1845)","v":""},{"$f":"IF(syoriyou!I1845=\"\",\"\",syoriyou!I1845)","v":""},{"$f":"IF(syoriyou!J1845=\"\",\"\",syoriyou!N1845)","v":""}]
[{"$f":"IF(syoriyou!A1846=\"\",\"\",syoriyou!A1846)","v":""},{"$f":"IF(syoriyou!B1846=\"\",\"\",syoriyou!B1846)","v":""},{"$f":"IF(syoriyou!C1846=\"\",\"\",syoriyou!C1846)","v":""},{"$f":"IF(syoriyou!D1846=\"\",\"\",syoriyou!D1846)","v":""},{"$f":"IF(syoriyou!E1846=\"\",\"\",syoriyou!E1846)","v":""},{"$f":"IF(syoriyou!F1846=\"\",\"\",syoriyou!F1846)","v":""},{"$f":"IF(syoriyou!G1846=\"\",\"\",syoriyou!G1846)","v":""},{"$f":"IF(syoriyou!H1846=\"\",\"\",syoriyou!H1846)","v":""},{"$f":"IF(syoriyou!I1846=\"\",\"\",syoriyou!I1846)","v":""},{"$f":"IF(syoriyou!J1846=\"\",\"\",syoriyou!N1846)","v":""}]
[{"$f":"IF(syoriyou!A1847=\"\",\"\",syoriyou!A1847)","v":""},{"$f":"IF(syoriyou!B1847=\"\",\"\",syoriyou!B1847)","v":""},{"$f":"IF(syoriyou!C1847=\"\",\"\",syoriyou!C1847)","v":""},{"$f":"IF(syoriyou!D1847=\"\",\"\",syoriyou!D1847)","v":""},{"$f":"IF(syoriyou!E1847=\"\",\"\",syoriyou!E1847)","v":""},{"$f":"IF(syoriyou!F1847=\"\",\"\",syoriyou!F1847)","v":""},{"$f":"IF(syoriyou!G1847=\"\",\"\",syoriyou!G1847)","v":""},{"$f":"IF(syoriyou!H1847=\"\",\"\",syoriyou!H1847)","v":""},{"$f":"IF(syoriyou!I1847=\"\",\"\",syoriyou!I1847)","v":""},{"$f":"IF(syoriyou!J1847=\"\",\"\",syoriyou!N1847)","v":""}]
[{"$f":"IF(syoriyou!A1848=\"\",\"\",syoriyou!A1848)","v":""},{"$f":"IF(syoriyou!B1848=\"\",\"\",syoriyou!B1848)","v":""},{"$f":"IF(syoriyou!C1848=\"\",\"\",syoriyou!C1848)","v":""},{"$f":"IF(syoriyou!D1848=\"\",\"\",syoriyou!D1848)","v":""},{"$f":"IF(syoriyou!E1848=\"\",\"\",syoriyou!E1848)","v":""},{"$f":"IF(syoriyou!F1848=\"\",\"\",syoriyou!F1848)","v":""},{"$f":"IF(syoriyou!G1848=\"\",\"\",syoriyou!G1848)","v":""},{"$f":"IF(syoriyou!H1848=\"\",\"\",syoriyou!H1848)","v":""},{"$f":"IF(syoriyou!I1848=\"\",\"\",syoriyou!I1848)","v":""},{"$f":"IF(syoriyou!J1848=\"\",\"\",syoriyou!N1848)","v":""}]
[{"$f":"IF(syoriyou!A1849=\"\",\"\",syoriyou!A1849)","v":""},{"$f":"IF(syoriyou!B1849=\"\",\"\",syoriyou!B1849)","v":""},{"$f":"IF(syoriyou!C1849=\"\",\"\",syoriyou!C1849)","v":""},{"$f":"IF(syoriyou!D1849=\"\",\"\",syoriyou!D1849)","v":""},{"$f":"IF(syoriyou!E1849=\"\",\"\",syoriyou!E1849)","v":""},{"$f":"IF(syoriyou!F1849=\"\",\"\",syoriyou!F1849)","v":""},{"$f":"IF(syoriyou!G1849=\"\",\"\",syoriyou!G1849)","v":""},{"$f":"IF(syoriyou!H1849=\"\",\"\",syoriyou!H1849)","v":""},{"$f":"IF(syoriyou!I1849=\"\",\"\",syoriyou!I1849)","v":""},{"$f":"IF(syoriyou!J1849=\"\",\"\",syoriyou!N1849)","v":""}]
[{"$f":"IF(syoriyou!A1850=\"\",\"\",syoriyou!A1850)","v":""},{"$f":"IF(syoriyou!B1850=\"\",\"\",syoriyou!B1850)","v":""},{"$f":"IF(syoriyou!C1850=\"\",\"\",syoriyou!C1850)","v":""},{"$f":"IF(syoriyou!D1850=\"\",\"\",syoriyou!D1850)","v":""},{"$f":"IF(syoriyou!E1850=\"\",\"\",syoriyou!E1850)","v":""},{"$f":"IF(syoriyou!F1850=\"\",\"\",syoriyou!F1850)","v":""},{"$f":"IF(syoriyou!G1850=\"\",\"\",syoriyou!G1850)","v":""},{"$f":"IF(syoriyou!H1850=\"\",\"\",syoriyou!H1850)","v":""},{"$f":"IF(syoriyou!I1850=\"\",\"\",syoriyou!I1850)","v":""},{"$f":"IF(syoriyou!J1850=\"\",\"\",syoriyou!N1850)","v":""}]
[{"$f":"IF(syoriyou!A1851=\"\",\"\",syoriyou!A1851)","v":""},{"$f":"IF(syoriyou!B1851=\"\",\"\",syoriyou!B1851)","v":""},{"$f":"IF(syoriyou!C1851=\"\",\"\",syoriyou!C1851)","v":""},{"$f":"IF(syoriyou!D1851=\"\",\"\",syoriyou!D1851)","v":""},{"$f":"IF(syoriyou!E1851=\"\",\"\",syoriyou!E1851)","v":""},{"$f":"IF(syoriyou!F1851=\"\",\"\",syoriyou!F1851)","v":""},{"$f":"IF(syoriyou!G1851=\"\",\"\",syoriyou!G1851)","v":""},{"$f":"IF(syoriyou!H1851=\"\",\"\",syoriyou!H1851)","v":""},{"$f":"IF(syoriyou!I1851=\"\",\"\",syoriyou!I1851)","v":""},{"$f":"IF(syoriyou!J1851=\"\",\"\",syoriyou!N1851)","v":""}]
[{"$f":"IF(syoriyou!A1852=\"\",\"\",syoriyou!A1852)","v":""},{"$f":"IF(syoriyou!B1852=\"\",\"\",syoriyou!B1852)","v":""},{"$f":"IF(syoriyou!C1852=\"\",\"\",syoriyou!C1852)","v":""},{"$f":"IF(syoriyou!D1852=\"\",\"\",syoriyou!D1852)","v":""},{"$f":"IF(syoriyou!E1852=\"\",\"\",syoriyou!E1852)","v":""},{"$f":"IF(syoriyou!F1852=\"\",\"\",syoriyou!F1852)","v":""},{"$f":"IF(syoriyou!G1852=\"\",\"\",syoriyou!G1852)","v":""},{"$f":"IF(syoriyou!H1852=\"\",\"\",syoriyou!H1852)","v":""},{"$f":"IF(syoriyou!I1852=\"\",\"\",syoriyou!I1852)","v":""},{"$f":"IF(syoriyou!J1852=\"\",\"\",syoriyou!N1852)","v":""}]
[{"$f":"IF(syoriyou!A1853=\"\",\"\",syoriyou!A1853)","v":""},{"$f":"IF(syoriyou!B1853=\"\",\"\",syoriyou!B1853)","v":""},{"$f":"IF(syoriyou!C1853=\"\",\"\",syoriyou!C1853)","v":""},{"$f":"IF(syoriyou!D1853=\"\",\"\",syoriyou!D1853)","v":""},{"$f":"IF(syoriyou!E1853=\"\",\"\",syoriyou!E1853)","v":""},{"$f":"IF(syoriyou!F1853=\"\",\"\",syoriyou!F1853)","v":""},{"$f":"IF(syoriyou!G1853=\"\",\"\",syoriyou!G1853)","v":""},{"$f":"IF(syoriyou!H1853=\"\",\"\",syoriyou!H1853)","v":""},{"$f":"IF(syoriyou!I1853=\"\",\"\",syoriyou!I1853)","v":""},{"$f":"IF(syoriyou!J1853=\"\",\"\",syoriyou!N1853)","v":""}]
[{"$f":"IF(syoriyou!A1854=\"\",\"\",syoriyou!A1854)","v":""},{"$f":"IF(syoriyou!B1854=\"\",\"\",syoriyou!B1854)","v":""},{"$f":"IF(syoriyou!C1854=\"\",\"\",syoriyou!C1854)","v":""},{"$f":"IF(syoriyou!D1854=\"\",\"\",syoriyou!D1854)","v":""},{"$f":"IF(syoriyou!E1854=\"\",\"\",syoriyou!E1854)","v":""},{"$f":"IF(syoriyou!F1854=\"\",\"\",syoriyou!F1854)","v":""},{"$f":"IF(syoriyou!G1854=\"\",\"\",syoriyou!G1854)","v":""},{"$f":"IF(syoriyou!H1854=\"\",\"\",syoriyou!H1854)","v":""},{"$f":"IF(syoriyou!I1854=\"\",\"\",syoriyou!I1854)","v":""},{"$f":"IF(syoriyou!J1854=\"\",\"\",syoriyou!N1854)","v":""}]
[{"$f":"IF(syoriyou!A1855=\"\",\"\",syoriyou!A1855)","v":""},{"$f":"IF(syoriyou!B1855=\"\",\"\",syoriyou!B1855)","v":""},{"$f":"IF(syoriyou!C1855=\"\",\"\",syoriyou!C1855)","v":""},{"$f":"IF(syoriyou!D1855=\"\",\"\",syoriyou!D1855)","v":""},{"$f":"IF(syoriyou!E1855=\"\",\"\",syoriyou!E1855)","v":""},{"$f":"IF(syoriyou!F1855=\"\",\"\",syoriyou!F1855)","v":""},{"$f":"IF(syoriyou!G1855=\"\",\"\",syoriyou!G1855)","v":""},{"$f":"IF(syoriyou!H1855=\"\",\"\",syoriyou!H1855)","v":""},{"$f":"IF(syoriyou!I1855=\"\",\"\",syoriyou!I1855)","v":""},{"$f":"IF(syoriyou!J1855=\"\",\"\",syoriyou!N1855)","v":""}]
[{"$f":"IF(syoriyou!A1856=\"\",\"\",syoriyou!A1856)","v":""},{"$f":"IF(syoriyou!B1856=\"\",\"\",syoriyou!B1856)","v":""},{"$f":"IF(syoriyou!C1856=\"\",\"\",syoriyou!C1856)","v":""},{"$f":"IF(syoriyou!D1856=\"\",\"\",syoriyou!D1856)","v":""},{"$f":"IF(syoriyou!E1856=\"\",\"\",syoriyou!E1856)","v":""},{"$f":"IF(syoriyou!F1856=\"\",\"\",syoriyou!F1856)","v":""},{"$f":"IF(syoriyou!G1856=\"\",\"\",syoriyou!G1856)","v":""},{"$f":"IF(syoriyou!H1856=\"\",\"\",syoriyou!H1856)","v":""},{"$f":"IF(syoriyou!I1856=\"\",\"\",syoriyou!I1856)","v":""},{"$f":"IF(syoriyou!J1856=\"\",\"\",syoriyou!N1856)","v":""}]
[{"$f":"IF(syoriyou!A1857=\"\",\"\",syoriyou!A1857)","v":""},{"$f":"IF(syoriyou!B1857=\"\",\"\",syoriyou!B1857)","v":""},{"$f":"IF(syoriyou!C1857=\"\",\"\",syoriyou!C1857)","v":""},{"$f":"IF(syoriyou!D1857=\"\",\"\",syoriyou!D1857)","v":""},{"$f":"IF(syoriyou!E1857=\"\",\"\",syoriyou!E1857)","v":""},{"$f":"IF(syoriyou!F1857=\"\",\"\",syoriyou!F1857)","v":""},{"$f":"IF(syoriyou!G1857=\"\",\"\",syoriyou!G1857)","v":""},{"$f":"IF(syoriyou!H1857=\"\",\"\",syoriyou!H1857)","v":""},{"$f":"IF(syoriyou!I1857=\"\",\"\",syoriyou!I1857)","v":""},{"$f":"IF(syoriyou!J1857=\"\",\"\",syoriyou!N1857)","v":""}]
[{"$f":"IF(syoriyou!A1858=\"\",\"\",syoriyou!A1858)","v":""},{"$f":"IF(syoriyou!B1858=\"\",\"\",syoriyou!B1858)","v":""},{"$f":"IF(syoriyou!C1858=\"\",\"\",syoriyou!C1858)","v":""},{"$f":"IF(syoriyou!D1858=\"\",\"\",syoriyou!D1858)","v":""},{"$f":"IF(syoriyou!E1858=\"\",\"\",syoriyou!E1858)","v":""},{"$f":"IF(syoriyou!F1858=\"\",\"\",syoriyou!F1858)","v":""},{"$f":"IF(syoriyou!G1858=\"\",\"\",syoriyou!G1858)","v":""},{"$f":"IF(syoriyou!H1858=\"\",\"\",syoriyou!H1858)","v":""},{"$f":"IF(syoriyou!I1858=\"\",\"\",syoriyou!I1858)","v":""},{"$f":"IF(syoriyou!J1858=\"\",\"\",syoriyou!N1858)","v":""}]
[{"$f":"IF(syoriyou!A1859=\"\",\"\",syoriyou!A1859)","v":""},{"$f":"IF(syoriyou!B1859=\"\",\"\",syoriyou!B1859)","v":""},{"$f":"IF(syoriyou!C1859=\"\",\"\",syoriyou!C1859)","v":""},{"$f":"IF(syoriyou!D1859=\"\",\"\",syoriyou!D1859)","v":""},{"$f":"IF(syoriyou!E1859=\"\",\"\",syoriyou!E1859)","v":""},{"$f":"IF(syoriyou!F1859=\"\",\"\",syoriyou!F1859)","v":""},{"$f":"IF(syoriyou!G1859=\"\",\"\",syoriyou!G1859)","v":""},{"$f":"IF(syoriyou!H1859=\"\",\"\",syoriyou!H1859)","v":""},{"$f":"IF(syoriyou!I1859=\"\",\"\",syoriyou!I1859)","v":""},{"$f":"IF(syoriyou!J1859=\"\",\"\",syoriyou!N1859)","v":""}]
[{"$f":"IF(syoriyou!A1860=\"\",\"\",syoriyou!A1860)","v":""},{"$f":"IF(syoriyou!B1860=\"\",\"\",syoriyou!B1860)","v":""},{"$f":"IF(syoriyou!C1860=\"\",\"\",syoriyou!C1860)","v":""},{"$f":"IF(syoriyou!D1860=\"\",\"\",syoriyou!D1860)","v":""},{"$f":"IF(syoriyou!E1860=\"\",\"\",syoriyou!E1860)","v":""},{"$f":"IF(syoriyou!F1860=\"\",\"\",syoriyou!F1860)","v":""},{"$f":"IF(syoriyou!G1860=\"\",\"\",syoriyou!G1860)","v":""},{"$f":"IF(syoriyou!H1860=\"\",\"\",syoriyou!H1860)","v":""},{"$f":"IF(syoriyou!I1860=\"\",\"\",syoriyou!I1860)","v":""},{"$f":"IF(syoriyou!J1860=\"\",\"\",syoriyou!N1860)","v":""}]
[{"$f":"IF(syoriyou!A1861=\"\",\"\",syoriyou!A1861)","v":""},{"$f":"IF(syoriyou!B1861=\"\",\"\",syoriyou!B1861)","v":""},{"$f":"IF(syoriyou!C1861=\"\",\"\",syoriyou!C1861)","v":""},{"$f":"IF(syoriyou!D1861=\"\",\"\",syoriyou!D1861)","v":""},{"$f":"IF(syoriyou!E1861=\"\",\"\",syoriyou!E1861)","v":""},{"$f":"IF(syoriyou!F1861=\"\",\"\",syoriyou!F1861)","v":""},{"$f":"IF(syoriyou!G1861=\"\",\"\",syoriyou!G1861)","v":""},{"$f":"IF(syoriyou!H1861=\"\",\"\",syoriyou!H1861)","v":""},{"$f":"IF(syoriyou!I1861=\"\",\"\",syoriyou!I1861)","v":""},{"$f":"IF(syoriyou!J1861=\"\",\"\",syoriyou!N1861)","v":""}]
[{"$f":"IF(syoriyou!A1862=\"\",\"\",syoriyou!A1862)","v":""},{"$f":"IF(syoriyou!B1862=\"\",\"\",syoriyou!B1862)","v":""},{"$f":"IF(syoriyou!C1862=\"\",\"\",syoriyou!C1862)","v":""},{"$f":"IF(syoriyou!D1862=\"\",\"\",syoriyou!D1862)","v":""},{"$f":"IF(syoriyou!E1862=\"\",\"\",syoriyou!E1862)","v":""},{"$f":"IF(syoriyou!F1862=\"\",\"\",syoriyou!F1862)","v":""},{"$f":"IF(syoriyou!G1862=\"\",\"\",syoriyou!G1862)","v":""},{"$f":"IF(syoriyou!H1862=\"\",\"\",syoriyou!H1862)","v":""},{"$f":"IF(syoriyou!I1862=\"\",\"\",syoriyou!I1862)","v":""},{"$f":"IF(syoriyou!J1862=\"\",\"\",syoriyou!N1862)","v":""}]
[{"$f":"IF(syoriyou!A1863=\"\",\"\",syoriyou!A1863)","v":""},{"$f":"IF(syoriyou!B1863=\"\",\"\",syoriyou!B1863)","v":""},{"$f":"IF(syoriyou!C1863=\"\",\"\",syoriyou!C1863)","v":""},{"$f":"IF(syoriyou!D1863=\"\",\"\",syoriyou!D1863)","v":""},{"$f":"IF(syoriyou!E1863=\"\",\"\",syoriyou!E1863)","v":""},{"$f":"IF(syoriyou!F1863=\"\",\"\",syoriyou!F1863)","v":""},{"$f":"IF(syoriyou!G1863=\"\",\"\",syoriyou!G1863)","v":""},{"$f":"IF(syoriyou!H1863=\"\",\"\",syoriyou!H1863)","v":""},{"$f":"IF(syoriyou!I1863=\"\",\"\",syoriyou!I1863)","v":""},{"$f":"IF(syoriyou!J1863=\"\",\"\",syoriyou!N1863)","v":""}]
[{"$f":"IF(syoriyou!A1864=\"\",\"\",syoriyou!A1864)","v":""},{"$f":"IF(syoriyou!B1864=\"\",\"\",syoriyou!B1864)","v":""},{"$f":"IF(syoriyou!C1864=\"\",\"\",syoriyou!C1864)","v":""},{"$f":"IF(syoriyou!D1864=\"\",\"\",syoriyou!D1864)","v":""},{"$f":"IF(syoriyou!E1864=\"\",\"\",syoriyou!E1864)","v":""},{"$f":"IF(syoriyou!F1864=\"\",\"\",syoriyou!F1864)","v":""},{"$f":"IF(syoriyou!G1864=\"\",\"\",syoriyou!G1864)","v":""},{"$f":"IF(syoriyou!H1864=\"\",\"\",syoriyou!H1864)","v":""},{"$f":"IF(syoriyou!I1864=\"\",\"\",syoriyou!I1864)","v":""},{"$f":"IF(syoriyou!J1864=\"\",\"\",syoriyou!N1864)","v":""}]
[{"$f":"IF(syoriyou!A1865=\"\",\"\",syoriyou!A1865)","v":""},{"$f":"IF(syoriyou!B1865=\"\",\"\",syoriyou!B1865)","v":""},{"$f":"IF(syoriyou!C1865=\"\",\"\",syoriyou!C1865)","v":""},{"$f":"IF(syoriyou!D1865=\"\",\"\",syoriyou!D1865)","v":""},{"$f":"IF(syoriyou!E1865=\"\",\"\",syoriyou!E1865)","v":""},{"$f":"IF(syoriyou!F1865=\"\",\"\",syoriyou!F1865)","v":""},{"$f":"IF(syoriyou!G1865=\"\",\"\",syoriyou!G1865)","v":""},{"$f":"IF(syoriyou!H1865=\"\",\"\",syoriyou!H1865)","v":""},{"$f":"IF(syoriyou!I1865=\"\",\"\",syoriyou!I1865)","v":""},{"$f":"IF(syoriyou!J1865=\"\",\"\",syoriyou!N1865)","v":""}]
[{"$f":"IF(syoriyou!A1866=\"\",\"\",syoriyou!A1866)","v":""},{"$f":"IF(syoriyou!B1866=\"\",\"\",syoriyou!B1866)","v":""},{"$f":"IF(syoriyou!C1866=\"\",\"\",syoriyou!C1866)","v":""},{"$f":"IF(syoriyou!D1866=\"\",\"\",syoriyou!D1866)","v":""},{"$f":"IF(syoriyou!E1866=\"\",\"\",syoriyou!E1866)","v":""},{"$f":"IF(syoriyou!F1866=\"\",\"\",syoriyou!F1866)","v":""},{"$f":"IF(syoriyou!G1866=\"\",\"\",syoriyou!G1866)","v":""},{"$f":"IF(syoriyou!H1866=\"\",\"\",syoriyou!H1866)","v":""},{"$f":"IF(syoriyou!I1866=\"\",\"\",syoriyou!I1866)","v":""},{"$f":"IF(syoriyou!J1866=\"\",\"\",syoriyou!N1866)","v":""}]
[{"$f":"IF(syoriyou!A1867=\"\",\"\",syoriyou!A1867)","v":""},{"$f":"IF(syoriyou!B1867=\"\",\"\",syoriyou!B1867)","v":""},{"$f":"IF(syoriyou!C1867=\"\",\"\",syoriyou!C1867)","v":""},{"$f":"IF(syoriyou!D1867=\"\",\"\",syoriyou!D1867)","v":""},{"$f":"IF(syoriyou!E1867=\"\",\"\",syoriyou!E1867)","v":""},{"$f":"IF(syoriyou!F1867=\"\",\"\",syoriyou!F1867)","v":""},{"$f":"IF(syoriyou!G1867=\"\",\"\",syoriyou!G1867)","v":""},{"$f":"IF(syoriyou!H1867=\"\",\"\",syoriyou!H1867)","v":""},{"$f":"IF(syoriyou!I1867=\"\",\"\",syoriyou!I1867)","v":""},{"$f":"IF(syoriyou!J1867=\"\",\"\",syoriyou!N1867)","v":""}]
[{"$f":"IF(syoriyou!A1868=\"\",\"\",syoriyou!A1868)","v":""},{"$f":"IF(syoriyou!B1868=\"\",\"\",syoriyou!B1868)","v":""},{"$f":"IF(syoriyou!C1868=\"\",\"\",syoriyou!C1868)","v":""},{"$f":"IF(syoriyou!D1868=\"\",\"\",syoriyou!D1868)","v":""},{"$f":"IF(syoriyou!E1868=\"\",\"\",syoriyou!E1868)","v":""},{"$f":"IF(syoriyou!F1868=\"\",\"\",syoriyou!F1868)","v":""},{"$f":"IF(syoriyou!G1868=\"\",\"\",syoriyou!G1868)","v":""},{"$f":"IF(syoriyou!H1868=\"\",\"\",syoriyou!H1868)","v":""},{"$f":"IF(syoriyou!I1868=\"\",\"\",syoriyou!I1868)","v":""},{"$f":"IF(syoriyou!J1868=\"\",\"\",syoriyou!N1868)","v":""}]
[{"$f":"IF(syoriyou!A1869=\"\",\"\",syoriyou!A1869)","v":""},{"$f":"IF(syoriyou!B1869=\"\",\"\",syoriyou!B1869)","v":""},{"$f":"IF(syoriyou!C1869=\"\",\"\",syoriyou!C1869)","v":""},{"$f":"IF(syoriyou!D1869=\"\",\"\",syoriyou!D1869)","v":""},{"$f":"IF(syoriyou!E1869=\"\",\"\",syoriyou!E1869)","v":""},{"$f":"IF(syoriyou!F1869=\"\",\"\",syoriyou!F1869)","v":""},{"$f":"IF(syoriyou!G1869=\"\",\"\",syoriyou!G1869)","v":""},{"$f":"IF(syoriyou!H1869=\"\",\"\",syoriyou!H1869)","v":""},{"$f":"IF(syoriyou!I1869=\"\",\"\",syoriyou!I1869)","v":""},{"$f":"IF(syoriyou!J1869=\"\",\"\",syoriyou!N1869)","v":""}]
[{"$f":"IF(syoriyou!A1870=\"\",\"\",syoriyou!A1870)","v":""},{"$f":"IF(syoriyou!B1870=\"\",\"\",syoriyou!B1870)","v":""},{"$f":"IF(syoriyou!C1870=\"\",\"\",syoriyou!C1870)","v":""},{"$f":"IF(syoriyou!D1870=\"\",\"\",syoriyou!D1870)","v":""},{"$f":"IF(syoriyou!E1870=\"\",\"\",syoriyou!E1870)","v":""},{"$f":"IF(syoriyou!F1870=\"\",\"\",syoriyou!F1870)","v":""},{"$f":"IF(syoriyou!G1870=\"\",\"\",syoriyou!G1870)","v":""},{"$f":"IF(syoriyou!H1870=\"\",\"\",syoriyou!H1870)","v":""},{"$f":"IF(syoriyou!I1870=\"\",\"\",syoriyou!I1870)","v":""},{"$f":"IF(syoriyou!J1870=\"\",\"\",syoriyou!N1870)","v":""}]
[{"$f":"IF(syoriyou!A1871=\"\",\"\",syoriyou!A1871)","v":""},{"$f":"IF(syoriyou!B1871=\"\",\"\",syoriyou!B1871)","v":""},{"$f":"IF(syoriyou!C1871=\"\",\"\",syoriyou!C1871)","v":""},{"$f":"IF(syoriyou!D1871=\"\",\"\",syoriyou!D1871)","v":""},{"$f":"IF(syoriyou!E1871=\"\",\"\",syoriyou!E1871)","v":""},{"$f":"IF(syoriyou!F1871=\"\",\"\",syoriyou!F1871)","v":""},{"$f":"IF(syoriyou!G1871=\"\",\"\",syoriyou!G1871)","v":""},{"$f":"IF(syoriyou!H1871=\"\",\"\",syoriyou!H1871)","v":""},{"$f":"IF(syoriyou!I1871=\"\",\"\",syoriyou!I1871)","v":""},{"$f":"IF(syoriyou!J1871=\"\",\"\",syoriyou!N1871)","v":""}]
[{"$f":"IF(syoriyou!A1872=\"\",\"\",syoriyou!A1872)","v":""},{"$f":"IF(syoriyou!B1872=\"\",\"\",syoriyou!B1872)","v":""},{"$f":"IF(syoriyou!C1872=\"\",\"\",syoriyou!C1872)","v":""},{"$f":"IF(syoriyou!D1872=\"\",\"\",syoriyou!D1872)","v":""},{"$f":"IF(syoriyou!E1872=\"\",\"\",syoriyou!E1872)","v":""},{"$f":"IF(syoriyou!F1872=\"\",\"\",syoriyou!F1872)","v":""},{"$f":"IF(syoriyou!G1872=\"\",\"\",syoriyou!G1872)","v":""},{"$f":"IF(syoriyou!H1872=\"\",\"\",syoriyou!H1872)","v":""},{"$f":"IF(syoriyou!I1872=\"\",\"\",syoriyou!I1872)","v":""},{"$f":"IF(syoriyou!J1872=\"\",\"\",syoriyou!N1872)","v":""}]
[{"$f":"IF(syoriyou!A1873=\"\",\"\",syoriyou!A1873)","v":""},{"$f":"IF(syoriyou!B1873=\"\",\"\",syoriyou!B1873)","v":""},{"$f":"IF(syoriyou!C1873=\"\",\"\",syoriyou!C1873)","v":""},{"$f":"IF(syoriyou!D1873=\"\",\"\",syoriyou!D1873)","v":""},{"$f":"IF(syoriyou!E1873=\"\",\"\",syoriyou!E1873)","v":""},{"$f":"IF(syoriyou!F1873=\"\",\"\",syoriyou!F1873)","v":""},{"$f":"IF(syoriyou!G1873=\"\",\"\",syoriyou!G1873)","v":""},{"$f":"IF(syoriyou!H1873=\"\",\"\",syoriyou!H1873)","v":""},{"$f":"IF(syoriyou!I1873=\"\",\"\",syoriyou!I1873)","v":""},{"$f":"IF(syoriyou!J1873=\"\",\"\",syoriyou!N1873)","v":""}]
[{"$f":"IF(syoriyou!A1874=\"\",\"\",syoriyou!A1874)","v":""},{"$f":"IF(syoriyou!B1874=\"\",\"\",syoriyou!B1874)","v":""},{"$f":"IF(syoriyou!C1874=\"\",\"\",syoriyou!C1874)","v":""},{"$f":"IF(syoriyou!D1874=\"\",\"\",syoriyou!D1874)","v":""},{"$f":"IF(syoriyou!E1874=\"\",\"\",syoriyou!E1874)","v":""},{"$f":"IF(syoriyou!F1874=\"\",\"\",syoriyou!F1874)","v":""},{"$f":"IF(syoriyou!G1874=\"\",\"\",syoriyou!G1874)","v":""},{"$f":"IF(syoriyou!H1874=\"\",\"\",syoriyou!H1874)","v":""},{"$f":"IF(syoriyou!I1874=\"\",\"\",syoriyou!I1874)","v":""},{"$f":"IF(syoriyou!J1874=\"\",\"\",syoriyou!N1874)","v":""}]
[{"$f":"IF(syoriyou!A1875=\"\",\"\",syoriyou!A1875)","v":""},{"$f":"IF(syoriyou!B1875=\"\",\"\",syoriyou!B1875)","v":""},{"$f":"IF(syoriyou!C1875=\"\",\"\",syoriyou!C1875)","v":""},{"$f":"IF(syoriyou!D1875=\"\",\"\",syoriyou!D1875)","v":""},{"$f":"IF(syoriyou!E1875=\"\",\"\",syoriyou!E1875)","v":""},{"$f":"IF(syoriyou!F1875=\"\",\"\",syoriyou!F1875)","v":""},{"$f":"IF(syoriyou!G1875=\"\",\"\",syoriyou!G1875)","v":""},{"$f":"IF(syoriyou!H1875=\"\",\"\",syoriyou!H1875)","v":""},{"$f":"IF(syoriyou!I1875=\"\",\"\",syoriyou!I1875)","v":""},{"$f":"IF(syoriyou!J1875=\"\",\"\",syoriyou!N1875)","v":""}]
[{"$f":"IF(syoriyou!A1876=\"\",\"\",syoriyou!A1876)","v":""},{"$f":"IF(syoriyou!B1876=\"\",\"\",syoriyou!B1876)","v":""},{"$f":"IF(syoriyou!C1876=\"\",\"\",syoriyou!C1876)","v":""},{"$f":"IF(syoriyou!D1876=\"\",\"\",syoriyou!D1876)","v":""},{"$f":"IF(syoriyou!E1876=\"\",\"\",syoriyou!E1876)","v":""},{"$f":"IF(syoriyou!F1876=\"\",\"\",syoriyou!F1876)","v":""},{"$f":"IF(syoriyou!G1876=\"\",\"\",syoriyou!G1876)","v":""},{"$f":"IF(syoriyou!H1876=\"\",\"\",syoriyou!H1876)","v":""},{"$f":"IF(syoriyou!I1876=\"\",\"\",syoriyou!I1876)","v":""},{"$f":"IF(syoriyou!J1876=\"\",\"\",syoriyou!N1876)","v":""}]
[{"$f":"IF(syoriyou!A1877=\"\",\"\",syoriyou!A1877)","v":""},{"$f":"IF(syoriyou!B1877=\"\",\"\",syoriyou!B1877)","v":""},{"$f":"IF(syoriyou!C1877=\"\",\"\",syoriyou!C1877)","v":""},{"$f":"IF(syoriyou!D1877=\"\",\"\",syoriyou!D1877)","v":""},{"$f":"IF(syoriyou!E1877=\"\",\"\",syoriyou!E1877)","v":""},{"$f":"IF(syoriyou!F1877=\"\",\"\",syoriyou!F1877)","v":""},{"$f":"IF(syoriyou!G1877=\"\",\"\",syoriyou!G1877)","v":""},{"$f":"IF(syoriyou!H1877=\"\",\"\",syoriyou!H1877)","v":""},{"$f":"IF(syoriyou!I1877=\"\",\"\",syoriyou!I1877)","v":""},{"$f":"IF(syoriyou!J1877=\"\",\"\",syoriyou!N1877)","v":""}]
[{"$f":"IF(syoriyou!A1878=\"\",\"\",syoriyou!A1878)","v":""},{"$f":"IF(syoriyou!B1878=\"\",\"\",syoriyou!B1878)","v":""},{"$f":"IF(syoriyou!C1878=\"\",\"\",syoriyou!C1878)","v":""},{"$f":"IF(syoriyou!D1878=\"\",\"\",syoriyou!D1878)","v":""},{"$f":"IF(syoriyou!E1878=\"\",\"\",syoriyou!E1878)","v":""},{"$f":"IF(syoriyou!F1878=\"\",\"\",syoriyou!F1878)","v":""},{"$f":"IF(syoriyou!G1878=\"\",\"\",syoriyou!G1878)","v":""},{"$f":"IF(syoriyou!H1878=\"\",\"\",syoriyou!H1878)","v":""},{"$f":"IF(syoriyou!I1878=\"\",\"\",syoriyou!I1878)","v":""},{"$f":"IF(syoriyou!J1878=\"\",\"\",syoriyou!N1878)","v":""}]
[{"$f":"IF(syoriyou!A1879=\"\",\"\",syoriyou!A1879)","v":""},{"$f":"IF(syoriyou!B1879=\"\",\"\",syoriyou!B1879)","v":""},{"$f":"IF(syoriyou!C1879=\"\",\"\",syoriyou!C1879)","v":""},{"$f":"IF(syoriyou!D1879=\"\",\"\",syoriyou!D1879)","v":""},{"$f":"IF(syoriyou!E1879=\"\",\"\",syoriyou!E1879)","v":""},{"$f":"IF(syoriyou!F1879=\"\",\"\",syoriyou!F1879)","v":""},{"$f":"IF(syoriyou!G1879=\"\",\"\",syoriyou!G1879)","v":""},{"$f":"IF(syoriyou!H1879=\"\",\"\",syoriyou!H1879)","v":""},{"$f":"IF(syoriyou!I1879=\"\",\"\",syoriyou!I1879)","v":""},{"$f":"IF(syoriyou!J1879=\"\",\"\",syoriyou!N1879)","v":""}]
[{"$f":"IF(syoriyou!A1880=\"\",\"\",syoriyou!A1880)","v":""},{"$f":"IF(syoriyou!B1880=\"\",\"\",syoriyou!B1880)","v":""},{"$f":"IF(syoriyou!C1880=\"\",\"\",syoriyou!C1880)","v":""},{"$f":"IF(syoriyou!D1880=\"\",\"\",syoriyou!D1880)","v":""},{"$f":"IF(syoriyou!E1880=\"\",\"\",syoriyou!E1880)","v":""},{"$f":"IF(syoriyou!F1880=\"\",\"\",syoriyou!F1880)","v":""},{"$f":"IF(syoriyou!G1880=\"\",\"\",syoriyou!G1880)","v":""},{"$f":"IF(syoriyou!H1880=\"\",\"\",syoriyou!H1880)","v":""},{"$f":"IF(syoriyou!I1880=\"\",\"\",syoriyou!I1880)","v":""},{"$f":"IF(syoriyou!J1880=\"\",\"\",syoriyou!N1880)","v":""}]
[{"$f":"IF(syoriyou!A1881=\"\",\"\",syoriyou!A1881)","v":""},{"$f":"IF(syoriyou!B1881=\"\",\"\",syoriyou!B1881)","v":""},{"$f":"IF(syoriyou!C1881=\"\",\"\",syoriyou!C1881)","v":""},{"$f":"IF(syoriyou!D1881=\"\",\"\",syoriyou!D1881)","v":""},{"$f":"IF(syoriyou!E1881=\"\",\"\",syoriyou!E1881)","v":""},{"$f":"IF(syoriyou!F1881=\"\",\"\",syoriyou!F1881)","v":""},{"$f":"IF(syoriyou!G1881=\"\",\"\",syoriyou!G1881)","v":""},{"$f":"IF(syoriyou!H1881=\"\",\"\",syoriyou!H1881)","v":""},{"$f":"IF(syoriyou!I1881=\"\",\"\",syoriyou!I1881)","v":""},{"$f":"IF(syoriyou!J1881=\"\",\"\",syoriyou!N1881)","v":""}]
[{"$f":"IF(syoriyou!A1882=\"\",\"\",syoriyou!A1882)","v":""},{"$f":"IF(syoriyou!B1882=\"\",\"\",syoriyou!B1882)","v":""},{"$f":"IF(syoriyou!C1882=\"\",\"\",syoriyou!C1882)","v":""},{"$f":"IF(syoriyou!D1882=\"\",\"\",syoriyou!D1882)","v":""},{"$f":"IF(syoriyou!E1882=\"\",\"\",syoriyou!E1882)","v":""},{"$f":"IF(syoriyou!F1882=\"\",\"\",syoriyou!F1882)","v":""},{"$f":"IF(syoriyou!G1882=\"\",\"\",syoriyou!G1882)","v":""},{"$f":"IF(syoriyou!H1882=\"\",\"\",syoriyou!H1882)","v":""},{"$f":"IF(syoriyou!I1882=\"\",\"\",syoriyou!I1882)","v":""},{"$f":"IF(syoriyou!J1882=\"\",\"\",syoriyou!N1882)","v":""}]
[{"$f":"IF(syoriyou!A1883=\"\",\"\",syoriyou!A1883)","v":""},{"$f":"IF(syoriyou!B1883=\"\",\"\",syoriyou!B1883)","v":""},{"$f":"IF(syoriyou!C1883=\"\",\"\",syoriyou!C1883)","v":""},{"$f":"IF(syoriyou!D1883=\"\",\"\",syoriyou!D1883)","v":""},{"$f":"IF(syoriyou!E1883=\"\",\"\",syoriyou!E1883)","v":""},{"$f":"IF(syoriyou!F1883=\"\",\"\",syoriyou!F1883)","v":""},{"$f":"IF(syoriyou!G1883=\"\",\"\",syoriyou!G1883)","v":""},{"$f":"IF(syoriyou!H1883=\"\",\"\",syoriyou!H1883)","v":""},{"$f":"IF(syoriyou!I1883=\"\",\"\",syoriyou!I1883)","v":""},{"$f":"IF(syoriyou!J1883=\"\",\"\",syoriyou!N1883)","v":""}]
[{"$f":"IF(syoriyou!A1884=\"\",\"\",syoriyou!A1884)","v":""},{"$f":"IF(syoriyou!B1884=\"\",\"\",syoriyou!B1884)","v":""},{"$f":"IF(syoriyou!C1884=\"\",\"\",syoriyou!C1884)","v":""},{"$f":"IF(syoriyou!D1884=\"\",\"\",syoriyou!D1884)","v":""},{"$f":"IF(syoriyou!E1884=\"\",\"\",syoriyou!E1884)","v":""},{"$f":"IF(syoriyou!F1884=\"\",\"\",syoriyou!F1884)","v":""},{"$f":"IF(syoriyou!G1884=\"\",\"\",syoriyou!G1884)","v":""},{"$f":"IF(syoriyou!H1884=\"\",\"\",syoriyou!H1884)","v":""},{"$f":"IF(syoriyou!I1884=\"\",\"\",syoriyou!I1884)","v":""},{"$f":"IF(syoriyou!J1884=\"\",\"\",syoriyou!N1884)","v":""}]
[{"$f":"IF(syoriyou!A1885=\"\",\"\",syoriyou!A1885)","v":""},{"$f":"IF(syoriyou!B1885=\"\",\"\",syoriyou!B1885)","v":""},{"$f":"IF(syoriyou!C1885=\"\",\"\",syoriyou!C1885)","v":""},{"$f":"IF(syoriyou!D1885=\"\",\"\",syoriyou!D1885)","v":""},{"$f":"IF(syoriyou!E1885=\"\",\"\",syoriyou!E1885)","v":""},{"$f":"IF(syoriyou!F1885=\"\",\"\",syoriyou!F1885)","v":""},{"$f":"IF(syoriyou!G1885=\"\",\"\",syoriyou!G1885)","v":""},{"$f":"IF(syoriyou!H1885=\"\",\"\",syoriyou!H1885)","v":""},{"$f":"IF(syoriyou!I1885=\"\",\"\",syoriyou!I1885)","v":""},{"$f":"IF(syoriyou!J1885=\"\",\"\",syoriyou!N1885)","v":""}]
[{"$f":"IF(syoriyou!A1886=\"\",\"\",syoriyou!A1886)","v":""},{"$f":"IF(syoriyou!B1886=\"\",\"\",syoriyou!B1886)","v":""},{"$f":"IF(syoriyou!C1886=\"\",\"\",syoriyou!C1886)","v":""},{"$f":"IF(syoriyou!D1886=\"\",\"\",syoriyou!D1886)","v":""},{"$f":"IF(syoriyou!E1886=\"\",\"\",syoriyou!E1886)","v":""},{"$f":"IF(syoriyou!F1886=\"\",\"\",syoriyou!F1886)","v":""},{"$f":"IF(syoriyou!G1886=\"\",\"\",syoriyou!G1886)","v":""},{"$f":"IF(syoriyou!H1886=\"\",\"\",syoriyou!H1886)","v":""},{"$f":"IF(syoriyou!I1886=\"\",\"\",syoriyou!I1886)","v":""},{"$f":"IF(syoriyou!J1886=\"\",\"\",syoriyou!N1886)","v":""}]
[{"$f":"IF(syoriyou!A1887=\"\",\"\",syoriyou!A1887)","v":""},{"$f":"IF(syoriyou!B1887=\"\",\"\",syoriyou!B1887)","v":""},{"$f":"IF(syoriyou!C1887=\"\",\"\",syoriyou!C1887)","v":""},{"$f":"IF(syoriyou!D1887=\"\",\"\",syoriyou!D1887)","v":""},{"$f":"IF(syoriyou!E1887=\"\",\"\",syoriyou!E1887)","v":""},{"$f":"IF(syoriyou!F1887=\"\",\"\",syoriyou!F1887)","v":""},{"$f":"IF(syoriyou!G1887=\"\",\"\",syoriyou!G1887)","v":""},{"$f":"IF(syoriyou!H1887=\"\",\"\",syoriyou!H1887)","v":""},{"$f":"IF(syoriyou!I1887=\"\",\"\",syoriyou!I1887)","v":""},{"$f":"IF(syoriyou!J1887=\"\",\"\",syoriyou!N1887)","v":""}]
[{"$f":"IF(syoriyou!A1888=\"\",\"\",syoriyou!A1888)","v":""},{"$f":"IF(syoriyou!B1888=\"\",\"\",syoriyou!B1888)","v":""},{"$f":"IF(syoriyou!C1888=\"\",\"\",syoriyou!C1888)","v":""},{"$f":"IF(syoriyou!D1888=\"\",\"\",syoriyou!D1888)","v":""},{"$f":"IF(syoriyou!E1888=\"\",\"\",syoriyou!E1888)","v":""},{"$f":"IF(syoriyou!F1888=\"\",\"\",syoriyou!F1888)","v":""},{"$f":"IF(syoriyou!G1888=\"\",\"\",syoriyou!G1888)","v":""},{"$f":"IF(syoriyou!H1888=\"\",\"\",syoriyou!H1888)","v":""},{"$f":"IF(syoriyou!I1888=\"\",\"\",syoriyou!I1888)","v":""},{"$f":"IF(syoriyou!J1888=\"\",\"\",syoriyou!N1888)","v":""}]
[{"$f":"IF(syoriyou!A1889=\"\",\"\",syoriyou!A1889)","v":""},{"$f":"IF(syoriyou!B1889=\"\",\"\",syoriyou!B1889)","v":""},{"$f":"IF(syoriyou!C1889=\"\",\"\",syoriyou!C1889)","v":""},{"$f":"IF(syoriyou!D1889=\"\",\"\",syoriyou!D1889)","v":""},{"$f":"IF(syoriyou!E1889=\"\",\"\",syoriyou!E1889)","v":""},{"$f":"IF(syoriyou!F1889=\"\",\"\",syoriyou!F1889)","v":""},{"$f":"IF(syoriyou!G1889=\"\",\"\",syoriyou!G1889)","v":""},{"$f":"IF(syoriyou!H1889=\"\",\"\",syoriyou!H1889)","v":""},{"$f":"IF(syoriyou!I1889=\"\",\"\",syoriyou!I1889)","v":""},{"$f":"IF(syoriyou!J1889=\"\",\"\",syoriyou!N1889)","v":""}]
[{"$f":"IF(syoriyou!A1890=\"\",\"\",syoriyou!A1890)","v":""},{"$f":"IF(syoriyou!B1890=\"\",\"\",syoriyou!B1890)","v":""},{"$f":"IF(syoriyou!C1890=\"\",\"\",syoriyou!C1890)","v":""},{"$f":"IF(syoriyou!D1890=\"\",\"\",syoriyou!D1890)","v":""},{"$f":"IF(syoriyou!E1890=\"\",\"\",syoriyou!E1890)","v":""},{"$f":"IF(syoriyou!F1890=\"\",\"\",syoriyou!F1890)","v":""},{"$f":"IF(syoriyou!G1890=\"\",\"\",syoriyou!G1890)","v":""},{"$f":"IF(syoriyou!H1890=\"\",\"\",syoriyou!H1890)","v":""},{"$f":"IF(syoriyou!I1890=\"\",\"\",syoriyou!I1890)","v":""},{"$f":"IF(syoriyou!J1890=\"\",\"\",syoriyou!N1890)","v":""}]
[{"$f":"IF(syoriyou!A1891=\"\",\"\",syoriyou!A1891)","v":""},{"$f":"IF(syoriyou!B1891=\"\",\"\",syoriyou!B1891)","v":""},{"$f":"IF(syoriyou!C1891=\"\",\"\",syoriyou!C1891)","v":""},{"$f":"IF(syoriyou!D1891=\"\",\"\",syoriyou!D1891)","v":""},{"$f":"IF(syoriyou!E1891=\"\",\"\",syoriyou!E1891)","v":""},{"$f":"IF(syoriyou!F1891=\"\",\"\",syoriyou!F1891)","v":""},{"$f":"IF(syoriyou!G1891=\"\",\"\",syoriyou!G1891)","v":""},{"$f":"IF(syoriyou!H1891=\"\",\"\",syoriyou!H1891)","v":""},{"$f":"IF(syoriyou!I1891=\"\",\"\",syoriyou!I1891)","v":""},{"$f":"IF(syoriyou!J1891=\"\",\"\",syoriyou!N1891)","v":""}]
[{"$f":"IF(syoriyou!A1892=\"\",\"\",syoriyou!A1892)","v":""},{"$f":"IF(syoriyou!B1892=\"\",\"\",syoriyou!B1892)","v":""},{"$f":"IF(syoriyou!C1892=\"\",\"\",syoriyou!C1892)","v":""},{"$f":"IF(syoriyou!D1892=\"\",\"\",syoriyou!D1892)","v":""},{"$f":"IF(syoriyou!E1892=\"\",\"\",syoriyou!E1892)","v":""},{"$f":"IF(syoriyou!F1892=\"\",\"\",syoriyou!F1892)","v":""},{"$f":"IF(syoriyou!G1892=\"\",\"\",syoriyou!G1892)","v":""},{"$f":"IF(syoriyou!H1892=\"\",\"\",syoriyou!H1892)","v":""},{"$f":"IF(syoriyou!I1892=\"\",\"\",syoriyou!I1892)","v":""},{"$f":"IF(syoriyou!J1892=\"\",\"\",syoriyou!N1892)","v":""}]
[{"$f":"IF(syoriyou!A1893=\"\",\"\",syoriyou!A1893)","v":""},{"$f":"IF(syoriyou!B1893=\"\",\"\",syoriyou!B1893)","v":""},{"$f":"IF(syoriyou!C1893=\"\",\"\",syoriyou!C1893)","v":""},{"$f":"IF(syoriyou!D1893=\"\",\"\",syoriyou!D1893)","v":""},{"$f":"IF(syoriyou!E1893=\"\",\"\",syoriyou!E1893)","v":""},{"$f":"IF(syoriyou!F1893=\"\",\"\",syoriyou!F1893)","v":""},{"$f":"IF(syoriyou!G1893=\"\",\"\",syoriyou!G1893)","v":""},{"$f":"IF(syoriyou!H1893=\"\",\"\",syoriyou!H1893)","v":""},{"$f":"IF(syoriyou!I1893=\"\",\"\",syoriyou!I1893)","v":""},{"$f":"IF(syoriyou!J1893=\"\",\"\",syoriyou!N1893)","v":""}]
[{"$f":"IF(syoriyou!A1894=\"\",\"\",syoriyou!A1894)","v":""},{"$f":"IF(syoriyou!B1894=\"\",\"\",syoriyou!B1894)","v":""},{"$f":"IF(syoriyou!C1894=\"\",\"\",syoriyou!C1894)","v":""},{"$f":"IF(syoriyou!D1894=\"\",\"\",syoriyou!D1894)","v":""},{"$f":"IF(syoriyou!E1894=\"\",\"\",syoriyou!E1894)","v":""},{"$f":"IF(syoriyou!F1894=\"\",\"\",syoriyou!F1894)","v":""},{"$f":"IF(syoriyou!G1894=\"\",\"\",syoriyou!G1894)","v":""},{"$f":"IF(syoriyou!H1894=\"\",\"\",syoriyou!H1894)","v":""},{"$f":"IF(syoriyou!I1894=\"\",\"\",syoriyou!I1894)","v":""},{"$f":"IF(syoriyou!J1894=\"\",\"\",syoriyou!N1894)","v":""}]
[{"$f":"IF(syoriyou!A1895=\"\",\"\",syoriyou!A1895)","v":""},{"$f":"IF(syoriyou!B1895=\"\",\"\",syoriyou!B1895)","v":""},{"$f":"IF(syoriyou!C1895=\"\",\"\",syoriyou!C1895)","v":""},{"$f":"IF(syoriyou!D1895=\"\",\"\",syoriyou!D1895)","v":""},{"$f":"IF(syoriyou!E1895=\"\",\"\",syoriyou!E1895)","v":""},{"$f":"IF(syoriyou!F1895=\"\",\"\",syoriyou!F1895)","v":""},{"$f":"IF(syoriyou!G1895=\"\",\"\",syoriyou!G1895)","v":""},{"$f":"IF(syoriyou!H1895=\"\",\"\",syoriyou!H1895)","v":""},{"$f":"IF(syoriyou!I1895=\"\",\"\",syoriyou!I1895)","v":""},{"$f":"IF(syoriyou!J1895=\"\",\"\",syoriyou!N1895)","v":""}]
[{"$f":"IF(syoriyou!A1896=\"\",\"\",syoriyou!A1896)","v":""},{"$f":"IF(syoriyou!B1896=\"\",\"\",syoriyou!B1896)","v":""},{"$f":"IF(syoriyou!C1896=\"\",\"\",syoriyou!C1896)","v":""},{"$f":"IF(syoriyou!D1896=\"\",\"\",syoriyou!D1896)","v":""},{"$f":"IF(syoriyou!E1896=\"\",\"\",syoriyou!E1896)","v":""},{"$f":"IF(syoriyou!F1896=\"\",\"\",syoriyou!F1896)","v":""},{"$f":"IF(syoriyou!G1896=\"\",\"\",syoriyou!G1896)","v":""},{"$f":"IF(syoriyou!H1896=\"\",\"\",syoriyou!H1896)","v":""},{"$f":"IF(syoriyou!I1896=\"\",\"\",syoriyou!I1896)","v":""},{"$f":"IF(syoriyou!J1896=\"\",\"\",syoriyou!N1896)","v":""}]
[{"$f":"IF(syoriyou!A1897=\"\",\"\",syoriyou!A1897)","v":""},{"$f":"IF(syoriyou!B1897=\"\",\"\",syoriyou!B1897)","v":""},{"$f":"IF(syoriyou!C1897=\"\",\"\",syoriyou!C1897)","v":""},{"$f":"IF(syoriyou!D1897=\"\",\"\",syoriyou!D1897)","v":""},{"$f":"IF(syoriyou!E1897=\"\",\"\",syoriyou!E1897)","v":""},{"$f":"IF(syoriyou!F1897=\"\",\"\",syoriyou!F1897)","v":""},{"$f":"IF(syoriyou!G1897=\"\",\"\",syoriyou!G1897)","v":""},{"$f":"IF(syoriyou!H1897=\"\",\"\",syoriyou!H1897)","v":""},{"$f":"IF(syoriyou!I1897=\"\",\"\",syoriyou!I1897)","v":""},{"$f":"IF(syoriyou!J1897=\"\",\"\",syoriyou!N1897)","v":""}]
[{"$f":"IF(syoriyou!A1898=\"\",\"\",syoriyou!A1898)","v":""},{"$f":"IF(syoriyou!B1898=\"\",\"\",syoriyou!B1898)","v":""},{"$f":"IF(syoriyou!C1898=\"\",\"\",syoriyou!C1898)","v":""},{"$f":"IF(syoriyou!D1898=\"\",\"\",syoriyou!D1898)","v":""},{"$f":"IF(syoriyou!E1898=\"\",\"\",syoriyou!E1898)","v":""},{"$f":"IF(syoriyou!F1898=\"\",\"\",syoriyou!F1898)","v":""},{"$f":"IF(syoriyou!G1898=\"\",\"\",syoriyou!G1898)","v":""},{"$f":"IF(syoriyou!H1898=\"\",\"\",syoriyou!H1898)","v":""},{"$f":"IF(syoriyou!I1898=\"\",\"\",syoriyou!I1898)","v":""},{"$f":"IF(syoriyou!J1898=\"\",\"\",syoriyou!N1898)","v":""}]
[{"$f":"IF(syoriyou!A1899=\"\",\"\",syoriyou!A1899)","v":""},{"$f":"IF(syoriyou!B1899=\"\",\"\",syoriyou!B1899)","v":""},{"$f":"IF(syoriyou!C1899=\"\",\"\",syoriyou!C1899)","v":""},{"$f":"IF(syoriyou!D1899=\"\",\"\",syoriyou!D1899)","v":""},{"$f":"IF(syoriyou!E1899=\"\",\"\",syoriyou!E1899)","v":""},{"$f":"IF(syoriyou!F1899=\"\",\"\",syoriyou!F1899)","v":""},{"$f":"IF(syoriyou!G1899=\"\",\"\",syoriyou!G1899)","v":""},{"$f":"IF(syoriyou!H1899=\"\",\"\",syoriyou!H1899)","v":""},{"$f":"IF(syoriyou!I1899=\"\",\"\",syoriyou!I1899)","v":""},{"$f":"IF(syoriyou!J1899=\"\",\"\",syoriyou!N1899)","v":""}]
[{"$f":"IF(syoriyou!A1900=\"\",\"\",syoriyou!A1900)","v":""},{"$f":"IF(syoriyou!B1900=\"\",\"\",syoriyou!B1900)","v":""},{"$f":"IF(syoriyou!C1900=\"\",\"\",syoriyou!C1900)","v":""},{"$f":"IF(syoriyou!D1900=\"\",\"\",syoriyou!D1900)","v":""},{"$f":"IF(syoriyou!E1900=\"\",\"\",syoriyou!E1900)","v":""},{"$f":"IF(syoriyou!F1900=\"\",\"\",syoriyou!F1900)","v":""},{"$f":"IF(syoriyou!G1900=\"\",\"\",syoriyou!G1900)","v":""},{"$f":"IF(syoriyou!H1900=\"\",\"\",syoriyou!H1900)","v":""},{"$f":"IF(syoriyou!I1900=\"\",\"\",syoriyou!I1900)","v":""},{"$f":"IF(syoriyou!J1900=\"\",\"\",syoriyou!N1900)","v":""}]
[{"$f":"IF(syoriyou!A1901=\"\",\"\",syoriyou!A1901)","v":""},{"$f":"IF(syoriyou!B1901=\"\",\"\",syoriyou!B1901)","v":""},{"$f":"IF(syoriyou!C1901=\"\",\"\",syoriyou!C1901)","v":""},{"$f":"IF(syoriyou!D1901=\"\",\"\",syoriyou!D1901)","v":""},{"$f":"IF(syoriyou!E1901=\"\",\"\",syoriyou!E1901)","v":""},{"$f":"IF(syoriyou!F1901=\"\",\"\",syoriyou!F1901)","v":""},{"$f":"IF(syoriyou!G1901=\"\",\"\",syoriyou!G1901)","v":""},{"$f":"IF(syoriyou!H1901=\"\",\"\",syoriyou!H1901)","v":""},{"$f":"IF(syoriyou!I1901=\"\",\"\",syoriyou!I1901)","v":""},{"$f":"IF(syoriyou!J1901=\"\",\"\",syoriyou!N1901)","v":""}]
[{"$f":"IF(syoriyou!A1902=\"\",\"\",syoriyou!A1902)","v":""},{"$f":"IF(syoriyou!B1902=\"\",\"\",syoriyou!B1902)","v":""},{"$f":"IF(syoriyou!C1902=\"\",\"\",syoriyou!C1902)","v":""},{"$f":"IF(syoriyou!D1902=\"\",\"\",syoriyou!D1902)","v":""},{"$f":"IF(syoriyou!E1902=\"\",\"\",syoriyou!E1902)","v":""},{"$f":"IF(syoriyou!F1902=\"\",\"\",syoriyou!F1902)","v":""},{"$f":"IF(syoriyou!G1902=\"\",\"\",syoriyou!G1902)","v":""},{"$f":"IF(syoriyou!H1902=\"\",\"\",syoriyou!H1902)","v":""},{"$f":"IF(syoriyou!I1902=\"\",\"\",syoriyou!I1902)","v":""},{"$f":"IF(syoriyou!J1902=\"\",\"\",syoriyou!N1902)","v":""}]
[{"$f":"IF(syoriyou!A1903=\"\",\"\",syoriyou!A1903)","v":""},{"$f":"IF(syoriyou!B1903=\"\",\"\",syoriyou!B1903)","v":""},{"$f":"IF(syoriyou!C1903=\"\",\"\",syoriyou!C1903)","v":""},{"$f":"IF(syoriyou!D1903=\"\",\"\",syoriyou!D1903)","v":""},{"$f":"IF(syoriyou!E1903=\"\",\"\",syoriyou!E1903)","v":""},{"$f":"IF(syoriyou!F1903=\"\",\"\",syoriyou!F1903)","v":""},{"$f":"IF(syoriyou!G1903=\"\",\"\",syoriyou!G1903)","v":""},{"$f":"IF(syoriyou!H1903=\"\",\"\",syoriyou!H1903)","v":""},{"$f":"IF(syoriyou!I1903=\"\",\"\",syoriyou!I1903)","v":""},{"$f":"IF(syoriyou!J1903=\"\",\"\",syoriyou!N1903)","v":""}]
[{"$f":"IF(syoriyou!A1904=\"\",\"\",syoriyou!A1904)","v":""},{"$f":"IF(syoriyou!B1904=\"\",\"\",syoriyou!B1904)","v":""},{"$f":"IF(syoriyou!C1904=\"\",\"\",syoriyou!C1904)","v":""},{"$f":"IF(syoriyou!D1904=\"\",\"\",syoriyou!D1904)","v":""},{"$f":"IF(syoriyou!E1904=\"\",\"\",syoriyou!E1904)","v":""},{"$f":"IF(syoriyou!F1904=\"\",\"\",syoriyou!F1904)","v":""},{"$f":"IF(syoriyou!G1904=\"\",\"\",syoriyou!G1904)","v":""},{"$f":"IF(syoriyou!H1904=\"\",\"\",syoriyou!H1904)","v":""},{"$f":"IF(syoriyou!I1904=\"\",\"\",syoriyou!I1904)","v":""},{"$f":"IF(syoriyou!J1904=\"\",\"\",syoriyou!N1904)","v":""}]
[{"$f":"IF(syoriyou!A1905=\"\",\"\",syoriyou!A1905)","v":""},{"$f":"IF(syoriyou!B1905=\"\",\"\",syoriyou!B1905)","v":""},{"$f":"IF(syoriyou!C1905=\"\",\"\",syoriyou!C1905)","v":""},{"$f":"IF(syoriyou!D1905=\"\",\"\",syoriyou!D1905)","v":""},{"$f":"IF(syoriyou!E1905=\"\",\"\",syoriyou!E1905)","v":""},{"$f":"IF(syoriyou!F1905=\"\",\"\",syoriyou!F1905)","v":""},{"$f":"IF(syoriyou!G1905=\"\",\"\",syoriyou!G1905)","v":""},{"$f":"IF(syoriyou!H1905=\"\",\"\",syoriyou!H1905)","v":""},{"$f":"IF(syoriyou!I1905=\"\",\"\",syoriyou!I1905)","v":""},{"$f":"IF(syoriyou!J1905=\"\",\"\",syoriyou!N1905)","v":""}]
[{"$f":"IF(syoriyou!A1906=\"\",\"\",syoriyou!A1906)","v":""},{"$f":"IF(syoriyou!B1906=\"\",\"\",syoriyou!B1906)","v":""},{"$f":"IF(syoriyou!C1906=\"\",\"\",syoriyou!C1906)","v":""},{"$f":"IF(syoriyou!D1906=\"\",\"\",syoriyou!D1906)","v":""},{"$f":"IF(syoriyou!E1906=\"\",\"\",syoriyou!E1906)","v":""},{"$f":"IF(syoriyou!F1906=\"\",\"\",syoriyou!F1906)","v":""},{"$f":"IF(syoriyou!G1906=\"\",\"\",syoriyou!G1906)","v":""},{"$f":"IF(syoriyou!H1906=\"\",\"\",syoriyou!H1906)","v":""},{"$f":"IF(syoriyou!I1906=\"\",\"\",syoriyou!I1906)","v":""},{"$f":"IF(syoriyou!J1906=\"\",\"\",syoriyou!N1906)","v":""}]
[{"$f":"IF(syoriyou!A1907=\"\",\"\",syoriyou!A1907)","v":""},{"$f":"IF(syoriyou!B1907=\"\",\"\",syoriyou!B1907)","v":""},{"$f":"IF(syoriyou!C1907=\"\",\"\",syoriyou!C1907)","v":""},{"$f":"IF(syoriyou!D1907=\"\",\"\",syoriyou!D1907)","v":""},{"$f":"IF(syoriyou!E1907=\"\",\"\",syoriyou!E1907)","v":""},{"$f":"IF(syoriyou!F1907=\"\",\"\",syoriyou!F1907)","v":""},{"$f":"IF(syoriyou!G1907=\"\",\"\",syoriyou!G1907)","v":""},{"$f":"IF(syoriyou!H1907=\"\",\"\",syoriyou!H1907)","v":""},{"$f":"IF(syoriyou!I1907=\"\",\"\",syoriyou!I1907)","v":""},{"$f":"IF(syoriyou!J1907=\"\",\"\",syoriyou!N1907)","v":""}]
[{"$f":"IF(syoriyou!A1908=\"\",\"\",syoriyou!A1908)","v":""},{"$f":"IF(syoriyou!B1908=\"\",\"\",syoriyou!B1908)","v":""},{"$f":"IF(syoriyou!C1908=\"\",\"\",syoriyou!C1908)","v":""},{"$f":"IF(syoriyou!D1908=\"\",\"\",syoriyou!D1908)","v":""},{"$f":"IF(syoriyou!E1908=\"\",\"\",syoriyou!E1908)","v":""},{"$f":"IF(syoriyou!F1908=\"\",\"\",syoriyou!F1908)","v":""},{"$f":"IF(syoriyou!G1908=\"\",\"\",syoriyou!G1908)","v":""},{"$f":"IF(syoriyou!H1908=\"\",\"\",syoriyou!H1908)","v":""},{"$f":"IF(syoriyou!I1908=\"\",\"\",syoriyou!I1908)","v":""},{"$f":"IF(syoriyou!J1908=\"\",\"\",syoriyou!N1908)","v":""}]
[{"$f":"IF(syoriyou!A1909=\"\",\"\",syoriyou!A1909)","v":""},{"$f":"IF(syoriyou!B1909=\"\",\"\",syoriyou!B1909)","v":""},{"$f":"IF(syoriyou!C1909=\"\",\"\",syoriyou!C1909)","v":""},{"$f":"IF(syoriyou!D1909=\"\",\"\",syoriyou!D1909)","v":""},{"$f":"IF(syoriyou!E1909=\"\",\"\",syoriyou!E1909)","v":""},{"$f":"IF(syoriyou!F1909=\"\",\"\",syoriyou!F1909)","v":""},{"$f":"IF(syoriyou!G1909=\"\",\"\",syoriyou!G1909)","v":""},{"$f":"IF(syoriyou!H1909=\"\",\"\",syoriyou!H1909)","v":""},{"$f":"IF(syoriyou!I1909=\"\",\"\",syoriyou!I1909)","v":""},{"$f":"IF(syoriyou!J1909=\"\",\"\",syoriyou!N1909)","v":""}]
[{"$f":"IF(syoriyou!A1910=\"\",\"\",syoriyou!A1910)","v":""},{"$f":"IF(syoriyou!B1910=\"\",\"\",syoriyou!B1910)","v":""},{"$f":"IF(syoriyou!C1910=\"\",\"\",syoriyou!C1910)","v":""},{"$f":"IF(syoriyou!D1910=\"\",\"\",syoriyou!D1910)","v":""},{"$f":"IF(syoriyou!E1910=\"\",\"\",syoriyou!E1910)","v":""},{"$f":"IF(syoriyou!F1910=\"\",\"\",syoriyou!F1910)","v":""},{"$f":"IF(syoriyou!G1910=\"\",\"\",syoriyou!G1910)","v":""},{"$f":"IF(syoriyou!H1910=\"\",\"\",syoriyou!H1910)","v":""},{"$f":"IF(syoriyou!I1910=\"\",\"\",syoriyou!I1910)","v":""},{"$f":"IF(syoriyou!J1910=\"\",\"\",syoriyou!N1910)","v":""}]
[{"$f":"IF(syoriyou!A1911=\"\",\"\",syoriyou!A1911)","v":""},{"$f":"IF(syoriyou!B1911=\"\",\"\",syoriyou!B1911)","v":""},{"$f":"IF(syoriyou!C1911=\"\",\"\",syoriyou!C1911)","v":""},{"$f":"IF(syoriyou!D1911=\"\",\"\",syoriyou!D1911)","v":""},{"$f":"IF(syoriyou!E1911=\"\",\"\",syoriyou!E1911)","v":""},{"$f":"IF(syoriyou!F1911=\"\",\"\",syoriyou!F1911)","v":""},{"$f":"IF(syoriyou!G1911=\"\",\"\",syoriyou!G1911)","v":""},{"$f":"IF(syoriyou!H1911=\"\",\"\",syoriyou!H1911)","v":""},{"$f":"IF(syoriyou!I1911=\"\",\"\",syoriyou!I1911)","v":""},{"$f":"IF(syoriyou!J1911=\"\",\"\",syoriyou!N1911)","v":""}]
[{"$f":"IF(syoriyou!A1912=\"\",\"\",syoriyou!A1912)","v":""},{"$f":"IF(syoriyou!B1912=\"\",\"\",syoriyou!B1912)","v":""},{"$f":"IF(syoriyou!C1912=\"\",\"\",syoriyou!C1912)","v":""},{"$f":"IF(syoriyou!D1912=\"\",\"\",syoriyou!D1912)","v":""},{"$f":"IF(syoriyou!E1912=\"\",\"\",syoriyou!E1912)","v":""},{"$f":"IF(syoriyou!F1912=\"\",\"\",syoriyou!F1912)","v":""},{"$f":"IF(syoriyou!G1912=\"\",\"\",syoriyou!G1912)","v":""},{"$f":"IF(syoriyou!H1912=\"\",\"\",syoriyou!H1912)","v":""},{"$f":"IF(syoriyou!I1912=\"\",\"\",syoriyou!I1912)","v":""},{"$f":"IF(syoriyou!J1912=\"\",\"\",syoriyou!N1912)","v":""}]
[{"$f":"IF(syoriyou!A1913=\"\",\"\",syoriyou!A1913)","v":""},{"$f":"IF(syoriyou!B1913=\"\",\"\",syoriyou!B1913)","v":""},{"$f":"IF(syoriyou!C1913=\"\",\"\",syoriyou!C1913)","v":""},{"$f":"IF(syoriyou!D1913=\"\",\"\",syoriyou!D1913)","v":""},{"$f":"IF(syoriyou!E1913=\"\",\"\",syoriyou!E1913)","v":""},{"$f":"IF(syoriyou!F1913=\"\",\"\",syoriyou!F1913)","v":""},{"$f":"IF(syoriyou!G1913=\"\",\"\",syoriyou!G1913)","v":""},{"$f":"IF(syoriyou!H1913=\"\",\"\",syoriyou!H1913)","v":""},{"$f":"IF(syoriyou!I1913=\"\",\"\",syoriyou!I1913)","v":""},{"$f":"IF(syoriyou!J1913=\"\",\"\",syoriyou!N1913)","v":""}]
[{"$f":"IF(syoriyou!A1914=\"\",\"\",syoriyou!A1914)","v":""},{"$f":"IF(syoriyou!B1914=\"\",\"\",syoriyou!B1914)","v":""},{"$f":"IF(syoriyou!C1914=\"\",\"\",syoriyou!C1914)","v":""},{"$f":"IF(syoriyou!D1914=\"\",\"\",syoriyou!D1914)","v":""},{"$f":"IF(syoriyou!E1914=\"\",\"\",syoriyou!E1914)","v":""},{"$f":"IF(syoriyou!F1914=\"\",\"\",syoriyou!F1914)","v":""},{"$f":"IF(syoriyou!G1914=\"\",\"\",syoriyou!G1914)","v":""},{"$f":"IF(syoriyou!H1914=\"\",\"\",syoriyou!H1914)","v":""},{"$f":"IF(syoriyou!I1914=\"\",\"\",syoriyou!I1914)","v":""},{"$f":"IF(syoriyou!J1914=\"\",\"\",syoriyou!N1914)","v":""}]
[{"$f":"IF(syoriyou!A1915=\"\",\"\",syoriyou!A1915)","v":""},{"$f":"IF(syoriyou!B1915=\"\",\"\",syoriyou!B1915)","v":""},{"$f":"IF(syoriyou!C1915=\"\",\"\",syoriyou!C1915)","v":""},{"$f":"IF(syoriyou!D1915=\"\",\"\",syoriyou!D1915)","v":""},{"$f":"IF(syoriyou!E1915=\"\",\"\",syoriyou!E1915)","v":""},{"$f":"IF(syoriyou!F1915=\"\",\"\",syoriyou!F1915)","v":""},{"$f":"IF(syoriyou!G1915=\"\",\"\",syoriyou!G1915)","v":""},{"$f":"IF(syoriyou!H1915=\"\",\"\",syoriyou!H1915)","v":""},{"$f":"IF(syoriyou!I1915=\"\",\"\",syoriyou!I1915)","v":""},{"$f":"IF(syoriyou!J1915=\"\",\"\",syoriyou!N1915)","v":""}]
[{"$f":"IF(syoriyou!A1916=\"\",\"\",syoriyou!A1916)","v":""},{"$f":"IF(syoriyou!B1916=\"\",\"\",syoriyou!B1916)","v":""},{"$f":"IF(syoriyou!C1916=\"\",\"\",syoriyou!C1916)","v":""},{"$f":"IF(syoriyou!D1916=\"\",\"\",syoriyou!D1916)","v":""},{"$f":"IF(syoriyou!E1916=\"\",\"\",syoriyou!E1916)","v":""},{"$f":"IF(syoriyou!F1916=\"\",\"\",syoriyou!F1916)","v":""},{"$f":"IF(syoriyou!G1916=\"\",\"\",syoriyou!G1916)","v":""},{"$f":"IF(syoriyou!H1916=\"\",\"\",syoriyou!H1916)","v":""},{"$f":"IF(syoriyou!I1916=\"\",\"\",syoriyou!I1916)","v":""},{"$f":"IF(syoriyou!J1916=\"\",\"\",syoriyou!N1916)","v":""}]
[{"$f":"IF(syoriyou!A1917=\"\",\"\",syoriyou!A1917)","v":""},{"$f":"IF(syoriyou!B1917=\"\",\"\",syoriyou!B1917)","v":""},{"$f":"IF(syoriyou!C1917=\"\",\"\",syoriyou!C1917)","v":""},{"$f":"IF(syoriyou!D1917=\"\",\"\",syoriyou!D1917)","v":""},{"$f":"IF(syoriyou!E1917=\"\",\"\",syoriyou!E1917)","v":""},{"$f":"IF(syoriyou!F1917=\"\",\"\",syoriyou!F1917)","v":""},{"$f":"IF(syoriyou!G1917=\"\",\"\",syoriyou!G1917)","v":""},{"$f":"IF(syoriyou!H1917=\"\",\"\",syoriyou!H1917)","v":""},{"$f":"IF(syoriyou!I1917=\"\",\"\",syoriyou!I1917)","v":""},{"$f":"IF(syoriyou!J1917=\"\",\"\",syoriyou!N1917)","v":""}]
[{"$f":"IF(syoriyou!A1918=\"\",\"\",syoriyou!A1918)","v":""},{"$f":"IF(syoriyou!B1918=\"\",\"\",syoriyou!B1918)","v":""},{"$f":"IF(syoriyou!C1918=\"\",\"\",syoriyou!C1918)","v":""},{"$f":"IF(syoriyou!D1918=\"\",\"\",syoriyou!D1918)","v":""},{"$f":"IF(syoriyou!E1918=\"\",\"\",syoriyou!E1918)","v":""},{"$f":"IF(syoriyou!F1918=\"\",\"\",syoriyou!F1918)","v":""},{"$f":"IF(syoriyou!G1918=\"\",\"\",syoriyou!G1918)","v":""},{"$f":"IF(syoriyou!H1918=\"\",\"\",syoriyou!H1918)","v":""},{"$f":"IF(syoriyou!I1918=\"\",\"\",syoriyou!I1918)","v":""},{"$f":"IF(syoriyou!J1918=\"\",\"\",syoriyou!N1918)","v":""}]
[{"$f":"IF(syoriyou!A1919=\"\",\"\",syoriyou!A1919)","v":""},{"$f":"IF(syoriyou!B1919=\"\",\"\",syoriyou!B1919)","v":""},{"$f":"IF(syoriyou!C1919=\"\",\"\",syoriyou!C1919)","v":""},{"$f":"IF(syoriyou!D1919=\"\",\"\",syoriyou!D1919)","v":""},{"$f":"IF(syoriyou!E1919=\"\",\"\",syoriyou!E1919)","v":""},{"$f":"IF(syoriyou!F1919=\"\",\"\",syoriyou!F1919)","v":""},{"$f":"IF(syoriyou!G1919=\"\",\"\",syoriyou!G1919)","v":""},{"$f":"IF(syoriyou!H1919=\"\",\"\",syoriyou!H1919)","v":""},{"$f":"IF(syoriyou!I1919=\"\",\"\",syoriyou!I1919)","v":""},{"$f":"IF(syoriyou!J1919=\"\",\"\",syoriyou!N1919)","v":""}]
[{"$f":"IF(syoriyou!A1920=\"\",\"\",syoriyou!A1920)","v":""},{"$f":"IF(syoriyou!B1920=\"\",\"\",syoriyou!B1920)","v":""},{"$f":"IF(syoriyou!C1920=\"\",\"\",syoriyou!C1920)","v":""},{"$f":"IF(syoriyou!D1920=\"\",\"\",syoriyou!D1920)","v":""},{"$f":"IF(syoriyou!E1920=\"\",\"\",syoriyou!E1920)","v":""},{"$f":"IF(syoriyou!F1920=\"\",\"\",syoriyou!F1920)","v":""},{"$f":"IF(syoriyou!G1920=\"\",\"\",syoriyou!G1920)","v":""},{"$f":"IF(syoriyou!H1920=\"\",\"\",syoriyou!H1920)","v":""},{"$f":"IF(syoriyou!I1920=\"\",\"\",syoriyou!I1920)","v":""},{"$f":"IF(syoriyou!J1920=\"\",\"\",syoriyou!N1920)","v":""}]
[{"$f":"IF(syoriyou!A1921=\"\",\"\",syoriyou!A1921)","v":""},{"$f":"IF(syoriyou!B1921=\"\",\"\",syoriyou!B1921)","v":""},{"$f":"IF(syoriyou!C1921=\"\",\"\",syoriyou!C1921)","v":""},{"$f":"IF(syoriyou!D1921=\"\",\"\",syoriyou!D1921)","v":""},{"$f":"IF(syoriyou!E1921=\"\",\"\",syoriyou!E1921)","v":""},{"$f":"IF(syoriyou!F1921=\"\",\"\",syoriyou!F1921)","v":""},{"$f":"IF(syoriyou!G1921=\"\",\"\",syoriyou!G1921)","v":""},{"$f":"IF(syoriyou!H1921=\"\",\"\",syoriyou!H1921)","v":""},{"$f":"IF(syoriyou!I1921=\"\",\"\",syoriyou!I1921)","v":""},{"$f":"IF(syoriyou!J1921=\"\",\"\",syoriyou!N1921)","v":""}]
[{"$f":"IF(syoriyou!A1922=\"\",\"\",syoriyou!A1922)","v":""},{"$f":"IF(syoriyou!B1922=\"\",\"\",syoriyou!B1922)","v":""},{"$f":"IF(syoriyou!C1922=\"\",\"\",syoriyou!C1922)","v":""},{"$f":"IF(syoriyou!D1922=\"\",\"\",syoriyou!D1922)","v":""},{"$f":"IF(syoriyou!E1922=\"\",\"\",syoriyou!E1922)","v":""},{"$f":"IF(syoriyou!F1922=\"\",\"\",syoriyou!F1922)","v":""},{"$f":"IF(syoriyou!G1922=\"\",\"\",syoriyou!G1922)","v":""},{"$f":"IF(syoriyou!H1922=\"\",\"\",syoriyou!H1922)","v":""},{"$f":"IF(syoriyou!I1922=\"\",\"\",syoriyou!I1922)","v":""},{"$f":"IF(syoriyou!J1922=\"\",\"\",syoriyou!N1922)","v":""}]
[{"$f":"IF(syoriyou!A1923=\"\",\"\",syoriyou!A1923)","v":""},{"$f":"IF(syoriyou!B1923=\"\",\"\",syoriyou!B1923)","v":""},{"$f":"IF(syoriyou!C1923=\"\",\"\",syoriyou!C1923)","v":""},{"$f":"IF(syoriyou!D1923=\"\",\"\",syoriyou!D1923)","v":""},{"$f":"IF(syoriyou!E1923=\"\",\"\",syoriyou!E1923)","v":""},{"$f":"IF(syoriyou!F1923=\"\",\"\",syoriyou!F1923)","v":""},{"$f":"IF(syoriyou!G1923=\"\",\"\",syoriyou!G1923)","v":""},{"$f":"IF(syoriyou!H1923=\"\",\"\",syoriyou!H1923)","v":""},{"$f":"IF(syoriyou!I1923=\"\",\"\",syoriyou!I1923)","v":""},{"$f":"IF(syoriyou!J1923=\"\",\"\",syoriyou!N1923)","v":""}]
[{"$f":"IF(syoriyou!A1924=\"\",\"\",syoriyou!A1924)","v":""},{"$f":"IF(syoriyou!B1924=\"\",\"\",syoriyou!B1924)","v":""},{"$f":"IF(syoriyou!C1924=\"\",\"\",syoriyou!C1924)","v":""},{"$f":"IF(syoriyou!D1924=\"\",\"\",syoriyou!D1924)","v":""},{"$f":"IF(syoriyou!E1924=\"\",\"\",syoriyou!E1924)","v":""},{"$f":"IF(syoriyou!F1924=\"\",\"\",syoriyou!F1924)","v":""},{"$f":"IF(syoriyou!G1924=\"\",\"\",syoriyou!G1924)","v":""},{"$f":"IF(syoriyou!H1924=\"\",\"\",syoriyou!H1924)","v":""},{"$f":"IF(syoriyou!I1924=\"\",\"\",syoriyou!I1924)","v":""},{"$f":"IF(syoriyou!J1924=\"\",\"\",syoriyou!N1924)","v":""}]
[{"$f":"IF(syoriyou!A1925=\"\",\"\",syoriyou!A1925)","v":""},{"$f":"IF(syoriyou!B1925=\"\",\"\",syoriyou!B1925)","v":""},{"$f":"IF(syoriyou!C1925=\"\",\"\",syoriyou!C1925)","v":""},{"$f":"IF(syoriyou!D1925=\"\",\"\",syoriyou!D1925)","v":""},{"$f":"IF(syoriyou!E1925=\"\",\"\",syoriyou!E1925)","v":""},{"$f":"IF(syoriyou!F1925=\"\",\"\",syoriyou!F1925)","v":""},{"$f":"IF(syoriyou!G1925=\"\",\"\",syoriyou!G1925)","v":""},{"$f":"IF(syoriyou!H1925=\"\",\"\",syoriyou!H1925)","v":""},{"$f":"IF(syoriyou!I1925=\"\",\"\",syoriyou!I1925)","v":""},{"$f":"IF(syoriyou!J1925=\"\",\"\",syoriyou!N1925)","v":""}]
[{"$f":"IF(syoriyou!A1926=\"\",\"\",syoriyou!A1926)","v":""},{"$f":"IF(syoriyou!B1926=\"\",\"\",syoriyou!B1926)","v":""},{"$f":"IF(syoriyou!C1926=\"\",\"\",syoriyou!C1926)","v":""},{"$f":"IF(syoriyou!D1926=\"\",\"\",syoriyou!D1926)","v":""},{"$f":"IF(syoriyou!E1926=\"\",\"\",syoriyou!E1926)","v":""},{"$f":"IF(syoriyou!F1926=\"\",\"\",syoriyou!F1926)","v":""},{"$f":"IF(syoriyou!G1926=\"\",\"\",syoriyou!G1926)","v":""},{"$f":"IF(syoriyou!H1926=\"\",\"\",syoriyou!H1926)","v":""},{"$f":"IF(syoriyou!I1926=\"\",\"\",syoriyou!I1926)","v":""},{"$f":"IF(syoriyou!J1926=\"\",\"\",syoriyou!N1926)","v":""}]
[{"$f":"IF(syoriyou!A1927=\"\",\"\",syoriyou!A1927)","v":""},{"$f":"IF(syoriyou!B1927=\"\",\"\",syoriyou!B1927)","v":""},{"$f":"IF(syoriyou!C1927=\"\",\"\",syoriyou!C1927)","v":""},{"$f":"IF(syoriyou!D1927=\"\",\"\",syoriyou!D1927)","v":""},{"$f":"IF(syoriyou!E1927=\"\",\"\",syoriyou!E1927)","v":""},{"$f":"IF(syoriyou!F1927=\"\",\"\",syoriyou!F1927)","v":""},{"$f":"IF(syoriyou!G1927=\"\",\"\",syoriyou!G1927)","v":""},{"$f":"IF(syoriyou!H1927=\"\",\"\",syoriyou!H1927)","v":""},{"$f":"IF(syoriyou!I1927=\"\",\"\",syoriyou!I1927)","v":""},{"$f":"IF(syoriyou!J1927=\"\",\"\",syoriyou!N1927)","v":""}]
[{"$f":"IF(syoriyou!A1928=\"\",\"\",syoriyou!A1928)","v":""},{"$f":"IF(syoriyou!B1928=\"\",\"\",syoriyou!B1928)","v":""},{"$f":"IF(syoriyou!C1928=\"\",\"\",syoriyou!C1928)","v":""},{"$f":"IF(syoriyou!D1928=\"\",\"\",syoriyou!D1928)","v":""},{"$f":"IF(syoriyou!E1928=\"\",\"\",syoriyou!E1928)","v":""},{"$f":"IF(syoriyou!F1928=\"\",\"\",syoriyou!F1928)","v":""},{"$f":"IF(syoriyou!G1928=\"\",\"\",syoriyou!G1928)","v":""},{"$f":"IF(syoriyou!H1928=\"\",\"\",syoriyou!H1928)","v":""},{"$f":"IF(syoriyou!I1928=\"\",\"\",syoriyou!I1928)","v":""},{"$f":"IF(syoriyou!J1928=\"\",\"\",syoriyou!N1928)","v":""}]
[{"$f":"IF(syoriyou!A1929=\"\",\"\",syoriyou!A1929)","v":""},{"$f":"IF(syoriyou!B1929=\"\",\"\",syoriyou!B1929)","v":""},{"$f":"IF(syoriyou!C1929=\"\",\"\",syoriyou!C1929)","v":""},{"$f":"IF(syoriyou!D1929=\"\",\"\",syoriyou!D1929)","v":""},{"$f":"IF(syoriyou!E1929=\"\",\"\",syoriyou!E1929)","v":""},{"$f":"IF(syoriyou!F1929=\"\",\"\",syoriyou!F1929)","v":""},{"$f":"IF(syoriyou!G1929=\"\",\"\",syoriyou!G1929)","v":""},{"$f":"IF(syoriyou!H1929=\"\",\"\",syoriyou!H1929)","v":""},{"$f":"IF(syoriyou!I1929=\"\",\"\",syoriyou!I1929)","v":""},{"$f":"IF(syoriyou!J1929=\"\",\"\",syoriyou!N1929)","v":""}]
[{"$f":"IF(syoriyou!A1930=\"\",\"\",syoriyou!A1930)","v":""},{"$f":"IF(syoriyou!B1930=\"\",\"\",syoriyou!B1930)","v":""},{"$f":"IF(syoriyou!C1930=\"\",\"\",syoriyou!C1930)","v":""},{"$f":"IF(syoriyou!D1930=\"\",\"\",syoriyou!D1930)","v":""},{"$f":"IF(syoriyou!E1930=\"\",\"\",syoriyou!E1930)","v":""},{"$f":"IF(syoriyou!F1930=\"\",\"\",syoriyou!F1930)","v":""},{"$f":"IF(syoriyou!G1930=\"\",\"\",syoriyou!G1930)","v":""},{"$f":"IF(syoriyou!H1930=\"\",\"\",syoriyou!H1930)","v":""},{"$f":"IF(syoriyou!I1930=\"\",\"\",syoriyou!I1930)","v":""},{"$f":"IF(syoriyou!J1930=\"\",\"\",syoriyou!N1930)","v":""}]
[{"$f":"IF(syoriyou!A1931=\"\",\"\",syoriyou!A1931)","v":""},{"$f":"IF(syoriyou!B1931=\"\",\"\",syoriyou!B1931)","v":""},{"$f":"IF(syoriyou!C1931=\"\",\"\",syoriyou!C1931)","v":""},{"$f":"IF(syoriyou!D1931=\"\",\"\",syoriyou!D1931)","v":""},{"$f":"IF(syoriyou!E1931=\"\",\"\",syoriyou!E1931)","v":""},{"$f":"IF(syoriyou!F1931=\"\",\"\",syoriyou!F1931)","v":""},{"$f":"IF(syoriyou!G1931=\"\",\"\",syoriyou!G1931)","v":""},{"$f":"IF(syoriyou!H1931=\"\",\"\",syoriyou!H1931)","v":""},{"$f":"IF(syoriyou!I1931=\"\",\"\",syoriyou!I1931)","v":""},{"$f":"IF(syoriyou!J1931=\"\",\"\",syoriyou!N1931)","v":""}]
[{"$f":"IF(syoriyou!A1932=\"\",\"\",syoriyou!A1932)","v":""},{"$f":"IF(syoriyou!B1932=\"\",\"\",syoriyou!B1932)","v":""},{"$f":"IF(syoriyou!C1932=\"\",\"\",syoriyou!C1932)","v":""},{"$f":"IF(syoriyou!D1932=\"\",\"\",syoriyou!D1932)","v":""},{"$f":"IF(syoriyou!E1932=\"\",\"\",syoriyou!E1932)","v":""},{"$f":"IF(syoriyou!F1932=\"\",\"\",syoriyou!F1932)","v":""},{"$f":"IF(syoriyou!G1932=\"\",\"\",syoriyou!G1932)","v":""},{"$f":"IF(syoriyou!H1932=\"\",\"\",syoriyou!H1932)","v":""},{"$f":"IF(syoriyou!I1932=\"\",\"\",syoriyou!I1932)","v":""},{"$f":"IF(syoriyou!J1932=\"\",\"\",syoriyou!N1932)","v":""}]
[{"$f":"IF(syoriyou!A1933=\"\",\"\",syoriyou!A1933)","v":""},{"$f":"IF(syoriyou!B1933=\"\",\"\",syoriyou!B1933)","v":""},{"$f":"IF(syoriyou!C1933=\"\",\"\",syoriyou!C1933)","v":""},{"$f":"IF(syoriyou!D1933=\"\",\"\",syoriyou!D1933)","v":""},{"$f":"IF(syoriyou!E1933=\"\",\"\",syoriyou!E1933)","v":""},{"$f":"IF(syoriyou!F1933=\"\",\"\",syoriyou!F1933)","v":""},{"$f":"IF(syoriyou!G1933=\"\",\"\",syoriyou!G1933)","v":""},{"$f":"IF(syoriyou!H1933=\"\",\"\",syoriyou!H1933)","v":""},{"$f":"IF(syoriyou!I1933=\"\",\"\",syoriyou!I1933)","v":""},{"$f":"IF(syoriyou!J1933=\"\",\"\",syoriyou!N1933)","v":""}]
[{"$f":"IF(syoriyou!A1934=\"\",\"\",syoriyou!A1934)","v":""},{"$f":"IF(syoriyou!B1934=\"\",\"\",syoriyou!B1934)","v":""},{"$f":"IF(syoriyou!C1934=\"\",\"\",syoriyou!C1934)","v":""},{"$f":"IF(syoriyou!D1934=\"\",\"\",syoriyou!D1934)","v":""},{"$f":"IF(syoriyou!E1934=\"\",\"\",syoriyou!E1934)","v":""},{"$f":"IF(syoriyou!F1934=\"\",\"\",syoriyou!F1934)","v":""},{"$f":"IF(syoriyou!G1934=\"\",\"\",syoriyou!G1934)","v":""},{"$f":"IF(syoriyou!H1934=\"\",\"\",syoriyou!H1934)","v":""},{"$f":"IF(syoriyou!I1934=\"\",\"\",syoriyou!I1934)","v":""},{"$f":"IF(syoriyou!J1934=\"\",\"\",syoriyou!N1934)","v":""}]
[{"$f":"IF(syoriyou!A1935=\"\",\"\",syoriyou!A1935)","v":""},{"$f":"IF(syoriyou!B1935=\"\",\"\",syoriyou!B1935)","v":""},{"$f":"IF(syoriyou!C1935=\"\",\"\",syoriyou!C1935)","v":""},{"$f":"IF(syoriyou!D1935=\"\",\"\",syoriyou!D1935)","v":""},{"$f":"IF(syoriyou!E1935=\"\",\"\",syoriyou!E1935)","v":""},{"$f":"IF(syoriyou!F1935=\"\",\"\",syoriyou!F1935)","v":""},{"$f":"IF(syoriyou!G1935=\"\",\"\",syoriyou!G1935)","v":""},{"$f":"IF(syoriyou!H1935=\"\",\"\",syoriyou!H1935)","v":""},{"$f":"IF(syoriyou!I1935=\"\",\"\",syoriyou!I1935)","v":""},{"$f":"IF(syoriyou!J1935=\"\",\"\",syoriyou!N1935)","v":""}]
[{"$f":"IF(syoriyou!A1936=\"\",\"\",syoriyou!A1936)","v":""},{"$f":"IF(syoriyou!B1936=\"\",\"\",syoriyou!B1936)","v":""},{"$f":"IF(syoriyou!C1936=\"\",\"\",syoriyou!C1936)","v":""},{"$f":"IF(syoriyou!D1936=\"\",\"\",syoriyou!D1936)","v":""},{"$f":"IF(syoriyou!E1936=\"\",\"\",syoriyou!E1936)","v":""},{"$f":"IF(syoriyou!F1936=\"\",\"\",syoriyou!F1936)","v":""},{"$f":"IF(syoriyou!G1936=\"\",\"\",syoriyou!G1936)","v":""},{"$f":"IF(syoriyou!H1936=\"\",\"\",syoriyou!H1936)","v":""},{"$f":"IF(syoriyou!I1936=\"\",\"\",syoriyou!I1936)","v":""},{"$f":"IF(syoriyou!J1936=\"\",\"\",syoriyou!N1936)","v":""}]
[{"$f":"IF(syoriyou!A1937=\"\",\"\",syoriyou!A1937)","v":""},{"$f":"IF(syoriyou!B1937=\"\",\"\",syoriyou!B1937)","v":""},{"$f":"IF(syoriyou!C1937=\"\",\"\",syoriyou!C1937)","v":""},{"$f":"IF(syoriyou!D1937=\"\",\"\",syoriyou!D1937)","v":""},{"$f":"IF(syoriyou!E1937=\"\",\"\",syoriyou!E1937)","v":""},{"$f":"IF(syoriyou!F1937=\"\",\"\",syoriyou!F1937)","v":""},{"$f":"IF(syoriyou!G1937=\"\",\"\",syoriyou!G1937)","v":""},{"$f":"IF(syoriyou!H1937=\"\",\"\",syoriyou!H1937)","v":""},{"$f":"IF(syoriyou!I1937=\"\",\"\",syoriyou!I1937)","v":""},{"$f":"IF(syoriyou!J1937=\"\",\"\",syoriyou!N1937)","v":""}]
[{"$f":"IF(syoriyou!A1938=\"\",\"\",syoriyou!A1938)","v":""},{"$f":"IF(syoriyou!B1938=\"\",\"\",syoriyou!B1938)","v":""},{"$f":"IF(syoriyou!C1938=\"\",\"\",syoriyou!C1938)","v":""},{"$f":"IF(syoriyou!D1938=\"\",\"\",syoriyou!D1938)","v":""},{"$f":"IF(syoriyou!E1938=\"\",\"\",syoriyou!E1938)","v":""},{"$f":"IF(syoriyou!F1938=\"\",\"\",syoriyou!F1938)","v":""},{"$f":"IF(syoriyou!G1938=\"\",\"\",syoriyou!G1938)","v":""},{"$f":"IF(syoriyou!H1938=\"\",\"\",syoriyou!H1938)","v":""},{"$f":"IF(syoriyou!I1938=\"\",\"\",syoriyou!I1938)","v":""},{"$f":"IF(syoriyou!J1938=\"\",\"\",syoriyou!N1938)","v":""}]
[{"$f":"IF(syoriyou!A1939=\"\",\"\",syoriyou!A1939)","v":""},{"$f":"IF(syoriyou!B1939=\"\",\"\",syoriyou!B1939)","v":""},{"$f":"IF(syoriyou!C1939=\"\",\"\",syoriyou!C1939)","v":""},{"$f":"IF(syoriyou!D1939=\"\",\"\",syoriyou!D1939)","v":""},{"$f":"IF(syoriyou!E1939=\"\",\"\",syoriyou!E1939)","v":""},{"$f":"IF(syoriyou!F1939=\"\",\"\",syoriyou!F1939)","v":""},{"$f":"IF(syoriyou!G1939=\"\",\"\",syoriyou!G1939)","v":""},{"$f":"IF(syoriyou!H1939=\"\",\"\",syoriyou!H1939)","v":""},{"$f":"IF(syoriyou!I1939=\"\",\"\",syoriyou!I1939)","v":""},{"$f":"IF(syoriyou!J1939=\"\",\"\",syoriyou!N1939)","v":""}]
[{"$f":"IF(syoriyou!A1940=\"\",\"\",syoriyou!A1940)","v":""},{"$f":"IF(syoriyou!B1940=\"\",\"\",syoriyou!B1940)","v":""},{"$f":"IF(syoriyou!C1940=\"\",\"\",syoriyou!C1940)","v":""},{"$f":"IF(syoriyou!D1940=\"\",\"\",syoriyou!D1940)","v":""},{"$f":"IF(syoriyou!E1940=\"\",\"\",syoriyou!E1940)","v":""},{"$f":"IF(syoriyou!F1940=\"\",\"\",syoriyou!F1940)","v":""},{"$f":"IF(syoriyou!G1940=\"\",\"\",syoriyou!G1940)","v":""},{"$f":"IF(syoriyou!H1940=\"\",\"\",syoriyou!H1940)","v":""},{"$f":"IF(syoriyou!I1940=\"\",\"\",syoriyou!I1940)","v":""},{"$f":"IF(syoriyou!J1940=\"\",\"\",syoriyou!N1940)","v":""}]
[{"$f":"IF(syoriyou!A1941=\"\",\"\",syoriyou!A1941)","v":""},{"$f":"IF(syoriyou!B1941=\"\",\"\",syoriyou!B1941)","v":""},{"$f":"IF(syoriyou!C1941=\"\",\"\",syoriyou!C1941)","v":""},{"$f":"IF(syoriyou!D1941=\"\",\"\",syoriyou!D1941)","v":""},{"$f":"IF(syoriyou!E1941=\"\",\"\",syoriyou!E1941)","v":""},{"$f":"IF(syoriyou!F1941=\"\",\"\",syoriyou!F1941)","v":""},{"$f":"IF(syoriyou!G1941=\"\",\"\",syoriyou!G1941)","v":""},{"$f":"IF(syoriyou!H1941=\"\",\"\",syoriyou!H1941)","v":""},{"$f":"IF(syoriyou!I1941=\"\",\"\",syoriyou!I1941)","v":""},{"$f":"IF(syoriyou!J1941=\"\",\"\",syoriyou!N1941)","v":""}]
[{"$f":"IF(syoriyou!A1942=\"\",\"\",syoriyou!A1942)","v":""},{"$f":"IF(syoriyou!B1942=\"\",\"\",syoriyou!B1942)","v":""},{"$f":"IF(syoriyou!C1942=\"\",\"\",syoriyou!C1942)","v":""},{"$f":"IF(syoriyou!D1942=\"\",\"\",syoriyou!D1942)","v":""},{"$f":"IF(syoriyou!E1942=\"\",\"\",syoriyou!E1942)","v":""},{"$f":"IF(syoriyou!F1942=\"\",\"\",syoriyou!F1942)","v":""},{"$f":"IF(syoriyou!G1942=\"\",\"\",syoriyou!G1942)","v":""},{"$f":"IF(syoriyou!H1942=\"\",\"\",syoriyou!H1942)","v":""},{"$f":"IF(syoriyou!I1942=\"\",\"\",syoriyou!I1942)","v":""},{"$f":"IF(syoriyou!J1942=\"\",\"\",syoriyou!N1942)","v":""}]
[{"$f":"IF(syoriyou!A1943=\"\",\"\",syoriyou!A1943)","v":""},{"$f":"IF(syoriyou!B1943=\"\",\"\",syoriyou!B1943)","v":""},{"$f":"IF(syoriyou!C1943=\"\",\"\",syoriyou!C1943)","v":""},{"$f":"IF(syoriyou!D1943=\"\",\"\",syoriyou!D1943)","v":""},{"$f":"IF(syoriyou!E1943=\"\",\"\",syoriyou!E1943)","v":""},{"$f":"IF(syoriyou!F1943=\"\",\"\",syoriyou!F1943)","v":""},{"$f":"IF(syoriyou!G1943=\"\",\"\",syoriyou!G1943)","v":""},{"$f":"IF(syoriyou!H1943=\"\",\"\",syoriyou!H1943)","v":""},{"$f":"IF(syoriyou!I1943=\"\",\"\",syoriyou!I1943)","v":""},{"$f":"IF(syoriyou!J1943=\"\",\"\",syoriyou!N1943)","v":""}]
[{"$f":"IF(syoriyou!A1944=\"\",\"\",syoriyou!A1944)","v":""},{"$f":"IF(syoriyou!B1944=\"\",\"\",syoriyou!B1944)","v":""},{"$f":"IF(syoriyou!C1944=\"\",\"\",syoriyou!C1944)","v":""},{"$f":"IF(syoriyou!D1944=\"\",\"\",syoriyou!D1944)","v":""},{"$f":"IF(syoriyou!E1944=\"\",\"\",syoriyou!E1944)","v":""},{"$f":"IF(syoriyou!F1944=\"\",\"\",syoriyou!F1944)","v":""},{"$f":"IF(syoriyou!G1944=\"\",\"\",syoriyou!G1944)","v":""},{"$f":"IF(syoriyou!H1944=\"\",\"\",syoriyou!H1944)","v":""},{"$f":"IF(syoriyou!I1944=\"\",\"\",syoriyou!I1944)","v":""},{"$f":"IF(syoriyou!J1944=\"\",\"\",syoriyou!N1944)","v":""}]
[{"$f":"IF(syoriyou!A1945=\"\",\"\",syoriyou!A1945)","v":""},{"$f":"IF(syoriyou!B1945=\"\",\"\",syoriyou!B1945)","v":""},{"$f":"IF(syoriyou!C1945=\"\",\"\",syoriyou!C1945)","v":""},{"$f":"IF(syoriyou!D1945=\"\",\"\",syoriyou!D1945)","v":""},{"$f":"IF(syoriyou!E1945=\"\",\"\",syoriyou!E1945)","v":""},{"$f":"IF(syoriyou!F1945=\"\",\"\",syoriyou!F1945)","v":""},{"$f":"IF(syoriyou!G1945=\"\",\"\",syoriyou!G1945)","v":""},{"$f":"IF(syoriyou!H1945=\"\",\"\",syoriyou!H1945)","v":""},{"$f":"IF(syoriyou!I1945=\"\",\"\",syoriyou!I1945)","v":""},{"$f":"IF(syoriyou!J1945=\"\",\"\",syoriyou!N1945)","v":""}]
[{"$f":"IF(syoriyou!A1946=\"\",\"\",syoriyou!A1946)","v":""},{"$f":"IF(syoriyou!B1946=\"\",\"\",syoriyou!B1946)","v":""},{"$f":"IF(syoriyou!C1946=\"\",\"\",syoriyou!C1946)","v":""},{"$f":"IF(syoriyou!D1946=\"\",\"\",syoriyou!D1946)","v":""},{"$f":"IF(syoriyou!E1946=\"\",\"\",syoriyou!E1946)","v":""},{"$f":"IF(syoriyou!F1946=\"\",\"\",syoriyou!F1946)","v":""},{"$f":"IF(syoriyou!G1946=\"\",\"\",syoriyou!G1946)","v":""},{"$f":"IF(syoriyou!H1946=\"\",\"\",syoriyou!H1946)","v":""},{"$f":"IF(syoriyou!I1946=\"\",\"\",syoriyou!I1946)","v":""},{"$f":"IF(syoriyou!J1946=\"\",\"\",syoriyou!N1946)","v":""}]
[{"$f":"IF(syoriyou!A1947=\"\",\"\",syoriyou!A1947)","v":""},{"$f":"IF(syoriyou!B1947=\"\",\"\",syoriyou!B1947)","v":""},{"$f":"IF(syoriyou!C1947=\"\",\"\",syoriyou!C1947)","v":""},{"$f":"IF(syoriyou!D1947=\"\",\"\",syoriyou!D1947)","v":""},{"$f":"IF(syoriyou!E1947=\"\",\"\",syoriyou!E1947)","v":""},{"$f":"IF(syoriyou!F1947=\"\",\"\",syoriyou!F1947)","v":""},{"$f":"IF(syoriyou!G1947=\"\",\"\",syoriyou!G1947)","v":""},{"$f":"IF(syoriyou!H1947=\"\",\"\",syoriyou!H1947)","v":""},{"$f":"IF(syoriyou!I1947=\"\",\"\",syoriyou!I1947)","v":""},{"$f":"IF(syoriyou!J1947=\"\",\"\",syoriyou!N1947)","v":""}]
[{"$f":"IF(syoriyou!A1948=\"\",\"\",syoriyou!A1948)","v":""},{"$f":"IF(syoriyou!B1948=\"\",\"\",syoriyou!B1948)","v":""},{"$f":"IF(syoriyou!C1948=\"\",\"\",syoriyou!C1948)","v":""},{"$f":"IF(syoriyou!D1948=\"\",\"\",syoriyou!D1948)","v":""},{"$f":"IF(syoriyou!E1948=\"\",\"\",syoriyou!E1948)","v":""},{"$f":"IF(syoriyou!F1948=\"\",\"\",syoriyou!F1948)","v":""},{"$f":"IF(syoriyou!G1948=\"\",\"\",syoriyou!G1948)","v":""},{"$f":"IF(syoriyou!H1948=\"\",\"\",syoriyou!H1948)","v":""},{"$f":"IF(syoriyou!I1948=\"\",\"\",syoriyou!I1948)","v":""},{"$f":"IF(syoriyou!J1948=\"\",\"\",syoriyou!N1948)","v":""}]
[{"$f":"IF(syoriyou!A1949=\"\",\"\",syoriyou!A1949)","v":""},{"$f":"IF(syoriyou!B1949=\"\",\"\",syoriyou!B1949)","v":""},{"$f":"IF(syoriyou!C1949=\"\",\"\",syoriyou!C1949)","v":""},{"$f":"IF(syoriyou!D1949=\"\",\"\",syoriyou!D1949)","v":""},{"$f":"IF(syoriyou!E1949=\"\",\"\",syoriyou!E1949)","v":""},{"$f":"IF(syoriyou!F1949=\"\",\"\",syoriyou!F1949)","v":""},{"$f":"IF(syoriyou!G1949=\"\",\"\",syoriyou!G1949)","v":""},{"$f":"IF(syoriyou!H1949=\"\",\"\",syoriyou!H1949)","v":""},{"$f":"IF(syoriyou!I1949=\"\",\"\",syoriyou!I1949)","v":""},{"$f":"IF(syoriyou!J1949=\"\",\"\",syoriyou!N1949)","v":""}]
[{"$f":"IF(syoriyou!A1950=\"\",\"\",syoriyou!A1950)","v":""},{"$f":"IF(syoriyou!B1950=\"\",\"\",syoriyou!B1950)","v":""},{"$f":"IF(syoriyou!C1950=\"\",\"\",syoriyou!C1950)","v":""},{"$f":"IF(syoriyou!D1950=\"\",\"\",syoriyou!D1950)","v":""},{"$f":"IF(syoriyou!E1950=\"\",\"\",syoriyou!E1950)","v":""},{"$f":"IF(syoriyou!F1950=\"\",\"\",syoriyou!F1950)","v":""},{"$f":"IF(syoriyou!G1950=\"\",\"\",syoriyou!G1950)","v":""},{"$f":"IF(syoriyou!H1950=\"\",\"\",syoriyou!H1950)","v":""},{"$f":"IF(syoriyou!I1950=\"\",\"\",syoriyou!I1950)","v":""},{"$f":"IF(syoriyou!J1950=\"\",\"\",syoriyou!N1950)","v":""}]
[{"$f":"IF(syoriyou!A1951=\"\",\"\",syoriyou!A1951)","v":""},{"$f":"IF(syoriyou!B1951=\"\",\"\",syoriyou!B1951)","v":""},{"$f":"IF(syoriyou!C1951=\"\",\"\",syoriyou!C1951)","v":""},{"$f":"IF(syoriyou!D1951=\"\",\"\",syoriyou!D1951)","v":""},{"$f":"IF(syoriyou!E1951=\"\",\"\",syoriyou!E1951)","v":""},{"$f":"IF(syoriyou!F1951=\"\",\"\",syoriyou!F1951)","v":""},{"$f":"IF(syoriyou!G1951=\"\",\"\",syoriyou!G1951)","v":""},{"$f":"IF(syoriyou!H1951=\"\",\"\",syoriyou!H1951)","v":""},{"$f":"IF(syoriyou!I1951=\"\",\"\",syoriyou!I1951)","v":""},{"$f":"IF(syoriyou!J1951=\"\",\"\",syoriyou!N1951)","v":""}]
[{"$f":"IF(syoriyou!A1952=\"\",\"\",syoriyou!A1952)","v":""},{"$f":"IF(syoriyou!B1952=\"\",\"\",syoriyou!B1952)","v":""},{"$f":"IF(syoriyou!C1952=\"\",\"\",syoriyou!C1952)","v":""},{"$f":"IF(syoriyou!D1952=\"\",\"\",syoriyou!D1952)","v":""},{"$f":"IF(syoriyou!E1952=\"\",\"\",syoriyou!E1952)","v":""},{"$f":"IF(syoriyou!F1952=\"\",\"\",syoriyou!F1952)","v":""},{"$f":"IF(syoriyou!G1952=\"\",\"\",syoriyou!G1952)","v":""},{"$f":"IF(syoriyou!H1952=\"\",\"\",syoriyou!H1952)","v":""},{"$f":"IF(syoriyou!I1952=\"\",\"\",syoriyou!I1952)","v":""},{"$f":"IF(syoriyou!J1952=\"\",\"\",syoriyou!N1952)","v":""}]
[{"$f":"IF(syoriyou!A1953=\"\",\"\",syoriyou!A1953)","v":""},{"$f":"IF(syoriyou!B1953=\"\",\"\",syoriyou!B1953)","v":""},{"$f":"IF(syoriyou!C1953=\"\",\"\",syoriyou!C1953)","v":""},{"$f":"IF(syoriyou!D1953=\"\",\"\",syoriyou!D1953)","v":""},{"$f":"IF(syoriyou!E1953=\"\",\"\",syoriyou!E1953)","v":""},{"$f":"IF(syoriyou!F1953=\"\",\"\",syoriyou!F1953)","v":""},{"$f":"IF(syoriyou!G1953=\"\",\"\",syoriyou!G1953)","v":""},{"$f":"IF(syoriyou!H1953=\"\",\"\",syoriyou!H1953)","v":""},{"$f":"IF(syoriyou!I1953=\"\",\"\",syoriyou!I1953)","v":""},{"$f":"IF(syoriyou!J1953=\"\",\"\",syoriyou!N1953)","v":""}]
[{"$f":"IF(syoriyou!A1954=\"\",\"\",syoriyou!A1954)","v":""},{"$f":"IF(syoriyou!B1954=\"\",\"\",syoriyou!B1954)","v":""},{"$f":"IF(syoriyou!C1954=\"\",\"\",syoriyou!C1954)","v":""},{"$f":"IF(syoriyou!D1954=\"\",\"\",syoriyou!D1954)","v":""},{"$f":"IF(syoriyou!E1954=\"\",\"\",syoriyou!E1954)","v":""},{"$f":"IF(syoriyou!F1954=\"\",\"\",syoriyou!F1954)","v":""},{"$f":"IF(syoriyou!G1954=\"\",\"\",syoriyou!G1954)","v":""},{"$f":"IF(syoriyou!H1954=\"\",\"\",syoriyou!H1954)","v":""},{"$f":"IF(syoriyou!I1954=\"\",\"\",syoriyou!I1954)","v":""},{"$f":"IF(syoriyou!J1954=\"\",\"\",syoriyou!N1954)","v":""}]
[{"$f":"IF(syoriyou!A1955=\"\",\"\",syoriyou!A1955)","v":""},{"$f":"IF(syoriyou!B1955=\"\",\"\",syoriyou!B1955)","v":""},{"$f":"IF(syoriyou!C1955=\"\",\"\",syoriyou!C1955)","v":""},{"$f":"IF(syoriyou!D1955=\"\",\"\",syoriyou!D1955)","v":""},{"$f":"IF(syoriyou!E1955=\"\",\"\",syoriyou!E1955)","v":""},{"$f":"IF(syoriyou!F1955=\"\",\"\",syoriyou!F1955)","v":""},{"$f":"IF(syoriyou!G1955=\"\",\"\",syoriyou!G1955)","v":""},{"$f":"IF(syoriyou!H1955=\"\",\"\",syoriyou!H1955)","v":""},{"$f":"IF(syoriyou!I1955=\"\",\"\",syoriyou!I1955)","v":""},{"$f":"IF(syoriyou!J1955=\"\",\"\",syoriyou!N1955)","v":""}]
[{"$f":"IF(syoriyou!A1956=\"\",\"\",syoriyou!A1956)","v":""},{"$f":"IF(syoriyou!B1956=\"\",\"\",syoriyou!B1956)","v":""},{"$f":"IF(syoriyou!C1956=\"\",\"\",syoriyou!C1956)","v":""},{"$f":"IF(syoriyou!D1956=\"\",\"\",syoriyou!D1956)","v":""},{"$f":"IF(syoriyou!E1956=\"\",\"\",syoriyou!E1956)","v":""},{"$f":"IF(syoriyou!F1956=\"\",\"\",syoriyou!F1956)","v":""},{"$f":"IF(syoriyou!G1956=\"\",\"\",syoriyou!G1956)","v":""},{"$f":"IF(syoriyou!H1956=\"\",\"\",syoriyou!H1956)","v":""},{"$f":"IF(syoriyou!I1956=\"\",\"\",syoriyou!I1956)","v":""},{"$f":"IF(syoriyou!J1956=\"\",\"\",syoriyou!N1956)","v":""}]
[{"$f":"IF(syoriyou!A1957=\"\",\"\",syoriyou!A1957)","v":""},{"$f":"IF(syoriyou!B1957=\"\",\"\",syoriyou!B1957)","v":""},{"$f":"IF(syoriyou!C1957=\"\",\"\",syoriyou!C1957)","v":""},{"$f":"IF(syoriyou!D1957=\"\",\"\",syoriyou!D1957)","v":""},{"$f":"IF(syoriyou!E1957=\"\",\"\",syoriyou!E1957)","v":""},{"$f":"IF(syoriyou!F1957=\"\",\"\",syoriyou!F1957)","v":""},{"$f":"IF(syoriyou!G1957=\"\",\"\",syoriyou!G1957)","v":""},{"$f":"IF(syoriyou!H1957=\"\",\"\",syoriyou!H1957)","v":""},{"$f":"IF(syoriyou!I1957=\"\",\"\",syoriyou!I1957)","v":""},{"$f":"IF(syoriyou!J1957=\"\",\"\",syoriyou!N1957)","v":""}]
[{"$f":"IF(syoriyou!A1958=\"\",\"\",syoriyou!A1958)","v":""},{"$f":"IF(syoriyou!B1958=\"\",\"\",syoriyou!B1958)","v":""},{"$f":"IF(syoriyou!C1958=\"\",\"\",syoriyou!C1958)","v":""},{"$f":"IF(syoriyou!D1958=\"\",\"\",syoriyou!D1958)","v":""},{"$f":"IF(syoriyou!E1958=\"\",\"\",syoriyou!E1958)","v":""},{"$f":"IF(syoriyou!F1958=\"\",\"\",syoriyou!F1958)","v":""},{"$f":"IF(syoriyou!G1958=\"\",\"\",syoriyou!G1958)","v":""},{"$f":"IF(syoriyou!H1958=\"\",\"\",syoriyou!H1958)","v":""},{"$f":"IF(syoriyou!I1958=\"\",\"\",syoriyou!I1958)","v":""},{"$f":"IF(syoriyou!J1958=\"\",\"\",syoriyou!N1958)","v":""}]
[{"$f":"IF(syoriyou!A1959=\"\",\"\",syoriyou!A1959)","v":""},{"$f":"IF(syoriyou!B1959=\"\",\"\",syoriyou!B1959)","v":""},{"$f":"IF(syoriyou!C1959=\"\",\"\",syoriyou!C1959)","v":""},{"$f":"IF(syoriyou!D1959=\"\",\"\",syoriyou!D1959)","v":""},{"$f":"IF(syoriyou!E1959=\"\",\"\",syoriyou!E1959)","v":""},{"$f":"IF(syoriyou!F1959=\"\",\"\",syoriyou!F1959)","v":""},{"$f":"IF(syoriyou!G1959=\"\",\"\",syoriyou!G1959)","v":""},{"$f":"IF(syoriyou!H1959=\"\",\"\",syoriyou!H1959)","v":""},{"$f":"IF(syoriyou!I1959=\"\",\"\",syoriyou!I1959)","v":""},{"$f":"IF(syoriyou!J1959=\"\",\"\",syoriyou!N1959)","v":""}]
[{"$f":"IF(syoriyou!A1960=\"\",\"\",syoriyou!A1960)","v":""},{"$f":"IF(syoriyou!B1960=\"\",\"\",syoriyou!B1960)","v":""},{"$f":"IF(syoriyou!C1960=\"\",\"\",syoriyou!C1960)","v":""},{"$f":"IF(syoriyou!D1960=\"\",\"\",syoriyou!D1960)","v":""},{"$f":"IF(syoriyou!E1960=\"\",\"\",syoriyou!E1960)","v":""},{"$f":"IF(syoriyou!F1960=\"\",\"\",syoriyou!F1960)","v":""},{"$f":"IF(syoriyou!G1960=\"\",\"\",syoriyou!G1960)","v":""},{"$f":"IF(syoriyou!H1960=\"\",\"\",syoriyou!H1960)","v":""},{"$f":"IF(syoriyou!I1960=\"\",\"\",syoriyou!I1960)","v":""},{"$f":"IF(syoriyou!J1960=\"\",\"\",syoriyou!N1960)","v":""}]
[{"$f":"IF(syoriyou!A1961=\"\",\"\",syoriyou!A1961)","v":""},{"$f":"IF(syoriyou!B1961=\"\",\"\",syoriyou!B1961)","v":""},{"$f":"IF(syoriyou!C1961=\"\",\"\",syoriyou!C1961)","v":""},{"$f":"IF(syoriyou!D1961=\"\",\"\",syoriyou!D1961)","v":""},{"$f":"IF(syoriyou!E1961=\"\",\"\",syoriyou!E1961)","v":""},{"$f":"IF(syoriyou!F1961=\"\",\"\",syoriyou!F1961)","v":""},{"$f":"IF(syoriyou!G1961=\"\",\"\",syoriyou!G1961)","v":""},{"$f":"IF(syoriyou!H1961=\"\",\"\",syoriyou!H1961)","v":""},{"$f":"IF(syoriyou!I1961=\"\",\"\",syoriyou!I1961)","v":""},{"$f":"IF(syoriyou!J1961=\"\",\"\",syoriyou!N1961)","v":""}]
[{"$f":"IF(syoriyou!A1962=\"\",\"\",syoriyou!A1962)","v":""},{"$f":"IF(syoriyou!B1962=\"\",\"\",syoriyou!B1962)","v":""},{"$f":"IF(syoriyou!C1962=\"\",\"\",syoriyou!C1962)","v":""},{"$f":"IF(syoriyou!D1962=\"\",\"\",syoriyou!D1962)","v":""},{"$f":"IF(syoriyou!E1962=\"\",\"\",syoriyou!E1962)","v":""},{"$f":"IF(syoriyou!F1962=\"\",\"\",syoriyou!F1962)","v":""},{"$f":"IF(syoriyou!G1962=\"\",\"\",syoriyou!G1962)","v":""},{"$f":"IF(syoriyou!H1962=\"\",\"\",syoriyou!H1962)","v":""},{"$f":"IF(syoriyou!I1962=\"\",\"\",syoriyou!I1962)","v":""},{"$f":"IF(syoriyou!J1962=\"\",\"\",syoriyou!N1962)","v":""}]
[{"$f":"IF(syoriyou!A1963=\"\",\"\",syoriyou!A1963)","v":""},{"$f":"IF(syoriyou!B1963=\"\",\"\",syoriyou!B1963)","v":""},{"$f":"IF(syoriyou!C1963=\"\",\"\",syoriyou!C1963)","v":""},{"$f":"IF(syoriyou!D1963=\"\",\"\",syoriyou!D1963)","v":""},{"$f":"IF(syoriyou!E1963=\"\",\"\",syoriyou!E1963)","v":""},{"$f":"IF(syoriyou!F1963=\"\",\"\",syoriyou!F1963)","v":""},{"$f":"IF(syoriyou!G1963=\"\",\"\",syoriyou!G1963)","v":""},{"$f":"IF(syoriyou!H1963=\"\",\"\",syoriyou!H1963)","v":""},{"$f":"IF(syoriyou!I1963=\"\",\"\",syoriyou!I1963)","v":""},{"$f":"IF(syoriyou!J1963=\"\",\"\",syoriyou!N1963)","v":""}]
[{"$f":"IF(syoriyou!A1964=\"\",\"\",syoriyou!A1964)","v":""},{"$f":"IF(syoriyou!B1964=\"\",\"\",syoriyou!B1964)","v":""},{"$f":"IF(syoriyou!C1964=\"\",\"\",syoriyou!C1964)","v":""},{"$f":"IF(syoriyou!D1964=\"\",\"\",syoriyou!D1964)","v":""},{"$f":"IF(syoriyou!E1964=\"\",\"\",syoriyou!E1964)","v":""},{"$f":"IF(syoriyou!F1964=\"\",\"\",syoriyou!F1964)","v":""},{"$f":"IF(syoriyou!G1964=\"\",\"\",syoriyou!G1964)","v":""},{"$f":"IF(syoriyou!H1964=\"\",\"\",syoriyou!H1964)","v":""},{"$f":"IF(syoriyou!I1964=\"\",\"\",syoriyou!I1964)","v":""},{"$f":"IF(syoriyou!J1964=\"\",\"\",syoriyou!N1964)","v":""}]
[{"$f":"IF(syoriyou!A1965=\"\",\"\",syoriyou!A1965)","v":""},{"$f":"IF(syoriyou!B1965=\"\",\"\",syoriyou!B1965)","v":""},{"$f":"IF(syoriyou!C1965=\"\",\"\",syoriyou!C1965)","v":""},{"$f":"IF(syoriyou!D1965=\"\",\"\",syoriyou!D1965)","v":""},{"$f":"IF(syoriyou!E1965=\"\",\"\",syoriyou!E1965)","v":""},{"$f":"IF(syoriyou!F1965=\"\",\"\",syoriyou!F1965)","v":""},{"$f":"IF(syoriyou!G1965=\"\",\"\",syoriyou!G1965)","v":""},{"$f":"IF(syoriyou!H1965=\"\",\"\",syoriyou!H1965)","v":""},{"$f":"IF(syoriyou!I1965=\"\",\"\",syoriyou!I1965)","v":""},{"$f":"IF(syoriyou!J1965=\"\",\"\",syoriyou!N1965)","v":""}]
[{"$f":"IF(syoriyou!A1966=\"\",\"\",syoriyou!A1966)","v":""},{"$f":"IF(syoriyou!B1966=\"\",\"\",syoriyou!B1966)","v":""},{"$f":"IF(syoriyou!C1966=\"\",\"\",syoriyou!C1966)","v":""},{"$f":"IF(syoriyou!D1966=\"\",\"\",syoriyou!D1966)","v":""},{"$f":"IF(syoriyou!E1966=\"\",\"\",syoriyou!E1966)","v":""},{"$f":"IF(syoriyou!F1966=\"\",\"\",syoriyou!F1966)","v":""},{"$f":"IF(syoriyou!G1966=\"\",\"\",syoriyou!G1966)","v":""},{"$f":"IF(syoriyou!H1966=\"\",\"\",syoriyou!H1966)","v":""},{"$f":"IF(syoriyou!I1966=\"\",\"\",syoriyou!I1966)","v":""},{"$f":"IF(syoriyou!J1966=\"\",\"\",syoriyou!N1966)","v":""}]
[{"$f":"IF(syoriyou!A1967=\"\",\"\",syoriyou!A1967)","v":""},{"$f":"IF(syoriyou!B1967=\"\",\"\",syoriyou!B1967)","v":""},{"$f":"IF(syoriyou!C1967=\"\",\"\",syoriyou!C1967)","v":""},{"$f":"IF(syoriyou!D1967=\"\",\"\",syoriyou!D1967)","v":""},{"$f":"IF(syoriyou!E1967=\"\",\"\",syoriyou!E1967)","v":""},{"$f":"IF(syoriyou!F1967=\"\",\"\",syoriyou!F1967)","v":""},{"$f":"IF(syoriyou!G1967=\"\",\"\",syoriyou!G1967)","v":""},{"$f":"IF(syoriyou!H1967=\"\",\"\",syoriyou!H1967)","v":""},{"$f":"IF(syoriyou!I1967=\"\",\"\",syoriyou!I1967)","v":""},{"$f":"IF(syoriyou!J1967=\"\",\"\",syoriyou!N1967)","v":""}]
[{"$f":"IF(syoriyou!A1968=\"\",\"\",syoriyou!A1968)","v":""},{"$f":"IF(syoriyou!B1968=\"\",\"\",syoriyou!B1968)","v":""},{"$f":"IF(syoriyou!C1968=\"\",\"\",syoriyou!C1968)","v":""},{"$f":"IF(syoriyou!D1968=\"\",\"\",syoriyou!D1968)","v":""},{"$f":"IF(syoriyou!E1968=\"\",\"\",syoriyou!E1968)","v":""},{"$f":"IF(syoriyou!F1968=\"\",\"\",syoriyou!F1968)","v":""},{"$f":"IF(syoriyou!G1968=\"\",\"\",syoriyou!G1968)","v":""},{"$f":"IF(syoriyou!H1968=\"\",\"\",syoriyou!H1968)","v":""},{"$f":"IF(syoriyou!I1968=\"\",\"\",syoriyou!I1968)","v":""},{"$f":"IF(syoriyou!J1968=\"\",\"\",syoriyou!N1968)","v":""}]
[{"$f":"IF(syoriyou!A1969=\"\",\"\",syoriyou!A1969)","v":""},{"$f":"IF(syoriyou!B1969=\"\",\"\",syoriyou!B1969)","v":""},{"$f":"IF(syoriyou!C1969=\"\",\"\",syoriyou!C1969)","v":""},{"$f":"IF(syoriyou!D1969=\"\",\"\",syoriyou!D1969)","v":""},{"$f":"IF(syoriyou!E1969=\"\",\"\",syoriyou!E1969)","v":""},{"$f":"IF(syoriyou!F1969=\"\",\"\",syoriyou!F1969)","v":""},{"$f":"IF(syoriyou!G1969=\"\",\"\",syoriyou!G1969)","v":""},{"$f":"IF(syoriyou!H1969=\"\",\"\",syoriyou!H1969)","v":""},{"$f":"IF(syoriyou!I1969=\"\",\"\",syoriyou!I1969)","v":""},{"$f":"IF(syoriyou!J1969=\"\",\"\",syoriyou!N1969)","v":""}]
[{"$f":"IF(syoriyou!A1970=\"\",\"\",syoriyou!A1970)","v":""},{"$f":"IF(syoriyou!B1970=\"\",\"\",syoriyou!B1970)","v":""},{"$f":"IF(syoriyou!C1970=\"\",\"\",syoriyou!C1970)","v":""},{"$f":"IF(syoriyou!D1970=\"\",\"\",syoriyou!D1970)","v":""},{"$f":"IF(syoriyou!E1970=\"\",\"\",syoriyou!E1970)","v":""},{"$f":"IF(syoriyou!F1970=\"\",\"\",syoriyou!F1970)","v":""},{"$f":"IF(syoriyou!G1970=\"\",\"\",syoriyou!G1970)","v":""},{"$f":"IF(syoriyou!H1970=\"\",\"\",syoriyou!H1970)","v":""},{"$f":"IF(syoriyou!I1970=\"\",\"\",syoriyou!I1970)","v":""},{"$f":"IF(syoriyou!J1970=\"\",\"\",syoriyou!N1970)","v":""}]
[{"$f":"IF(syoriyou!A1971=\"\",\"\",syoriyou!A1971)","v":""},{"$f":"IF(syoriyou!B1971=\"\",\"\",syoriyou!B1971)","v":""},{"$f":"IF(syoriyou!C1971=\"\",\"\",syoriyou!C1971)","v":""},{"$f":"IF(syoriyou!D1971=\"\",\"\",syoriyou!D1971)","v":""},{"$f":"IF(syoriyou!E1971=\"\",\"\",syoriyou!E1971)","v":""},{"$f":"IF(syoriyou!F1971=\"\",\"\",syoriyou!F1971)","v":""},{"$f":"IF(syoriyou!G1971=\"\",\"\",syoriyou!G1971)","v":""},{"$f":"IF(syoriyou!H1971=\"\",\"\",syoriyou!H1971)","v":""},{"$f":"IF(syoriyou!I1971=\"\",\"\",syoriyou!I1971)","v":""},{"$f":"IF(syoriyou!J1971=\"\",\"\",syoriyou!N1971)","v":""}]
[{"$f":"IF(syoriyou!A1972=\"\",\"\",syoriyou!A1972)","v":""},{"$f":"IF(syoriyou!B1972=\"\",\"\",syoriyou!B1972)","v":""},{"$f":"IF(syoriyou!C1972=\"\",\"\",syoriyou!C1972)","v":""},{"$f":"IF(syoriyou!D1972=\"\",\"\",syoriyou!D1972)","v":""},{"$f":"IF(syoriyou!E1972=\"\",\"\",syoriyou!E1972)","v":""},{"$f":"IF(syoriyou!F1972=\"\",\"\",syoriyou!F1972)","v":""},{"$f":"IF(syoriyou!G1972=\"\",\"\",syoriyou!G1972)","v":""},{"$f":"IF(syoriyou!H1972=\"\",\"\",syoriyou!H1972)","v":""},{"$f":"IF(syoriyou!I1972=\"\",\"\",syoriyou!I1972)","v":""},{"$f":"IF(syoriyou!J1972=\"\",\"\",syoriyou!N1972)","v":""}]
[{"$f":"IF(syoriyou!A1973=\"\",\"\",syoriyou!A1973)","v":""},{"$f":"IF(syoriyou!B1973=\"\",\"\",syoriyou!B1973)","v":""},{"$f":"IF(syoriyou!C1973=\"\",\"\",syoriyou!C1973)","v":""},{"$f":"IF(syoriyou!D1973=\"\",\"\",syoriyou!D1973)","v":""},{"$f":"IF(syoriyou!E1973=\"\",\"\",syoriyou!E1973)","v":""},{"$f":"IF(syoriyou!F1973=\"\",\"\",syoriyou!F1973)","v":""},{"$f":"IF(syoriyou!G1973=\"\",\"\",syoriyou!G1973)","v":""},{"$f":"IF(syoriyou!H1973=\"\",\"\",syoriyou!H1973)","v":""},{"$f":"IF(syoriyou!I1973=\"\",\"\",syoriyou!I1973)","v":""},{"$f":"IF(syoriyou!J1973=\"\",\"\",syoriyou!N1973)","v":""}]
[{"$f":"IF(syoriyou!A1974=\"\",\"\",syoriyou!A1974)","v":""},{"$f":"IF(syoriyou!B1974=\"\",\"\",syoriyou!B1974)","v":""},{"$f":"IF(syoriyou!C1974=\"\",\"\",syoriyou!C1974)","v":""},{"$f":"IF(syoriyou!D1974=\"\",\"\",syoriyou!D1974)","v":""},{"$f":"IF(syoriyou!E1974=\"\",\"\",syoriyou!E1974)","v":""},{"$f":"IF(syoriyou!F1974=\"\",\"\",syoriyou!F1974)","v":""},{"$f":"IF(syoriyou!G1974=\"\",\"\",syoriyou!G1974)","v":""},{"$f":"IF(syoriyou!H1974=\"\",\"\",syoriyou!H1974)","v":""},{"$f":"IF(syoriyou!I1974=\"\",\"\",syoriyou!I1974)","v":""},{"$f":"IF(syoriyou!J1974=\"\",\"\",syoriyou!N1974)","v":""}]
[{"$f":"IF(syoriyou!A1975=\"\",\"\",syoriyou!A1975)","v":""},{"$f":"IF(syoriyou!B1975=\"\",\"\",syoriyou!B1975)","v":""},{"$f":"IF(syoriyou!C1975=\"\",\"\",syoriyou!C1975)","v":""},{"$f":"IF(syoriyou!D1975=\"\",\"\",syoriyou!D1975)","v":""},{"$f":"IF(syoriyou!E1975=\"\",\"\",syoriyou!E1975)","v":""},{"$f":"IF(syoriyou!F1975=\"\",\"\",syoriyou!F1975)","v":""},{"$f":"IF(syoriyou!G1975=\"\",\"\",syoriyou!G1975)","v":""},{"$f":"IF(syoriyou!H1975=\"\",\"\",syoriyou!H1975)","v":""},{"$f":"IF(syoriyou!I1975=\"\",\"\",syoriyou!I1975)","v":""},{"$f":"IF(syoriyou!J1975=\"\",\"\",syoriyou!N1975)","v":""}]
[{"$f":"IF(syoriyou!A1976=\"\",\"\",syoriyou!A1976)","v":""},{"$f":"IF(syoriyou!B1976=\"\",\"\",syoriyou!B1976)","v":""},{"$f":"IF(syoriyou!C1976=\"\",\"\",syoriyou!C1976)","v":""},{"$f":"IF(syoriyou!D1976=\"\",\"\",syoriyou!D1976)","v":""},{"$f":"IF(syoriyou!E1976=\"\",\"\",syoriyou!E1976)","v":""},{"$f":"IF(syoriyou!F1976=\"\",\"\",syoriyou!F1976)","v":""},{"$f":"IF(syoriyou!G1976=\"\",\"\",syoriyou!G1976)","v":""},{"$f":"IF(syoriyou!H1976=\"\",\"\",syoriyou!H1976)","v":""},{"$f":"IF(syoriyou!I1976=\"\",\"\",syoriyou!I1976)","v":""},{"$f":"IF(syoriyou!J1976=\"\",\"\",syoriyou!N1976)","v":""}]
[{"$f":"IF(syoriyou!A1977=\"\",\"\",syoriyou!A1977)","v":""},{"$f":"IF(syoriyou!B1977=\"\",\"\",syoriyou!B1977)","v":""},{"$f":"IF(syoriyou!C1977=\"\",\"\",syoriyou!C1977)","v":""},{"$f":"IF(syoriyou!D1977=\"\",\"\",syoriyou!D1977)","v":""},{"$f":"IF(syoriyou!E1977=\"\",\"\",syoriyou!E1977)","v":""},{"$f":"IF(syoriyou!F1977=\"\",\"\",syoriyou!F1977)","v":""},{"$f":"IF(syoriyou!G1977=\"\",\"\",syoriyou!G1977)","v":""},{"$f":"IF(syoriyou!H1977=\"\",\"\",syoriyou!H1977)","v":""},{"$f":"IF(syoriyou!I1977=\"\",\"\",syoriyou!I1977)","v":""},{"$f":"IF(syoriyou!J1977=\"\",\"\",syoriyou!N1977)","v":""}]
[{"$f":"IF(syoriyou!A1978=\"\",\"\",syoriyou!A1978)","v":""},{"$f":"IF(syoriyou!B1978=\"\",\"\",syoriyou!B1978)","v":""},{"$f":"IF(syoriyou!C1978=\"\",\"\",syoriyou!C1978)","v":""},{"$f":"IF(syoriyou!D1978=\"\",\"\",syoriyou!D1978)","v":""},{"$f":"IF(syoriyou!E1978=\"\",\"\",syoriyou!E1978)","v":""},{"$f":"IF(syoriyou!F1978=\"\",\"\",syoriyou!F1978)","v":""},{"$f":"IF(syoriyou!G1978=\"\",\"\",syoriyou!G1978)","v":""},{"$f":"IF(syoriyou!H1978=\"\",\"\",syoriyou!H1978)","v":""},{"$f":"IF(syoriyou!I1978=\"\",\"\",syoriyou!I1978)","v":""},{"$f":"IF(syoriyou!J1978=\"\",\"\",syoriyou!N1978)","v":""}]
[{"$f":"IF(syoriyou!A1979=\"\",\"\",syoriyou!A1979)","v":""},{"$f":"IF(syoriyou!B1979=\"\",\"\",syoriyou!B1979)","v":""},{"$f":"IF(syoriyou!C1979=\"\",\"\",syoriyou!C1979)","v":""},{"$f":"IF(syoriyou!D1979=\"\",\"\",syoriyou!D1979)","v":""},{"$f":"IF(syoriyou!E1979=\"\",\"\",syoriyou!E1979)","v":""},{"$f":"IF(syoriyou!F1979=\"\",\"\",syoriyou!F1979)","v":""},{"$f":"IF(syoriyou!G1979=\"\",\"\",syoriyou!G1979)","v":""},{"$f":"IF(syoriyou!H1979=\"\",\"\",syoriyou!H1979)","v":""},{"$f":"IF(syoriyou!I1979=\"\",\"\",syoriyou!I1979)","v":""},{"$f":"IF(syoriyou!J1979=\"\",\"\",syoriyou!N1979)","v":""}]
[{"$f":"IF(syoriyou!A1980=\"\",\"\",syoriyou!A1980)","v":""},{"$f":"IF(syoriyou!B1980=\"\",\"\",syoriyou!B1980)","v":""},{"$f":"IF(syoriyou!C1980=\"\",\"\",syoriyou!C1980)","v":""},{"$f":"IF(syoriyou!D1980=\"\",\"\",syoriyou!D1980)","v":""},{"$f":"IF(syoriyou!E1980=\"\",\"\",syoriyou!E1980)","v":""},{"$f":"IF(syoriyou!F1980=\"\",\"\",syoriyou!F1980)","v":""},{"$f":"IF(syoriyou!G1980=\"\",\"\",syoriyou!G1980)","v":""},{"$f":"IF(syoriyou!H1980=\"\",\"\",syoriyou!H1980)","v":""},{"$f":"IF(syoriyou!I1980=\"\",\"\",syoriyou!I1980)","v":""},{"$f":"IF(syoriyou!J1980=\"\",\"\",syoriyou!N1980)","v":""}]
[{"$f":"IF(syoriyou!A1981=\"\",\"\",syoriyou!A1981)","v":""},{"$f":"IF(syoriyou!B1981=\"\",\"\",syoriyou!B1981)","v":""},{"$f":"IF(syoriyou!C1981=\"\",\"\",syoriyou!C1981)","v":""},{"$f":"IF(syoriyou!D1981=\"\",\"\",syoriyou!D1981)","v":""},{"$f":"IF(syoriyou!E1981=\"\",\"\",syoriyou!E1981)","v":""},{"$f":"IF(syoriyou!F1981=\"\",\"\",syoriyou!F1981)","v":""},{"$f":"IF(syoriyou!G1981=\"\",\"\",syoriyou!G1981)","v":""},{"$f":"IF(syoriyou!H1981=\"\",\"\",syoriyou!H1981)","v":""},{"$f":"IF(syoriyou!I1981=\"\",\"\",syoriyou!I1981)","v":""},{"$f":"IF(syoriyou!J1981=\"\",\"\",syoriyou!N1981)","v":""}]
[{"$f":"IF(syoriyou!A1982=\"\",\"\",syoriyou!A1982)","v":""},{"$f":"IF(syoriyou!B1982=\"\",\"\",syoriyou!B1982)","v":""},{"$f":"IF(syoriyou!C1982=\"\",\"\",syoriyou!C1982)","v":""},{"$f":"IF(syoriyou!D1982=\"\",\"\",syoriyou!D1982)","v":""},{"$f":"IF(syoriyou!E1982=\"\",\"\",syoriyou!E1982)","v":""},{"$f":"IF(syoriyou!F1982=\"\",\"\",syoriyou!F1982)","v":""},{"$f":"IF(syoriyou!G1982=\"\",\"\",syoriyou!G1982)","v":""},{"$f":"IF(syoriyou!H1982=\"\",\"\",syoriyou!H1982)","v":""},{"$f":"IF(syoriyou!I1982=\"\",\"\",syoriyou!I1982)","v":""},{"$f":"IF(syoriyou!J1982=\"\",\"\",syoriyou!N1982)","v":""}]
[{"$f":"IF(syoriyou!A1983=\"\",\"\",syoriyou!A1983)","v":""},{"$f":"IF(syoriyou!B1983=\"\",\"\",syoriyou!B1983)","v":""},{"$f":"IF(syoriyou!C1983=\"\",\"\",syoriyou!C1983)","v":""},{"$f":"IF(syoriyou!D1983=\"\",\"\",syoriyou!D1983)","v":""},{"$f":"IF(syoriyou!E1983=\"\",\"\",syoriyou!E1983)","v":""},{"$f":"IF(syoriyou!F1983=\"\",\"\",syoriyou!F1983)","v":""},{"$f":"IF(syoriyou!G1983=\"\",\"\",syoriyou!G1983)","v":""},{"$f":"IF(syoriyou!H1983=\"\",\"\",syoriyou!H1983)","v":""},{"$f":"IF(syoriyou!I1983=\"\",\"\",syoriyou!I1983)","v":""},{"$f":"IF(syoriyou!J1983=\"\",\"\",syoriyou!N1983)","v":""}]
[{"$f":"IF(syoriyou!A1984=\"\",\"\",syoriyou!A1984)","v":""},{"$f":"IF(syoriyou!B1984=\"\",\"\",syoriyou!B1984)","v":""},{"$f":"IF(syoriyou!C1984=\"\",\"\",syoriyou!C1984)","v":""},{"$f":"IF(syoriyou!D1984=\"\",\"\",syoriyou!D1984)","v":""},{"$f":"IF(syoriyou!E1984=\"\",\"\",syoriyou!E1984)","v":""},{"$f":"IF(syoriyou!F1984=\"\",\"\",syoriyou!F1984)","v":""},{"$f":"IF(syoriyou!G1984=\"\",\"\",syoriyou!G1984)","v":""},{"$f":"IF(syoriyou!H1984=\"\",\"\",syoriyou!H1984)","v":""},{"$f":"IF(syoriyou!I1984=\"\",\"\",syoriyou!I1984)","v":""},{"$f":"IF(syoriyou!J1984=\"\",\"\",syoriyou!N1984)","v":""}]
[{"$f":"IF(syoriyou!A1985=\"\",\"\",syoriyou!A1985)","v":""},{"$f":"IF(syoriyou!B1985=\"\",\"\",syoriyou!B1985)","v":""},{"$f":"IF(syoriyou!C1985=\"\",\"\",syoriyou!C1985)","v":""},{"$f":"IF(syoriyou!D1985=\"\",\"\",syoriyou!D1985)","v":""},{"$f":"IF(syoriyou!E1985=\"\",\"\",syoriyou!E1985)","v":""},{"$f":"IF(syoriyou!F1985=\"\",\"\",syoriyou!F1985)","v":""},{"$f":"IF(syoriyou!G1985=\"\",\"\",syoriyou!G1985)","v":""},{"$f":"IF(syoriyou!H1985=\"\",\"\",syoriyou!H1985)","v":""},{"$f":"IF(syoriyou!I1985=\"\",\"\",syoriyou!I1985)","v":""},{"$f":"IF(syoriyou!J1985=\"\",\"\",syoriyou!N1985)","v":""}]
[{"$f":"IF(syoriyou!A1986=\"\",\"\",syoriyou!A1986)","v":""},{"$f":"IF(syoriyou!B1986=\"\",\"\",syoriyou!B1986)","v":""},{"$f":"IF(syoriyou!C1986=\"\",\"\",syoriyou!C1986)","v":""},{"$f":"IF(syoriyou!D1986=\"\",\"\",syoriyou!D1986)","v":""},{"$f":"IF(syoriyou!E1986=\"\",\"\",syoriyou!E1986)","v":""},{"$f":"IF(syoriyou!F1986=\"\",\"\",syoriyou!F1986)","v":""},{"$f":"IF(syoriyou!G1986=\"\",\"\",syoriyou!G1986)","v":""},{"$f":"IF(syoriyou!H1986=\"\",\"\",syoriyou!H1986)","v":""},{"$f":"IF(syoriyou!I1986=\"\",\"\",syoriyou!I1986)","v":""},{"$f":"IF(syoriyou!J1986=\"\",\"\",syoriyou!N1986)","v":""}]
[{"$f":"IF(syoriyou!A1987=\"\",\"\",syoriyou!A1987)","v":""},{"$f":"IF(syoriyou!B1987=\"\",\"\",syoriyou!B1987)","v":""},{"$f":"IF(syoriyou!C1987=\"\",\"\",syoriyou!C1987)","v":""},{"$f":"IF(syoriyou!D1987=\"\",\"\",syoriyou!D1987)","v":""},{"$f":"IF(syoriyou!E1987=\"\",\"\",syoriyou!E1987)","v":""},{"$f":"IF(syoriyou!F1987=\"\",\"\",syoriyou!F1987)","v":""},{"$f":"IF(syoriyou!G1987=\"\",\"\",syoriyou!G1987)","v":""},{"$f":"IF(syoriyou!H1987=\"\",\"\",syoriyou!H1987)","v":""},{"$f":"IF(syoriyou!I1987=\"\",\"\",syoriyou!I1987)","v":""},{"$f":"IF(syoriyou!J1987=\"\",\"\",syoriyou!N1987)","v":""}]
[{"$f":"IF(syoriyou!A1988=\"\",\"\",syoriyou!A1988)","v":""},{"$f":"IF(syoriyou!B1988=\"\",\"\",syoriyou!B1988)","v":""},{"$f":"IF(syoriyou!C1988=\"\",\"\",syoriyou!C1988)","v":""},{"$f":"IF(syoriyou!D1988=\"\",\"\",syoriyou!D1988)","v":""},{"$f":"IF(syoriyou!E1988=\"\",\"\",syoriyou!E1988)","v":""},{"$f":"IF(syoriyou!F1988=\"\",\"\",syoriyou!F1988)","v":""},{"$f":"IF(syoriyou!G1988=\"\",\"\",syoriyou!G1988)","v":""},{"$f":"IF(syoriyou!H1988=\"\",\"\",syoriyou!H1988)","v":""},{"$f":"IF(syoriyou!I1988=\"\",\"\",syoriyou!I1988)","v":""},{"$f":"IF(syoriyou!J1988=\"\",\"\",syoriyou!N1988)","v":""}]
[{"$f":"IF(syoriyou!A1989=\"\",\"\",syoriyou!A1989)","v":""},{"$f":"IF(syoriyou!B1989=\"\",\"\",syoriyou!B1989)","v":""},{"$f":"IF(syoriyou!C1989=\"\",\"\",syoriyou!C1989)","v":""},{"$f":"IF(syoriyou!D1989=\"\",\"\",syoriyou!D1989)","v":""},{"$f":"IF(syoriyou!E1989=\"\",\"\",syoriyou!E1989)","v":""},{"$f":"IF(syoriyou!F1989=\"\",\"\",syoriyou!F1989)","v":""},{"$f":"IF(syoriyou!G1989=\"\",\"\",syoriyou!G1989)","v":""},{"$f":"IF(syoriyou!H1989=\"\",\"\",syoriyou!H1989)","v":""},{"$f":"IF(syoriyou!I1989=\"\",\"\",syoriyou!I1989)","v":""},{"$f":"IF(syoriyou!J1989=\"\",\"\",syoriyou!N1989)","v":""}]
[{"$f":"IF(syoriyou!A1990=\"\",\"\",syoriyou!A1990)","v":""},{"$f":"IF(syoriyou!B1990=\"\",\"\",syoriyou!B1990)","v":""},{"$f":"IF(syoriyou!C1990=\"\",\"\",syoriyou!C1990)","v":""},{"$f":"IF(syoriyou!D1990=\"\",\"\",syoriyou!D1990)","v":""},{"$f":"IF(syoriyou!E1990=\"\",\"\",syoriyou!E1990)","v":""},{"$f":"IF(syoriyou!F1990=\"\",\"\",syoriyou!F1990)","v":""},{"$f":"IF(syoriyou!G1990=\"\",\"\",syoriyou!G1990)","v":""},{"$f":"IF(syoriyou!H1990=\"\",\"\",syoriyou!H1990)","v":""},{"$f":"IF(syoriyou!I1990=\"\",\"\",syoriyou!I1990)","v":""},{"$f":"IF(syoriyou!J1990=\"\",\"\",syoriyou!N1990)","v":""}]
[{"$f":"IF(syoriyou!A1991=\"\",\"\",syoriyou!A1991)","v":""},{"$f":"IF(syoriyou!B1991=\"\",\"\",syoriyou!B1991)","v":""},{"$f":"IF(syoriyou!C1991=\"\",\"\",syoriyou!C1991)","v":""},{"$f":"IF(syoriyou!D1991=\"\",\"\",syoriyou!D1991)","v":""},{"$f":"IF(syoriyou!E1991=\"\",\"\",syoriyou!E1991)","v":""},{"$f":"IF(syoriyou!F1991=\"\",\"\",syoriyou!F1991)","v":""},{"$f":"IF(syoriyou!G1991=\"\",\"\",syoriyou!G1991)","v":""},{"$f":"IF(syoriyou!H1991=\"\",\"\",syoriyou!H1991)","v":""},{"$f":"IF(syoriyou!I1991=\"\",\"\",syoriyou!I1991)","v":""},{"$f":"IF(syoriyou!J1991=\"\",\"\",syoriyou!N1991)","v":""}]
[{"$f":"IF(syoriyou!A1992=\"\",\"\",syoriyou!A1992)","v":""},{"$f":"IF(syoriyou!B1992=\"\",\"\",syoriyou!B1992)","v":""},{"$f":"IF(syoriyou!C1992=\"\",\"\",syoriyou!C1992)","v":""},{"$f":"IF(syoriyou!D1992=\"\",\"\",syoriyou!D1992)","v":""},{"$f":"IF(syoriyou!E1992=\"\",\"\",syoriyou!E1992)","v":""},{"$f":"IF(syoriyou!F1992=\"\",\"\",syoriyou!F1992)","v":""},{"$f":"IF(syoriyou!G1992=\"\",\"\",syoriyou!G1992)","v":""},{"$f":"IF(syoriyou!H1992=\"\",\"\",syoriyou!H1992)","v":""},{"$f":"IF(syoriyou!I1992=\"\",\"\",syoriyou!I1992)","v":""},{"$f":"IF(syoriyou!J1992=\"\",\"\",syoriyou!N1992)","v":""}]
[{"$f":"IF(syoriyou!A1993=\"\",\"\",syoriyou!A1993)","v":""},{"$f":"IF(syoriyou!B1993=\"\",\"\",syoriyou!B1993)","v":""},{"$f":"IF(syoriyou!C1993=\"\",\"\",syoriyou!C1993)","v":""},{"$f":"IF(syoriyou!D1993=\"\",\"\",syoriyou!D1993)","v":""},{"$f":"IF(syoriyou!E1993=\"\",\"\",syoriyou!E1993)","v":""},{"$f":"IF(syoriyou!F1993=\"\",\"\",syoriyou!F1993)","v":""},{"$f":"IF(syoriyou!G1993=\"\",\"\",syoriyou!G1993)","v":""},{"$f":"IF(syoriyou!H1993=\"\",\"\",syoriyou!H1993)","v":""},{"$f":"IF(syoriyou!I1993=\"\",\"\",syoriyou!I1993)","v":""},{"$f":"IF(syoriyou!J1993=\"\",\"\",syoriyou!N1993)","v":""}]
[{"$f":"IF(syoriyou!A1994=\"\",\"\",syoriyou!A1994)","v":""},{"$f":"IF(syoriyou!B1994=\"\",\"\",syoriyou!B1994)","v":""},{"$f":"IF(syoriyou!C1994=\"\",\"\",syoriyou!C1994)","v":""},{"$f":"IF(syoriyou!D1994=\"\",\"\",syoriyou!D1994)","v":""},{"$f":"IF(syoriyou!E1994=\"\",\"\",syoriyou!E1994)","v":""},{"$f":"IF(syoriyou!F1994=\"\",\"\",syoriyou!F1994)","v":""},{"$f":"IF(syoriyou!G1994=\"\",\"\",syoriyou!G1994)","v":""},{"$f":"IF(syoriyou!H1994=\"\",\"\",syoriyou!H1994)","v":""},{"$f":"IF(syoriyou!I1994=\"\",\"\",syoriyou!I1994)","v":""},{"$f":"IF(syoriyou!J1994=\"\",\"\",syoriyou!N1994)","v":""}]
[{"$f":"IF(syoriyou!A1995=\"\",\"\",syoriyou!A1995)","v":""},{"$f":"IF(syoriyou!B1995=\"\",\"\",syoriyou!B1995)","v":""},{"$f":"IF(syoriyou!C1995=\"\",\"\",syoriyou!C1995)","v":""},{"$f":"IF(syoriyou!D1995=\"\",\"\",syoriyou!D1995)","v":""},{"$f":"IF(syoriyou!E1995=\"\",\"\",syoriyou!E1995)","v":""},{"$f":"IF(syoriyou!F1995=\"\",\"\",syoriyou!F1995)","v":""},{"$f":"IF(syoriyou!G1995=\"\",\"\",syoriyou!G1995)","v":""},{"$f":"IF(syoriyou!H1995=\"\",\"\",syoriyou!H1995)","v":""},{"$f":"IF(syoriyou!I1995=\"\",\"\",syoriyou!I1995)","v":""},{"$f":"IF(syoriyou!J1995=\"\",\"\",syoriyou!N1995)","v":""}]
[{"$f":"IF(syoriyou!A1996=\"\",\"\",syoriyou!A1996)","v":""},{"$f":"IF(syoriyou!B1996=\"\",\"\",syoriyou!B1996)","v":""},{"$f":"IF(syoriyou!C1996=\"\",\"\",syoriyou!C1996)","v":""},{"$f":"IF(syoriyou!D1996=\"\",\"\",syoriyou!D1996)","v":""},{"$f":"IF(syoriyou!E1996=\"\",\"\",syoriyou!E1996)","v":""},{"$f":"IF(syoriyou!F1996=\"\",\"\",syoriyou!F1996)","v":""},{"$f":"IF(syoriyou!G1996=\"\",\"\",syoriyou!G1996)","v":""},{"$f":"IF(syoriyou!H1996=\"\",\"\",syoriyou!H1996)","v":""},{"$f":"IF(syoriyou!I1996=\"\",\"\",syoriyou!I1996)","v":""},{"$f":"IF(syoriyou!J1996=\"\",\"\",syoriyou!N1996)","v":""}]
[{"$f":"IF(syoriyou!A1997=\"\",\"\",syoriyou!A1997)","v":""},{"$f":"IF(syoriyou!B1997=\"\",\"\",syoriyou!B1997)","v":""},{"$f":"IF(syoriyou!C1997=\"\",\"\",syoriyou!C1997)","v":""},{"$f":"IF(syoriyou!D1997=\"\",\"\",syoriyou!D1997)","v":""},{"$f":"IF(syoriyou!E1997=\"\",\"\",syoriyou!E1997)","v":""},{"$f":"IF(syoriyou!F1997=\"\",\"\",syoriyou!F1997)","v":""},{"$f":"IF(syoriyou!G1997=\"\",\"\",syoriyou!G1997)","v":""},{"$f":"IF(syoriyou!H1997=\"\",\"\",syoriyou!H1997)","v":""},{"$f":"IF(syoriyou!I1997=\"\",\"\",syoriyou!I1997)","v":""},{"$f":"IF(syoriyou!J1997=\"\",\"\",syoriyou!N1997)","v":""}]
[{"$f":"IF(syoriyou!A1998=\"\",\"\",syoriyou!A1998)","v":""},{"$f":"IF(syoriyou!B1998=\"\",\"\",syoriyou!B1998)","v":""},{"$f":"IF(syoriyou!C1998=\"\",\"\",syoriyou!C1998)","v":""},{"$f":"IF(syoriyou!D1998=\"\",\"\",syoriyou!D1998)","v":""},{"$f":"IF(syoriyou!E1998=\"\",\"\",syoriyou!E1998)","v":""},{"$f":"IF(syoriyou!F1998=\"\",\"\",syoriyou!F1998)","v":""},{"$f":"IF(syoriyou!G1998=\"\",\"\",syoriyou!G1998)","v":""},{"$f":"IF(syoriyou!H1998=\"\",\"\",syoriyou!H1998)","v":""},{"$f":"IF(syoriyou!I1998=\"\",\"\",syoriyou!I1998)","v":""},{"$f":"IF(syoriyou!J1998=\"\",\"\",syoriyou!N1998)","v":""}]
[{"$f":"IF(syoriyou!A1999=\"\",\"\",syoriyou!A1999)","v":""},{"$f":"IF(syoriyou!B1999=\"\",\"\",syoriyou!B1999)","v":""},{"$f":"IF(syoriyou!C1999=\"\",\"\",syoriyou!C1999)","v":""},{"$f":"IF(syoriyou!D1999=\"\",\"\",syoriyou!D1999)","v":""},{"$f":"IF(syoriyou!E1999=\"\",\"\",syoriyou!E1999)","v":""},{"$f":"IF(syoriyou!F1999=\"\",\"\",syoriyou!F1999)","v":""},{"$f":"IF(syoriyou!G1999=\"\",\"\",syoriyou!G1999)","v":""},{"$f":"IF(syoriyou!H1999=\"\",\"\",syoriyou!H1999)","v":""},{"$f":"IF(syoriyou!I1999=\"\",\"\",syoriyou!I1999)","v":""},{"$f":"IF(syoriyou!J1999=\"\",\"\",syoriyou!N1999)","v":""}]
[{"$f":"IF(syoriyou!A2000=\"\",\"\",syoriyou!A2000)","v":""},{"$f":"IF(syoriyou!B2000=\"\",\"\",syoriyou!B2000)","v":""},{"$f":"IF(syoriyou!C2000=\"\",\"\",syoriyou!C2000)","v":""},{"$f":"IF(syoriyou!D2000=\"\",\"\",syoriyou!D2000)","v":""},{"$f":"IF(syoriyou!E2000=\"\",\"\",syoriyou!E2000)","v":""},{"$f":"IF(syoriyou!F2000=\"\",\"\",syoriyou!F2000)","v":""},{"$f":"IF(syoriyou!G2000=\"\",\"\",syoriyou!G2000)","v":""},{"$f":"IF(syoriyou!H2000=\"\",\"\",syoriyou!H2000)","v":""},{"$f":"IF(syoriyou!I2000=\"\",\"\",syoriyou!I2000)","v":""},{"$f":"IF(syoriyou!J2000=\"\",\"\",syoriyou!N2000)","v":""}]
[{"$f":"IF(syoriyou!A2001=\"\",\"\",syoriyou!A2001)","v":""},{"$f":"IF(syoriyou!B2001=\"\",\"\",syoriyou!B2001)","v":""},{"$f":"IF(syoriyou!C2001=\"\",\"\",syoriyou!C2001)","v":""},{"$f":"IF(syoriyou!D2001=\"\",\"\",syoriyou!D2001)","v":""},{"$f":"IF(syoriyou!E2001=\"\",\"\",syoriyou!E2001)","v":""},{"$f":"IF(syoriyou!F2001=\"\",\"\",syoriyou!F2001)","v":""},{"$f":"IF(syoriyou!G2001=\"\",\"\",syoriyou!G2001)","v":""},{"$f":"IF(syoriyou!H2001=\"\",\"\",syoriyou!H2001)","v":""},{"$f":"IF(syoriyou!I2001=\"\",\"\",syoriyou!I2001)","v":""},{"$f":"IF(syoriyou!J2001=\"\",\"\",syoriyou!N2001)","v":""}]